{"text_format":"1","workbook":"xlsx","n_sheets":12,"sheets":["0.0 Index","1.1 Sub-Con Guidance","1.2 Sub-Con Application","1.3 Invioce Template (Example)","2.1 Internal Guidance","2.2 Payment Notice (Detail)","2.3 Payment Notice","3.1 Notice Log","4.1 Uploaded File","5.1 Administrator","5.2 Lists","5.3 Schedule of Rates"],"not_rendered":{"charts":0,"images":15,"macros":1,"external_links":0,"defined_names":84,"comments":2,"pivot_tables":0},"unopened":[],"bounds":{"document_bytes":16777216,"sheet_cells":100000,"rows_first":2000,"rows_last":500,"rows_between":2000,"halvings":0,"cell_chars":16384,"cell_head_chars":4096},"cells_cut":0,"cells_raw":0,"read":"whole","date_system":"1900"}

{"sheet":"0.0 Index","index":0,"n_rows":33,"n_cols":15,"rows_kept":33,"cut":false,"hidden":false,"merged":[[4,3,4,6],[30,3,30,6],[28,3,28,6],[8,3,8,6],[6,3,6,6],[10,3,10,6],[12,3,12,6],[20,3,20,6],[24,3,24,6],[21,3,21,6],[22,3,22,6],[23,3,23,6],[32,3,32,6],[18,3,18,6],[14,3,14,6],[26,3,26,6],[16,3,16,6]]}
[]
[null,{"$f":"IFERROR(MID(CELL(\"filename\",A2),FIND(\"]\",CELL(\"filename\",A2))+1,LEN(CELL(\"filename\",A2))-FIND(\"]\",CELL(\"filename\",A2))),\"Please Save\")","v":"0.0 Index"}]
[]
[]
[null,{"$f":"'5.1 Administrator'!B5","v":"Contractor Name:"},null,{"$f":"mc_Name","v":"Guinness Property"},null,null,null,null,"Available Tabs",null,"Tick",null,"Visible",null,"Go To"]
[]
[null,{"$f":"'5.1 Administrator'!B7","v":"Sub-Con Name:"},null,{"$f":"sc_Name","v":"Bath Property Maintenance"},null,null,null,null,{"$f":"'1.1 Sub-Con Guidance'!B2","v":"1.1 Sub-Con Guidance"},null,true,null,{"$f":"IF(K7=TRUE,\"Yes\",\"No\")","v":"Yes"},null,"Here"]
[]
[null,{"$f":"'5.1 Administrator'!B9","v":"Account No.:"},null,{"$f":"sc_Account","v":402688},null,null,null,null,{"$f":"'1.2 Sub-Con Application'!B2","v":"1.2 Sub-Con Application"},null,true,null,{"$f":"IF(K9=TRUE,\"Yes\",\"No\")","v":"Yes"},null,"Here"]
[]
[null,{"$f":"'5.1 Administrator'!B13","v":"Region:"},null,{"$f":"work_Region","v":"South West"},null,null,null,null,{"$f":"'1.3 Invioce Template (Example)'!B2","v":"1.3 Invioce Template (Example)"},null,false,null,{"$f":"IF(K11=TRUE,\"Yes\",\"No\")","v":"No"},null,"Here"]
[]
[null,{"$f":"'5.1 Administrator'!B15","v":"Region Email:"},null,{"$f":"work_regionEmail","v":"SWCommercial@guinness .org uk"},null,null,null,null,{"$f":"'3.1 Notice Log'!B2","v":"3.1 Notice Log"},null,false,null,{"$f":"IF(K13=TRUE,\"Yes\",\"No\")","v":"No"},null,"Here"]
[]
[null,{"$f":"'5.1 Administrator'!B17","v":"Work Type:"},null,{"$f":"work_Type","v":"Empty Homes"}]
[]
[null,{"$f":"'5.1 Administrator'!B19","v":"CIS Status:"},null,{"$f":"cis_Status","v":"Gross Payment"}]
[]
[null,{"$f":"'5.1 Administrator'!B21","v":"Application Frequency:"},null,{"$f":"app_Frequency","v":"Monthly"}]
[]
[null,{"$f":"'5.1 Administrator'!B23","v":"Application Dates:"},null,{"$f":"'5.1 Administrator'!D23","v":"25 of each Month"}]
[null,{"$f":"'5.1 Administrator'!B24","v":"Due Dates:"},null,{"$f":"'5.1 Administrator'!D24","v":"13 of each Month"}]
[null,{"$f":"'5.1 Administrator'!B25","v":"Payment Notice Dates:"},null,{"$f":"'5.1 Administrator'!D25","v":"18 of each Month"}]
[null,{"$f":"'5.1 Administrator'!B26","v":"PayLess Notice Deadline Dates:"},null,{"$f":"'5.1 Administrator'!D26","v":"9 of each Month"}]
[null,{"$f":"'5.1 Administrator'!B27","v":"Final Dates for Payment:"},null,{"$f":"'5.1 Administrator'!D27","v":"14 of each Month"}]
[]
[null,{"$f":"'5.1 Administrator'!B29","v":"Payment Terms (Days):"},null,{"$f":"payment_Terms","v":32}]
[]
[null,{"$f":"'5.1 Administrator'!B31","v":" Contract Agreement:"},null,{"$f":"sc_frameWork","v":"Received"}]
[]
[null,{"$f":"'5.1 Administrator'!B33","v":"Date of Contract Agreement:"},null,{"$f":"IF(sc_fwDate=\"\",\"No Date Entered\",sc_fwDate)","v":"2021-06-01"}]
[]
[null,{"$f":"'5.1 Administrator'!B35","v":"SoR:"},null,{"$f":"sor_Version","v":"NHF v 6.1"}]

{"sheet":"1.1 Sub-Con Guidance","index":1,"n_rows":51,"n_cols":3,"rows_kept":51,"cut":false,"hidden":false,"merged":[]}
[]
[null,{"$f":"IFERROR(MID(CELL(\"filename\",A2),FIND(\"]\",CELL(\"filename\",A2))+1,LEN(CELL(\"filename\",A2))-FIND(\"]\",CELL(\"filename\",A2))),\"Please Save\")","v":"1.1 Sub-Con Guidance"}]
[]
[]
[null,"Macros:","Please ENSURE you have enabled Macro's for this Template otherwise you will not be able to you this Application workbook; if you are unsure how to do this, please speak with your local Regional Commercial Team who will be more than happy to help in this instance. It it strongly suggested that you arrange a Training session with your Local RCT to go through the template and how is works prior to you using it."]
[]
[null,"General Information:","You will receive an application template for each Guinness Property contract Area and Workstream you work on; you will be required to submit separate applications for each. E.g. separate applications for North East Repairs and South Central Repairs, North West Empty Homes and South Coast Empty Homes will need to be submitted. All cells coloured Grey are automatic and locked to reduce errors."]
[]
[null,"Application Dates:","As per the Framework Agreement the date for Applications to be received by is 25th (unless agreed with your RCT); if this date is missed you will be required to wait until the following application date."]
[]
[null,"Payment Notice \n(Certificate):","Once your application has been received; it will be reviewed and a Payment Notice (certificate) Summary will be issued confirming the amount to be invoiced. \nThe Payment Notice (Certificate) will have a detailed back up containing all orders applied for, which have been approved for payment by the Regional Commercial Team; reasons for any rejections will be contained in this updated file document once returned to you along with the Payment Notice (Certificate). \nYou are required to use the updated file for your next Application."]
[]
[null,"Invoicing:","Once you have received your Payment Notice (Certificate), you are required to submit a single invoice for all orders that have been approved on the Payment Notice (Certificate)."]
[]
[null,"Sub-Contractor Name:","When the Application file is issued to you; this will be pre-populated; if there are any errors or mistakes please contact your relevant commercial team."]
[null," Account No.:","When the Application file is issued to you; this will be pre-populated; if there are any errors or mistakes please contact your relevant commercial team."]
[null,"Region:","This will pre-populate based on the Region entered by the Regional Commercial Team who issued the template to you. The application must only have works relating to the region within it."]
[null,"Work Type:","When the Application file is issued to you; this will be pre-populated; if there are any errors or mistakes please contact your relevant commercial team."]
[]
[null,"Completed By:","Please enter the name of the person within your company that is completing the Application; this should be updated as necessary."]
[null,"Contact Number:","Please enter a contact phone number for the person that has completed the Application; this will assist if the are questions or queries that need to be resolved quickly."]
[null,"Sub-Contractor Reference:","Please enter the companies reference number for this application. This could be your inovice number. This number will be used to reference payment of this application on your remittance advice."]
[null,"Application Number:","This will be generated when you create a new application by clicking on the \"Create New Application\" button on the Subcontractor Application tab"]
[null,"Application Date:","This will be generated when you create a new application by clicking on the \"Create new application\" button on the Subcontractor Application tab; this can manually be updated. Your application date must be within 5 working days of submitting your application to avoid it being rejected. "]
[]
[null,"Application Frequency:","You will be able to apply on a monthly (or as agreed with your RCT); this will be detailed within the Application Template. All Application must be sent by email to the email address stated in 0.0 Index tab."]
[]
[null,"CIS Status:","When the Application file is issued to you; this will be pre-populated; if there are any errors or mistakes please contact your relevant commercial team."]
[]
[null,"Date Issued:","You are required to enter the ISSUE DATE stated on the Call Off Order issued to you confirming you are to complete the works; It is very important you provide the correct details. If you don't it may be rejected."]
[null,"Date Completed:","This is to be the date you completed the works."]
[null,"Days to Complete:","This will calculate automatically and will be used to track and monitor performance."]
[null,"Order Number:","This will be the individual Purchase Order that was issued as the instruction for you to complete the works required. This MUST be stated against each SoR item being claimed on the application."]
[null,"Job Number:","This will be the Job Number stated on the Purchase Order and is required to be populated against every SoR item being claimed."]
[null,"Address:","You are required to enter the ADDRESS stated on the Call Off Order issued to you confirming you are to complete the works; this is very important you provide the correct details. If you don't it will be rejected."]
[null,"Post Code:","You MUST enter the POST CODE stated on the Purchase Order against every SoR item being Claimed. If you do not then the whole order will be rejected from this application."]
[null,"Area Check:","This will automatically check if the works were completed to a property in the Application region; if they are not, it will state false and the line will be rejected. If it states \"INVALID\" contact your RCT."]
[null,"SoR Code:","You are required to enter the SoR codes applicable for the works completed; if there are multiple SoR codes relating to the same order, you will need to enter these on separate rows. The order number would need to be replicated on each SOR line claimed against a call off order. All SORs claimed for a call off order must be on a continous separate rows. If not, the subsequent entry will be rejected."]
[null,"SoR Trade:","This will update automatically based on the SoR code being claimed."]
[null,"SoR Adjustment:","This will update automatically based on the SOR code you have claimed and the SoR % adjustment you submitted."]
[null,"SoR Description:","This will automatically update. Where Quoted Works SOR is used. A detailed description of works should be entered in the \"additional comments\" cell."]
[null,"Qty:","Please enter the quantity applicable to the SoR code for works completed.\nWhere you have used the NSI or Quotedworks SOR, the quantity will be the value of the Non scheduled or quoted item"]
[null,"Total Amount:","This will calculate automatically based the SoR, Qty and the agreed % adjustment."]
[null,"Materials Costs Overide:","If the SMV amount for materials is not correct, please use this box to enter the correct material value. Only required if your CIS status is not \"Exempt\"."]
[null,"Materials Cost:","This will update automatically based on the SoR SMV amount for Materials, if applicable."]
[null,"Labour Cost:","This will automatically calculate based on the information entered in to the Materials column."]
[null,"Comments:","If there is any other information, please provide it here."]
[]
[null,"Reject:","For use by Guinness Property RCT Team Only"]
[null,"Reason for Rejection:","For use by Guinness Property RCT Team Only"]
[null,"App  Update:","For use by Guinness Property RCT Team Only"]

{"sheet":"1.2 Sub-Con Application","index":2,"n_rows":1012,"n_cols":23,"rows_kept":1012,"cut":false,"hidden":false,"merged":[[9,1,9,2],[8,1,8,2],[3,18,4,18],[3,17,4,17],[3,15,4,15],[3,1,3,2],[4,1,4,2],[5,1,5,2],[7,1,7,2],[7,3,7,4],[6,1,6,2],[6,3,6,4],[5,3,5,4],[4,3,4,4],[3,3,3,4],[9,3,9,4],[8,3,8,4],[9,20,9,22],[3,7,3,8],[9,7,9,8],[6,7,6,8],[4,7,4,8],[3,19,4,19]]}
[]
[null,{"$f":"IFERROR(MID(CELL(\"filename\",A2),FIND(\"]\",CELL(\"filename\",A2))+1,LEN(CELL(\"filename\",A2))-FIND(\"]\",CELL(\"filename\",A2))),\"Please Save\")","v":"1.2 Sub-Con Application"}]
[]
[null,{"$f":"'5.1 Administrator'!B7","v":"Sub-Con Name:"},null,{"$f":"IF(sc_Name=\"\",\"TBC\",sc_Name)","v":"Bath Property Maintenance"},null,null,{"$f":"'5.1 Administrator'!B17","v":"Work Type:"},{"$f":"IF(work_Type=\"\",\"TBC\",work_Type)","v":"Empty Homes"},null,null,null,null,null,null,null,"Total Value",null,"Total Materials","Total Labour","CIS Tax Deduction"]
[null,{"$f":"'5.1 Administrator'!B9","v":"Account No.:"},null,{"$f":"IF(sc_Account=\"\",\"TBC\",sc_Account)","v":402688},null,null,"Region:",{"$f":"IF(work_Region=\"\",\"TBC\",work_Region)","v":"South West"}]
[null,"Completed By:",null,"Dana Maslenova ",null,null,null,null,null,null,null,null,null,null,"Application Value:",{"$f":"SUM(app_Total)","v":0},null,{"$f":"SUM(split_Mats)","v":0},{"$f":"SUM(split_Labour)","v":0},{"$f":"IFERROR(S6*I8,0)","v":0},{"$f":"P6=SUM(R6:S6)","v":true}]
[null,"Contact No.:",null,"Sub-Con to Enter",null,null,{"$f":"'5.1 Administrator'!B21","v":"Application Frequency:"},{"$f":"IF(app_Frequency=\"\",\"TBC\",app_Frequency)","v":"Monthly"}]
[null,"Sub-Con Ref:",null,"Sub-Con to Enter",null,null,{"$f":"'5.1 Administrator'!B19","v":"CIS Status:"},{"$f":"IF(cis_Status=\"\",\"TBC\",cis_Status)","v":"Gross Payment"},{"$f":"IFERROR(VLOOKUP(H8,'5.2 Lists'!$I$4:$J$8,2,FALSE),\"\")","v":0}]
[null,"Application No.:",null,20,null,null,null,null,null,null,null,null,null,null,"Orders Applied for:",{"$f":"MAX(app_Count)","v":0},null,{"$f":"P9","v":0},{"$f":"R9","v":0},{"$f":"S9","v":0}]
[null,"Application Date:",null,"2025-01-09",null,null,"SoR:",{"$f":"IF(sor_Version=\"\",\"TBC\",sor_Version)","v":"NHF v 6.1"},null,null,null,null,null,null,"Average Value:",{"$f":"IFERROR(SUM(P6/P9),0)","v":0},null,{"$f":"IFERROR(SUM(R6/R9),0)","v":0},{"$f":"IFERROR(SUM(S6/S9),0)","v":0},{"$f":"IFERROR(SUM(T6/T9),0)","v":0},{"$f":"\"For Use By \"&mc_Name","v":"For Use By Guinness Property"}]
[]
[null,"Ref:","Date\nIssued:","Date\nCompleted:","Days to \nComplete:","Order Number:","Job \nNumber:","Address:","Full Post Code:","Area Check","SOR","SoR Trade:","SoR Adj:","SOR Description","Qty","Total\nAmount:","Material Overide:","Materials \nCost:","Labour \nCost:","Comments / Additional Info","Reject:","Reason for Rejection:","App Update"]
[null,{"$f":"IF(F13=\"\",\"\",1)","v":""},null,null,{"$f":"NETWORKDAYS(C13,D13)","v":0},null,null,null,null,{"$f":"IFERROR(IF(I13=\"\",\"Enter PC\",VLOOKUP(IF(LEN(I13)=6,LEFT(I13,2),IF(LEN(I13)=7,LEFT(I13,3),LEFT(I13,4))),table_pcRegion,2,FALSE)=work_Region),\"INVALID\")","v":"Enter PC"},null,{"$f":"+IF(ISBLANK(K13),\"\",VLOOKUP(K13,table_SoR,2,0))","v":""},{"$f":"+IF(ISBLANK(K13),\"\",INDEX(table_subconSoR,MATCH(L13,row_SoR,0),MATCH($H$4,col_SoR,0)))","v":""},{"$f":"+IF(ISBLANK(K13),\"\",VLOOKUP(K13,'5.3 Schedule of Rates'!B:D,3,0))","v":""},null,{"$f":"+IF(ISBLANK($O13),\"\",ROUND(SUM(SUM(VLOOKUP($K13,table_SoR,6,0)*(1+$M13))*O13),2))","v":""},null,{"$f":"+IF(ISBLANK($O13),\"\",ROUND(IF(Q13>0,Q13,SUM(SUM(VLOOKUP($K13,table_SoR,7,0)*(1+$M13))*O13)),2))","v":""},{"$f":"IF(ISERROR(SUM(P13-R13)),\"\",SUM(P13-R13))","v":""},null,null,null,{"$f":"IFERROR(INDEX('1.2 Sub-Con Application'!$B$13:$U$1012,MATCH(1,('1.2 Sub-Con Application'!$B$13:$B$1012=B13)*('1.2 Sub-Con Application'!$U$13:$U$1012=\"Rejected\"),0),20),\"\")","v":""}]
[null,{"$f":"+IF(AND(ISBLANK(F14),ISBLANK(K14)),\"\",IF(AND(ISBLANK(F14),B13<>\"\"),B13,IF(COUNTIF($F$13:F13,F14)>0,B13,MAX($B$13:B13)+1)))","v":""},null,null,{"$f":"NETWORKDAYS(C14,D14)","v":0},null,null,null,null,{"$f":"IFERROR(IF(I14=\"\",\"Enter PC\",VLOOKUP(IF(LEN(I14)=6,LEFT(I14,2),IF(LEN(I14)=7,LEFT(I14,3),LEFT(I14,4))),table_pcRegion,2,FALSE)=work_Region),\"INVALID\")","v":"Enter PC"},null,"","",{"$f":"+IF(ISBLANK(K14),\"\",VLOOKUP(K14,'5.3 Schedule of Rates'!B:D,3,0))","v":""},null,"",null,"",{"$f":"IF(ISERROR(SUM(P14-R14)),\"\",SUM(P14-R14))","v":""},null,null,null,{"$f":"IFERROR(INDEX('1.2 Sub-Con Application'!$B$13:$U$1012,MATCH(1,('1.2 Sub-Con Application'!$B$13:$B$1012=B14)*('1.2 Sub-Con Application'!$U$13:$U$1012=\"Rejected\"),0),20),\"\")","v":""}]
[null,{"$f":"+IF(AND(ISBLANK(F15),ISBLANK(K15)),\"\",IF(AND(ISBLANK(F15),B14<>\"\"),B14,IF(COUNTIF($F$13:F14,F15)>0,B14,MAX($B$13:B14)+1)))","v":""},null,null,0,null,null,null,null,"Enter PC",null,"","",{"$f":"+IF(ISBLANK(K15),\"\",VLOOKUP(K15,'5.3 Schedule of Rates'!B:D,3,0))","v":""},null,"",null,"","",null,null,null,{"$f":"IFERROR(INDEX('1.2 Sub-Con Application'!$B$13:$U$1012,MATCH(1,('1.2 Sub-Con Application'!$B$13:$B$1012=B15)*('1.2 Sub-Con Application'!$U$13:$U$1012=\"Rejected\"),0),20),\"\")","v":""}]
[null,{"$f":"+IF(AND(ISBLANK(F16),ISBLANK(K16)),\"\",IF(AND(ISBLANK(F16),B15<>\"\"),B15,IF(COUNTIF($F$13:F15,F16)>0,B15,MAX($B$13:B15)+1)))","v":""},null,null,0,null,null,null,null,"Enter PC",null,"","",{"$f":"+IF(ISBLANK(K16),\"\",VLOOKUP(K16,'5.3 Schedule of Rates'!B:D,3,0))","v":""},null,"",null,"","",null,null,null,{"$f":"IFERROR(INDEX('1.2 Sub-Con Application'!$B$13:$U$1012,MATCH(1,('1.2 Sub-Con Application'!$B$13:$B$1012=B16)*('1.2 Sub-Con Application'!$U$13:$U$1012=\"Rejected\"),0),20),\"\")","v":""}]
[null,{"$f":"+IF(AND(ISBLANK(F17),ISBLANK(K17)),\"\",IF(AND(ISBLANK(F17),B16<>\"\"),B16,IF(COUNTIF($F$13:F16,F17)>0,B16,MAX($B$13:B16)+1)))","v":""},null,null,0,null,null,null,null,"Enter PC",null,"","",{"$f":"+IF(ISBLANK(K17),\"\",VLOOKUP(K17,'5.3 Schedule of Rates'!B:D,3,0))","v":""},null,"",null,"","",null,null,null,{"$f":"IFERROR(INDEX('1.2 Sub-Con Application'!$B$13:$U$1012,MATCH(1,('1.2 Sub-Con Application'!$B$13:$B$1012=B17)*('1.2 Sub-Con Application'!$U$13:$U$1012=\"Rejected\"),0),20),\"\")","v":""}]
[null,{"$f":"+IF(AND(ISBLANK(F18),ISBLANK(K18)),\"\",IF(AND(ISBLANK(F18),B17<>\"\"),B17,IF(COUNTIF($F$13:F17,F18)>0,B17,MAX($B$13:B17)+1)))","v":""},null,null,0,null,null,null,null,"Enter PC",null,"","",{"$f":"+IF(ISBLANK(K18),\"\",VLOOKUP(K18,'5.3 Schedule of Rates'!B:D,3,0))","v":""},null,"",null,"","",null,null,null,{"$f":"IFERROR(INDEX('1.2 Sub-Con Application'!$B$13:$U$1012,MATCH(1,('1.2 Sub-Con Application'!$B$13:$B$1012=B18)*('1.2 Sub-Con Application'!$U$13:$U$1012=\"Rejected\"),0),20),\"\")","v":""}]
[null,{"$f":"+IF(AND(ISBLANK(F19),ISBLANK(K19)),\"\",IF(AND(ISBLANK(F19),B18<>\"\"),B18,IF(COUNTIF($F$13:F18,F19)>0,B18,MAX($B$13:B18)+1)))","v":""},null,null,0,null,null,null,null,"Enter PC",null,"","",{"$f":"+IF(ISBLANK(K19),\"\",VLOOKUP(K19,'5.3 Schedule of Rates'!B:D,3,0))","v":""},null,"",null,"","",null,null,null,{"$f":"IFERROR(INDEX('1.2 Sub-Con Application'!$B$13:$U$1012,MATCH(1,('1.2 Sub-Con Application'!$B$13:$B$1012=B19)*('1.2 Sub-Con Application'!$U$13:$U$1012=\"Rejected\"),0),20),\"\")","v":""}]
[null,{"$f":"+IF(AND(ISBLANK(F20),ISBLANK(K20)),\"\",IF(AND(ISBLANK(F20),B19<>\"\"),B19,IF(COUNTIF($F$13:F19,F20)>0,B19,MAX($B$13:B19)+1)))","v":""},null,null,0,null,null,null,null,"Enter PC",null,"","",{"$f":"+IF(ISBLANK(K20),\"\",VLOOKUP(K20,'5.3 Schedule of Rates'!B:D,3,0))","v":""},null,"",null,"","",null,null,null,{"$f":"IFERROR(INDEX('1.2 Sub-Con Application'!$B$13:$U$1012,MATCH(1,('1.2 Sub-Con Application'!$B$13:$B$1012=B20)*('1.2 Sub-Con Application'!$U$13:$U$1012=\"Rejected\"),0),20),\"\")","v":""}]
[null,{"$f":"+IF(AND(ISBLANK(F21),ISBLANK(K21)),\"\",IF(AND(ISBLANK(F21),B20<>\"\"),B20,IF(COUNTIF($F$13:F20,F21)>0,B20,MAX($B$13:B20)+1)))","v":""},null,null,0,null,null,null,null,"Enter PC",null,"","",{"$f":"+IF(ISBLANK(K21),\"\",VLOOKUP(K21,'5.3 Schedule of Rates'!B:D,3,0))","v":""},null,"",null,"","",null,null,null,{"$f":"IFERROR(INDEX('1.2 Sub-Con Application'!$B$13:$U$1012,MATCH(1,('1.2 Sub-Con Application'!$B$13:$B$1012=B21)*('1.2 Sub-Con Application'!$U$13:$U$1012=\"Rejected\"),0),20),\"\")","v":""}]
[null,{"$f":"+IF(AND(ISBLANK(F22),ISBLANK(K22)),\"\",IF(AND(ISBLANK(F22),B21<>\"\"),B21,IF(COUNTIF($F$13:F21,F22)>0,B21,MAX($B$13:B21)+1)))","v":""},null,null,0,null,null,null,null,"Enter PC",null,"","",{"$f":"+IF(ISBLANK(K22),\"\",VLOOKUP(K22,'5.3 Schedule of Rates'!B:D,3,0))","v":""},null,"",null,"","",null,null,null,{"$f":"IFERROR(INDEX('1.2 Sub-Con Application'!$B$13:$U$1012,MATCH(1,('1.2 Sub-Con Application'!$B$13:$B$1012=B22)*('1.2 Sub-Con Application'!$U$13:$U$1012=\"Rejected\"),0),20),\"\")","v":""}]
[null,{"$f":"+IF(AND(ISBLANK(F23),ISBLANK(K23)),\"\",IF(AND(ISBLANK(F23),B22<>\"\"),B22,IF(COUNTIF($F$13:F22,F23)>0,B22,MAX($B$13:B22)+1)))","v":""},null,null,0,null,null,null,null,"Enter PC",null,"","",{"$f":"+IF(ISBLANK(K23),\"\",VLOOKUP(K23,'5.3 Schedule of Rates'!B:D,3,0))","v":""},null,"",null,"","",null,null,null,{"$f":"IFERROR(INDEX('1.2 Sub-Con Application'!$B$13:$U$1012,MATCH(1,('1.2 Sub-Con Application'!$B$13:$B$1012=B23)*('1.2 Sub-Con Application'!$U$13:$U$1012=\"Rejected\"),0),20),\"\")","v":""}]
[null,{"$f":"+IF(AND(ISBLANK(F24),ISBLANK(K24)),\"\",IF(AND(ISBLANK(F24),B23<>\"\"),B23,IF(COUNTIF($F$13:F23,F24)>0,B23,MAX($B$13:B23)+1)))","v":""},null,null,{"$f":"NETWORKDAYS(C24,D24)","v":0},null,null,null,null,"Enter PC",null,"","",{"$f":"+IF(ISBLANK(K24),\"\",VLOOKUP(K24,'5.3 Schedule of Rates'!B:D,3,0))","v":""},null,"",null,"","",null,null,null,{"$f":"IFERROR(INDEX('1.2 Sub-Con Application'!$B$13:$U$1012,MATCH(1,('1.2 Sub-Con Application'!$B$13:$B$1012=B24)*('1.2 Sub-Con Application'!$U$13:$U$1012=\"Rejected\"),0),20),\"\")","v":""}]
[null,{"$f":"+IF(AND(ISBLANK(F25),ISBLANK(K25)),\"\",IF(AND(ISBLANK(F25),B24<>\"\"),B24,IF(COUNTIF($F$13:F24,F25)>0,B24,MAX($B$13:B24)+1)))","v":""},null,null,0,null,null,null,null,"Enter PC",null,"","",{"$f":"+IF(ISBLANK(K25),\"\",VLOOKUP(K25,'5.3 Schedule of Rates'!B:D,3,0))","v":""},null,"",null,"","",null,null,null,{"$f":"IFERROR(INDEX('1.2 Sub-Con Application'!$B$13:$U$1012,MATCH(1,('1.2 Sub-Con Application'!$B$13:$B$1012=B25)*('1.2 Sub-Con Application'!$U$13:$U$1012=\"Rejected\"),0),20),\"\")","v":""}]
[null,{"$f":"+IF(AND(ISBLANK(F26),ISBLANK(K26)),\"\",IF(AND(ISBLANK(F26),B25<>\"\"),B25,IF(COUNTIF($F$13:F25,F26)>0,B25,MAX($B$13:B25)+1)))","v":""},null,null,0,null,null,null,null,"Enter PC",null,"","",{"$f":"+IF(ISBLANK(K26),\"\",VLOOKUP(K26,'5.3 Schedule of Rates'!B:D,3,0))","v":""},null,"",null,"","",null,null,null,{"$f":"IFERROR(INDEX('1.2 Sub-Con Application'!$B$13:$U$1012,MATCH(1,('1.2 Sub-Con Application'!$B$13:$B$1012=B26)*('1.2 Sub-Con Application'!$U$13:$U$1012=\"Rejected\"),0),20),\"\")","v":""}]
[null,{"$f":"+IF(AND(ISBLANK(F27),ISBLANK(K27)),\"\",IF(AND(ISBLANK(F27),B26<>\"\"),B26,IF(COUNTIF($F$13:F26,F27)>0,B26,MAX($B$13:B26)+1)))","v":""},null,null,0,null,null,null,null,"Enter PC",null,"","",{"$f":"+IF(ISBLANK(K27),\"\",VLOOKUP(K27,'5.3 Schedule of Rates'!B:D,3,0))","v":""},null,"",null,"","",null,null,null,{"$f":"IFERROR(INDEX('1.2 Sub-Con Application'!$B$13:$U$1012,MATCH(1,('1.2 Sub-Con Application'!$B$13:$B$1012=B27)*('1.2 Sub-Con Application'!$U$13:$U$1012=\"Rejected\"),0),20),\"\")","v":""}]
[null,{"$f":"+IF(AND(ISBLANK(F28),ISBLANK(K28)),\"\",IF(AND(ISBLANK(F28),B27<>\"\"),B27,IF(COUNTIF($F$13:F27,F28)>0,B27,MAX($B$13:B27)+1)))","v":""},null,null,0,null,null,null,null,"Enter PC",null,"","",{"$f":"+IF(ISBLANK(K28),\"\",VLOOKUP(K28,'5.3 Schedule of Rates'!B:D,3,0))","v":""},null,"",null,"","",null,null,null,{"$f":"IFERROR(INDEX('1.2 Sub-Con Application'!$B$13:$U$1012,MATCH(1,('1.2 Sub-Con Application'!$B$13:$B$1012=B28)*('1.2 Sub-Con Application'!$U$13:$U$1012=\"Rejected\"),0),20),\"\")","v":""}]
[null,{"$f":"+IF(AND(ISBLANK(F29),ISBLANK(K29)),\"\",IF(AND(ISBLANK(F29),B28<>\"\"),B28,IF(COUNTIF($F$13:F28,F29)>0,B28,MAX($B$13:B28)+1)))","v":""},null,null,0,null,null,null,null,"Enter PC",null,"","",{"$f":"+IF(ISBLANK(K29),\"\",VLOOKUP(K29,'5.3 Schedule of Rates'!B:D,3,0))","v":""},null,"",null,"","",null,null,null,{"$f":"IFERROR(INDEX('1.2 Sub-Con Application'!$B$13:$U$1012,MATCH(1,('1.2 Sub-Con Application'!$B$13:$B$1012=B29)*('1.2 Sub-Con Application'!$U$13:$U$1012=\"Rejected\"),0),20),\"\")","v":""}]
[null,{"$f":"+IF(AND(ISBLANK(F30),ISBLANK(K30)),\"\",IF(AND(ISBLANK(F30),B29<>\"\"),B29,IF(COUNTIF($F$13:F29,F30)>0,B29,MAX($B$13:B29)+1)))","v":""},null,null,0,null,null,null,null,"Enter PC",null,"","",{"$f":"+IF(ISBLANK(K30),\"\",VLOOKUP(K30,'5.3 Schedule of Rates'!B:D,3,0))","v":""},null,"",null,"","",null,null,null,{"$f":"IFERROR(INDEX('1.2 Sub-Con Application'!$B$13:$U$1012,MATCH(1,('1.2 Sub-Con Application'!$B$13:$B$1012=B30)*('1.2 Sub-Con Application'!$U$13:$U$1012=\"Rejected\"),0),20),\"\")","v":""}]
[null,{"$f":"+IF(AND(ISBLANK(F31),ISBLANK(K31)),\"\",IF(AND(ISBLANK(F31),B30<>\"\"),B30,IF(COUNTIF($F$13:F30,F31)>0,B30,MAX($B$13:B30)+1)))","v":""},null,null,0,null,null,null,null,"Enter PC",null,"","",{"$f":"+IF(ISBLANK(K31),\"\",VLOOKUP(K31,'5.3 Schedule of Rates'!B:D,3,0))","v":""},null,"",null,"","",null,null,null,{"$f":"IFERROR(INDEX('1.2 Sub-Con Application'!$B$13:$U$1012,MATCH(1,('1.2 Sub-Con Application'!$B$13:$B$1012=B31)*('1.2 Sub-Con Application'!$U$13:$U$1012=\"Rejected\"),0),20),\"\")","v":""}]
[null,{"$f":"+IF(AND(ISBLANK(F32),ISBLANK(K32)),\"\",IF(AND(ISBLANK(F32),B31<>\"\"),B31,IF(COUNTIF($F$13:F31,F32)>0,B31,MAX($B$13:B31)+1)))","v":""},null,null,0,null,null,null,null,"Enter PC",null,"","",{"$f":"+IF(ISBLANK(K32),\"\",VLOOKUP(K32,'5.3 Schedule of Rates'!B:D,3,0))","v":""},null,"",null,"","",null,null,null,{"$f":"IFERROR(INDEX('1.2 Sub-Con Application'!$B$13:$U$1012,MATCH(1,('1.2 Sub-Con Application'!$B$13:$B$1012=B32)*('1.2 Sub-Con Application'!$U$13:$U$1012=\"Rejected\"),0),20),\"\")","v":""}]
[null,{"$f":"+IF(AND(ISBLANK(F33),ISBLANK(K33)),\"\",IF(AND(ISBLANK(F33),B32<>\"\"),B32,IF(COUNTIF($F$13:F32,F33)>0,B32,MAX($B$13:B32)+1)))","v":""},null,null,0,null,null,null,null,"Enter PC",null,"","",{"$f":"+IF(ISBLANK(K33),\"\",VLOOKUP(K33,'5.3 Schedule of Rates'!B:D,3,0))","v":""},null,"",null,"","",null,null,null,{"$f":"IFERROR(INDEX('1.2 Sub-Con Application'!$B$13:$U$1012,MATCH(1,('1.2 Sub-Con Application'!$B$13:$B$1012=B33)*('1.2 Sub-Con Application'!$U$13:$U$1012=\"Rejected\"),0),20),\"\")","v":""}]
[null,{"$f":"+IF(AND(ISBLANK(F34),ISBLANK(K34)),\"\",IF(AND(ISBLANK(F34),B33<>\"\"),B33,IF(COUNTIF($F$13:F33,F34)>0,B33,MAX($B$13:B33)+1)))","v":""},null,null,0,null,null,null,null,"Enter PC",null,"","",{"$f":"+IF(ISBLANK(K34),\"\",VLOOKUP(K34,'5.3 Schedule of Rates'!B:D,3,0))","v":""},null,"",null,"","",null,null,null,{"$f":"IFERROR(INDEX('1.2 Sub-Con Application'!$B$13:$U$1012,MATCH(1,('1.2 Sub-Con Application'!$B$13:$B$1012=B34)*('1.2 Sub-Con Application'!$U$13:$U$1012=\"Rejected\"),0),20),\"\")","v":""}]
[null,{"$f":"+IF(AND(ISBLANK(F35),ISBLANK(K35)),\"\",IF(AND(ISBLANK(F35),B34<>\"\"),B34,IF(COUNTIF($F$13:F34,F35)>0,B34,MAX($B$13:B34)+1)))","v":""},null,null,0,null,null,null,null,"Enter PC",null,"","",{"$f":"+IF(ISBLANK(K35),\"\",VLOOKUP(K35,'5.3 Schedule of Rates'!B:D,3,0))","v":""},null,"",null,"","",null,null,null,{"$f":"IFERROR(INDEX('1.2 Sub-Con Application'!$B$13:$U$1012,MATCH(1,('1.2 Sub-Con Application'!$B$13:$B$1012=B35)*('1.2 Sub-Con Application'!$U$13:$U$1012=\"Rejected\"),0),20),\"\")","v":""}]
[null,{"$f":"+IF(AND(ISBLANK(F36),ISBLANK(K36)),\"\",IF(AND(ISBLANK(F36),B35<>\"\"),B35,IF(COUNTIF($F$13:F35,F36)>0,B35,MAX($B$13:B35)+1)))","v":""},null,null,0,null,null,null,null,"Enter PC",null,"","",{"$f":"+IF(ISBLANK(K36),\"\",VLOOKUP(K36,'5.3 Schedule of Rates'!B:D,3,0))","v":""},null,"",null,"","",null,null,null,{"$f":"IFERROR(INDEX('1.2 Sub-Con Application'!$B$13:$U$1012,MATCH(1,('1.2 Sub-Con Application'!$B$13:$B$1012=B36)*('1.2 Sub-Con Application'!$U$13:$U$1012=\"Rejected\"),0),20),\"\")","v":""}]
[null,{"$f":"+IF(AND(ISBLANK(F37),ISBLANK(K37)),\"\",IF(AND(ISBLANK(F37),B36<>\"\"),B36,IF(COUNTIF($F$13:F36,F37)>0,B36,MAX($B$13:B36)+1)))","v":""},null,null,0,null,null,null,null,"Enter PC",null,"","",{"$f":"+IF(ISBLANK(K37),\"\",VLOOKUP(K37,'5.3 Schedule of Rates'!B:D,3,0))","v":""},null,"",null,"","",null,null,null,{"$f":"IFERROR(INDEX('1.2 Sub-Con Application'!$B$13:$U$1012,MATCH(1,('1.2 Sub-Con Application'!$B$13:$B$1012=B37)*('1.2 Sub-Con Application'!$U$13:$U$1012=\"Rejected\"),0),20),\"\")","v":""}]
[null,{"$f":"+IF(AND(ISBLANK(F38),ISBLANK(K38)),\"\",IF(AND(ISBLANK(F38),B37<>\"\"),B37,IF(COUNTIF($F$13:F37,F38)>0,B37,MAX($B$13:B37)+1)))","v":""},null,null,0,null,null,null,null,"Enter PC",null,"","",{"$f":"+IF(ISBLANK(K38),\"\",VLOOKUP(K38,'5.3 Schedule of Rates'!B:D,3,0))","v":""},null,"",null,"","",null,null,null,{"$f":"IFERROR(INDEX('1.2 Sub-Con Application'!$B$13:$U$1012,MATCH(1,('1.2 Sub-Con Application'!$B$13:$B$1012=B38)*('1.2 Sub-Con Application'!$U$13:$U$1012=\"Rejected\"),0),20),\"\")","v":""}]
[null,{"$f":"+IF(AND(ISBLANK(F39),ISBLANK(K39)),\"\",IF(AND(ISBLANK(F39),B38<>\"\"),B38,IF(COUNTIF($F$13:F38,F39)>0,B38,MAX($B$13:B38)+1)))","v":""},null,null,0,null,null,null,null,"Enter PC",null,"","",{"$f":"+IF(ISBLANK(K39),\"\",VLOOKUP(K39,'5.3 Schedule of Rates'!B:D,3,0))","v":""},null,"",null,"","",null,null,null,{"$f":"IFERROR(INDEX('1.2 Sub-Con Application'!$B$13:$U$1012,MATCH(1,('1.2 Sub-Con Application'!$B$13:$B$1012=B39)*('1.2 Sub-Con Application'!$U$13:$U$1012=\"Rejected\"),0),20),\"\")","v":""}]
[null,{"$f":"+IF(AND(ISBLANK(F40),ISBLANK(K40)),\"\",IF(AND(ISBLANK(F40),B39<>\"\"),B39,IF(COUNTIF($F$13:F39,F40)>0,B39,MAX($B$13:B39)+1)))","v":""},null,null,0,null,null,null,null,"Enter PC",null,"","",{"$f":"+IF(ISBLANK(K40),\"\",VLOOKUP(K40,'5.3 Schedule of Rates'!B:D,3,0))","v":""},null,"",null,"","",null,null,null,{"$f":"IFERROR(INDEX('1.2 Sub-Con Application'!$B$13:$U$1012,MATCH(1,('1.2 Sub-Con Application'!$B$13:$B$1012=B40)*('1.2 Sub-Con Application'!$U$13:$U$1012=\"Rejected\"),0),20),\"\")","v":""}]
[null,{"$f":"+IF(AND(ISBLANK(F41),ISBLANK(K41)),\"\",IF(AND(ISBLANK(F41),B40<>\"\"),B40,IF(COUNTIF($F$13:F40,F41)>0,B40,MAX($B$13:B40)+1)))","v":""},null,null,0,null,null,null,null,"Enter PC",null,"","",{"$f":"+IF(ISBLANK(K41),\"\",VLOOKUP(K41,'5.3 Schedule of Rates'!B:D,3,0))","v":""},null,"",null,"","",null,null,null,{"$f":"IFERROR(INDEX('1.2 Sub-Con Application'!$B$13:$U$1012,MATCH(1,('1.2 Sub-Con Application'!$B$13:$B$1012=B41)*('1.2 Sub-Con Application'!$U$13:$U$1012=\"Rejected\"),0),20),\"\")","v":""}]
[null,{"$f":"+IF(AND(ISBLANK(F42),ISBLANK(K42)),\"\",IF(AND(ISBLANK(F42),B41<>\"\"),B41,IF(COUNTIF($F$13:F41,F42)>0,B41,MAX($B$13:B41)+1)))","v":""},null,null,0,null,null,null,null,"Enter PC",null,"","",{"$f":"+IF(ISBLANK(K42),\"\",VLOOKUP(K42,'5.3 Schedule of Rates'!B:D,3,0))","v":""},null,"",null,"","",null,null,null,{"$f":"IFERROR(INDEX('1.2 Sub-Con Application'!$B$13:$U$1012,MATCH(1,('1.2 Sub-Con Application'!$B$13:$B$1012=B42)*('1.2 Sub-Con Application'!$U$13:$U$1012=\"Rejected\"),0),20),\"\")","v":""}]
[null,{"$f":"+IF(AND(ISBLANK(F43),ISBLANK(K43)),\"\",IF(AND(ISBLANK(F43),B42<>\"\"),B42,IF(COUNTIF($F$13:F42,F43)>0,B42,MAX($B$13:B42)+1)))","v":""},null,null,0,null,null,null,null,"Enter PC",null,"","",{"$f":"+IF(ISBLANK(K43),\"\",VLOOKUP(K43,'5.3 Schedule of Rates'!B:D,3,0))","v":""},null,"",null,"","",null,null,null,{"$f":"IFERROR(INDEX('1.2 Sub-Con Application'!$B$13:$U$1012,MATCH(1,('1.2 Sub-Con Application'!$B$13:$B$1012=B43)*('1.2 Sub-Con Application'!$U$13:$U$1012=\"Rejected\"),0),20),\"\")","v":""}]
[null,{"$f":"+IF(AND(ISBLANK(F44),ISBLANK(K44)),\"\",IF(AND(ISBLANK(F44),B43<>\"\"),B43,IF(COUNTIF($F$13:F43,F44)>0,B43,MAX($B$13:B43)+1)))","v":""},null,null,0,null,null,null,null,"Enter PC",null,"","",{"$f":"+IF(ISBLANK(K44),\"\",VLOOKUP(K44,'5.3 Schedule of Rates'!B:D,3,0))","v":""},null,"",null,"","",null,null,null,{"$f":"IFERROR(INDEX('1.2 Sub-Con Application'!$B$13:$U$1012,MATCH(1,('1.2 Sub-Con Application'!$B$13:$B$1012=B44)*('1.2 Sub-Con Application'!$U$13:$U$1012=\"Rejected\"),0),20),\"\")","v":""}]
[null,{"$f":"+IF(AND(ISBLANK(F45),ISBLANK(K45)),\"\",IF(AND(ISBLANK(F45),B44<>\"\"),B44,IF(COUNTIF($F$13:F44,F45)>0,B44,MAX($B$13:B44)+1)))","v":""},null,null,0,null,null,null,null,"Enter PC",null,"","",{"$f":"+IF(ISBLANK(K45),\"\",VLOOKUP(K45,'5.3 Schedule of Rates'!B:D,3,0))","v":""},null,"",null,"","",null,null,null,{"$f":"IFERROR(INDEX('1.2 Sub-Con Application'!$B$13:$U$1012,MATCH(1,('1.2 Sub-Con Application'!$B$13:$B$1012=B45)*('1.2 Sub-Con Application'!$U$13:$U$1012=\"Rejected\"),0),20),\"\")","v":""}]
[null,{"$f":"+IF(AND(ISBLANK(F46),ISBLANK(K46)),\"\",IF(AND(ISBLANK(F46),B45<>\"\"),B45,IF(COUNTIF($F$13:F45,F46)>0,B45,MAX($B$13:B45)+1)))","v":""},null,null,0,null,null,null,null,"Enter PC",null,"","",{"$f":"+IF(ISBLANK(K46),\"\",VLOOKUP(K46,'5.3 Schedule of Rates'!B:D,3,0))","v":""},null,"",null,"","",null,null,null,{"$f":"IFERROR(INDEX('1.2 Sub-Con Application'!$B$13:$U$1012,MATCH(1,('1.2 Sub-Con Application'!$B$13:$B$1012=B46)*('1.2 Sub-Con Application'!$U$13:$U$1012=\"Rejected\"),0),20),\"\")","v":""}]
[null,{"$f":"+IF(AND(ISBLANK(F47),ISBLANK(K47)),\"\",IF(AND(ISBLANK(F47),B46<>\"\"),B46,IF(COUNTIF($F$13:F46,F47)>0,B46,MAX($B$13:B46)+1)))","v":""},null,null,0,null,null,null,null,"Enter PC",null,"","",{"$f":"+IF(ISBLANK(K47),\"\",VLOOKUP(K47,'5.3 Schedule of Rates'!B:D,3,0))","v":""},null,"",null,"","",null,null,null,{"$f":"IFERROR(INDEX('1.2 Sub-Con Application'!$B$13:$U$1012,MATCH(1,('1.2 Sub-Con Application'!$B$13:$B$1012=B47)*('1.2 Sub-Con Application'!$U$13:$U$1012=\"Rejected\"),0),20),\"\")","v":""}]
[null,{"$f":"+IF(AND(ISBLANK(F48),ISBLANK(K48)),\"\",IF(AND(ISBLANK(F48),B47<>\"\"),B47,IF(COUNTIF($F$13:F47,F48)>0,B47,MAX($B$13:B47)+1)))","v":""},null,null,0,null,null,null,null,"Enter PC",null,"","",{"$f":"+IF(ISBLANK(K48),\"\",VLOOKUP(K48,'5.3 Schedule of Rates'!B:D,3,0))","v":""},null,"",null,"","",null,null,null,{"$f":"IFERROR(INDEX('1.2 Sub-Con Application'!$B$13:$U$1012,MATCH(1,('1.2 Sub-Con Application'!$B$13:$B$1012=B48)*('1.2 Sub-Con Application'!$U$13:$U$1012=\"Rejected\"),0),20),\"\")","v":""}]
[null,{"$f":"+IF(AND(ISBLANK(F49),ISBLANK(K49)),\"\",IF(AND(ISBLANK(F49),B48<>\"\"),B48,IF(COUNTIF($F$13:F48,F49)>0,B48,MAX($B$13:B48)+1)))","v":""},null,null,0,null,null,null,null,"Enter PC",null,"","",{"$f":"+IF(ISBLANK(K49),\"\",VLOOKUP(K49,'5.3 Schedule of Rates'!B:D,3,0))","v":""},null,"",null,"","",null,null,null,{"$f":"IFERROR(INDEX('1.2 Sub-Con Application'!$B$13:$U$1012,MATCH(1,('1.2 Sub-Con Application'!$B$13:$B$1012=B49)*('1.2 Sub-Con Application'!$U$13:$U$1012=\"Rejected\"),0),20),\"\")","v":""}]
[null,{"$f":"+IF(AND(ISBLANK(F50),ISBLANK(K50)),\"\",IF(AND(ISBLANK(F50),B49<>\"\"),B49,IF(COUNTIF($F$13:F49,F50)>0,B49,MAX($B$13:B49)+1)))","v":""},null,null,0,null,null,null,null,"Enter PC",null,"","",{"$f":"+IF(ISBLANK(K50),\"\",VLOOKUP(K50,'5.3 Schedule of Rates'!B:D,3,0))","v":""},null,"",null,"","",null,null,null,{"$f":"IFERROR(INDEX('1.2 Sub-Con Application'!$B$13:$U$1012,MATCH(1,('1.2 Sub-Con Application'!$B$13:$B$1012=B50)*('1.2 Sub-Con Application'!$U$13:$U$1012=\"Rejected\"),0),20),\"\")","v":""}]
[null,{"$f":"+IF(AND(ISBLANK(F51),ISBLANK(K51)),\"\",IF(AND(ISBLANK(F51),B50<>\"\"),B50,IF(COUNTIF($F$13:F50,F51)>0,B50,MAX($B$13:B50)+1)))","v":""},null,null,0,null,null,null,null,"Enter PC",null,"","",{"$f":"+IF(ISBLANK(K51),\"\",VLOOKUP(K51,'5.3 Schedule of Rates'!B:D,3,0))","v":""},null,"",null,"","",null,null,null,{"$f":"IFERROR(INDEX('1.2 Sub-Con Application'!$B$13:$U$1012,MATCH(1,('1.2 Sub-Con Application'!$B$13:$B$1012=B51)*('1.2 Sub-Con Application'!$U$13:$U$1012=\"Rejected\"),0),20),\"\")","v":""}]
[null,{"$f":"+IF(AND(ISBLANK(F52),ISBLANK(K52)),\"\",IF(AND(ISBLANK(F52),B51<>\"\"),B51,IF(COUNTIF($F$13:F51,F52)>0,B51,MAX($B$13:B51)+1)))","v":""},null,null,0,null,null,null,null,"Enter PC",null,"","",{"$f":"+IF(ISBLANK(K52),\"\",VLOOKUP(K52,'5.3 Schedule of Rates'!B:D,3,0))","v":""},null,"",null,"","",null,null,null,{"$f":"IFERROR(INDEX('1.2 Sub-Con Application'!$B$13:$U$1012,MATCH(1,('1.2 Sub-Con Application'!$B$13:$B$1012=B52)*('1.2 Sub-Con Application'!$U$13:$U$1012=\"Rejected\"),0),20),\"\")","v":""}]
[null,{"$f":"+IF(AND(ISBLANK(F53),ISBLANK(K53)),\"\",IF(AND(ISBLANK(F53),B52<>\"\"),B52,IF(COUNTIF($F$13:F52,F53)>0,B52,MAX($B$13:B52)+1)))","v":""},null,null,0,null,null,null,null,"Enter PC",null,"","",{"$f":"+IF(ISBLANK(K53),\"\",VLOOKUP(K53,'5.3 Schedule of Rates'!B:D,3,0))","v":""},null,"",null,"","",null,null,null,{"$f":"IFERROR(INDEX('1.2 Sub-Con Application'!$B$13:$U$1012,MATCH(1,('1.2 Sub-Con Application'!$B$13:$B$1012=B53)*('1.2 Sub-Con Application'!$U$13:$U$1012=\"Rejected\"),0),20),\"\")","v":""}]
[null,{"$f":"+IF(AND(ISBLANK(F54),ISBLANK(K54)),\"\",IF(AND(ISBLANK(F54),B53<>\"\"),B53,IF(COUNTIF($F$13:F53,F54)>0,B53,MAX($B$13:B53)+1)))","v":""},null,null,0,null,null,null,null,"Enter PC",null,"","",{"$f":"+IF(ISBLANK(K54),\"\",VLOOKUP(K54,'5.3 Schedule of Rates'!B:D,3,0))","v":""},null,"",null,"","",null,null,null,{"$f":"IFERROR(INDEX('1.2 Sub-Con Application'!$B$13:$U$1012,MATCH(1,('1.2 Sub-Con Application'!$B$13:$B$1012=B54)*('1.2 Sub-Con Application'!$U$13:$U$1012=\"Rejected\"),0),20),\"\")","v":""}]
[null,{"$f":"+IF(AND(ISBLANK(F55),ISBLANK(K55)),\"\",IF(AND(ISBLANK(F55),B54<>\"\"),B54,IF(COUNTIF($F$13:F54,F55)>0,B54,MAX($B$13:B54)+1)))","v":""},null,null,0,null,null,null,null,"Enter PC",null,"","",{"$f":"+IF(ISBLANK(K55),\"\",VLOOKUP(K55,'5.3 Schedule of Rates'!B:D,3,0))","v":""},null,"",null,"","",null,null,null,{"$f":"IFERROR(INDEX('1.2 Sub-Con Application'!$B$13:$U$1012,MATCH(1,('1.2 Sub-Con Application'!$B$13:$B$1012=B55)*('1.2 Sub-Con Application'!$U$13:$U$1012=\"Rejected\"),0),20),\"\")","v":""}]
[null,{"$f":"+IF(AND(ISBLANK(F56),ISBLANK(K56)),\"\",IF(AND(ISBLANK(F56),B55<>\"\"),B55,IF(COUNTIF($F$13:F55,F56)>0,B55,MAX($B$13:B55)+1)))","v":""},null,null,0,null,null,null,null,"Enter PC",null,"","",{"$f":"+IF(ISBLANK(K56),\"\",VLOOKUP(K56,'5.3 Schedule of Rates'!B:D,3,0))","v":""},null,"",null,"","",null,null,null,{"$f":"IFERROR(INDEX('1.2 Sub-Con Application'!$B$13:$U$1012,MATCH(1,('1.2 Sub-Con Application'!$B$13:$B$1012=B56)*('1.2 Sub-Con Application'!$U$13:$U$1012=\"Rejected\"),0),20),\"\")","v":""}]
[null,{"$f":"+IF(AND(ISBLANK(F57),ISBLANK(K57)),\"\",IF(AND(ISBLANK(F57),B56<>\"\"),B56,IF(COUNTIF($F$13:F56,F57)>0,B56,MAX($B$13:B56)+1)))","v":""},null,null,0,null,null,null,null,"Enter PC",null,"","",{"$f":"+IF(ISBLANK(K57),\"\",VLOOKUP(K57,'5.3 Schedule of Rates'!B:D,3,0))","v":""},null,"",null,"","",null,null,null,{"$f":"IFERROR(INDEX('1.2 Sub-Con Application'!$B$13:$U$1012,MATCH(1,('1.2 Sub-Con Application'!$B$13:$B$1012=B57)*('1.2 Sub-Con Application'!$U$13:$U$1012=\"Rejected\"),0),20),\"\")","v":""}]
[null,{"$f":"+IF(AND(ISBLANK(F58),ISBLANK(K58)),\"\",IF(AND(ISBLANK(F58),B57<>\"\"),B57,IF(COUNTIF($F$13:F57,F58)>0,B57,MAX($B$13:B57)+1)))","v":""},null,null,0,null,null,null,null,"Enter PC",null,"","",{"$f":"+IF(ISBLANK(K58),\"\",VLOOKUP(K58,'5.3 Schedule of Rates'!B:D,3,0))","v":""},null,"",null,"","",null,null,null,{"$f":"IFERROR(INDEX('1.2 Sub-Con Application'!$B$13:$U$1012,MATCH(1,('1.2 Sub-Con Application'!$B$13:$B$1012=B58)*('1.2 Sub-Con Application'!$U$13:$U$1012=\"Rejected\"),0),20),\"\")","v":""}]
[null,{"$f":"+IF(AND(ISBLANK(F59),ISBLANK(K59)),\"\",IF(AND(ISBLANK(F59),B58<>\"\"),B58,IF(COUNTIF($F$13:F58,F59)>0,B58,MAX($B$13:B58)+1)))","v":""},null,null,0,null,null,null,null,"Enter PC",null,"","",{"$f":"+IF(ISBLANK(K59),\"\",VLOOKUP(K59,'5.3 Schedule of Rates'!B:D,3,0))","v":""},null,"",null,"","",null,null,null,{"$f":"IFERROR(INDEX('1.2 Sub-Con Application'!$B$13:$U$1012,MATCH(1,('1.2 Sub-Con Application'!$B$13:$B$1012=B59)*('1.2 Sub-Con Application'!$U$13:$U$1012=\"Rejected\"),0),20),\"\")","v":""}]
[null,{"$f":"+IF(AND(ISBLANK(F60),ISBLANK(K60)),\"\",IF(AND(ISBLANK(F60),B59<>\"\"),B59,IF(COUNTIF($F$13:F59,F60)>0,B59,MAX($B$13:B59)+1)))","v":""},null,null,0,null,null,null,null,"Enter PC",null,"","",{"$f":"+IF(ISBLANK(K60),\"\",VLOOKUP(K60,'5.3 Schedule of Rates'!B:D,3,0))","v":""},null,"",null,"","",null,null,null,{"$f":"IFERROR(INDEX('1.2 Sub-Con Application'!$B$13:$U$1012,MATCH(1,('1.2 Sub-Con Application'!$B$13:$B$1012=B60)*('1.2 Sub-Con Application'!$U$13:$U$1012=\"Rejected\"),0),20),\"\")","v":""}]
[null,{"$f":"+IF(AND(ISBLANK(F61),ISBLANK(K61)),\"\",IF(AND(ISBLANK(F61),B60<>\"\"),B60,IF(COUNTIF($F$13:F60,F61)>0,B60,MAX($B$13:B60)+1)))","v":""},null,null,0,null,null,null,null,"Enter PC",null,"","",{"$f":"+IF(ISBLANK(K61),\"\",VLOOKUP(K61,'5.3 Schedule of Rates'!B:D,3,0))","v":""},null,"",null,"","",null,null,null,{"$f":"IFERROR(INDEX('1.2 Sub-Con Application'!$B$13:$U$1012,MATCH(1,('1.2 Sub-Con Application'!$B$13:$B$1012=B61)*('1.2 Sub-Con Application'!$U$13:$U$1012=\"Rejected\"),0),20),\"\")","v":""}]
[null,{"$f":"+IF(AND(ISBLANK(F62),ISBLANK(K62)),\"\",IF(AND(ISBLANK(F62),B61<>\"\"),B61,IF(COUNTIF($F$13:F61,F62)>0,B61,MAX($B$13:B61)+1)))","v":""},null,null,0,null,null,null,null,"Enter PC",null,"","",{"$f":"+IF(ISBLANK(K62),\"\",VLOOKUP(K62,'5.3 Schedule of Rates'!B:D,3,0))","v":""},null,"",null,"","",null,null,null,{"$f":"IFERROR(INDEX('1.2 Sub-Con Application'!$B$13:$U$1012,MATCH(1,('1.2 Sub-Con Application'!$B$13:$B$1012=B62)*('1.2 Sub-Con Application'!$U$13:$U$1012=\"Rejected\"),0),20),\"\")","v":""}]
[null,{"$f":"+IF(AND(ISBLANK(F63),ISBLANK(K63)),\"\",IF(AND(ISBLANK(F63),B62<>\"\"),B62,IF(COUNTIF($F$13:F62,F63)>0,B62,MAX($B$13:B62)+1)))","v":""},null,null,0,null,null,null,null,"Enter PC",null,"","",{"$f":"+IF(ISBLANK(K63),\"\",VLOOKUP(K63,'5.3 Schedule of Rates'!B:D,3,0))","v":""},null,"",null,"","",null,null,null,{"$f":"IFERROR(INDEX('1.2 Sub-Con Application'!$B$13:$U$1012,MATCH(1,('1.2 Sub-Con Application'!$B$13:$B$1012=B63)*('1.2 Sub-Con Application'!$U$13:$U$1012=\"Rejected\"),0),20),\"\")","v":""}]
[null,{"$f":"+IF(AND(ISBLANK(F64),ISBLANK(K64)),\"\",IF(AND(ISBLANK(F64),B63<>\"\"),B63,IF(COUNTIF($F$13:F63,F64)>0,B63,MAX($B$13:B63)+1)))","v":""},null,null,0,null,null,null,null,"Enter PC",null,"","",{"$f":"+IF(ISBLANK(K64),\"\",VLOOKUP(K64,'5.3 Schedule of Rates'!B:D,3,0))","v":""},null,"",null,"","",null,null,null,{"$f":"IFERROR(INDEX('1.2 Sub-Con Application'!$B$13:$U$1012,MATCH(1,('1.2 Sub-Con Application'!$B$13:$B$1012=B64)*('1.2 Sub-Con Application'!$U$13:$U$1012=\"Rejected\"),0),20),\"\")","v":""}]
[null,{"$f":"+IF(AND(ISBLANK(F65),ISBLANK(K65)),\"\",IF(AND(ISBLANK(F65),B64<>\"\"),B64,IF(COUNTIF($F$13:F64,F65)>0,B64,MAX($B$13:B64)+1)))","v":""},null,null,0,null,null,null,null,"Enter PC",null,"","",{"$f":"+IF(ISBLANK(K65),\"\",VLOOKUP(K65,'5.3 Schedule of Rates'!B:D,3,0))","v":""},null,"",null,"","",null,null,null,{"$f":"IFERROR(INDEX('1.2 Sub-Con Application'!$B$13:$U$1012,MATCH(1,('1.2 Sub-Con Application'!$B$13:$B$1012=B65)*('1.2 Sub-Con Application'!$U$13:$U$1012=\"Rejected\"),0),20),\"\")","v":""}]
[null,{"$f":"+IF(AND(ISBLANK(F66),ISBLANK(K66)),\"\",IF(AND(ISBLANK(F66),B65<>\"\"),B65,IF(COUNTIF($F$13:F65,F66)>0,B65,MAX($B$13:B65)+1)))","v":""},null,null,0,null,null,null,null,"Enter PC",null,"","",{"$f":"+IF(ISBLANK(K66),\"\",VLOOKUP(K66,'5.3 Schedule of Rates'!B:D,3,0))","v":""},null,"",null,"","",null,null,null,{"$f":"IFERROR(INDEX('1.2 Sub-Con Application'!$B$13:$U$1012,MATCH(1,('1.2 Sub-Con Application'!$B$13:$B$1012=B66)*('1.2 Sub-Con Application'!$U$13:$U$1012=\"Rejected\"),0),20),\"\")","v":""}]
[null,{"$f":"+IF(AND(ISBLANK(F67),ISBLANK(K67)),\"\",IF(AND(ISBLANK(F67),B66<>\"\"),B66,IF(COUNTIF($F$13:F66,F67)>0,B66,MAX($B$13:B66)+1)))","v":""},null,null,0,null,null,null,null,"Enter PC",null,"","",{"$f":"+IF(ISBLANK(K67),\"\",VLOOKUP(K67,'5.3 Schedule of Rates'!B:D,3,0))","v":""},null,"",null,"","",null,null,null,{"$f":"IFERROR(INDEX('1.2 Sub-Con Application'!$B$13:$U$1012,MATCH(1,('1.2 Sub-Con Application'!$B$13:$B$1012=B67)*('1.2 Sub-Con Application'!$U$13:$U$1012=\"Rejected\"),0),20),\"\")","v":""}]
[null,{"$f":"+IF(AND(ISBLANK(F68),ISBLANK(K68)),\"\",IF(AND(ISBLANK(F68),B67<>\"\"),B67,IF(COUNTIF($F$13:F67,F68)>0,B67,MAX($B$13:B67)+1)))","v":""},null,null,0,null,null,null,null,"Enter PC",null,"","",{"$f":"+IF(ISBLANK(K68),\"\",VLOOKUP(K68,'5.3 Schedule of Rates'!B:D,3,0))","v":""},null,"",null,"","",null,null,null,{"$f":"IFERROR(INDEX('1.2 Sub-Con Application'!$B$13:$U$1012,MATCH(1,('1.2 Sub-Con Application'!$B$13:$B$1012=B68)*('1.2 Sub-Con Application'!$U$13:$U$1012=\"Rejected\"),0),20),\"\")","v":""}]
[null,{"$f":"+IF(AND(ISBLANK(F69),ISBLANK(K69)),\"\",IF(AND(ISBLANK(F69),B68<>\"\"),B68,IF(COUNTIF($F$13:F68,F69)>0,B68,MAX($B$13:B68)+1)))","v":""},null,null,0,null,null,null,null,"Enter PC",null,"","",{"$f":"+IF(ISBLANK(K69),\"\",VLOOKUP(K69,'5.3 Schedule of Rates'!B:D,3,0))","v":""},null,"",null,"","",null,null,null,{"$f":"IFERROR(INDEX('1.2 Sub-Con Application'!$B$13:$U$1012,MATCH(1,('1.2 Sub-Con Application'!$B$13:$B$1012=B69)*('1.2 Sub-Con Application'!$U$13:$U$1012=\"Rejected\"),0),20),\"\")","v":""}]
[null,{"$f":"+IF(AND(ISBLANK(F70),ISBLANK(K70)),\"\",IF(AND(ISBLANK(F70),B69<>\"\"),B69,IF(COUNTIF($F$13:F69,F70)>0,B69,MAX($B$13:B69)+1)))","v":""},null,null,0,null,null,null,null,"Enter PC",null,"","",{"$f":"+IF(ISBLANK(K70),\"\",VLOOKUP(K70,'5.3 Schedule of Rates'!B:D,3,0))","v":""},null,"",null,"","",null,null,null,{"$f":"IFERROR(INDEX('1.2 Sub-Con Application'!$B$13:$U$1012,MATCH(1,('1.2 Sub-Con Application'!$B$13:$B$1012=B70)*('1.2 Sub-Con Application'!$U$13:$U$1012=\"Rejected\"),0),20),\"\")","v":""}]
[null,{"$f":"+IF(AND(ISBLANK(F71),ISBLANK(K71)),\"\",IF(AND(ISBLANK(F71),B70<>\"\"),B70,IF(COUNTIF($F$13:F70,F71)>0,B70,MAX($B$13:B70)+1)))","v":""},null,null,0,null,null,null,null,"Enter PC",null,"","",{"$f":"+IF(ISBLANK(K71),\"\",VLOOKUP(K71,'5.3 Schedule of Rates'!B:D,3,0))","v":""},null,"",null,"","",null,null,null,{"$f":"IFERROR(INDEX('1.2 Sub-Con Application'!$B$13:$U$1012,MATCH(1,('1.2 Sub-Con Application'!$B$13:$B$1012=B71)*('1.2 Sub-Con Application'!$U$13:$U$1012=\"Rejected\"),0),20),\"\")","v":""}]
[null,{"$f":"+IF(AND(ISBLANK(F72),ISBLANK(K72)),\"\",IF(AND(ISBLANK(F72),B71<>\"\"),B71,IF(COUNTIF($F$13:F71,F72)>0,B71,MAX($B$13:B71)+1)))","v":""},null,null,0,null,null,null,null,"Enter PC",null,"","",{"$f":"+IF(ISBLANK(K72),\"\",VLOOKUP(K72,'5.3 Schedule of Rates'!B:D,3,0))","v":""},null,"",null,"","",null,null,null,{"$f":"IFERROR(INDEX('1.2 Sub-Con Application'!$B$13:$U$1012,MATCH(1,('1.2 Sub-Con Application'!$B$13:$B$1012=B72)*('1.2 Sub-Con Application'!$U$13:$U$1012=\"Rejected\"),0),20),\"\")","v":""}]
[null,{"$f":"+IF(AND(ISBLANK(F73),ISBLANK(K73)),\"\",IF(AND(ISBLANK(F73),B72<>\"\"),B72,IF(COUNTIF($F$13:F72,F73)>0,B72,MAX($B$13:B72)+1)))","v":""},null,null,0,null,null,null,null,"Enter PC",null,"","",{"$f":"+IF(ISBLANK(K73),\"\",VLOOKUP(K73,'5.3 Schedule of Rates'!B:D,3,0))","v":""},null,"",null,"","",null,null,null,{"$f":"IFERROR(INDEX('1.2 Sub-Con Application'!$B$13:$U$1012,MATCH(1,('1.2 Sub-Con Application'!$B$13:$B$1012=B73)*('1.2 Sub-Con Application'!$U$13:$U$1012=\"Rejected\"),0),20),\"\")","v":""}]
[null,{"$f":"+IF(AND(ISBLANK(F74),ISBLANK(K74)),\"\",IF(AND(ISBLANK(F74),B73<>\"\"),B73,IF(COUNTIF($F$13:F73,F74)>0,B73,MAX($B$13:B73)+1)))","v":""},null,null,0,null,null,null,null,"Enter PC",null,"","",{"$f":"+IF(ISBLANK(K74),\"\",VLOOKUP(K74,'5.3 Schedule of Rates'!B:D,3,0))","v":""},null,"",null,"","",null,null,null,{"$f":"IFERROR(INDEX('1.2 Sub-Con Application'!$B$13:$U$1012,MATCH(1,('1.2 Sub-Con Application'!$B$13:$B$1012=B74)*('1.2 Sub-Con Application'!$U$13:$U$1012=\"Rejected\"),0),20),\"\")","v":""}]
[null,{"$f":"+IF(AND(ISBLANK(F75),ISBLANK(K75)),\"\",IF(AND(ISBLANK(F75),B74<>\"\"),B74,IF(COUNTIF($F$13:F74,F75)>0,B74,MAX($B$13:B74)+1)))","v":""},null,null,0,null,null,null,null,"Enter PC",null,"","",{"$f":"+IF(ISBLANK(K75),\"\",VLOOKUP(K75,'5.3 Schedule of Rates'!B:D,3,0))","v":""},null,"",null,"","",null,null,null,{"$f":"IFERROR(INDEX('1.2 Sub-Con Application'!$B$13:$U$1012,MATCH(1,('1.2 Sub-Con Application'!$B$13:$B$1012=B75)*('1.2 Sub-Con Application'!$U$13:$U$1012=\"Rejected\"),0),20),\"\")","v":""}]
[null,{"$f":"+IF(AND(ISBLANK(F76),ISBLANK(K76)),\"\",IF(AND(ISBLANK(F76),B75<>\"\"),B75,IF(COUNTIF($F$13:F75,F76)>0,B75,MAX($B$13:B75)+1)))","v":""},null,null,0,null,null,null,null,"Enter PC",null,"","",{"$f":"+IF(ISBLANK(K76),\"\",VLOOKUP(K76,'5.3 Schedule of Rates'!B:D,3,0))","v":""},null,"",null,"","",null,null,null,{"$f":"IFERROR(INDEX('1.2 Sub-Con Application'!$B$13:$U$1012,MATCH(1,('1.2 Sub-Con Application'!$B$13:$B$1012=B76)*('1.2 Sub-Con Application'!$U$13:$U$1012=\"Rejected\"),0),20),\"\")","v":""}]
[null,{"$f":"+IF(AND(ISBLANK(F77),ISBLANK(K77)),\"\",IF(AND(ISBLANK(F77),B76<>\"\"),B76,IF(COUNTIF($F$13:F76,F77)>0,B76,MAX($B$13:B76)+1)))","v":""},null,null,0,null,null,null,null,{"$f":"IFERROR(IF(I77=\"\",\"Enter PC\",VLOOKUP(IF(LEN(I77)=6,LEFT(I77,2),IF(LEN(I77)=7,LEFT(I77,3),LEFT(I77,4))),table_pcRegion,2,FALSE)=work_Region),\"INVALID\")","v":"Enter PC"},null,{"$f":"+IF(ISBLANK(K77),\"\",VLOOKUP(K77,table_SoR,2,0))","v":""},{"$f":"+IF(ISBLANK(K77),\"\",INDEX(table_subconSoR,MATCH(L77,row_SoR,0),MATCH($H$4,col_SoR,0)))","v":""},{"$f":"+IF(ISBLANK(K77),\"\",VLOOKUP(K77,'5.3 Schedule of Rates'!B:D,3,0))","v":""},null,{"$f":"+IF(ISBLANK($O77),\"\",ROUND(SUM(SUM(VLOOKUP($K77,table_SoR,6,0)*(1+$M77))*O77),2))","v":""},null,{"$f":"+IF(ISBLANK($O77),\"\",ROUND(IF(Q77>0,Q77,SUM(SUM(VLOOKUP($K77,table_SoR,7,0)*(1+$M77))*O77)),2))","v":""},"",null,null,null,{"$f":"IFERROR(INDEX('1.2 Sub-Con Application'!$B$13:$U$1012,MATCH(1,('1.2 Sub-Con Application'!$B$13:$B$1012=B77)*('1.2 Sub-Con Application'!$U$13:$U$1012=\"Rejected\"),0),20),\"\")","v":""}]
[null,{"$f":"+IF(AND(ISBLANK(F78),ISBLANK(K78)),\"\",IF(AND(ISBLANK(F78),B77<>\"\"),B77,IF(COUNTIF($F$13:F77,F78)>0,B77,MAX($B$13:B77)+1)))","v":""},null,null,0,null,null,null,null,"Enter PC",null,"","",{"$f":"+IF(ISBLANK(K78),\"\",VLOOKUP(K78,'5.3 Schedule of Rates'!B:D,3,0))","v":""},null,"",null,"",{"$f":"IF(ISERROR(SUM(P78-R78)),\"\",SUM(P78-R78))","v":""},null,null,null,{"$f":"IFERROR(INDEX('1.2 Sub-Con Application'!$B$13:$U$1012,MATCH(1,('1.2 Sub-Con Application'!$B$13:$B$1012=B78)*('1.2 Sub-Con Application'!$U$13:$U$1012=\"Rejected\"),0),20),\"\")","v":""}]
[null,{"$f":"+IF(AND(ISBLANK(F79),ISBLANK(K79)),\"\",IF(AND(ISBLANK(F79),B78<>\"\"),B78,IF(COUNTIF($F$13:F78,F79)>0,B78,MAX($B$13:B78)+1)))","v":""},null,null,{"$f":"NETWORKDAYS(C79,D79)","v":0},null,null,null,null,"Enter PC",null,"","",{"$f":"+IF(ISBLANK(K79),\"\",VLOOKUP(K79,'5.3 Schedule of Rates'!B:D,3,0))","v":""},null,"",null,"","",null,null,null,{"$f":"IFERROR(INDEX('1.2 Sub-Con Application'!$B$13:$U$1012,MATCH(1,('1.2 Sub-Con Application'!$B$13:$B$1012=B79)*('1.2 Sub-Con Application'!$U$13:$U$1012=\"Rejected\"),0),20),\"\")","v":""}]
[null,{"$f":"+IF(AND(ISBLANK(F80),ISBLANK(K80)),\"\",IF(AND(ISBLANK(F80),B79<>\"\"),B79,IF(COUNTIF($F$13:F79,F80)>0,B79,MAX($B$13:B79)+1)))","v":""},null,null,0,null,null,null,null,"Enter PC",null,"","",{"$f":"+IF(ISBLANK(K80),\"\",VLOOKUP(K80,'5.3 Schedule of Rates'!B:D,3,0))","v":""},null,"",null,"","",null,null,null,{"$f":"IFERROR(INDEX('1.2 Sub-Con Application'!$B$13:$U$1012,MATCH(1,('1.2 Sub-Con Application'!$B$13:$B$1012=B80)*('1.2 Sub-Con Application'!$U$13:$U$1012=\"Rejected\"),0),20),\"\")","v":""}]
[null,{"$f":"+IF(AND(ISBLANK(F81),ISBLANK(K81)),\"\",IF(AND(ISBLANK(F81),B80<>\"\"),B80,IF(COUNTIF($F$13:F80,F81)>0,B80,MAX($B$13:B80)+1)))","v":""},null,null,0,null,null,null,null,"Enter PC",null,"","",{"$f":"+IF(ISBLANK(K81),\"\",VLOOKUP(K81,'5.3 Schedule of Rates'!B:D,3,0))","v":""},null,"",null,"","",null,null,null,{"$f":"IFERROR(INDEX('1.2 Sub-Con Application'!$B$13:$U$1012,MATCH(1,('1.2 Sub-Con Application'!$B$13:$B$1012=B81)*('1.2 Sub-Con Application'!$U$13:$U$1012=\"Rejected\"),0),20),\"\")","v":""}]
[null,{"$f":"+IF(AND(ISBLANK(F82),ISBLANK(K82)),\"\",IF(AND(ISBLANK(F82),B81<>\"\"),B81,IF(COUNTIF($F$13:F81,F82)>0,B81,MAX($B$13:B81)+1)))","v":""},null,null,0,null,null,null,null,"Enter PC",null,"","",{"$f":"+IF(ISBLANK(K82),\"\",VLOOKUP(K82,'5.3 Schedule of Rates'!B:D,3,0))","v":""},null,"",null,"","",null,null,null,{"$f":"IFERROR(INDEX('1.2 Sub-Con Application'!$B$13:$U$1012,MATCH(1,('1.2 Sub-Con Application'!$B$13:$B$1012=B82)*('1.2 Sub-Con Application'!$U$13:$U$1012=\"Rejected\"),0),20),\"\")","v":""}]
[null,{"$f":"+IF(AND(ISBLANK(F83),ISBLANK(K83)),\"\",IF(AND(ISBLANK(F83),B82<>\"\"),B82,IF(COUNTIF($F$13:F82,F83)>0,B82,MAX($B$13:B82)+1)))","v":""},null,null,0,null,null,null,null,"Enter PC",null,"","",{"$f":"+IF(ISBLANK(K83),\"\",VLOOKUP(K83,'5.3 Schedule of Rates'!B:D,3,0))","v":""},null,"",null,"","",null,null,null,{"$f":"IFERROR(INDEX('1.2 Sub-Con Application'!$B$13:$U$1012,MATCH(1,('1.2 Sub-Con Application'!$B$13:$B$1012=B83)*('1.2 Sub-Con Application'!$U$13:$U$1012=\"Rejected\"),0),20),\"\")","v":""}]
[null,{"$f":"+IF(AND(ISBLANK(F84),ISBLANK(K84)),\"\",IF(AND(ISBLANK(F84),B83<>\"\"),B83,IF(COUNTIF($F$13:F83,F84)>0,B83,MAX($B$13:B83)+1)))","v":""},null,null,0,null,null,null,null,"Enter PC",null,"","",{"$f":"+IF(ISBLANK(K84),\"\",VLOOKUP(K84,'5.3 Schedule of Rates'!B:D,3,0))","v":""},null,"",null,"","",null,null,null,{"$f":"IFERROR(INDEX('1.2 Sub-Con Application'!$B$13:$U$1012,MATCH(1,('1.2 Sub-Con Application'!$B$13:$B$1012=B84)*('1.2 Sub-Con Application'!$U$13:$U$1012=\"Rejected\"),0),20),\"\")","v":""}]
[null,{"$f":"+IF(AND(ISBLANK(F85),ISBLANK(K85)),\"\",IF(AND(ISBLANK(F85),B84<>\"\"),B84,IF(COUNTIF($F$13:F84,F85)>0,B84,MAX($B$13:B84)+1)))","v":""},null,null,0,null,null,null,null,"Enter PC",null,"","",{"$f":"+IF(ISBLANK(K85),\"\",VLOOKUP(K85,'5.3 Schedule of Rates'!B:D,3,0))","v":""},null,"",null,"","",null,null,null,{"$f":"IFERROR(INDEX('1.2 Sub-Con Application'!$B$13:$U$1012,MATCH(1,('1.2 Sub-Con Application'!$B$13:$B$1012=B85)*('1.2 Sub-Con Application'!$U$13:$U$1012=\"Rejected\"),0),20),\"\")","v":""}]
[null,{"$f":"+IF(AND(ISBLANK(F86),ISBLANK(K86)),\"\",IF(AND(ISBLANK(F86),B85<>\"\"),B85,IF(COUNTIF($F$13:F85,F86)>0,B85,MAX($B$13:B85)+1)))","v":""},null,null,0,null,null,null,null,"Enter PC",null,"","",{"$f":"+IF(ISBLANK(K86),\"\",VLOOKUP(K86,'5.3 Schedule of Rates'!B:D,3,0))","v":""},null,"",null,"","",null,null,null,{"$f":"IFERROR(INDEX('1.2 Sub-Con Application'!$B$13:$U$1012,MATCH(1,('1.2 Sub-Con Application'!$B$13:$B$1012=B86)*('1.2 Sub-Con Application'!$U$13:$U$1012=\"Rejected\"),0),20),\"\")","v":""}]
[null,{"$f":"+IF(AND(ISBLANK(F87),ISBLANK(K87)),\"\",IF(AND(ISBLANK(F87),B86<>\"\"),B86,IF(COUNTIF($F$13:F86,F87)>0,B86,MAX($B$13:B86)+1)))","v":""},null,null,0,null,null,null,null,"Enter PC",null,"","",{"$f":"+IF(ISBLANK(K87),\"\",VLOOKUP(K87,'5.3 Schedule of Rates'!B:D,3,0))","v":""},null,"",null,"","",null,null,null,{"$f":"IFERROR(INDEX('1.2 Sub-Con Application'!$B$13:$U$1012,MATCH(1,('1.2 Sub-Con Application'!$B$13:$B$1012=B87)*('1.2 Sub-Con Application'!$U$13:$U$1012=\"Rejected\"),0),20),\"\")","v":""}]
[null,{"$f":"+IF(AND(ISBLANK(F88),ISBLANK(K88)),\"\",IF(AND(ISBLANK(F88),B87<>\"\"),B87,IF(COUNTIF($F$13:F87,F88)>0,B87,MAX($B$13:B87)+1)))","v":""},null,null,0,null,null,null,null,"Enter PC",null,"","",{"$f":"+IF(ISBLANK(K88),\"\",VLOOKUP(K88,'5.3 Schedule of Rates'!B:D,3,0))","v":""},null,"",null,"","",null,null,null,{"$f":"IFERROR(INDEX('1.2 Sub-Con Application'!$B$13:$U$1012,MATCH(1,('1.2 Sub-Con Application'!$B$13:$B$1012=B88)*('1.2 Sub-Con Application'!$U$13:$U$1012=\"Rejected\"),0),20),\"\")","v":""}]
[null,{"$f":"+IF(AND(ISBLANK(F89),ISBLANK(K89)),\"\",IF(AND(ISBLANK(F89),B88<>\"\"),B88,IF(COUNTIF($F$13:F88,F89)>0,B88,MAX($B$13:B88)+1)))","v":""},null,null,0,null,null,null,null,"Enter PC",null,"","",{"$f":"+IF(ISBLANK(K89),\"\",VLOOKUP(K89,'5.3 Schedule of Rates'!B:D,3,0))","v":""},null,"",null,"","",null,null,null,{"$f":"IFERROR(INDEX('1.2 Sub-Con Application'!$B$13:$U$1012,MATCH(1,('1.2 Sub-Con Application'!$B$13:$B$1012=B89)*('1.2 Sub-Con Application'!$U$13:$U$1012=\"Rejected\"),0),20),\"\")","v":""}]
[null,{"$f":"+IF(AND(ISBLANK(F90),ISBLANK(K90)),\"\",IF(AND(ISBLANK(F90),B89<>\"\"),B89,IF(COUNTIF($F$13:F89,F90)>0,B89,MAX($B$13:B89)+1)))","v":""},null,null,0,null,null,null,null,"Enter PC",null,"","",{"$f":"+IF(ISBLANK(K90),\"\",VLOOKUP(K90,'5.3 Schedule of Rates'!B:D,3,0))","v":""},null,"",null,"","",null,null,null,{"$f":"IFERROR(INDEX('1.2 Sub-Con Application'!$B$13:$U$1012,MATCH(1,('1.2 Sub-Con Application'!$B$13:$B$1012=B90)*('1.2 Sub-Con Application'!$U$13:$U$1012=\"Rejected\"),0),20),\"\")","v":""}]
[null,{"$f":"+IF(AND(ISBLANK(F91),ISBLANK(K91)),\"\",IF(AND(ISBLANK(F91),B90<>\"\"),B90,IF(COUNTIF($F$13:F90,F91)>0,B90,MAX($B$13:B90)+1)))","v":""},null,null,0,null,null,null,null,"Enter PC",null,"","",{"$f":"+IF(ISBLANK(K91),\"\",VLOOKUP(K91,'5.3 Schedule of Rates'!B:D,3,0))","v":""},null,"",null,"","",null,null,null,{"$f":"IFERROR(INDEX('1.2 Sub-Con Application'!$B$13:$U$1012,MATCH(1,('1.2 Sub-Con Application'!$B$13:$B$1012=B91)*('1.2 Sub-Con Application'!$U$13:$U$1012=\"Rejected\"),0),20),\"\")","v":""}]
[null,{"$f":"+IF(AND(ISBLANK(F92),ISBLANK(K92)),\"\",IF(AND(ISBLANK(F92),B91<>\"\"),B91,IF(COUNTIF($F$13:F91,F92)>0,B91,MAX($B$13:B91)+1)))","v":""},null,null,0,null,null,null,null,"Enter PC",null,"","",{"$f":"+IF(ISBLANK(K92),\"\",VLOOKUP(K92,'5.3 Schedule of Rates'!B:D,3,0))","v":""},null,"",null,"","",null,null,null,{"$f":"IFERROR(INDEX('1.2 Sub-Con Application'!$B$13:$U$1012,MATCH(1,('1.2 Sub-Con Application'!$B$13:$B$1012=B92)*('1.2 Sub-Con Application'!$U$13:$U$1012=\"Rejected\"),0),20),\"\")","v":""}]
[null,{"$f":"+IF(AND(ISBLANK(F93),ISBLANK(K93)),\"\",IF(AND(ISBLANK(F93),B92<>\"\"),B92,IF(COUNTIF($F$13:F92,F93)>0,B92,MAX($B$13:B92)+1)))","v":""},null,null,0,null,null,null,null,"Enter PC",null,"","",{"$f":"+IF(ISBLANK(K93),\"\",VLOOKUP(K93,'5.3 Schedule of Rates'!B:D,3,0))","v":""},null,"",null,"","",null,null,null,{"$f":"IFERROR(INDEX('1.2 Sub-Con Application'!$B$13:$U$1012,MATCH(1,('1.2 Sub-Con Application'!$B$13:$B$1012=B93)*('1.2 Sub-Con Application'!$U$13:$U$1012=\"Rejected\"),0),20),\"\")","v":""}]
[null,{"$f":"+IF(AND(ISBLANK(F94),ISBLANK(K94)),\"\",IF(AND(ISBLANK(F94),B93<>\"\"),B93,IF(COUNTIF($F$13:F93,F94)>0,B93,MAX($B$13:B93)+1)))","v":""},null,null,0,null,null,null,null,"Enter PC",null,"","",{"$f":"+IF(ISBLANK(K94),\"\",VLOOKUP(K94,'5.3 Schedule of Rates'!B:D,3,0))","v":""},null,"",null,"","",null,null,null,{"$f":"IFERROR(INDEX('1.2 Sub-Con Application'!$B$13:$U$1012,MATCH(1,('1.2 Sub-Con Application'!$B$13:$B$1012=B94)*('1.2 Sub-Con Application'!$U$13:$U$1012=\"Rejected\"),0),20),\"\")","v":""}]
[null,{"$f":"+IF(AND(ISBLANK(F95),ISBLANK(K95)),\"\",IF(AND(ISBLANK(F95),B94<>\"\"),B94,IF(COUNTIF($F$13:F94,F95)>0,B94,MAX($B$13:B94)+1)))","v":""},null,null,0,null,null,null,null,"Enter PC",null,"","",{"$f":"+IF(ISBLANK(K95),\"\",VLOOKUP(K95,'5.3 Schedule of Rates'!B:D,3,0))","v":""},null,"",null,"","",null,null,null,{"$f":"IFERROR(INDEX('1.2 Sub-Con Application'!$B$13:$U$1012,MATCH(1,('1.2 Sub-Con Application'!$B$13:$B$1012=B95)*('1.2 Sub-Con Application'!$U$13:$U$1012=\"Rejected\"),0),20),\"\")","v":""}]
[null,{"$f":"+IF(AND(ISBLANK(F96),ISBLANK(K96)),\"\",IF(AND(ISBLANK(F96),B95<>\"\"),B95,IF(COUNTIF($F$13:F95,F96)>0,B95,MAX($B$13:B95)+1)))","v":""},null,null,0,null,null,null,null,"Enter PC",null,"","",{"$f":"+IF(ISBLANK(K96),\"\",VLOOKUP(K96,'5.3 Schedule of Rates'!B:D,3,0))","v":""},null,"",null,"","",null,null,null,{"$f":"IFERROR(INDEX('1.2 Sub-Con Application'!$B$13:$U$1012,MATCH(1,('1.2 Sub-Con Application'!$B$13:$B$1012=B96)*('1.2 Sub-Con Application'!$U$13:$U$1012=\"Rejected\"),0),20),\"\")","v":""}]
[null,{"$f":"+IF(AND(ISBLANK(F97),ISBLANK(K97)),\"\",IF(AND(ISBLANK(F97),B96<>\"\"),B96,IF(COUNTIF($F$13:F96,F97)>0,B96,MAX($B$13:B96)+1)))","v":""},null,null,0,null,null,null,null,"Enter PC",null,"","",{"$f":"+IF(ISBLANK(K97),\"\",VLOOKUP(K97,'5.3 Schedule of Rates'!B:D,3,0))","v":""},null,"",null,"","",null,null,null,{"$f":"IFERROR(INDEX('1.2 Sub-Con Application'!$B$13:$U$1012,MATCH(1,('1.2 Sub-Con Application'!$B$13:$B$1012=B97)*('1.2 Sub-Con Application'!$U$13:$U$1012=\"Rejected\"),0),20),\"\")","v":""}]
[null,{"$f":"+IF(AND(ISBLANK(F98),ISBLANK(K98)),\"\",IF(AND(ISBLANK(F98),B97<>\"\"),B97,IF(COUNTIF($F$13:F97,F98)>0,B97,MAX($B$13:B97)+1)))","v":""},null,null,0,null,null,null,null,"Enter PC",null,"","",{"$f":"+IF(ISBLANK(K98),\"\",VLOOKUP(K98,'5.3 Schedule of Rates'!B:D,3,0))","v":""},null,"",null,"","",null,null,null,{"$f":"IFERROR(INDEX('1.2 Sub-Con Application'!$B$13:$U$1012,MATCH(1,('1.2 Sub-Con Application'!$B$13:$B$1012=B98)*('1.2 Sub-Con Application'!$U$13:$U$1012=\"Rejected\"),0),20),\"\")","v":""}]
[null,{"$f":"+IF(AND(ISBLANK(F99),ISBLANK(K99)),\"\",IF(AND(ISBLANK(F99),B98<>\"\"),B98,IF(COUNTIF($F$13:F98,F99)>0,B98,MAX($B$13:B98)+1)))","v":""},null,null,0,null,null,null,null,"Enter PC",null,"","",{"$f":"+IF(ISBLANK(K99),\"\",VLOOKUP(K99,'5.3 Schedule of Rates'!B:D,3,0))","v":""},null,"",null,"","",null,null,null,{"$f":"IFERROR(INDEX('1.2 Sub-Con Application'!$B$13:$U$1012,MATCH(1,('1.2 Sub-Con Application'!$B$13:$B$1012=B99)*('1.2 Sub-Con Application'!$U$13:$U$1012=\"Rejected\"),0),20),\"\")","v":""}]
[null,{"$f":"+IF(AND(ISBLANK(F100),ISBLANK(K100)),\"\",IF(AND(ISBLANK(F100),B99<>\"\"),B99,IF(COUNTIF($F$13:F99,F100)>0,B99,MAX($B$13:B99)+1)))","v":""},null,null,0,null,null,null,null,"Enter PC",null,"","",{"$f":"+IF(ISBLANK(K100),\"\",VLOOKUP(K100,'5.3 Schedule of Rates'!B:D,3,0))","v":""},null,"",null,"","",null,null,null,{"$f":"IFERROR(INDEX('1.2 Sub-Con Application'!$B$13:$U$1012,MATCH(1,('1.2 Sub-Con Application'!$B$13:$B$1012=B100)*('1.2 Sub-Con Application'!$U$13:$U$1012=\"Rejected\"),0),20),\"\")","v":""}]
[null,{"$f":"+IF(AND(ISBLANK(F101),ISBLANK(K101)),\"\",IF(AND(ISBLANK(F101),B100<>\"\"),B100,IF(COUNTIF($F$13:F100,F101)>0,B100,MAX($B$13:B100)+1)))","v":""},null,null,0,null,null,null,null,"Enter PC",null,"","",{"$f":"+IF(ISBLANK(K101),\"\",VLOOKUP(K101,'5.3 Schedule of Rates'!B:D,3,0))","v":""},null,"",null,"","",null,null,null,{"$f":"IFERROR(INDEX('1.2 Sub-Con Application'!$B$13:$U$1012,MATCH(1,('1.2 Sub-Con Application'!$B$13:$B$1012=B101)*('1.2 Sub-Con Application'!$U$13:$U$1012=\"Rejected\"),0),20),\"\")","v":""}]
[null,{"$f":"+IF(AND(ISBLANK(F102),ISBLANK(K102)),\"\",IF(AND(ISBLANK(F102),B101<>\"\"),B101,IF(COUNTIF($F$13:F101,F102)>0,B101,MAX($B$13:B101)+1)))","v":""},null,null,0,null,null,null,null,"Enter PC",null,"","",{"$f":"+IF(ISBLANK(K102),\"\",VLOOKUP(K102,'5.3 Schedule of Rates'!B:D,3,0))","v":""},null,"",null,"","",null,null,null,{"$f":"IFERROR(INDEX('1.2 Sub-Con Application'!$B$13:$U$1012,MATCH(1,('1.2 Sub-Con Application'!$B$13:$B$1012=B102)*('1.2 Sub-Con Application'!$U$13:$U$1012=\"Rejected\"),0),20),\"\")","v":""}]
[null,{"$f":"+IF(AND(ISBLANK(F103),ISBLANK(K103)),\"\",IF(AND(ISBLANK(F103),B102<>\"\"),B102,IF(COUNTIF($F$13:F102,F103)>0,B102,MAX($B$13:B102)+1)))","v":""},null,null,0,null,null,null,null,"Enter PC",null,"","",{"$f":"+IF(ISBLANK(K103),\"\",VLOOKUP(K103,'5.3 Schedule of Rates'!B:D,3,0))","v":""},null,"",null,"","",null,null,null,{"$f":"IFERROR(INDEX('1.2 Sub-Con Application'!$B$13:$U$1012,MATCH(1,('1.2 Sub-Con Application'!$B$13:$B$1012=B103)*('1.2 Sub-Con Application'!$U$13:$U$1012=\"Rejected\"),0),20),\"\")","v":""}]
[null,{"$f":"+IF(AND(ISBLANK(F104),ISBLANK(K104)),\"\",IF(AND(ISBLANK(F104),B103<>\"\"),B103,IF(COUNTIF($F$13:F103,F104)>0,B103,MAX($B$13:B103)+1)))","v":""},null,null,0,null,null,null,null,"Enter PC",null,"","",{"$f":"+IF(ISBLANK(K104),\"\",VLOOKUP(K104,'5.3 Schedule of Rates'!B:D,3,0))","v":""},null,"",null,"","",null,null,null,{"$f":"IFERROR(INDEX('1.2 Sub-Con Application'!$B$13:$U$1012,MATCH(1,('1.2 Sub-Con Application'!$B$13:$B$1012=B104)*('1.2 Sub-Con Application'!$U$13:$U$1012=\"Rejected\"),0),20),\"\")","v":""}]
[null,{"$f":"+IF(AND(ISBLANK(F105),ISBLANK(K105)),\"\",IF(AND(ISBLANK(F105),B104<>\"\"),B104,IF(COUNTIF($F$13:F104,F105)>0,B104,MAX($B$13:B104)+1)))","v":""},null,null,0,null,null,null,null,"Enter PC",null,"","",{"$f":"+IF(ISBLANK(K105),\"\",VLOOKUP(K105,'5.3 Schedule of Rates'!B:D,3,0))","v":""},null,"",null,"","",null,null,null,{"$f":"IFERROR(INDEX('1.2 Sub-Con Application'!$B$13:$U$1012,MATCH(1,('1.2 Sub-Con Application'!$B$13:$B$1012=B105)*('1.2 Sub-Con Application'!$U$13:$U$1012=\"Rejected\"),0),20),\"\")","v":""}]
[null,{"$f":"+IF(AND(ISBLANK(F106),ISBLANK(K106)),\"\",IF(AND(ISBLANK(F106),B105<>\"\"),B105,IF(COUNTIF($F$13:F105,F106)>0,B105,MAX($B$13:B105)+1)))","v":""},null,null,0,null,null,null,null,"Enter PC",null,"","",{"$f":"+IF(ISBLANK(K106),\"\",VLOOKUP(K106,'5.3 Schedule of Rates'!B:D,3,0))","v":""},null,"",null,"","",null,null,null,{"$f":"IFERROR(INDEX('1.2 Sub-Con Application'!$B$13:$U$1012,MATCH(1,('1.2 Sub-Con Application'!$B$13:$B$1012=B106)*('1.2 Sub-Con Application'!$U$13:$U$1012=\"Rejected\"),0),20),\"\")","v":""}]
[null,{"$f":"+IF(AND(ISBLANK(F107),ISBLANK(K107)),\"\",IF(AND(ISBLANK(F107),B106<>\"\"),B106,IF(COUNTIF($F$13:F106,F107)>0,B106,MAX($B$13:B106)+1)))","v":""},null,null,0,null,null,null,null,"Enter PC",null,"","",{"$f":"+IF(ISBLANK(K107),\"\",VLOOKUP(K107,'5.3 Schedule of Rates'!B:D,3,0))","v":""},null,"",null,"","",null,null,null,{"$f":"IFERROR(INDEX('1.2 Sub-Con Application'!$B$13:$U$1012,MATCH(1,('1.2 Sub-Con Application'!$B$13:$B$1012=B107)*('1.2 Sub-Con Application'!$U$13:$U$1012=\"Rejected\"),0),20),\"\")","v":""}]
[null,{"$f":"+IF(AND(ISBLANK(F108),ISBLANK(K108)),\"\",IF(AND(ISBLANK(F108),B107<>\"\"),B107,IF(COUNTIF($F$13:F107,F108)>0,B107,MAX($B$13:B107)+1)))","v":""},null,null,0,null,null,null,null,"Enter PC",null,"","",{"$f":"+IF(ISBLANK(K108),\"\",VLOOKUP(K108,'5.3 Schedule of Rates'!B:D,3,0))","v":""},null,"",null,"","",null,null,null,{"$f":"IFERROR(INDEX('1.2 Sub-Con Application'!$B$13:$U$1012,MATCH(1,('1.2 Sub-Con Application'!$B$13:$B$1012=B108)*('1.2 Sub-Con Application'!$U$13:$U$1012=\"Rejected\"),0),20),\"\")","v":""}]
[null,{"$f":"+IF(AND(ISBLANK(F109),ISBLANK(K109)),\"\",IF(AND(ISBLANK(F109),B108<>\"\"),B108,IF(COUNTIF($F$13:F108,F109)>0,B108,MAX($B$13:B108)+1)))","v":""},null,null,0,null,null,null,null,"Enter PC",null,"","",{"$f":"+IF(ISBLANK(K109),\"\",VLOOKUP(K109,'5.3 Schedule of Rates'!B:D,3,0))","v":""},null,"",null,"","",null,null,null,{"$f":"IFERROR(INDEX('1.2 Sub-Con Application'!$B$13:$U$1012,MATCH(1,('1.2 Sub-Con Application'!$B$13:$B$1012=B109)*('1.2 Sub-Con Application'!$U$13:$U$1012=\"Rejected\"),0),20),\"\")","v":""}]
[null,{"$f":"+IF(AND(ISBLANK(F110),ISBLANK(K110)),\"\",IF(AND(ISBLANK(F110),B109<>\"\"),B109,IF(COUNTIF($F$13:F109,F110)>0,B109,MAX($B$13:B109)+1)))","v":""},null,null,0,null,null,null,null,"Enter PC",null,"","",{"$f":"+IF(ISBLANK(K110),\"\",VLOOKUP(K110,'5.3 Schedule of Rates'!B:D,3,0))","v":""},null,"",null,"","",null,null,null,{"$f":"IFERROR(INDEX('1.2 Sub-Con Application'!$B$13:$U$1012,MATCH(1,('1.2 Sub-Con Application'!$B$13:$B$1012=B110)*('1.2 Sub-Con Application'!$U$13:$U$1012=\"Rejected\"),0),20),\"\")","v":""}]
[null,{"$f":"+IF(AND(ISBLANK(F111),ISBLANK(K111)),\"\",IF(AND(ISBLANK(F111),B110<>\"\"),B110,IF(COUNTIF($F$13:F110,F111)>0,B110,MAX($B$13:B110)+1)))","v":""},null,null,0,null,null,null,null,"Enter PC",null,"","",{"$f":"+IF(ISBLANK(K111),\"\",VLOOKUP(K111,'5.3 Schedule of Rates'!B:D,3,0))","v":""},null,"",null,"","",null,null,null,{"$f":"IFERROR(INDEX('1.2 Sub-Con Application'!$B$13:$U$1012,MATCH(1,('1.2 Sub-Con Application'!$B$13:$B$1012=B111)*('1.2 Sub-Con Application'!$U$13:$U$1012=\"Rejected\"),0),20),\"\")","v":""}]
[null,{"$f":"+IF(AND(ISBLANK(F112),ISBLANK(K112)),\"\",IF(AND(ISBLANK(F112),B111<>\"\"),B111,IF(COUNTIF($F$13:F111,F112)>0,B111,MAX($B$13:B111)+1)))","v":""},null,null,0,null,null,null,null,"Enter PC",null,"","",{"$f":"+IF(ISBLANK(K112),\"\",VLOOKUP(K112,'5.3 Schedule of Rates'!B:D,3,0))","v":""},null,"",null,"","",null,null,null,{"$f":"IFERROR(INDEX('1.2 Sub-Con Application'!$B$13:$U$1012,MATCH(1,('1.2 Sub-Con Application'!$B$13:$B$1012=B112)*('1.2 Sub-Con Application'!$U$13:$U$1012=\"Rejected\"),0),20),\"\")","v":""}]
[null,{"$f":"+IF(AND(ISBLANK(F113),ISBLANK(K113)),\"\",IF(AND(ISBLANK(F113),B112<>\"\"),B112,IF(COUNTIF($F$13:F112,F113)>0,B112,MAX($B$13:B112)+1)))","v":""},null,null,0,null,null,null,null,"Enter PC",null,"","",{"$f":"+IF(ISBLANK(K113),\"\",VLOOKUP(K113,'5.3 Schedule of Rates'!B:D,3,0))","v":""},null,"",null,"","",null,null,null,{"$f":"IFERROR(INDEX('1.2 Sub-Con Application'!$B$13:$U$1012,MATCH(1,('1.2 Sub-Con Application'!$B$13:$B$1012=B113)*('1.2 Sub-Con Application'!$U$13:$U$1012=\"Rejected\"),0),20),\"\")","v":""}]
[null,{"$f":"+IF(AND(ISBLANK(F114),ISBLANK(K114)),\"\",IF(AND(ISBLANK(F114),B113<>\"\"),B113,IF(COUNTIF($F$13:F113,F114)>0,B113,MAX($B$13:B113)+1)))","v":""},null,null,0,null,null,null,null,"Enter PC",null,"","",{"$f":"+IF(ISBLANK(K114),\"\",VLOOKUP(K114,'5.3 Schedule of Rates'!B:D,3,0))","v":""},null,"",null,"","",null,null,null,{"$f":"IFERROR(INDEX('1.2 Sub-Con Application'!$B$13:$U$1012,MATCH(1,('1.2 Sub-Con Application'!$B$13:$B$1012=B114)*('1.2 Sub-Con Application'!$U$13:$U$1012=\"Rejected\"),0),20),\"\")","v":""}]
[null,{"$f":"+IF(AND(ISBLANK(F115),ISBLANK(K115)),\"\",IF(AND(ISBLANK(F115),B114<>\"\"),B114,IF(COUNTIF($F$13:F114,F115)>0,B114,MAX($B$13:B114)+1)))","v":""},null,null,0,null,null,null,null,"Enter PC",null,"","",{"$f":"+IF(ISBLANK(K115),\"\",VLOOKUP(K115,'5.3 Schedule of Rates'!B:D,3,0))","v":""},null,"",null,"","",null,null,null,{"$f":"IFERROR(INDEX('1.2 Sub-Con Application'!$B$13:$U$1012,MATCH(1,('1.2 Sub-Con Application'!$B$13:$B$1012=B115)*('1.2 Sub-Con Application'!$U$13:$U$1012=\"Rejected\"),0),20),\"\")","v":""}]
[null,{"$f":"+IF(AND(ISBLANK(F116),ISBLANK(K116)),\"\",IF(AND(ISBLANK(F116),B115<>\"\"),B115,IF(COUNTIF($F$13:F115,F116)>0,B115,MAX($B$13:B115)+1)))","v":""},null,null,0,null,null,null,null,"Enter PC",null,"","",{"$f":"+IF(ISBLANK(K116),\"\",VLOOKUP(K116,'5.3 Schedule of Rates'!B:D,3,0))","v":""},null,"",null,"","",null,null,null,{"$f":"IFERROR(INDEX('1.2 Sub-Con Application'!$B$13:$U$1012,MATCH(1,('1.2 Sub-Con Application'!$B$13:$B$1012=B116)*('1.2 Sub-Con Application'!$U$13:$U$1012=\"Rejected\"),0),20),\"\")","v":""}]
[null,{"$f":"+IF(AND(ISBLANK(F117),ISBLANK(K117)),\"\",IF(AND(ISBLANK(F117),B116<>\"\"),B116,IF(COUNTIF($F$13:F116,F117)>0,B116,MAX($B$13:B116)+1)))","v":""},null,null,0,null,null,null,null,"Enter PC",null,"","",{"$f":"+IF(ISBLANK(K117),\"\",VLOOKUP(K117,'5.3 Schedule of Rates'!B:D,3,0))","v":""},null,"",null,"","",null,null,null,{"$f":"IFERROR(INDEX('1.2 Sub-Con Application'!$B$13:$U$1012,MATCH(1,('1.2 Sub-Con Application'!$B$13:$B$1012=B117)*('1.2 Sub-Con Application'!$U$13:$U$1012=\"Rejected\"),0),20),\"\")","v":""}]
[null,{"$f":"+IF(AND(ISBLANK(F118),ISBLANK(K118)),\"\",IF(AND(ISBLANK(F118),B117<>\"\"),B117,IF(COUNTIF($F$13:F117,F118)>0,B117,MAX($B$13:B117)+1)))","v":""},null,null,0,null,null,null,null,"Enter PC",null,"","",{"$f":"+IF(ISBLANK(K118),\"\",VLOOKUP(K118,'5.3 Schedule of Rates'!B:D,3,0))","v":""},null,"",null,"","",null,null,null,{"$f":"IFERROR(INDEX('1.2 Sub-Con Application'!$B$13:$U$1012,MATCH(1,('1.2 Sub-Con Application'!$B$13:$B$1012=B118)*('1.2 Sub-Con Application'!$U$13:$U$1012=\"Rejected\"),0),20),\"\")","v":""}]
[null,{"$f":"+IF(AND(ISBLANK(F119),ISBLANK(K119)),\"\",IF(AND(ISBLANK(F119),B118<>\"\"),B118,IF(COUNTIF($F$13:F118,F119)>0,B118,MAX($B$13:B118)+1)))","v":""},null,null,0,null,null,null,null,"Enter PC",null,"","",{"$f":"+IF(ISBLANK(K119),\"\",VLOOKUP(K119,'5.3 Schedule of Rates'!B:D,3,0))","v":""},null,"",null,"","",null,null,null,{"$f":"IFERROR(INDEX('1.2 Sub-Con Application'!$B$13:$U$1012,MATCH(1,('1.2 Sub-Con Application'!$B$13:$B$1012=B119)*('1.2 Sub-Con Application'!$U$13:$U$1012=\"Rejected\"),0),20),\"\")","v":""}]
[null,{"$f":"+IF(AND(ISBLANK(F120),ISBLANK(K120)),\"\",IF(AND(ISBLANK(F120),B119<>\"\"),B119,IF(COUNTIF($F$13:F119,F120)>0,B119,MAX($B$13:B119)+1)))","v":""},null,null,0,null,null,null,null,"Enter PC",null,"","",{"$f":"+IF(ISBLANK(K120),\"\",VLOOKUP(K120,'5.3 Schedule of Rates'!B:D,3,0))","v":""},null,"",null,"","",null,null,null,{"$f":"IFERROR(INDEX('1.2 Sub-Con Application'!$B$13:$U$1012,MATCH(1,('1.2 Sub-Con Application'!$B$13:$B$1012=B120)*('1.2 Sub-Con Application'!$U$13:$U$1012=\"Rejected\"),0),20),\"\")","v":""}]
[null,{"$f":"+IF(AND(ISBLANK(F121),ISBLANK(K121)),\"\",IF(AND(ISBLANK(F121),B120<>\"\"),B120,IF(COUNTIF($F$13:F120,F121)>0,B120,MAX($B$13:B120)+1)))","v":""},null,null,0,null,null,null,null,"Enter PC",null,"","",{"$f":"+IF(ISBLANK(K121),\"\",VLOOKUP(K121,'5.3 Schedule of Rates'!B:D,3,0))","v":""},null,"",null,"","",null,null,null,{"$f":"IFERROR(INDEX('1.2 Sub-Con Application'!$B$13:$U$1012,MATCH(1,('1.2 Sub-Con Application'!$B$13:$B$1012=B121)*('1.2 Sub-Con Application'!$U$13:$U$1012=\"Rejected\"),0),20),\"\")","v":""}]
[null,{"$f":"+IF(AND(ISBLANK(F122),ISBLANK(K122)),\"\",IF(AND(ISBLANK(F122),B121<>\"\"),B121,IF(COUNTIF($F$13:F121,F122)>0,B121,MAX($B$13:B121)+1)))","v":""},null,null,0,null,null,null,null,"Enter PC",null,"","",{"$f":"+IF(ISBLANK(K122),\"\",VLOOKUP(K122,'5.3 Schedule of Rates'!B:D,3,0))","v":""},null,"",null,"","",null,null,null,{"$f":"IFERROR(INDEX('1.2 Sub-Con Application'!$B$13:$U$1012,MATCH(1,('1.2 Sub-Con Application'!$B$13:$B$1012=B122)*('1.2 Sub-Con Application'!$U$13:$U$1012=\"Rejected\"),0),20),\"\")","v":""}]
[null,{"$f":"+IF(AND(ISBLANK(F123),ISBLANK(K123)),\"\",IF(AND(ISBLANK(F123),B122<>\"\"),B122,IF(COUNTIF($F$13:F122,F123)>0,B122,MAX($B$13:B122)+1)))","v":""},null,null,0,null,null,null,null,"Enter PC",null,"","",{"$f":"+IF(ISBLANK(K123),\"\",VLOOKUP(K123,'5.3 Schedule of Rates'!B:D,3,0))","v":""},null,"",null,"","",null,null,null,{"$f":"IFERROR(INDEX('1.2 Sub-Con Application'!$B$13:$U$1012,MATCH(1,('1.2 Sub-Con Application'!$B$13:$B$1012=B123)*('1.2 Sub-Con Application'!$U$13:$U$1012=\"Rejected\"),0),20),\"\")","v":""}]
[null,{"$f":"+IF(AND(ISBLANK(F124),ISBLANK(K124)),\"\",IF(AND(ISBLANK(F124),B123<>\"\"),B123,IF(COUNTIF($F$13:F123,F124)>0,B123,MAX($B$13:B123)+1)))","v":""},null,null,0,null,null,null,null,"Enter PC",null,"","",{"$f":"+IF(ISBLANK(K124),\"\",VLOOKUP(K124,'5.3 Schedule of Rates'!B:D,3,0))","v":""},null,"",null,"","",null,null,null,{"$f":"IFERROR(INDEX('1.2 Sub-Con Application'!$B$13:$U$1012,MATCH(1,('1.2 Sub-Con Application'!$B$13:$B$1012=B124)*('1.2 Sub-Con Application'!$U$13:$U$1012=\"Rejected\"),0),20),\"\")","v":""}]
[null,{"$f":"+IF(AND(ISBLANK(F125),ISBLANK(K125)),\"\",IF(AND(ISBLANK(F125),B124<>\"\"),B124,IF(COUNTIF($F$13:F124,F125)>0,B124,MAX($B$13:B124)+1)))","v":""},null,null,0,null,null,null,null,"Enter PC",null,"","",{"$f":"+IF(ISBLANK(K125),\"\",VLOOKUP(K125,'5.3 Schedule of Rates'!B:D,3,0))","v":""},null,"",null,"","",null,null,null,{"$f":"IFERROR(INDEX('1.2 Sub-Con Application'!$B$13:$U$1012,MATCH(1,('1.2 Sub-Con Application'!$B$13:$B$1012=B125)*('1.2 Sub-Con Application'!$U$13:$U$1012=\"Rejected\"),0),20),\"\")","v":""}]
[null,{"$f":"+IF(AND(ISBLANK(F126),ISBLANK(K126)),\"\",IF(AND(ISBLANK(F126),B125<>\"\"),B125,IF(COUNTIF($F$13:F125,F126)>0,B125,MAX($B$13:B125)+1)))","v":""},null,null,0,null,null,null,null,"Enter PC",null,"","",{"$f":"+IF(ISBLANK(K126),\"\",VLOOKUP(K126,'5.3 Schedule of Rates'!B:D,3,0))","v":""},null,"",null,"","",null,null,null,{"$f":"IFERROR(INDEX('1.2 Sub-Con Application'!$B$13:$U$1012,MATCH(1,('1.2 Sub-Con Application'!$B$13:$B$1012=B126)*('1.2 Sub-Con Application'!$U$13:$U$1012=\"Rejected\"),0),20),\"\")","v":""}]
[null,{"$f":"+IF(AND(ISBLANK(F127),ISBLANK(K127)),\"\",IF(AND(ISBLANK(F127),B126<>\"\"),B126,IF(COUNTIF($F$13:F126,F127)>0,B126,MAX($B$13:B126)+1)))","v":""},null,null,0,null,null,null,null,"Enter PC",null,"","",{"$f":"+IF(ISBLANK(K127),\"\",VLOOKUP(K127,'5.3 Schedule of Rates'!B:D,3,0))","v":""},null,"",null,"","",null,null,null,{"$f":"IFERROR(INDEX('1.2 Sub-Con Application'!$B$13:$U$1012,MATCH(1,('1.2 Sub-Con Application'!$B$13:$B$1012=B127)*('1.2 Sub-Con Application'!$U$13:$U$1012=\"Rejected\"),0),20),\"\")","v":""}]
[null,{"$f":"+IF(AND(ISBLANK(F128),ISBLANK(K128)),\"\",IF(AND(ISBLANK(F128),B127<>\"\"),B127,IF(COUNTIF($F$13:F127,F128)>0,B127,MAX($B$13:B127)+1)))","v":""},null,null,0,null,null,null,null,"Enter PC",null,"","",{"$f":"+IF(ISBLANK(K128),\"\",VLOOKUP(K128,'5.3 Schedule of Rates'!B:D,3,0))","v":""},null,"",null,"","",null,null,null,{"$f":"IFERROR(INDEX('1.2 Sub-Con Application'!$B$13:$U$1012,MATCH(1,('1.2 Sub-Con Application'!$B$13:$B$1012=B128)*('1.2 Sub-Con Application'!$U$13:$U$1012=\"Rejected\"),0),20),\"\")","v":""}]
[null,{"$f":"+IF(AND(ISBLANK(F129),ISBLANK(K129)),\"\",IF(AND(ISBLANK(F129),B128<>\"\"),B128,IF(COUNTIF($F$13:F128,F129)>0,B128,MAX($B$13:B128)+1)))","v":""},null,null,0,null,null,null,null,"Enter PC",null,"","",{"$f":"+IF(ISBLANK(K129),\"\",VLOOKUP(K129,'5.3 Schedule of Rates'!B:D,3,0))","v":""},null,"",null,"","",null,null,null,{"$f":"IFERROR(INDEX('1.2 Sub-Con Application'!$B$13:$U$1012,MATCH(1,('1.2 Sub-Con Application'!$B$13:$B$1012=B129)*('1.2 Sub-Con Application'!$U$13:$U$1012=\"Rejected\"),0),20),\"\")","v":""}]
[null,{"$f":"+IF(AND(ISBLANK(F130),ISBLANK(K130)),\"\",IF(AND(ISBLANK(F130),B129<>\"\"),B129,IF(COUNTIF($F$13:F129,F130)>0,B129,MAX($B$13:B129)+1)))","v":""},null,null,0,null,null,null,null,"Enter PC",null,"","",{"$f":"+IF(ISBLANK(K130),\"\",VLOOKUP(K130,'5.3 Schedule of Rates'!B:D,3,0))","v":""},null,"",null,"","",null,null,null,{"$f":"IFERROR(INDEX('1.2 Sub-Con Application'!$B$13:$U$1012,MATCH(1,('1.2 Sub-Con Application'!$B$13:$B$1012=B130)*('1.2 Sub-Con Application'!$U$13:$U$1012=\"Rejected\"),0),20),\"\")","v":""}]
[null,{"$f":"+IF(AND(ISBLANK(F131),ISBLANK(K131)),\"\",IF(AND(ISBLANK(F131),B130<>\"\"),B130,IF(COUNTIF($F$13:F130,F131)>0,B130,MAX($B$13:B130)+1)))","v":""},null,null,0,null,null,null,null,"Enter PC",null,"","",{"$f":"+IF(ISBLANK(K131),\"\",VLOOKUP(K131,'5.3 Schedule of Rates'!B:D,3,0))","v":""},null,"",null,"","",null,null,null,{"$f":"IFERROR(INDEX('1.2 Sub-Con Application'!$B$13:$U$1012,MATCH(1,('1.2 Sub-Con Application'!$B$13:$B$1012=B131)*('1.2 Sub-Con Application'!$U$13:$U$1012=\"Rejected\"),0),20),\"\")","v":""}]
[null,{"$f":"+IF(AND(ISBLANK(F132),ISBLANK(K132)),\"\",IF(AND(ISBLANK(F132),B131<>\"\"),B131,IF(COUNTIF($F$13:F131,F132)>0,B131,MAX($B$13:B131)+1)))","v":""},null,null,0,null,null,null,null,"Enter PC",null,"","",{"$f":"+IF(ISBLANK(K132),\"\",VLOOKUP(K132,'5.3 Schedule of Rates'!B:D,3,0))","v":""},null,"",null,"","",null,null,null,{"$f":"IFERROR(INDEX('1.2 Sub-Con Application'!$B$13:$U$1012,MATCH(1,('1.2 Sub-Con Application'!$B$13:$B$1012=B132)*('1.2 Sub-Con Application'!$U$13:$U$1012=\"Rejected\"),0),20),\"\")","v":""}]
[null,{"$f":"+IF(AND(ISBLANK(F133),ISBLANK(K133)),\"\",IF(AND(ISBLANK(F133),B132<>\"\"),B132,IF(COUNTIF($F$13:F132,F133)>0,B132,MAX($B$13:B132)+1)))","v":""},null,null,0,null,null,null,null,"Enter PC",null,"","",{"$f":"+IF(ISBLANK(K133),\"\",VLOOKUP(K133,'5.3 Schedule of Rates'!B:D,3,0))","v":""},null,"",null,"","",null,null,null,{"$f":"IFERROR(INDEX('1.2 Sub-Con Application'!$B$13:$U$1012,MATCH(1,('1.2 Sub-Con Application'!$B$13:$B$1012=B133)*('1.2 Sub-Con Application'!$U$13:$U$1012=\"Rejected\"),0),20),\"\")","v":""}]
[null,{"$f":"+IF(AND(ISBLANK(F134),ISBLANK(K134)),\"\",IF(AND(ISBLANK(F134),B133<>\"\"),B133,IF(COUNTIF($F$13:F133,F134)>0,B133,MAX($B$13:B133)+1)))","v":""},null,null,0,null,null,null,null,"Enter PC",null,"","",{"$f":"+IF(ISBLANK(K134),\"\",VLOOKUP(K134,'5.3 Schedule of Rates'!B:D,3,0))","v":""},null,"",null,"","",null,null,null,{"$f":"IFERROR(INDEX('1.2 Sub-Con Application'!$B$13:$U$1012,MATCH(1,('1.2 Sub-Con Application'!$B$13:$B$1012=B134)*('1.2 Sub-Con Application'!$U$13:$U$1012=\"Rejected\"),0),20),\"\")","v":""}]
[null,{"$f":"+IF(AND(ISBLANK(F135),ISBLANK(K135)),\"\",IF(AND(ISBLANK(F135),B134<>\"\"),B134,IF(COUNTIF($F$13:F134,F135)>0,B134,MAX($B$13:B134)+1)))","v":""},null,null,0,null,null,null,null,"Enter PC",null,"","",{"$f":"+IF(ISBLANK(K135),\"\",VLOOKUP(K135,'5.3 Schedule of Rates'!B:D,3,0))","v":""},null,"",null,"","",null,null,null,{"$f":"IFERROR(INDEX('1.2 Sub-Con Application'!$B$13:$U$1012,MATCH(1,('1.2 Sub-Con Application'!$B$13:$B$1012=B135)*('1.2 Sub-Con Application'!$U$13:$U$1012=\"Rejected\"),0),20),\"\")","v":""}]
[null,{"$f":"+IF(AND(ISBLANK(F136),ISBLANK(K136)),\"\",IF(AND(ISBLANK(F136),B135<>\"\"),B135,IF(COUNTIF($F$13:F135,F136)>0,B135,MAX($B$13:B135)+1)))","v":""},null,null,0,null,null,null,null,"Enter PC",null,"","",{"$f":"+IF(ISBLANK(K136),\"\",VLOOKUP(K136,'5.3 Schedule of Rates'!B:D,3,0))","v":""},null,"",null,"","",null,null,null,{"$f":"IFERROR(INDEX('1.2 Sub-Con Application'!$B$13:$U$1012,MATCH(1,('1.2 Sub-Con Application'!$B$13:$B$1012=B136)*('1.2 Sub-Con Application'!$U$13:$U$1012=\"Rejected\"),0),20),\"\")","v":""}]
[null,{"$f":"+IF(AND(ISBLANK(F137),ISBLANK(K137)),\"\",IF(AND(ISBLANK(F137),B136<>\"\"),B136,IF(COUNTIF($F$13:F136,F137)>0,B136,MAX($B$13:B136)+1)))","v":""},null,null,0,null,null,null,null,"Enter PC",null,"","",{"$f":"+IF(ISBLANK(K137),\"\",VLOOKUP(K137,'5.3 Schedule of Rates'!B:D,3,0))","v":""},null,"",null,"","",null,null,null,{"$f":"IFERROR(INDEX('1.2 Sub-Con Application'!$B$13:$U$1012,MATCH(1,('1.2 Sub-Con Application'!$B$13:$B$1012=B137)*('1.2 Sub-Con Application'!$U$13:$U$1012=\"Rejected\"),0),20),\"\")","v":""}]
[null,{"$f":"+IF(AND(ISBLANK(F138),ISBLANK(K138)),\"\",IF(AND(ISBLANK(F138),B137<>\"\"),B137,IF(COUNTIF($F$13:F137,F138)>0,B137,MAX($B$13:B137)+1)))","v":""},null,null,0,null,null,null,null,"Enter PC",null,"","",{"$f":"+IF(ISBLANK(K138),\"\",VLOOKUP(K138,'5.3 Schedule of Rates'!B:D,3,0))","v":""},null,"",null,"","",null,null,null,{"$f":"IFERROR(INDEX('1.2 Sub-Con Application'!$B$13:$U$1012,MATCH(1,('1.2 Sub-Con Application'!$B$13:$B$1012=B138)*('1.2 Sub-Con Application'!$U$13:$U$1012=\"Rejected\"),0),20),\"\")","v":""}]
[null,{"$f":"+IF(AND(ISBLANK(F139),ISBLANK(K139)),\"\",IF(AND(ISBLANK(F139),B138<>\"\"),B138,IF(COUNTIF($F$13:F138,F139)>0,B138,MAX($B$13:B138)+1)))","v":""},null,null,0,null,null,null,null,"Enter PC",null,"","",{"$f":"+IF(ISBLANK(K139),\"\",VLOOKUP(K139,'5.3 Schedule of Rates'!B:D,3,0))","v":""},null,"",null,"","",null,null,null,{"$f":"IFERROR(INDEX('1.2 Sub-Con Application'!$B$13:$U$1012,MATCH(1,('1.2 Sub-Con Application'!$B$13:$B$1012=B139)*('1.2 Sub-Con Application'!$U$13:$U$1012=\"Rejected\"),0),20),\"\")","v":""}]
[null,{"$f":"+IF(AND(ISBLANK(F140),ISBLANK(K140)),\"\",IF(AND(ISBLANK(F140),B139<>\"\"),B139,IF(COUNTIF($F$13:F139,F140)>0,B139,MAX($B$13:B139)+1)))","v":""},null,null,0,null,null,null,null,"Enter PC",null,"","",{"$f":"+IF(ISBLANK(K140),\"\",VLOOKUP(K140,'5.3 Schedule of Rates'!B:D,3,0))","v":""},null,"",null,"","",null,null,null,{"$f":"IFERROR(INDEX('1.2 Sub-Con Application'!$B$13:$U$1012,MATCH(1,('1.2 Sub-Con Application'!$B$13:$B$1012=B140)*('1.2 Sub-Con Application'!$U$13:$U$1012=\"Rejected\"),0),20),\"\")","v":""}]
[null,{"$f":"+IF(AND(ISBLANK(F141),ISBLANK(K141)),\"\",IF(AND(ISBLANK(F141),B140<>\"\"),B140,IF(COUNTIF($F$13:F140,F141)>0,B140,MAX($B$13:B140)+1)))","v":""},null,null,0,null,null,null,null,{"$f":"IFERROR(IF(I141=\"\",\"Enter PC\",VLOOKUP(IF(LEN(I141)=6,LEFT(I141,2),IF(LEN(I141)=7,LEFT(I141,3),LEFT(I141,4))),table_pcRegion,2,FALSE)=work_Region),\"INVALID\")","v":"Enter PC"},null,{"$f":"+IF(ISBLANK(K141),\"\",VLOOKUP(K141,table_SoR,2,0))","v":""},{"$f":"+IF(ISBLANK(K141),\"\",INDEX(table_subconSoR,MATCH(L141,row_SoR,0),MATCH($H$4,col_SoR,0)))","v":""},{"$f":"+IF(ISBLANK(K141),\"\",VLOOKUP(K141,'5.3 Schedule of Rates'!B:D,3,0))","v":""},null,{"$f":"+IF(ISBLANK($O141),\"\",ROUND(SUM(SUM(VLOOKUP($K141,table_SoR,6,0)*(1+$M141))*O141),2))","v":""},null,{"$f":"+IF(ISBLANK($O141),\"\",ROUND(IF(Q141>0,Q141,SUM(SUM(VLOOKUP($K141,table_SoR,7,0)*(1+$M141))*O141)),2))","v":""},"",null,null,null,{"$f":"IFERROR(INDEX('1.2 Sub-Con Application'!$B$13:$U$1012,MATCH(1,('1.2 Sub-Con Application'!$B$13:$B$1012=B141)*('1.2 Sub-Con Application'!$U$13:$U$1012=\"Rejected\"),0),20),\"\")","v":""}]
[null,{"$f":"+IF(AND(ISBLANK(F142),ISBLANK(K142)),\"\",IF(AND(ISBLANK(F142),B141<>\"\"),B141,IF(COUNTIF($F$13:F141,F142)>0,B141,MAX($B$13:B141)+1)))","v":""},null,null,0,null,null,null,null,"Enter PC",null,"","",{"$f":"+IF(ISBLANK(K142),\"\",VLOOKUP(K142,'5.3 Schedule of Rates'!B:D,3,0))","v":""},null,"",null,"",{"$f":"IF(ISERROR(SUM(P142-R142)),\"\",SUM(P142-R142))","v":""},null,null,null,{"$f":"IFERROR(INDEX('1.2 Sub-Con Application'!$B$13:$U$1012,MATCH(1,('1.2 Sub-Con Application'!$B$13:$B$1012=B142)*('1.2 Sub-Con Application'!$U$13:$U$1012=\"Rejected\"),0),20),\"\")","v":""}]
[null,{"$f":"+IF(AND(ISBLANK(F143),ISBLANK(K143)),\"\",IF(AND(ISBLANK(F143),B142<>\"\"),B142,IF(COUNTIF($F$13:F142,F143)>0,B142,MAX($B$13:B142)+1)))","v":""},null,null,{"$f":"NETWORKDAYS(C143,D143)","v":0},null,null,null,null,"Enter PC",null,"","",{"$f":"+IF(ISBLANK(K143),\"\",VLOOKUP(K143,'5.3 Schedule of Rates'!B:D,3,0))","v":""},null,"",null,"","",null,null,null,{"$f":"IFERROR(INDEX('1.2 Sub-Con Application'!$B$13:$U$1012,MATCH(1,('1.2 Sub-Con Application'!$B$13:$B$1012=B143)*('1.2 Sub-Con Application'!$U$13:$U$1012=\"Rejected\"),0),20),\"\")","v":""}]
[null,{"$f":"+IF(AND(ISBLANK(F144),ISBLANK(K144)),\"\",IF(AND(ISBLANK(F144),B143<>\"\"),B143,IF(COUNTIF($F$13:F143,F144)>0,B143,MAX($B$13:B143)+1)))","v":""},null,null,0,null,null,null,null,"Enter PC",null,"","",{"$f":"+IF(ISBLANK(K144),\"\",VLOOKUP(K144,'5.3 Schedule of Rates'!B:D,3,0))","v":""},null,"",null,"","",null,null,null,{"$f":"IFERROR(INDEX('1.2 Sub-Con Application'!$B$13:$U$1012,MATCH(1,('1.2 Sub-Con Application'!$B$13:$B$1012=B144)*('1.2 Sub-Con Application'!$U$13:$U$1012=\"Rejected\"),0),20),\"\")","v":""}]
[null,{"$f":"+IF(AND(ISBLANK(F145),ISBLANK(K145)),\"\",IF(AND(ISBLANK(F145),B144<>\"\"),B144,IF(COUNTIF($F$13:F144,F145)>0,B144,MAX($B$13:B144)+1)))","v":""},null,null,0,null,null,null,null,"Enter PC",null,"","",{"$f":"+IF(ISBLANK(K145),\"\",VLOOKUP(K145,'5.3 Schedule of Rates'!B:D,3,0))","v":""},null,"",null,"","",null,null,null,{"$f":"IFERROR(INDEX('1.2 Sub-Con Application'!$B$13:$U$1012,MATCH(1,('1.2 Sub-Con Application'!$B$13:$B$1012=B145)*('1.2 Sub-Con Application'!$U$13:$U$1012=\"Rejected\"),0),20),\"\")","v":""}]
[null,{"$f":"+IF(AND(ISBLANK(F146),ISBLANK(K146)),\"\",IF(AND(ISBLANK(F146),B145<>\"\"),B145,IF(COUNTIF($F$13:F145,F146)>0,B145,MAX($B$13:B145)+1)))","v":""},null,null,0,null,null,null,null,"Enter PC",null,"","",{"$f":"+IF(ISBLANK(K146),\"\",VLOOKUP(K146,'5.3 Schedule of Rates'!B:D,3,0))","v":""},null,"",null,"","",null,null,null,{"$f":"IFERROR(INDEX('1.2 Sub-Con Application'!$B$13:$U$1012,MATCH(1,('1.2 Sub-Con Application'!$B$13:$B$1012=B146)*('1.2 Sub-Con Application'!$U$13:$U$1012=\"Rejected\"),0),20),\"\")","v":""}]
[null,{"$f":"+IF(AND(ISBLANK(F147),ISBLANK(K147)),\"\",IF(AND(ISBLANK(F147),B146<>\"\"),B146,IF(COUNTIF($F$13:F146,F147)>0,B146,MAX($B$13:B146)+1)))","v":""},null,null,0,null,null,null,null,"Enter PC",null,"","",{"$f":"+IF(ISBLANK(K147),\"\",VLOOKUP(K147,'5.3 Schedule of Rates'!B:D,3,0))","v":""},null,"",null,"","",null,null,null,{"$f":"IFERROR(INDEX('1.2 Sub-Con Application'!$B$13:$U$1012,MATCH(1,('1.2 Sub-Con Application'!$B$13:$B$1012=B147)*('1.2 Sub-Con Application'!$U$13:$U$1012=\"Rejected\"),0),20),\"\")","v":""}]
[null,{"$f":"+IF(AND(ISBLANK(F148),ISBLANK(K148)),\"\",IF(AND(ISBLANK(F148),B147<>\"\"),B147,IF(COUNTIF($F$13:F147,F148)>0,B147,MAX($B$13:B147)+1)))","v":""},null,null,0,null,null,null,null,"Enter PC",null,"","",{"$f":"+IF(ISBLANK(K148),\"\",VLOOKUP(K148,'5.3 Schedule of Rates'!B:D,3,0))","v":""},null,"",null,"","",null,null,null,{"$f":"IFERROR(INDEX('1.2 Sub-Con Application'!$B$13:$U$1012,MATCH(1,('1.2 Sub-Con Application'!$B$13:$B$1012=B148)*('1.2 Sub-Con Application'!$U$13:$U$1012=\"Rejected\"),0),20),\"\")","v":""}]
[null,{"$f":"+IF(AND(ISBLANK(F149),ISBLANK(K149)),\"\",IF(AND(ISBLANK(F149),B148<>\"\"),B148,IF(COUNTIF($F$13:F148,F149)>0,B148,MAX($B$13:B148)+1)))","v":""},null,null,0,null,null,null,null,"Enter PC",null,"","",{"$f":"+IF(ISBLANK(K149),\"\",VLOOKUP(K149,'5.3 Schedule of Rates'!B:D,3,0))","v":""},null,"",null,"","",null,null,null,{"$f":"IFERROR(INDEX('1.2 Sub-Con Application'!$B$13:$U$1012,MATCH(1,('1.2 Sub-Con Application'!$B$13:$B$1012=B149)*('1.2 Sub-Con Application'!$U$13:$U$1012=\"Rejected\"),0),20),\"\")","v":""}]
[null,{"$f":"+IF(AND(ISBLANK(F150),ISBLANK(K150)),\"\",IF(AND(ISBLANK(F150),B149<>\"\"),B149,IF(COUNTIF($F$13:F149,F150)>0,B149,MAX($B$13:B149)+1)))","v":""},null,null,0,null,null,null,null,"Enter PC",null,"","",{"$f":"+IF(ISBLANK(K150),\"\",VLOOKUP(K150,'5.3 Schedule of Rates'!B:D,3,0))","v":""},null,"",null,"","",null,null,null,{"$f":"IFERROR(INDEX('1.2 Sub-Con Application'!$B$13:$U$1012,MATCH(1,('1.2 Sub-Con Application'!$B$13:$B$1012=B150)*('1.2 Sub-Con Application'!$U$13:$U$1012=\"Rejected\"),0),20),\"\")","v":""}]
[null,{"$f":"+IF(AND(ISBLANK(F151),ISBLANK(K151)),\"\",IF(AND(ISBLANK(F151),B150<>\"\"),B150,IF(COUNTIF($F$13:F150,F151)>0,B150,MAX($B$13:B150)+1)))","v":""},null,null,0,null,null,null,null,"Enter PC",null,"","",{"$f":"+IF(ISBLANK(K151),\"\",VLOOKUP(K151,'5.3 Schedule of Rates'!B:D,3,0))","v":""},null,"",null,"","",null,null,null,{"$f":"IFERROR(INDEX('1.2 Sub-Con Application'!$B$13:$U$1012,MATCH(1,('1.2 Sub-Con Application'!$B$13:$B$1012=B151)*('1.2 Sub-Con Application'!$U$13:$U$1012=\"Rejected\"),0),20),\"\")","v":""}]
[null,{"$f":"+IF(AND(ISBLANK(F152),ISBLANK(K152)),\"\",IF(AND(ISBLANK(F152),B151<>\"\"),B151,IF(COUNTIF($F$13:F151,F152)>0,B151,MAX($B$13:B151)+1)))","v":""},null,null,0,null,null,null,null,"Enter PC",null,"","",{"$f":"+IF(ISBLANK(K152),\"\",VLOOKUP(K152,'5.3 Schedule of Rates'!B:D,3,0))","v":""},null,"",null,"","",null,null,null,{"$f":"IFERROR(INDEX('1.2 Sub-Con Application'!$B$13:$U$1012,MATCH(1,('1.2 Sub-Con Application'!$B$13:$B$1012=B152)*('1.2 Sub-Con Application'!$U$13:$U$1012=\"Rejected\"),0),20),\"\")","v":""}]
[null,{"$f":"+IF(AND(ISBLANK(F153),ISBLANK(K153)),\"\",IF(AND(ISBLANK(F153),B152<>\"\"),B152,IF(COUNTIF($F$13:F152,F153)>0,B152,MAX($B$13:B152)+1)))","v":""},null,null,0,null,null,null,null,"Enter PC",null,"","",{"$f":"+IF(ISBLANK(K153),\"\",VLOOKUP(K153,'5.3 Schedule of Rates'!B:D,3,0))","v":""},null,"",null,"","",null,null,null,{"$f":"IFERROR(INDEX('1.2 Sub-Con Application'!$B$13:$U$1012,MATCH(1,('1.2 Sub-Con Application'!$B$13:$B$1012=B153)*('1.2 Sub-Con Application'!$U$13:$U$1012=\"Rejected\"),0),20),\"\")","v":""}]
[null,{"$f":"+IF(AND(ISBLANK(F154),ISBLANK(K154)),\"\",IF(AND(ISBLANK(F154),B153<>\"\"),B153,IF(COUNTIF($F$13:F153,F154)>0,B153,MAX($B$13:B153)+1)))","v":""},null,null,0,null,null,null,null,"Enter PC",null,"","",{"$f":"+IF(ISBLANK(K154),\"\",VLOOKUP(K154,'5.3 Schedule of Rates'!B:D,3,0))","v":""},null,"",null,"","",null,null,null,{"$f":"IFERROR(INDEX('1.2 Sub-Con Application'!$B$13:$U$1012,MATCH(1,('1.2 Sub-Con Application'!$B$13:$B$1012=B154)*('1.2 Sub-Con Application'!$U$13:$U$1012=\"Rejected\"),0),20),\"\")","v":""}]
[null,{"$f":"+IF(AND(ISBLANK(F155),ISBLANK(K155)),\"\",IF(AND(ISBLANK(F155),B154<>\"\"),B154,IF(COUNTIF($F$13:F154,F155)>0,B154,MAX($B$13:B154)+1)))","v":""},null,null,0,null,null,null,null,"Enter PC",null,"","",{"$f":"+IF(ISBLANK(K155),\"\",VLOOKUP(K155,'5.3 Schedule of Rates'!B:D,3,0))","v":""},null,"",null,"","",null,null,null,{"$f":"IFERROR(INDEX('1.2 Sub-Con Application'!$B$13:$U$1012,MATCH(1,('1.2 Sub-Con Application'!$B$13:$B$1012=B155)*('1.2 Sub-Con Application'!$U$13:$U$1012=\"Rejected\"),0),20),\"\")","v":""}]
[null,{"$f":"+IF(AND(ISBLANK(F156),ISBLANK(K156)),\"\",IF(AND(ISBLANK(F156),B155<>\"\"),B155,IF(COUNTIF($F$13:F155,F156)>0,B155,MAX($B$13:B155)+1)))","v":""},null,null,0,null,null,null,null,"Enter PC",null,"","",{"$f":"+IF(ISBLANK(K156),\"\",VLOOKUP(K156,'5.3 Schedule of Rates'!B:D,3,0))","v":""},null,"",null,"","",null,null,null,{"$f":"IFERROR(INDEX('1.2 Sub-Con Application'!$B$13:$U$1012,MATCH(1,('1.2 Sub-Con Application'!$B$13:$B$1012=B156)*('1.2 Sub-Con Application'!$U$13:$U$1012=\"Rejected\"),0),20),\"\")","v":""}]
[null,{"$f":"+IF(AND(ISBLANK(F157),ISBLANK(K157)),\"\",IF(AND(ISBLANK(F157),B156<>\"\"),B156,IF(COUNTIF($F$13:F156,F157)>0,B156,MAX($B$13:B156)+1)))","v":""},null,null,0,null,null,null,null,"Enter PC",null,"","",{"$f":"+IF(ISBLANK(K157),\"\",VLOOKUP(K157,'5.3 Schedule of Rates'!B:D,3,0))","v":""},null,"",null,"","",null,null,null,{"$f":"IFERROR(INDEX('1.2 Sub-Con Application'!$B$13:$U$1012,MATCH(1,('1.2 Sub-Con Application'!$B$13:$B$1012=B157)*('1.2 Sub-Con Application'!$U$13:$U$1012=\"Rejected\"),0),20),\"\")","v":""}]
[null,{"$f":"+IF(AND(ISBLANK(F158),ISBLANK(K158)),\"\",IF(AND(ISBLANK(F158),B157<>\"\"),B157,IF(COUNTIF($F$13:F157,F158)>0,B157,MAX($B$13:B157)+1)))","v":""},null,null,0,null,null,null,null,"Enter PC",null,"","",{"$f":"+IF(ISBLANK(K158),\"\",VLOOKUP(K158,'5.3 Schedule of Rates'!B:D,3,0))","v":""},null,"",null,"","",null,null,null,{"$f":"IFERROR(INDEX('1.2 Sub-Con Application'!$B$13:$U$1012,MATCH(1,('1.2 Sub-Con Application'!$B$13:$B$1012=B158)*('1.2 Sub-Con Application'!$U$13:$U$1012=\"Rejected\"),0),20),\"\")","v":""}]
[null,{"$f":"+IF(AND(ISBLANK(F159),ISBLANK(K159)),\"\",IF(AND(ISBLANK(F159),B158<>\"\"),B158,IF(COUNTIF($F$13:F158,F159)>0,B158,MAX($B$13:B158)+1)))","v":""},null,null,0,null,null,null,null,"Enter PC",null,"","",{"$f":"+IF(ISBLANK(K159),\"\",VLOOKUP(K159,'5.3 Schedule of Rates'!B:D,3,0))","v":""},null,"",null,"","",null,null,null,{"$f":"IFERROR(INDEX('1.2 Sub-Con Application'!$B$13:$U$1012,MATCH(1,('1.2 Sub-Con Application'!$B$13:$B$1012=B159)*('1.2 Sub-Con Application'!$U$13:$U$1012=\"Rejected\"),0),20),\"\")","v":""}]
[null,{"$f":"+IF(AND(ISBLANK(F160),ISBLANK(K160)),\"\",IF(AND(ISBLANK(F160),B159<>\"\"),B159,IF(COUNTIF($F$13:F159,F160)>0,B159,MAX($B$13:B159)+1)))","v":""},null,null,0,null,null,null,null,"Enter PC",null,"","",{"$f":"+IF(ISBLANK(K160),\"\",VLOOKUP(K160,'5.3 Schedule of Rates'!B:D,3,0))","v":""},null,"",null,"","",null,null,null,{"$f":"IFERROR(INDEX('1.2 Sub-Con Application'!$B$13:$U$1012,MATCH(1,('1.2 Sub-Con Application'!$B$13:$B$1012=B160)*('1.2 Sub-Con Application'!$U$13:$U$1012=\"Rejected\"),0),20),\"\")","v":""}]
[null,{"$f":"+IF(AND(ISBLANK(F161),ISBLANK(K161)),\"\",IF(AND(ISBLANK(F161),B160<>\"\"),B160,IF(COUNTIF($F$13:F160,F161)>0,B160,MAX($B$13:B160)+1)))","v":""},null,null,0,null,null,null,null,"Enter PC",null,"","",{"$f":"+IF(ISBLANK(K161),\"\",VLOOKUP(K161,'5.3 Schedule of Rates'!B:D,3,0))","v":""},null,"",null,"","",null,null,null,{"$f":"IFERROR(INDEX('1.2 Sub-Con Application'!$B$13:$U$1012,MATCH(1,('1.2 Sub-Con Application'!$B$13:$B$1012=B161)*('1.2 Sub-Con Application'!$U$13:$U$1012=\"Rejected\"),0),20),\"\")","v":""}]
[null,{"$f":"+IF(AND(ISBLANK(F162),ISBLANK(K162)),\"\",IF(AND(ISBLANK(F162),B161<>\"\"),B161,IF(COUNTIF($F$13:F161,F162)>0,B161,MAX($B$13:B161)+1)))","v":""},null,null,0,null,null,null,null,"Enter PC",null,"","",{"$f":"+IF(ISBLANK(K162),\"\",VLOOKUP(K162,'5.3 Schedule of Rates'!B:D,3,0))","v":""},null,"",null,"","",null,null,null,{"$f":"IFERROR(INDEX('1.2 Sub-Con Application'!$B$13:$U$1012,MATCH(1,('1.2 Sub-Con Application'!$B$13:$B$1012=B162)*('1.2 Sub-Con Application'!$U$13:$U$1012=\"Rejected\"),0),20),\"\")","v":""}]
[null,{"$f":"+IF(AND(ISBLANK(F163),ISBLANK(K163)),\"\",IF(AND(ISBLANK(F163),B162<>\"\"),B162,IF(COUNTIF($F$13:F162,F163)>0,B162,MAX($B$13:B162)+1)))","v":""},null,null,0,null,null,null,null,"Enter PC",null,"","",{"$f":"+IF(ISBLANK(K163),\"\",VLOOKUP(K163,'5.3 Schedule of Rates'!B:D,3,0))","v":""},null,"",null,"","",null,null,null,{"$f":"IFERROR(INDEX('1.2 Sub-Con Application'!$B$13:$U$1012,MATCH(1,('1.2 Sub-Con Application'!$B$13:$B$1012=B163)*('1.2 Sub-Con Application'!$U$13:$U$1012=\"Rejected\"),0),20),\"\")","v":""}]
[null,{"$f":"+IF(AND(ISBLANK(F164),ISBLANK(K164)),\"\",IF(AND(ISBLANK(F164),B163<>\"\"),B163,IF(COUNTIF($F$13:F163,F164)>0,B163,MAX($B$13:B163)+1)))","v":""},null,null,0,null,null,null,null,"Enter PC",null,"","",{"$f":"+IF(ISBLANK(K164),\"\",VLOOKUP(K164,'5.3 Schedule of Rates'!B:D,3,0))","v":""},null,"",null,"","",null,null,null,{"$f":"IFERROR(INDEX('1.2 Sub-Con Application'!$B$13:$U$1012,MATCH(1,('1.2 Sub-Con Application'!$B$13:$B$1012=B164)*('1.2 Sub-Con Application'!$U$13:$U$1012=\"Rejected\"),0),20),\"\")","v":""}]
[null,{"$f":"+IF(AND(ISBLANK(F165),ISBLANK(K165)),\"\",IF(AND(ISBLANK(F165),B164<>\"\"),B164,IF(COUNTIF($F$13:F164,F165)>0,B164,MAX($B$13:B164)+1)))","v":""},null,null,0,null,null,null,null,"Enter PC",null,"","",{"$f":"+IF(ISBLANK(K165),\"\",VLOOKUP(K165,'5.3 Schedule of Rates'!B:D,3,0))","v":""},null,"",null,"","",null,null,null,{"$f":"IFERROR(INDEX('1.2 Sub-Con Application'!$B$13:$U$1012,MATCH(1,('1.2 Sub-Con Application'!$B$13:$B$1012=B165)*('1.2 Sub-Con Application'!$U$13:$U$1012=\"Rejected\"),0),20),\"\")","v":""}]
[null,{"$f":"+IF(AND(ISBLANK(F166),ISBLANK(K166)),\"\",IF(AND(ISBLANK(F166),B165<>\"\"),B165,IF(COUNTIF($F$13:F165,F166)>0,B165,MAX($B$13:B165)+1)))","v":""},null,null,0,null,null,null,null,"Enter PC",null,"","",{"$f":"+IF(ISBLANK(K166),\"\",VLOOKUP(K166,'5.3 Schedule of Rates'!B:D,3,0))","v":""},null,"",null,"","",null,null,null,{"$f":"IFERROR(INDEX('1.2 Sub-Con Application'!$B$13:$U$1012,MATCH(1,('1.2 Sub-Con Application'!$B$13:$B$1012=B166)*('1.2 Sub-Con Application'!$U$13:$U$1012=\"Rejected\"),0),20),\"\")","v":""}]
[null,{"$f":"+IF(AND(ISBLANK(F167),ISBLANK(K167)),\"\",IF(AND(ISBLANK(F167),B166<>\"\"),B166,IF(COUNTIF($F$13:F166,F167)>0,B166,MAX($B$13:B166)+1)))","v":""},null,null,0,null,null,null,null,"Enter PC",null,"","",{"$f":"+IF(ISBLANK(K167),\"\",VLOOKUP(K167,'5.3 Schedule of Rates'!B:D,3,0))","v":""},null,"",null,"","",null,null,null,{"$f":"IFERROR(INDEX('1.2 Sub-Con Application'!$B$13:$U$1012,MATCH(1,('1.2 Sub-Con Application'!$B$13:$B$1012=B167)*('1.2 Sub-Con Application'!$U$13:$U$1012=\"Rejected\"),0),20),\"\")","v":""}]
[null,{"$f":"+IF(AND(ISBLANK(F168),ISBLANK(K168)),\"\",IF(AND(ISBLANK(F168),B167<>\"\"),B167,IF(COUNTIF($F$13:F167,F168)>0,B167,MAX($B$13:B167)+1)))","v":""},null,null,0,null,null,null,null,"Enter PC",null,"","",{"$f":"+IF(ISBLANK(K168),\"\",VLOOKUP(K168,'5.3 Schedule of Rates'!B:D,3,0))","v":""},null,"",null,"","",null,null,null,{"$f":"IFERROR(INDEX('1.2 Sub-Con Application'!$B$13:$U$1012,MATCH(1,('1.2 Sub-Con Application'!$B$13:$B$1012=B168)*('1.2 Sub-Con Application'!$U$13:$U$1012=\"Rejected\"),0),20),\"\")","v":""}]
[null,{"$f":"+IF(AND(ISBLANK(F169),ISBLANK(K169)),\"\",IF(AND(ISBLANK(F169),B168<>\"\"),B168,IF(COUNTIF($F$13:F168,F169)>0,B168,MAX($B$13:B168)+1)))","v":""},null,null,0,null,null,null,null,"Enter PC",null,"","",{"$f":"+IF(ISBLANK(K169),\"\",VLOOKUP(K169,'5.3 Schedule of Rates'!B:D,3,0))","v":""},null,"",null,"","",null,null,null,{"$f":"IFERROR(INDEX('1.2 Sub-Con Application'!$B$13:$U$1012,MATCH(1,('1.2 Sub-Con Application'!$B$13:$B$1012=B169)*('1.2 Sub-Con Application'!$U$13:$U$1012=\"Rejected\"),0),20),\"\")","v":""}]
[null,{"$f":"+IF(AND(ISBLANK(F170),ISBLANK(K170)),\"\",IF(AND(ISBLANK(F170),B169<>\"\"),B169,IF(COUNTIF($F$13:F169,F170)>0,B169,MAX($B$13:B169)+1)))","v":""},null,null,0,null,null,null,null,"Enter PC",null,"","",{"$f":"+IF(ISBLANK(K170),\"\",VLOOKUP(K170,'5.3 Schedule of Rates'!B:D,3,0))","v":""},null,"",null,"","",null,null,null,{"$f":"IFERROR(INDEX('1.2 Sub-Con Application'!$B$13:$U$1012,MATCH(1,('1.2 Sub-Con Application'!$B$13:$B$1012=B170)*('1.2 Sub-Con Application'!$U$13:$U$1012=\"Rejected\"),0),20),\"\")","v":""}]
[null,{"$f":"+IF(AND(ISBLANK(F171),ISBLANK(K171)),\"\",IF(AND(ISBLANK(F171),B170<>\"\"),B170,IF(COUNTIF($F$13:F170,F171)>0,B170,MAX($B$13:B170)+1)))","v":""},null,null,0,null,null,null,null,"Enter PC",null,"","",{"$f":"+IF(ISBLANK(K171),\"\",VLOOKUP(K171,'5.3 Schedule of Rates'!B:D,3,0))","v":""},null,"",null,"","",null,null,null,{"$f":"IFERROR(INDEX('1.2 Sub-Con Application'!$B$13:$U$1012,MATCH(1,('1.2 Sub-Con Application'!$B$13:$B$1012=B171)*('1.2 Sub-Con Application'!$U$13:$U$1012=\"Rejected\"),0),20),\"\")","v":""}]
[null,{"$f":"+IF(AND(ISBLANK(F172),ISBLANK(K172)),\"\",IF(AND(ISBLANK(F172),B171<>\"\"),B171,IF(COUNTIF($F$13:F171,F172)>0,B171,MAX($B$13:B171)+1)))","v":""},null,null,0,null,null,null,null,"Enter PC",null,"","",{"$f":"+IF(ISBLANK(K172),\"\",VLOOKUP(K172,'5.3 Schedule of Rates'!B:D,3,0))","v":""},null,"",null,"","",null,null,null,{"$f":"IFERROR(INDEX('1.2 Sub-Con Application'!$B$13:$U$1012,MATCH(1,('1.2 Sub-Con Application'!$B$13:$B$1012=B172)*('1.2 Sub-Con Application'!$U$13:$U$1012=\"Rejected\"),0),20),\"\")","v":""}]
[null,{"$f":"+IF(AND(ISBLANK(F173),ISBLANK(K173)),\"\",IF(AND(ISBLANK(F173),B172<>\"\"),B172,IF(COUNTIF($F$13:F172,F173)>0,B172,MAX($B$13:B172)+1)))","v":""},null,null,0,null,null,null,null,"Enter PC",null,"","",{"$f":"+IF(ISBLANK(K173),\"\",VLOOKUP(K173,'5.3 Schedule of Rates'!B:D,3,0))","v":""},null,"",null,"","",null,null,null,{"$f":"IFERROR(INDEX('1.2 Sub-Con Application'!$B$13:$U$1012,MATCH(1,('1.2 Sub-Con Application'!$B$13:$B$1012=B173)*('1.2 Sub-Con Application'!$U$13:$U$1012=\"Rejected\"),0),20),\"\")","v":""}]
[null,{"$f":"+IF(AND(ISBLANK(F174),ISBLANK(K174)),\"\",IF(AND(ISBLANK(F174),B173<>\"\"),B173,IF(COUNTIF($F$13:F173,F174)>0,B173,MAX($B$13:B173)+1)))","v":""},null,null,0,null,null,null,null,"Enter PC",null,"","",{"$f":"+IF(ISBLANK(K174),\"\",VLOOKUP(K174,'5.3 Schedule of Rates'!B:D,3,0))","v":""},null,"",null,"","",null,null,null,{"$f":"IFERROR(INDEX('1.2 Sub-Con Application'!$B$13:$U$1012,MATCH(1,('1.2 Sub-Con Application'!$B$13:$B$1012=B174)*('1.2 Sub-Con Application'!$U$13:$U$1012=\"Rejected\"),0),20),\"\")","v":""}]
[null,{"$f":"+IF(AND(ISBLANK(F175),ISBLANK(K175)),\"\",IF(AND(ISBLANK(F175),B174<>\"\"),B174,IF(COUNTIF($F$13:F174,F175)>0,B174,MAX($B$13:B174)+1)))","v":""},null,null,0,null,null,null,null,"Enter PC",null,"","",{"$f":"+IF(ISBLANK(K175),\"\",VLOOKUP(K175,'5.3 Schedule of Rates'!B:D,3,0))","v":""},null,"",null,"","",null,null,null,{"$f":"IFERROR(INDEX('1.2 Sub-Con Application'!$B$13:$U$1012,MATCH(1,('1.2 Sub-Con Application'!$B$13:$B$1012=B175)*('1.2 Sub-Con Application'!$U$13:$U$1012=\"Rejected\"),0),20),\"\")","v":""}]
[null,{"$f":"+IF(AND(ISBLANK(F176),ISBLANK(K176)),\"\",IF(AND(ISBLANK(F176),B175<>\"\"),B175,IF(COUNTIF($F$13:F175,F176)>0,B175,MAX($B$13:B175)+1)))","v":""},null,null,0,null,null,null,null,"Enter PC",null,"","",{"$f":"+IF(ISBLANK(K176),\"\",VLOOKUP(K176,'5.3 Schedule of Rates'!B:D,3,0))","v":""},null,"",null,"","",null,null,null,{"$f":"IFERROR(INDEX('1.2 Sub-Con Application'!$B$13:$U$1012,MATCH(1,('1.2 Sub-Con Application'!$B$13:$B$1012=B176)*('1.2 Sub-Con Application'!$U$13:$U$1012=\"Rejected\"),0),20),\"\")","v":""}]
[null,{"$f":"+IF(AND(ISBLANK(F177),ISBLANK(K177)),\"\",IF(AND(ISBLANK(F177),B176<>\"\"),B176,IF(COUNTIF($F$13:F176,F177)>0,B176,MAX($B$13:B176)+1)))","v":""},null,null,0,null,null,null,null,"Enter PC",null,"","",{"$f":"+IF(ISBLANK(K177),\"\",VLOOKUP(K177,'5.3 Schedule of Rates'!B:D,3,0))","v":""},null,"",null,"","",null,null,null,{"$f":"IFERROR(INDEX('1.2 Sub-Con Application'!$B$13:$U$1012,MATCH(1,('1.2 Sub-Con Application'!$B$13:$B$1012=B177)*('1.2 Sub-Con Application'!$U$13:$U$1012=\"Rejected\"),0),20),\"\")","v":""}]
[null,{"$f":"+IF(AND(ISBLANK(F178),ISBLANK(K178)),\"\",IF(AND(ISBLANK(F178),B177<>\"\"),B177,IF(COUNTIF($F$13:F177,F178)>0,B177,MAX($B$13:B177)+1)))","v":""},null,null,0,null,null,null,null,"Enter PC",null,"","",{"$f":"+IF(ISBLANK(K178),\"\",VLOOKUP(K178,'5.3 Schedule of Rates'!B:D,3,0))","v":""},null,"",null,"","",null,null,null,{"$f":"IFERROR(INDEX('1.2 Sub-Con Application'!$B$13:$U$1012,MATCH(1,('1.2 Sub-Con Application'!$B$13:$B$1012=B178)*('1.2 Sub-Con Application'!$U$13:$U$1012=\"Rejected\"),0),20),\"\")","v":""}]
[null,{"$f":"+IF(AND(ISBLANK(F179),ISBLANK(K179)),\"\",IF(AND(ISBLANK(F179),B178<>\"\"),B178,IF(COUNTIF($F$13:F178,F179)>0,B178,MAX($B$13:B178)+1)))","v":""},null,null,0,null,null,null,null,"Enter PC",null,"","",{"$f":"+IF(ISBLANK(K179),\"\",VLOOKUP(K179,'5.3 Schedule of Rates'!B:D,3,0))","v":""},null,"",null,"","",null,null,null,{"$f":"IFERROR(INDEX('1.2 Sub-Con Application'!$B$13:$U$1012,MATCH(1,('1.2 Sub-Con Application'!$B$13:$B$1012=B179)*('1.2 Sub-Con Application'!$U$13:$U$1012=\"Rejected\"),0),20),\"\")","v":""}]
[null,{"$f":"+IF(AND(ISBLANK(F180),ISBLANK(K180)),\"\",IF(AND(ISBLANK(F180),B179<>\"\"),B179,IF(COUNTIF($F$13:F179,F180)>0,B179,MAX($B$13:B179)+1)))","v":""},null,null,0,null,null,null,null,"Enter PC",null,"","",{"$f":"+IF(ISBLANK(K180),\"\",VLOOKUP(K180,'5.3 Schedule of Rates'!B:D,3,0))","v":""},null,"",null,"","",null,null,null,{"$f":"IFERROR(INDEX('1.2 Sub-Con Application'!$B$13:$U$1012,MATCH(1,('1.2 Sub-Con Application'!$B$13:$B$1012=B180)*('1.2 Sub-Con Application'!$U$13:$U$1012=\"Rejected\"),0),20),\"\")","v":""}]
[null,{"$f":"+IF(AND(ISBLANK(F181),ISBLANK(K181)),\"\",IF(AND(ISBLANK(F181),B180<>\"\"),B180,IF(COUNTIF($F$13:F180,F181)>0,B180,MAX($B$13:B180)+1)))","v":""},null,null,0,null,null,null,null,"Enter PC",null,"","",{"$f":"+IF(ISBLANK(K181),\"\",VLOOKUP(K181,'5.3 Schedule of Rates'!B:D,3,0))","v":""},null,"",null,"","",null,null,null,{"$f":"IFERROR(INDEX('1.2 Sub-Con Application'!$B$13:$U$1012,MATCH(1,('1.2 Sub-Con Application'!$B$13:$B$1012=B181)*('1.2 Sub-Con Application'!$U$13:$U$1012=\"Rejected\"),0),20),\"\")","v":""}]
[null,{"$f":"+IF(AND(ISBLANK(F182),ISBLANK(K182)),\"\",IF(AND(ISBLANK(F182),B181<>\"\"),B181,IF(COUNTIF($F$13:F181,F182)>0,B181,MAX($B$13:B181)+1)))","v":""},null,null,0,null,null,null,null,"Enter PC",null,"","",{"$f":"+IF(ISBLANK(K182),\"\",VLOOKUP(K182,'5.3 Schedule of Rates'!B:D,3,0))","v":""},null,"",null,"","",null,null,null,{"$f":"IFERROR(INDEX('1.2 Sub-Con Application'!$B$13:$U$1012,MATCH(1,('1.2 Sub-Con Application'!$B$13:$B$1012=B182)*('1.2 Sub-Con Application'!$U$13:$U$1012=\"Rejected\"),0),20),\"\")","v":""}]
[null,{"$f":"+IF(AND(ISBLANK(F183),ISBLANK(K183)),\"\",IF(AND(ISBLANK(F183),B182<>\"\"),B182,IF(COUNTIF($F$13:F182,F183)>0,B182,MAX($B$13:B182)+1)))","v":""},null,null,0,null,null,null,null,"Enter PC",null,"","",{"$f":"+IF(ISBLANK(K183),\"\",VLOOKUP(K183,'5.3 Schedule of Rates'!B:D,3,0))","v":""},null,"",null,"","",null,null,null,{"$f":"IFERROR(INDEX('1.2 Sub-Con Application'!$B$13:$U$1012,MATCH(1,('1.2 Sub-Con Application'!$B$13:$B$1012=B183)*('1.2 Sub-Con Application'!$U$13:$U$1012=\"Rejected\"),0),20),\"\")","v":""}]
[null,{"$f":"+IF(AND(ISBLANK(F184),ISBLANK(K184)),\"\",IF(AND(ISBLANK(F184),B183<>\"\"),B183,IF(COUNTIF($F$13:F183,F184)>0,B183,MAX($B$13:B183)+1)))","v":""},null,null,0,null,null,null,null,"Enter PC",null,"","",{"$f":"+IF(ISBLANK(K184),\"\",VLOOKUP(K184,'5.3 Schedule of Rates'!B:D,3,0))","v":""},null,"",null,"","",null,null,null,{"$f":"IFERROR(INDEX('1.2 Sub-Con Application'!$B$13:$U$1012,MATCH(1,('1.2 Sub-Con Application'!$B$13:$B$1012=B184)*('1.2 Sub-Con Application'!$U$13:$U$1012=\"Rejected\"),0),20),\"\")","v":""}]
[null,{"$f":"+IF(AND(ISBLANK(F185),ISBLANK(K185)),\"\",IF(AND(ISBLANK(F185),B184<>\"\"),B184,IF(COUNTIF($F$13:F184,F185)>0,B184,MAX($B$13:B184)+1)))","v":""},null,null,0,null,null,null,null,"Enter PC",null,"","",{"$f":"+IF(ISBLANK(K185),\"\",VLOOKUP(K185,'5.3 Schedule of Rates'!B:D,3,0))","v":""},null,"",null,"","",null,null,null,{"$f":"IFERROR(INDEX('1.2 Sub-Con Application'!$B$13:$U$1012,MATCH(1,('1.2 Sub-Con Application'!$B$13:$B$1012=B185)*('1.2 Sub-Con Application'!$U$13:$U$1012=\"Rejected\"),0),20),\"\")","v":""}]
[null,{"$f":"+IF(AND(ISBLANK(F186),ISBLANK(K186)),\"\",IF(AND(ISBLANK(F186),B185<>\"\"),B185,IF(COUNTIF($F$13:F185,F186)>0,B185,MAX($B$13:B185)+1)))","v":""},null,null,0,null,null,null,null,"Enter PC",null,"","",{"$f":"+IF(ISBLANK(K186),\"\",VLOOKUP(K186,'5.3 Schedule of Rates'!B:D,3,0))","v":""},null,"",null,"","",null,null,null,{"$f":"IFERROR(INDEX('1.2 Sub-Con Application'!$B$13:$U$1012,MATCH(1,('1.2 Sub-Con Application'!$B$13:$B$1012=B186)*('1.2 Sub-Con Application'!$U$13:$U$1012=\"Rejected\"),0),20),\"\")","v":""}]
[null,{"$f":"+IF(AND(ISBLANK(F187),ISBLANK(K187)),\"\",IF(AND(ISBLANK(F187),B186<>\"\"),B186,IF(COUNTIF($F$13:F186,F187)>0,B186,MAX($B$13:B186)+1)))","v":""},null,null,0,null,null,null,null,"Enter PC",null,"","",{"$f":"+IF(ISBLANK(K187),\"\",VLOOKUP(K187,'5.3 Schedule of Rates'!B:D,3,0))","v":""},null,"",null,"","",null,null,null,{"$f":"IFERROR(INDEX('1.2 Sub-Con Application'!$B$13:$U$1012,MATCH(1,('1.2 Sub-Con Application'!$B$13:$B$1012=B187)*('1.2 Sub-Con Application'!$U$13:$U$1012=\"Rejected\"),0),20),\"\")","v":""}]
[null,{"$f":"+IF(AND(ISBLANK(F188),ISBLANK(K188)),\"\",IF(AND(ISBLANK(F188),B187<>\"\"),B187,IF(COUNTIF($F$13:F187,F188)>0,B187,MAX($B$13:B187)+1)))","v":""},null,null,0,null,null,null,null,"Enter PC",null,"","",{"$f":"+IF(ISBLANK(K188),\"\",VLOOKUP(K188,'5.3 Schedule of Rates'!B:D,3,0))","v":""},null,"",null,"","",null,null,null,{"$f":"IFERROR(INDEX('1.2 Sub-Con Application'!$B$13:$U$1012,MATCH(1,('1.2 Sub-Con Application'!$B$13:$B$1012=B188)*('1.2 Sub-Con Application'!$U$13:$U$1012=\"Rejected\"),0),20),\"\")","v":""}]
[null,{"$f":"+IF(AND(ISBLANK(F189),ISBLANK(K189)),\"\",IF(AND(ISBLANK(F189),B188<>\"\"),B188,IF(COUNTIF($F$13:F188,F189)>0,B188,MAX($B$13:B188)+1)))","v":""},null,null,0,null,null,null,null,"Enter PC",null,"","",{"$f":"+IF(ISBLANK(K189),\"\",VLOOKUP(K189,'5.3 Schedule of Rates'!B:D,3,0))","v":""},null,"",null,"","",null,null,null,{"$f":"IFERROR(INDEX('1.2 Sub-Con Application'!$B$13:$U$1012,MATCH(1,('1.2 Sub-Con Application'!$B$13:$B$1012=B189)*('1.2 Sub-Con Application'!$U$13:$U$1012=\"Rejected\"),0),20),\"\")","v":""}]
[null,{"$f":"+IF(AND(ISBLANK(F190),ISBLANK(K190)),\"\",IF(AND(ISBLANK(F190),B189<>\"\"),B189,IF(COUNTIF($F$13:F189,F190)>0,B189,MAX($B$13:B189)+1)))","v":""},null,null,0,null,null,null,null,"Enter PC",null,"","",{"$f":"+IF(ISBLANK(K190),\"\",VLOOKUP(K190,'5.3 Schedule of Rates'!B:D,3,0))","v":""},null,"",null,"","",null,null,null,{"$f":"IFERROR(INDEX('1.2 Sub-Con Application'!$B$13:$U$1012,MATCH(1,('1.2 Sub-Con Application'!$B$13:$B$1012=B190)*('1.2 Sub-Con Application'!$U$13:$U$1012=\"Rejected\"),0),20),\"\")","v":""}]
[null,{"$f":"+IF(AND(ISBLANK(F191),ISBLANK(K191)),\"\",IF(AND(ISBLANK(F191),B190<>\"\"),B190,IF(COUNTIF($F$13:F190,F191)>0,B190,MAX($B$13:B190)+1)))","v":""},null,null,0,null,null,null,null,"Enter PC",null,"","",{"$f":"+IF(ISBLANK(K191),\"\",VLOOKUP(K191,'5.3 Schedule of Rates'!B:D,3,0))","v":""},null,"",null,"","",null,null,null,{"$f":"IFERROR(INDEX('1.2 Sub-Con Application'!$B$13:$U$1012,MATCH(1,('1.2 Sub-Con Application'!$B$13:$B$1012=B191)*('1.2 Sub-Con Application'!$U$13:$U$1012=\"Rejected\"),0),20),\"\")","v":""}]
[null,{"$f":"+IF(AND(ISBLANK(F192),ISBLANK(K192)),\"\",IF(AND(ISBLANK(F192),B191<>\"\"),B191,IF(COUNTIF($F$13:F191,F192)>0,B191,MAX($B$13:B191)+1)))","v":""},null,null,0,null,null,null,null,"Enter PC",null,"","",{"$f":"+IF(ISBLANK(K192),\"\",VLOOKUP(K192,'5.3 Schedule of Rates'!B:D,3,0))","v":""},null,"",null,"","",null,null,null,{"$f":"IFERROR(INDEX('1.2 Sub-Con Application'!$B$13:$U$1012,MATCH(1,('1.2 Sub-Con Application'!$B$13:$B$1012=B192)*('1.2 Sub-Con Application'!$U$13:$U$1012=\"Rejected\"),0),20),\"\")","v":""}]
[null,{"$f":"+IF(AND(ISBLANK(F193),ISBLANK(K193)),\"\",IF(AND(ISBLANK(F193),B192<>\"\"),B192,IF(COUNTIF($F$13:F192,F193)>0,B192,MAX($B$13:B192)+1)))","v":""},null,null,0,null,null,null,null,"Enter PC",null,"","",{"$f":"+IF(ISBLANK(K193),\"\",VLOOKUP(K193,'5.3 Schedule of Rates'!B:D,3,0))","v":""},null,"",null,"","",null,null,null,{"$f":"IFERROR(INDEX('1.2 Sub-Con Application'!$B$13:$U$1012,MATCH(1,('1.2 Sub-Con Application'!$B$13:$B$1012=B193)*('1.2 Sub-Con Application'!$U$13:$U$1012=\"Rejected\"),0),20),\"\")","v":""}]
[null,{"$f":"+IF(AND(ISBLANK(F194),ISBLANK(K194)),\"\",IF(AND(ISBLANK(F194),B193<>\"\"),B193,IF(COUNTIF($F$13:F193,F194)>0,B193,MAX($B$13:B193)+1)))","v":""},null,null,0,null,null,null,null,"Enter PC",null,"","",{"$f":"+IF(ISBLANK(K194),\"\",VLOOKUP(K194,'5.3 Schedule of Rates'!B:D,3,0))","v":""},null,"",null,"","",null,null,null,{"$f":"IFERROR(INDEX('1.2 Sub-Con Application'!$B$13:$U$1012,MATCH(1,('1.2 Sub-Con Application'!$B$13:$B$1012=B194)*('1.2 Sub-Con Application'!$U$13:$U$1012=\"Rejected\"),0),20),\"\")","v":""}]
[null,{"$f":"+IF(AND(ISBLANK(F195),ISBLANK(K195)),\"\",IF(AND(ISBLANK(F195),B194<>\"\"),B194,IF(COUNTIF($F$13:F194,F195)>0,B194,MAX($B$13:B194)+1)))","v":""},null,null,0,null,null,null,null,"Enter PC",null,"","",{"$f":"+IF(ISBLANK(K195),\"\",VLOOKUP(K195,'5.3 Schedule of Rates'!B:D,3,0))","v":""},null,"",null,"","",null,null,null,{"$f":"IFERROR(INDEX('1.2 Sub-Con Application'!$B$13:$U$1012,MATCH(1,('1.2 Sub-Con Application'!$B$13:$B$1012=B195)*('1.2 Sub-Con Application'!$U$13:$U$1012=\"Rejected\"),0),20),\"\")","v":""}]
[null,{"$f":"+IF(AND(ISBLANK(F196),ISBLANK(K196)),\"\",IF(AND(ISBLANK(F196),B195<>\"\"),B195,IF(COUNTIF($F$13:F195,F196)>0,B195,MAX($B$13:B195)+1)))","v":""},null,null,0,null,null,null,null,"Enter PC",null,"","",{"$f":"+IF(ISBLANK(K196),\"\",VLOOKUP(K196,'5.3 Schedule of Rates'!B:D,3,0))","v":""},null,"",null,"","",null,null,null,{"$f":"IFERROR(INDEX('1.2 Sub-Con Application'!$B$13:$U$1012,MATCH(1,('1.2 Sub-Con Application'!$B$13:$B$1012=B196)*('1.2 Sub-Con Application'!$U$13:$U$1012=\"Rejected\"),0),20),\"\")","v":""}]
[null,{"$f":"+IF(AND(ISBLANK(F197),ISBLANK(K197)),\"\",IF(AND(ISBLANK(F197),B196<>\"\"),B196,IF(COUNTIF($F$13:F196,F197)>0,B196,MAX($B$13:B196)+1)))","v":""},null,null,0,null,null,null,null,"Enter PC",null,"","",{"$f":"+IF(ISBLANK(K197),\"\",VLOOKUP(K197,'5.3 Schedule of Rates'!B:D,3,0))","v":""},null,"",null,"","",null,null,null,{"$f":"IFERROR(INDEX('1.2 Sub-Con Application'!$B$13:$U$1012,MATCH(1,('1.2 Sub-Con Application'!$B$13:$B$1012=B197)*('1.2 Sub-Con Application'!$U$13:$U$1012=\"Rejected\"),0),20),\"\")","v":""}]
[null,{"$f":"+IF(AND(ISBLANK(F198),ISBLANK(K198)),\"\",IF(AND(ISBLANK(F198),B197<>\"\"),B197,IF(COUNTIF($F$13:F197,F198)>0,B197,MAX($B$13:B197)+1)))","v":""},null,null,0,null,null,null,null,"Enter PC",null,"","",{"$f":"+IF(ISBLANK(K198),\"\",VLOOKUP(K198,'5.3 Schedule of Rates'!B:D,3,0))","v":""},null,"",null,"","",null,null,null,{"$f":"IFERROR(INDEX('1.2 Sub-Con Application'!$B$13:$U$1012,MATCH(1,('1.2 Sub-Con Application'!$B$13:$B$1012=B198)*('1.2 Sub-Con Application'!$U$13:$U$1012=\"Rejected\"),0),20),\"\")","v":""}]
[null,{"$f":"+IF(AND(ISBLANK(F199),ISBLANK(K199)),\"\",IF(AND(ISBLANK(F199),B198<>\"\"),B198,IF(COUNTIF($F$13:F198,F199)>0,B198,MAX($B$13:B198)+1)))","v":""},null,null,0,null,null,null,null,"Enter PC",null,"","",{"$f":"+IF(ISBLANK(K199),\"\",VLOOKUP(K199,'5.3 Schedule of Rates'!B:D,3,0))","v":""},null,"",null,"","",null,null,null,{"$f":"IFERROR(INDEX('1.2 Sub-Con Application'!$B$13:$U$1012,MATCH(1,('1.2 Sub-Con Application'!$B$13:$B$1012=B199)*('1.2 Sub-Con Application'!$U$13:$U$1012=\"Rejected\"),0),20),\"\")","v":""}]
[null,{"$f":"+IF(AND(ISBLANK(F200),ISBLANK(K200)),\"\",IF(AND(ISBLANK(F200),B199<>\"\"),B199,IF(COUNTIF($F$13:F199,F200)>0,B199,MAX($B$13:B199)+1)))","v":""},null,null,0,null,null,null,null,"Enter PC",null,"","",{"$f":"+IF(ISBLANK(K200),\"\",VLOOKUP(K200,'5.3 Schedule of Rates'!B:D,3,0))","v":""},null,"",null,"","",null,null,null,{"$f":"IFERROR(INDEX('1.2 Sub-Con Application'!$B$13:$U$1012,MATCH(1,('1.2 Sub-Con Application'!$B$13:$B$1012=B200)*('1.2 Sub-Con Application'!$U$13:$U$1012=\"Rejected\"),0),20),\"\")","v":""}]
[null,{"$f":"+IF(AND(ISBLANK(F201),ISBLANK(K201)),\"\",IF(AND(ISBLANK(F201),B200<>\"\"),B200,IF(COUNTIF($F$13:F200,F201)>0,B200,MAX($B$13:B200)+1)))","v":""},null,null,0,null,null,null,null,"Enter PC",null,"","",{"$f":"+IF(ISBLANK(K201),\"\",VLOOKUP(K201,'5.3 Schedule of Rates'!B:D,3,0))","v":""},null,"",null,"","",null,null,null,{"$f":"IFERROR(INDEX('1.2 Sub-Con Application'!$B$13:$U$1012,MATCH(1,('1.2 Sub-Con Application'!$B$13:$B$1012=B201)*('1.2 Sub-Con Application'!$U$13:$U$1012=\"Rejected\"),0),20),\"\")","v":""}]
[null,{"$f":"+IF(AND(ISBLANK(F202),ISBLANK(K202)),\"\",IF(AND(ISBLANK(F202),B201<>\"\"),B201,IF(COUNTIF($F$13:F201,F202)>0,B201,MAX($B$13:B201)+1)))","v":""},null,null,0,null,null,null,null,"Enter PC",null,"","",{"$f":"+IF(ISBLANK(K202),\"\",VLOOKUP(K202,'5.3 Schedule of Rates'!B:D,3,0))","v":""},null,"",null,"","",null,null,null,{"$f":"IFERROR(INDEX('1.2 Sub-Con Application'!$B$13:$U$1012,MATCH(1,('1.2 Sub-Con Application'!$B$13:$B$1012=B202)*('1.2 Sub-Con Application'!$U$13:$U$1012=\"Rejected\"),0),20),\"\")","v":""}]
[null,{"$f":"+IF(AND(ISBLANK(F203),ISBLANK(K203)),\"\",IF(AND(ISBLANK(F203),B202<>\"\"),B202,IF(COUNTIF($F$13:F202,F203)>0,B202,MAX($B$13:B202)+1)))","v":""},null,null,0,null,null,null,null,"Enter PC",null,"","",{"$f":"+IF(ISBLANK(K203),\"\",VLOOKUP(K203,'5.3 Schedule of Rates'!B:D,3,0))","v":""},null,"",null,"","",null,null,null,{"$f":"IFERROR(INDEX('1.2 Sub-Con Application'!$B$13:$U$1012,MATCH(1,('1.2 Sub-Con Application'!$B$13:$B$1012=B203)*('1.2 Sub-Con Application'!$U$13:$U$1012=\"Rejected\"),0),20),\"\")","v":""}]
[null,{"$f":"+IF(AND(ISBLANK(F204),ISBLANK(K204)),\"\",IF(AND(ISBLANK(F204),B203<>\"\"),B203,IF(COUNTIF($F$13:F203,F204)>0,B203,MAX($B$13:B203)+1)))","v":""},null,null,0,null,null,null,null,"Enter PC",null,"","",{"$f":"+IF(ISBLANK(K204),\"\",VLOOKUP(K204,'5.3 Schedule of Rates'!B:D,3,0))","v":""},null,"",null,"","",null,null,null,{"$f":"IFERROR(INDEX('1.2 Sub-Con Application'!$B$13:$U$1012,MATCH(1,('1.2 Sub-Con Application'!$B$13:$B$1012=B204)*('1.2 Sub-Con Application'!$U$13:$U$1012=\"Rejected\"),0),20),\"\")","v":""}]
[null,{"$f":"+IF(AND(ISBLANK(F205),ISBLANK(K205)),\"\",IF(AND(ISBLANK(F205),B204<>\"\"),B204,IF(COUNTIF($F$13:F204,F205)>0,B204,MAX($B$13:B204)+1)))","v":""},null,null,0,null,null,null,null,{"$f":"IFERROR(IF(I205=\"\",\"Enter PC\",VLOOKUP(IF(LEN(I205)=6,LEFT(I205,2),IF(LEN(I205)=7,LEFT(I205,3),LEFT(I205,4))),table_pcRegion,2,FALSE)=work_Region),\"INVALID\")","v":"Enter PC"},null,{"$f":"+IF(ISBLANK(K205),\"\",VLOOKUP(K205,table_SoR,2,0))","v":""},{"$f":"+IF(ISBLANK(K205),\"\",INDEX(table_subconSoR,MATCH(L205,row_SoR,0),MATCH($H$4,col_SoR,0)))","v":""},{"$f":"+IF(ISBLANK(K205),\"\",VLOOKUP(K205,'5.3 Schedule of Rates'!B:D,3,0))","v":""},null,{"$f":"+IF(ISBLANK($O205),\"\",ROUND(SUM(SUM(VLOOKUP($K205,table_SoR,6,0)*(1+$M205))*O205),2))","v":""},null,{"$f":"+IF(ISBLANK($O205),\"\",ROUND(IF(Q205>0,Q205,SUM(SUM(VLOOKUP($K205,table_SoR,7,0)*(1+$M205))*O205)),2))","v":""},"",null,null,null,{"$f":"IFERROR(INDEX('1.2 Sub-Con Application'!$B$13:$U$1012,MATCH(1,('1.2 Sub-Con Application'!$B$13:$B$1012=B205)*('1.2 Sub-Con Application'!$U$13:$U$1012=\"Rejected\"),0),20),\"\")","v":""}]
[null,{"$f":"+IF(AND(ISBLANK(F206),ISBLANK(K206)),\"\",IF(AND(ISBLANK(F206),B205<>\"\"),B205,IF(COUNTIF($F$13:F205,F206)>0,B205,MAX($B$13:B205)+1)))","v":""},null,null,0,null,null,null,null,"Enter PC",null,"","",{"$f":"+IF(ISBLANK(K206),\"\",VLOOKUP(K206,'5.3 Schedule of Rates'!B:D,3,0))","v":""},null,"",null,"",{"$f":"IF(ISERROR(SUM(P206-R206)),\"\",SUM(P206-R206))","v":""},null,null,null,{"$f":"IFERROR(INDEX('1.2 Sub-Con Application'!$B$13:$U$1012,MATCH(1,('1.2 Sub-Con Application'!$B$13:$B$1012=B206)*('1.2 Sub-Con Application'!$U$13:$U$1012=\"Rejected\"),0),20),\"\")","v":""}]
[null,{"$f":"+IF(AND(ISBLANK(F207),ISBLANK(K207)),\"\",IF(AND(ISBLANK(F207),B206<>\"\"),B206,IF(COUNTIF($F$13:F206,F207)>0,B206,MAX($B$13:B206)+1)))","v":""},null,null,{"$f":"NETWORKDAYS(C207,D207)","v":0},null,null,null,null,"Enter PC",null,"","",{"$f":"+IF(ISBLANK(K207),\"\",VLOOKUP(K207,'5.3 Schedule of Rates'!B:D,3,0))","v":""},null,"",null,"","",null,null,null,{"$f":"IFERROR(INDEX('1.2 Sub-Con Application'!$B$13:$U$1012,MATCH(1,('1.2 Sub-Con Application'!$B$13:$B$1012=B207)*('1.2 Sub-Con Application'!$U$13:$U$1012=\"Rejected\"),0),20),\"\")","v":""}]
[null,{"$f":"+IF(AND(ISBLANK(F208),ISBLANK(K208)),\"\",IF(AND(ISBLANK(F208),B207<>\"\"),B207,IF(COUNTIF($F$13:F207,F208)>0,B207,MAX($B$13:B207)+1)))","v":""},null,null,0,null,null,null,null,"Enter PC",null,"","",{"$f":"+IF(ISBLANK(K208),\"\",VLOOKUP(K208,'5.3 Schedule of Rates'!B:D,3,0))","v":""},null,"",null,"","",null,null,null,{"$f":"IFERROR(INDEX('1.2 Sub-Con Application'!$B$13:$U$1012,MATCH(1,('1.2 Sub-Con Application'!$B$13:$B$1012=B208)*('1.2 Sub-Con Application'!$U$13:$U$1012=\"Rejected\"),0),20),\"\")","v":""}]
[null,{"$f":"+IF(AND(ISBLANK(F209),ISBLANK(K209)),\"\",IF(AND(ISBLANK(F209),B208<>\"\"),B208,IF(COUNTIF($F$13:F208,F209)>0,B208,MAX($B$13:B208)+1)))","v":""},null,null,0,null,null,null,null,"Enter PC",null,"","",{"$f":"+IF(ISBLANK(K209),\"\",VLOOKUP(K209,'5.3 Schedule of Rates'!B:D,3,0))","v":""},null,"",null,"","",null,null,null,{"$f":"IFERROR(INDEX('1.2 Sub-Con Application'!$B$13:$U$1012,MATCH(1,('1.2 Sub-Con Application'!$B$13:$B$1012=B209)*('1.2 Sub-Con Application'!$U$13:$U$1012=\"Rejected\"),0),20),\"\")","v":""}]
[null,{"$f":"+IF(AND(ISBLANK(F210),ISBLANK(K210)),\"\",IF(AND(ISBLANK(F210),B209<>\"\"),B209,IF(COUNTIF($F$13:F209,F210)>0,B209,MAX($B$13:B209)+1)))","v":""},null,null,0,null,null,null,null,"Enter PC",null,"","",{"$f":"+IF(ISBLANK(K210),\"\",VLOOKUP(K210,'5.3 Schedule of Rates'!B:D,3,0))","v":""},null,"",null,"","",null,null,null,{"$f":"IFERROR(INDEX('1.2 Sub-Con Application'!$B$13:$U$1012,MATCH(1,('1.2 Sub-Con Application'!$B$13:$B$1012=B210)*('1.2 Sub-Con Application'!$U$13:$U$1012=\"Rejected\"),0),20),\"\")","v":""}]
[null,{"$f":"+IF(AND(ISBLANK(F211),ISBLANK(K211)),\"\",IF(AND(ISBLANK(F211),B210<>\"\"),B210,IF(COUNTIF($F$13:F210,F211)>0,B210,MAX($B$13:B210)+1)))","v":""},null,null,0,null,null,null,null,"Enter PC",null,"","",{"$f":"+IF(ISBLANK(K211),\"\",VLOOKUP(K211,'5.3 Schedule of Rates'!B:D,3,0))","v":""},null,"",null,"","",null,null,null,{"$f":"IFERROR(INDEX('1.2 Sub-Con Application'!$B$13:$U$1012,MATCH(1,('1.2 Sub-Con Application'!$B$13:$B$1012=B211)*('1.2 Sub-Con Application'!$U$13:$U$1012=\"Rejected\"),0),20),\"\")","v":""}]
[null,{"$f":"+IF(AND(ISBLANK(F212),ISBLANK(K212)),\"\",IF(AND(ISBLANK(F212),B211<>\"\"),B211,IF(COUNTIF($F$13:F211,F212)>0,B211,MAX($B$13:B211)+1)))","v":""},null,null,0,null,null,null,null,"Enter PC",null,"","",{"$f":"+IF(ISBLANK(K212),\"\",VLOOKUP(K212,'5.3 Schedule of Rates'!B:D,3,0))","v":""},null,"",null,"","",null,null,null,{"$f":"IFERROR(INDEX('1.2 Sub-Con Application'!$B$13:$U$1012,MATCH(1,('1.2 Sub-Con Application'!$B$13:$B$1012=B212)*('1.2 Sub-Con Application'!$U$13:$U$1012=\"Rejected\"),0),20),\"\")","v":""}]
[null,{"$f":"+IF(AND(ISBLANK(F213),ISBLANK(K213)),\"\",IF(AND(ISBLANK(F213),B212<>\"\"),B212,IF(COUNTIF($F$13:F212,F213)>0,B212,MAX($B$13:B212)+1)))","v":""},null,null,0,null,null,null,null,"Enter PC",null,"","",{"$f":"+IF(ISBLANK(K213),\"\",VLOOKUP(K213,'5.3 Schedule of Rates'!B:D,3,0))","v":""},null,"",null,"","",null,null,null,{"$f":"IFERROR(INDEX('1.2 Sub-Con Application'!$B$13:$U$1012,MATCH(1,('1.2 Sub-Con Application'!$B$13:$B$1012=B213)*('1.2 Sub-Con Application'!$U$13:$U$1012=\"Rejected\"),0),20),\"\")","v":""}]
[null,{"$f":"+IF(AND(ISBLANK(F214),ISBLANK(K214)),\"\",IF(AND(ISBLANK(F214),B213<>\"\"),B213,IF(COUNTIF($F$13:F213,F214)>0,B213,MAX($B$13:B213)+1)))","v":""},null,null,0,null,null,null,null,"Enter PC",null,"","",{"$f":"+IF(ISBLANK(K214),\"\",VLOOKUP(K214,'5.3 Schedule of Rates'!B:D,3,0))","v":""},null,"",null,"","",null,null,null,{"$f":"IFERROR(INDEX('1.2 Sub-Con Application'!$B$13:$U$1012,MATCH(1,('1.2 Sub-Con Application'!$B$13:$B$1012=B214)*('1.2 Sub-Con Application'!$U$13:$U$1012=\"Rejected\"),0),20),\"\")","v":""}]
[null,{"$f":"+IF(AND(ISBLANK(F215),ISBLANK(K215)),\"\",IF(AND(ISBLANK(F215),B214<>\"\"),B214,IF(COUNTIF($F$13:F214,F215)>0,B214,MAX($B$13:B214)+1)))","v":""},null,null,0,null,null,null,null,"Enter PC",null,"","",{"$f":"+IF(ISBLANK(K215),\"\",VLOOKUP(K215,'5.3 Schedule of Rates'!B:D,3,0))","v":""},null,"",null,"","",null,null,null,{"$f":"IFERROR(INDEX('1.2 Sub-Con Application'!$B$13:$U$1012,MATCH(1,('1.2 Sub-Con Application'!$B$13:$B$1012=B215)*('1.2 Sub-Con Application'!$U$13:$U$1012=\"Rejected\"),0),20),\"\")","v":""}]
[null,{"$f":"+IF(AND(ISBLANK(F216),ISBLANK(K216)),\"\",IF(AND(ISBLANK(F216),B215<>\"\"),B215,IF(COUNTIF($F$13:F215,F216)>0,B215,MAX($B$13:B215)+1)))","v":""},null,null,0,null,null,null,null,"Enter PC",null,"","",{"$f":"+IF(ISBLANK(K216),\"\",VLOOKUP(K216,'5.3 Schedule of Rates'!B:D,3,0))","v":""},null,"",null,"","",null,null,null,{"$f":"IFERROR(INDEX('1.2 Sub-Con Application'!$B$13:$U$1012,MATCH(1,('1.2 Sub-Con Application'!$B$13:$B$1012=B216)*('1.2 Sub-Con Application'!$U$13:$U$1012=\"Rejected\"),0),20),\"\")","v":""}]
[null,{"$f":"+IF(AND(ISBLANK(F217),ISBLANK(K217)),\"\",IF(AND(ISBLANK(F217),B216<>\"\"),B216,IF(COUNTIF($F$13:F216,F217)>0,B216,MAX($B$13:B216)+1)))","v":""},null,null,0,null,null,null,null,"Enter PC",null,"","",{"$f":"+IF(ISBLANK(K217),\"\",VLOOKUP(K217,'5.3 Schedule of Rates'!B:D,3,0))","v":""},null,"",null,"","",null,null,null,{"$f":"IFERROR(INDEX('1.2 Sub-Con Application'!$B$13:$U$1012,MATCH(1,('1.2 Sub-Con Application'!$B$13:$B$1012=B217)*('1.2 Sub-Con Application'!$U$13:$U$1012=\"Rejected\"),0),20),\"\")","v":""}]
[null,{"$f":"+IF(AND(ISBLANK(F218),ISBLANK(K218)),\"\",IF(AND(ISBLANK(F218),B217<>\"\"),B217,IF(COUNTIF($F$13:F217,F218)>0,B217,MAX($B$13:B217)+1)))","v":""},null,null,0,null,null,null,null,"Enter PC",null,"","",{"$f":"+IF(ISBLANK(K218),\"\",VLOOKUP(K218,'5.3 Schedule of Rates'!B:D,3,0))","v":""},null,"",null,"","",null,null,null,{"$f":"IFERROR(INDEX('1.2 Sub-Con Application'!$B$13:$U$1012,MATCH(1,('1.2 Sub-Con Application'!$B$13:$B$1012=B218)*('1.2 Sub-Con Application'!$U$13:$U$1012=\"Rejected\"),0),20),\"\")","v":""}]
[null,{"$f":"+IF(AND(ISBLANK(F219),ISBLANK(K219)),\"\",IF(AND(ISBLANK(F219),B218<>\"\"),B218,IF(COUNTIF($F$13:F218,F219)>0,B218,MAX($B$13:B218)+1)))","v":""},null,null,0,null,null,null,null,"Enter PC",null,"","",{"$f":"+IF(ISBLANK(K219),\"\",VLOOKUP(K219,'5.3 Schedule of Rates'!B:D,3,0))","v":""},null,"",null,"","",null,null,null,{"$f":"IFERROR(INDEX('1.2 Sub-Con Application'!$B$13:$U$1012,MATCH(1,('1.2 Sub-Con Application'!$B$13:$B$1012=B219)*('1.2 Sub-Con Application'!$U$13:$U$1012=\"Rejected\"),0),20),\"\")","v":""}]
[null,{"$f":"+IF(AND(ISBLANK(F220),ISBLANK(K220)),\"\",IF(AND(ISBLANK(F220),B219<>\"\"),B219,IF(COUNTIF($F$13:F219,F220)>0,B219,MAX($B$13:B219)+1)))","v":""},null,null,0,null,null,null,null,"Enter PC",null,"","",{"$f":"+IF(ISBLANK(K220),\"\",VLOOKUP(K220,'5.3 Schedule of Rates'!B:D,3,0))","v":""},null,"",null,"","",null,null,null,{"$f":"IFERROR(INDEX('1.2 Sub-Con Application'!$B$13:$U$1012,MATCH(1,('1.2 Sub-Con Application'!$B$13:$B$1012=B220)*('1.2 Sub-Con Application'!$U$13:$U$1012=\"Rejected\"),0),20),\"\")","v":""}]
[null,{"$f":"+IF(AND(ISBLANK(F221),ISBLANK(K221)),\"\",IF(AND(ISBLANK(F221),B220<>\"\"),B220,IF(COUNTIF($F$13:F220,F221)>0,B220,MAX($B$13:B220)+1)))","v":""},null,null,0,null,null,null,null,"Enter PC",null,"","",{"$f":"+IF(ISBLANK(K221),\"\",VLOOKUP(K221,'5.3 Schedule of Rates'!B:D,3,0))","v":""},null,"",null,"","",null,null,null,{"$f":"IFERROR(INDEX('1.2 Sub-Con Application'!$B$13:$U$1012,MATCH(1,('1.2 Sub-Con Application'!$B$13:$B$1012=B221)*('1.2 Sub-Con Application'!$U$13:$U$1012=\"Rejected\"),0),20),\"\")","v":""}]
[null,{"$f":"+IF(AND(ISBLANK(F222),ISBLANK(K222)),\"\",IF(AND(ISBLANK(F222),B221<>\"\"),B221,IF(COUNTIF($F$13:F221,F222)>0,B221,MAX($B$13:B221)+1)))","v":""},null,null,0,null,null,null,null,"Enter PC",null,"","",{"$f":"+IF(ISBLANK(K222),\"\",VLOOKUP(K222,'5.3 Schedule of Rates'!B:D,3,0))","v":""},null,"",null,"","",null,null,null,{"$f":"IFERROR(INDEX('1.2 Sub-Con Application'!$B$13:$U$1012,MATCH(1,('1.2 Sub-Con Application'!$B$13:$B$1012=B222)*('1.2 Sub-Con Application'!$U$13:$U$1012=\"Rejected\"),0),20),\"\")","v":""}]
[null,{"$f":"+IF(AND(ISBLANK(F223),ISBLANK(K223)),\"\",IF(AND(ISBLANK(F223),B222<>\"\"),B222,IF(COUNTIF($F$13:F222,F223)>0,B222,MAX($B$13:B222)+1)))","v":""},null,null,0,null,null,null,null,"Enter PC",null,"","",{"$f":"+IF(ISBLANK(K223),\"\",VLOOKUP(K223,'5.3 Schedule of Rates'!B:D,3,0))","v":""},null,"",null,"","",null,null,null,{"$f":"IFERROR(INDEX('1.2 Sub-Con Application'!$B$13:$U$1012,MATCH(1,('1.2 Sub-Con Application'!$B$13:$B$1012=B223)*('1.2 Sub-Con Application'!$U$13:$U$1012=\"Rejected\"),0),20),\"\")","v":""}]
[null,{"$f":"+IF(AND(ISBLANK(F224),ISBLANK(K224)),\"\",IF(AND(ISBLANK(F224),B223<>\"\"),B223,IF(COUNTIF($F$13:F223,F224)>0,B223,MAX($B$13:B223)+1)))","v":""},null,null,0,null,null,null,null,"Enter PC",null,"","",{"$f":"+IF(ISBLANK(K224),\"\",VLOOKUP(K224,'5.3 Schedule of Rates'!B:D,3,0))","v":""},null,"",null,"","",null,null,null,{"$f":"IFERROR(INDEX('1.2 Sub-Con Application'!$B$13:$U$1012,MATCH(1,('1.2 Sub-Con Application'!$B$13:$B$1012=B224)*('1.2 Sub-Con Application'!$U$13:$U$1012=\"Rejected\"),0),20),\"\")","v":""}]
[null,{"$f":"+IF(AND(ISBLANK(F225),ISBLANK(K225)),\"\",IF(AND(ISBLANK(F225),B224<>\"\"),B224,IF(COUNTIF($F$13:F224,F225)>0,B224,MAX($B$13:B224)+1)))","v":""},null,null,0,null,null,null,null,"Enter PC",null,"","",{"$f":"+IF(ISBLANK(K225),\"\",VLOOKUP(K225,'5.3 Schedule of Rates'!B:D,3,0))","v":""},null,"",null,"","",null,null,null,{"$f":"IFERROR(INDEX('1.2 Sub-Con Application'!$B$13:$U$1012,MATCH(1,('1.2 Sub-Con Application'!$B$13:$B$1012=B225)*('1.2 Sub-Con Application'!$U$13:$U$1012=\"Rejected\"),0),20),\"\")","v":""}]
[null,{"$f":"+IF(AND(ISBLANK(F226),ISBLANK(K226)),\"\",IF(AND(ISBLANK(F226),B225<>\"\"),B225,IF(COUNTIF($F$13:F225,F226)>0,B225,MAX($B$13:B225)+1)))","v":""},null,null,0,null,null,null,null,"Enter PC",null,"","",{"$f":"+IF(ISBLANK(K226),\"\",VLOOKUP(K226,'5.3 Schedule of Rates'!B:D,3,0))","v":""},null,"",null,"","",null,null,null,{"$f":"IFERROR(INDEX('1.2 Sub-Con Application'!$B$13:$U$1012,MATCH(1,('1.2 Sub-Con Application'!$B$13:$B$1012=B226)*('1.2 Sub-Con Application'!$U$13:$U$1012=\"Rejected\"),0),20),\"\")","v":""}]
[null,{"$f":"+IF(AND(ISBLANK(F227),ISBLANK(K227)),\"\",IF(AND(ISBLANK(F227),B226<>\"\"),B226,IF(COUNTIF($F$13:F226,F227)>0,B226,MAX($B$13:B226)+1)))","v":""},null,null,0,null,null,null,null,"Enter PC",null,"","",{"$f":"+IF(ISBLANK(K227),\"\",VLOOKUP(K227,'5.3 Schedule of Rates'!B:D,3,0))","v":""},null,"",null,"","",null,null,null,{"$f":"IFERROR(INDEX('1.2 Sub-Con Application'!$B$13:$U$1012,MATCH(1,('1.2 Sub-Con Application'!$B$13:$B$1012=B227)*('1.2 Sub-Con Application'!$U$13:$U$1012=\"Rejected\"),0),20),\"\")","v":""}]
[null,{"$f":"+IF(AND(ISBLANK(F228),ISBLANK(K228)),\"\",IF(AND(ISBLANK(F228),B227<>\"\"),B227,IF(COUNTIF($F$13:F227,F228)>0,B227,MAX($B$13:B227)+1)))","v":""},null,null,0,null,null,null,null,"Enter PC",null,"","",{"$f":"+IF(ISBLANK(K228),\"\",VLOOKUP(K228,'5.3 Schedule of Rates'!B:D,3,0))","v":""},null,"",null,"","",null,null,null,{"$f":"IFERROR(INDEX('1.2 Sub-Con Application'!$B$13:$U$1012,MATCH(1,('1.2 Sub-Con Application'!$B$13:$B$1012=B228)*('1.2 Sub-Con Application'!$U$13:$U$1012=\"Rejected\"),0),20),\"\")","v":""}]
[null,{"$f":"+IF(AND(ISBLANK(F229),ISBLANK(K229)),\"\",IF(AND(ISBLANK(F229),B228<>\"\"),B228,IF(COUNTIF($F$13:F228,F229)>0,B228,MAX($B$13:B228)+1)))","v":""},null,null,0,null,null,null,null,"Enter PC",null,"","",{"$f":"+IF(ISBLANK(K229),\"\",VLOOKUP(K229,'5.3 Schedule of Rates'!B:D,3,0))","v":""},null,"",null,"","",null,null,null,{"$f":"IFERROR(INDEX('1.2 Sub-Con Application'!$B$13:$U$1012,MATCH(1,('1.2 Sub-Con Application'!$B$13:$B$1012=B229)*('1.2 Sub-Con Application'!$U$13:$U$1012=\"Rejected\"),0),20),\"\")","v":""}]
[null,{"$f":"+IF(AND(ISBLANK(F230),ISBLANK(K230)),\"\",IF(AND(ISBLANK(F230),B229<>\"\"),B229,IF(COUNTIF($F$13:F229,F230)>0,B229,MAX($B$13:B229)+1)))","v":""},null,null,0,null,null,null,null,"Enter PC",null,"","",{"$f":"+IF(ISBLANK(K230),\"\",VLOOKUP(K230,'5.3 Schedule of Rates'!B:D,3,0))","v":""},null,"",null,"","",null,null,null,{"$f":"IFERROR(INDEX('1.2 Sub-Con Application'!$B$13:$U$1012,MATCH(1,('1.2 Sub-Con Application'!$B$13:$B$1012=B230)*('1.2 Sub-Con Application'!$U$13:$U$1012=\"Rejected\"),0),20),\"\")","v":""}]
[null,{"$f":"+IF(AND(ISBLANK(F231),ISBLANK(K231)),\"\",IF(AND(ISBLANK(F231),B230<>\"\"),B230,IF(COUNTIF($F$13:F230,F231)>0,B230,MAX($B$13:B230)+1)))","v":""},null,null,0,null,null,null,null,"Enter PC",null,"","",{"$f":"+IF(ISBLANK(K231),\"\",VLOOKUP(K231,'5.3 Schedule of Rates'!B:D,3,0))","v":""},null,"",null,"","",null,null,null,{"$f":"IFERROR(INDEX('1.2 Sub-Con Application'!$B$13:$U$1012,MATCH(1,('1.2 Sub-Con Application'!$B$13:$B$1012=B231)*('1.2 Sub-Con Application'!$U$13:$U$1012=\"Rejected\"),0),20),\"\")","v":""}]
[null,{"$f":"+IF(AND(ISBLANK(F232),ISBLANK(K232)),\"\",IF(AND(ISBLANK(F232),B231<>\"\"),B231,IF(COUNTIF($F$13:F231,F232)>0,B231,MAX($B$13:B231)+1)))","v":""},null,null,0,null,null,null,null,"Enter PC",null,"","",{"$f":"+IF(ISBLANK(K232),\"\",VLOOKUP(K232,'5.3 Schedule of Rates'!B:D,3,0))","v":""},null,"",null,"","",null,null,null,{"$f":"IFERROR(INDEX('1.2 Sub-Con Application'!$B$13:$U$1012,MATCH(1,('1.2 Sub-Con Application'!$B$13:$B$1012=B232)*('1.2 Sub-Con Application'!$U$13:$U$1012=\"Rejected\"),0),20),\"\")","v":""}]
[null,{"$f":"+IF(AND(ISBLANK(F233),ISBLANK(K233)),\"\",IF(AND(ISBLANK(F233),B232<>\"\"),B232,IF(COUNTIF($F$13:F232,F233)>0,B232,MAX($B$13:B232)+1)))","v":""},null,null,0,null,null,null,null,"Enter PC",null,"","",{"$f":"+IF(ISBLANK(K233),\"\",VLOOKUP(K233,'5.3 Schedule of Rates'!B:D,3,0))","v":""},null,"",null,"","",null,null,null,{"$f":"IFERROR(INDEX('1.2 Sub-Con Application'!$B$13:$U$1012,MATCH(1,('1.2 Sub-Con Application'!$B$13:$B$1012=B233)*('1.2 Sub-Con Application'!$U$13:$U$1012=\"Rejected\"),0),20),\"\")","v":""}]
[null,{"$f":"+IF(AND(ISBLANK(F234),ISBLANK(K234)),\"\",IF(AND(ISBLANK(F234),B233<>\"\"),B233,IF(COUNTIF($F$13:F233,F234)>0,B233,MAX($B$13:B233)+1)))","v":""},null,null,0,null,null,null,null,"Enter PC",null,"","",{"$f":"+IF(ISBLANK(K234),\"\",VLOOKUP(K234,'5.3 Schedule of Rates'!B:D,3,0))","v":""},null,"",null,"","",null,null,null,{"$f":"IFERROR(INDEX('1.2 Sub-Con Application'!$B$13:$U$1012,MATCH(1,('1.2 Sub-Con Application'!$B$13:$B$1012=B234)*('1.2 Sub-Con Application'!$U$13:$U$1012=\"Rejected\"),0),20),\"\")","v":""}]
[null,{"$f":"+IF(AND(ISBLANK(F235),ISBLANK(K235)),\"\",IF(AND(ISBLANK(F235),B234<>\"\"),B234,IF(COUNTIF($F$13:F234,F235)>0,B234,MAX($B$13:B234)+1)))","v":""},null,null,0,null,null,null,null,"Enter PC",null,"","",{"$f":"+IF(ISBLANK(K235),\"\",VLOOKUP(K235,'5.3 Schedule of Rates'!B:D,3,0))","v":""},null,"",null,"","",null,null,null,{"$f":"IFERROR(INDEX('1.2 Sub-Con Application'!$B$13:$U$1012,MATCH(1,('1.2 Sub-Con Application'!$B$13:$B$1012=B235)*('1.2 Sub-Con Application'!$U$13:$U$1012=\"Rejected\"),0),20),\"\")","v":""}]
[null,{"$f":"+IF(AND(ISBLANK(F236),ISBLANK(K236)),\"\",IF(AND(ISBLANK(F236),B235<>\"\"),B235,IF(COUNTIF($F$13:F235,F236)>0,B235,MAX($B$13:B235)+1)))","v":""},null,null,0,null,null,null,null,"Enter PC",null,"","",{"$f":"+IF(ISBLANK(K236),\"\",VLOOKUP(K236,'5.3 Schedule of Rates'!B:D,3,0))","v":""},null,"",null,"","",null,null,null,{"$f":"IFERROR(INDEX('1.2 Sub-Con Application'!$B$13:$U$1012,MATCH(1,('1.2 Sub-Con Application'!$B$13:$B$1012=B236)*('1.2 Sub-Con Application'!$U$13:$U$1012=\"Rejected\"),0),20),\"\")","v":""}]
[null,{"$f":"+IF(AND(ISBLANK(F237),ISBLANK(K237)),\"\",IF(AND(ISBLANK(F237),B236<>\"\"),B236,IF(COUNTIF($F$13:F236,F237)>0,B236,MAX($B$13:B236)+1)))","v":""},null,null,0,null,null,null,null,"Enter PC",null,"","",{"$f":"+IF(ISBLANK(K237),\"\",VLOOKUP(K237,'5.3 Schedule of Rates'!B:D,3,0))","v":""},null,"",null,"","",null,null,null,{"$f":"IFERROR(INDEX('1.2 Sub-Con Application'!$B$13:$U$1012,MATCH(1,('1.2 Sub-Con Application'!$B$13:$B$1012=B237)*('1.2 Sub-Con Application'!$U$13:$U$1012=\"Rejected\"),0),20),\"\")","v":""}]
[null,{"$f":"+IF(AND(ISBLANK(F238),ISBLANK(K238)),\"\",IF(AND(ISBLANK(F238),B237<>\"\"),B237,IF(COUNTIF($F$13:F237,F238)>0,B237,MAX($B$13:B237)+1)))","v":""},null,null,0,null,null,null,null,"Enter PC",null,"","",{"$f":"+IF(ISBLANK(K238),\"\",VLOOKUP(K238,'5.3 Schedule of Rates'!B:D,3,0))","v":""},null,"",null,"","",null,null,null,{"$f":"IFERROR(INDEX('1.2 Sub-Con Application'!$B$13:$U$1012,MATCH(1,('1.2 Sub-Con Application'!$B$13:$B$1012=B238)*('1.2 Sub-Con Application'!$U$13:$U$1012=\"Rejected\"),0),20),\"\")","v":""}]
[null,{"$f":"+IF(AND(ISBLANK(F239),ISBLANK(K239)),\"\",IF(AND(ISBLANK(F239),B238<>\"\"),B238,IF(COUNTIF($F$13:F238,F239)>0,B238,MAX($B$13:B238)+1)))","v":""},null,null,0,null,null,null,null,"Enter PC",null,"","",{"$f":"+IF(ISBLANK(K239),\"\",VLOOKUP(K239,'5.3 Schedule of Rates'!B:D,3,0))","v":""},null,"",null,"","",null,null,null,{"$f":"IFERROR(INDEX('1.2 Sub-Con Application'!$B$13:$U$1012,MATCH(1,('1.2 Sub-Con Application'!$B$13:$B$1012=B239)*('1.2 Sub-Con Application'!$U$13:$U$1012=\"Rejected\"),0),20),\"\")","v":""}]
[null,{"$f":"+IF(AND(ISBLANK(F240),ISBLANK(K240)),\"\",IF(AND(ISBLANK(F240),B239<>\"\"),B239,IF(COUNTIF($F$13:F239,F240)>0,B239,MAX($B$13:B239)+1)))","v":""},null,null,0,null,null,null,null,"Enter PC",null,"","",{"$f":"+IF(ISBLANK(K240),\"\",VLOOKUP(K240,'5.3 Schedule of Rates'!B:D,3,0))","v":""},null,"",null,"","",null,null,null,{"$f":"IFERROR(INDEX('1.2 Sub-Con Application'!$B$13:$U$1012,MATCH(1,('1.2 Sub-Con Application'!$B$13:$B$1012=B240)*('1.2 Sub-Con Application'!$U$13:$U$1012=\"Rejected\"),0),20),\"\")","v":""}]
[null,{"$f":"+IF(AND(ISBLANK(F241),ISBLANK(K241)),\"\",IF(AND(ISBLANK(F241),B240<>\"\"),B240,IF(COUNTIF($F$13:F240,F241)>0,B240,MAX($B$13:B240)+1)))","v":""},null,null,0,null,null,null,null,"Enter PC",null,"","",{"$f":"+IF(ISBLANK(K241),\"\",VLOOKUP(K241,'5.3 Schedule of Rates'!B:D,3,0))","v":""},null,"",null,"","",null,null,null,{"$f":"IFERROR(INDEX('1.2 Sub-Con Application'!$B$13:$U$1012,MATCH(1,('1.2 Sub-Con Application'!$B$13:$B$1012=B241)*('1.2 Sub-Con Application'!$U$13:$U$1012=\"Rejected\"),0),20),\"\")","v":""}]
[null,{"$f":"+IF(AND(ISBLANK(F242),ISBLANK(K242)),\"\",IF(AND(ISBLANK(F242),B241<>\"\"),B241,IF(COUNTIF($F$13:F241,F242)>0,B241,MAX($B$13:B241)+1)))","v":""},null,null,0,null,null,null,null,"Enter PC",null,"","",{"$f":"+IF(ISBLANK(K242),\"\",VLOOKUP(K242,'5.3 Schedule of Rates'!B:D,3,0))","v":""},null,"",null,"","",null,null,null,{"$f":"IFERROR(INDEX('1.2 Sub-Con Application'!$B$13:$U$1012,MATCH(1,('1.2 Sub-Con Application'!$B$13:$B$1012=B242)*('1.2 Sub-Con Application'!$U$13:$U$1012=\"Rejected\"),0),20),\"\")","v":""}]
[null,{"$f":"+IF(AND(ISBLANK(F243),ISBLANK(K243)),\"\",IF(AND(ISBLANK(F243),B242<>\"\"),B242,IF(COUNTIF($F$13:F242,F243)>0,B242,MAX($B$13:B242)+1)))","v":""},null,null,0,null,null,null,null,"Enter PC",null,"","",{"$f":"+IF(ISBLANK(K243),\"\",VLOOKUP(K243,'5.3 Schedule of Rates'!B:D,3,0))","v":""},null,"",null,"","",null,null,null,{"$f":"IFERROR(INDEX('1.2 Sub-Con Application'!$B$13:$U$1012,MATCH(1,('1.2 Sub-Con Application'!$B$13:$B$1012=B243)*('1.2 Sub-Con Application'!$U$13:$U$1012=\"Rejected\"),0),20),\"\")","v":""}]
[null,{"$f":"+IF(AND(ISBLANK(F244),ISBLANK(K244)),\"\",IF(AND(ISBLANK(F244),B243<>\"\"),B243,IF(COUNTIF($F$13:F243,F244)>0,B243,MAX($B$13:B243)+1)))","v":""},null,null,0,null,null,null,null,"Enter PC",null,"","",{"$f":"+IF(ISBLANK(K244),\"\",VLOOKUP(K244,'5.3 Schedule of Rates'!B:D,3,0))","v":""},null,"",null,"","",null,null,null,{"$f":"IFERROR(INDEX('1.2 Sub-Con Application'!$B$13:$U$1012,MATCH(1,('1.2 Sub-Con Application'!$B$13:$B$1012=B244)*('1.2 Sub-Con Application'!$U$13:$U$1012=\"Rejected\"),0),20),\"\")","v":""}]
[null,{"$f":"+IF(AND(ISBLANK(F245),ISBLANK(K245)),\"\",IF(AND(ISBLANK(F245),B244<>\"\"),B244,IF(COUNTIF($F$13:F244,F245)>0,B244,MAX($B$13:B244)+1)))","v":""},null,null,0,null,null,null,null,"Enter PC",null,"","",{"$f":"+IF(ISBLANK(K245),\"\",VLOOKUP(K245,'5.3 Schedule of Rates'!B:D,3,0))","v":""},null,"",null,"","",null,null,null,{"$f":"IFERROR(INDEX('1.2 Sub-Con Application'!$B$13:$U$1012,MATCH(1,('1.2 Sub-Con Application'!$B$13:$B$1012=B245)*('1.2 Sub-Con Application'!$U$13:$U$1012=\"Rejected\"),0),20),\"\")","v":""}]
[null,{"$f":"+IF(AND(ISBLANK(F246),ISBLANK(K246)),\"\",IF(AND(ISBLANK(F246),B245<>\"\"),B245,IF(COUNTIF($F$13:F245,F246)>0,B245,MAX($B$13:B245)+1)))","v":""},null,null,0,null,null,null,null,"Enter PC",null,"","",{"$f":"+IF(ISBLANK(K246),\"\",VLOOKUP(K246,'5.3 Schedule of Rates'!B:D,3,0))","v":""},null,"",null,"","",null,null,null,{"$f":"IFERROR(INDEX('1.2 Sub-Con Application'!$B$13:$U$1012,MATCH(1,('1.2 Sub-Con Application'!$B$13:$B$1012=B246)*('1.2 Sub-Con Application'!$U$13:$U$1012=\"Rejected\"),0),20),\"\")","v":""}]
[null,{"$f":"+IF(AND(ISBLANK(F247),ISBLANK(K247)),\"\",IF(AND(ISBLANK(F247),B246<>\"\"),B246,IF(COUNTIF($F$13:F246,F247)>0,B246,MAX($B$13:B246)+1)))","v":""},null,null,0,null,null,null,null,"Enter PC",null,"","",{"$f":"+IF(ISBLANK(K247),\"\",VLOOKUP(K247,'5.3 Schedule of Rates'!B:D,3,0))","v":""},null,"",null,"","",null,null,null,{"$f":"IFERROR(INDEX('1.2 Sub-Con Application'!$B$13:$U$1012,MATCH(1,('1.2 Sub-Con Application'!$B$13:$B$1012=B247)*('1.2 Sub-Con Application'!$U$13:$U$1012=\"Rejected\"),0),20),\"\")","v":""}]
[null,{"$f":"+IF(AND(ISBLANK(F248),ISBLANK(K248)),\"\",IF(AND(ISBLANK(F248),B247<>\"\"),B247,IF(COUNTIF($F$13:F247,F248)>0,B247,MAX($B$13:B247)+1)))","v":""},null,null,0,null,null,null,null,"Enter PC",null,"","",{"$f":"+IF(ISBLANK(K248),\"\",VLOOKUP(K248,'5.3 Schedule of Rates'!B:D,3,0))","v":""},null,"",null,"","",null,null,null,{"$f":"IFERROR(INDEX('1.2 Sub-Con Application'!$B$13:$U$1012,MATCH(1,('1.2 Sub-Con Application'!$B$13:$B$1012=B248)*('1.2 Sub-Con Application'!$U$13:$U$1012=\"Rejected\"),0),20),\"\")","v":""}]
[null,{"$f":"+IF(AND(ISBLANK(F249),ISBLANK(K249)),\"\",IF(AND(ISBLANK(F249),B248<>\"\"),B248,IF(COUNTIF($F$13:F248,F249)>0,B248,MAX($B$13:B248)+1)))","v":""},null,null,0,null,null,null,null,"Enter PC",null,"","",{"$f":"+IF(ISBLANK(K249),\"\",VLOOKUP(K249,'5.3 Schedule of Rates'!B:D,3,0))","v":""},null,"",null,"","",null,null,null,{"$f":"IFERROR(INDEX('1.2 Sub-Con Application'!$B$13:$U$1012,MATCH(1,('1.2 Sub-Con Application'!$B$13:$B$1012=B249)*('1.2 Sub-Con Application'!$U$13:$U$1012=\"Rejected\"),0),20),\"\")","v":""}]
[null,{"$f":"+IF(AND(ISBLANK(F250),ISBLANK(K250)),\"\",IF(AND(ISBLANK(F250),B249<>\"\"),B249,IF(COUNTIF($F$13:F249,F250)>0,B249,MAX($B$13:B249)+1)))","v":""},null,null,0,null,null,null,null,"Enter PC",null,"","",{"$f":"+IF(ISBLANK(K250),\"\",VLOOKUP(K250,'5.3 Schedule of Rates'!B:D,3,0))","v":""},null,"",null,"","",null,null,null,{"$f":"IFERROR(INDEX('1.2 Sub-Con Application'!$B$13:$U$1012,MATCH(1,('1.2 Sub-Con Application'!$B$13:$B$1012=B250)*('1.2 Sub-Con Application'!$U$13:$U$1012=\"Rejected\"),0),20),\"\")","v":""}]
[null,{"$f":"+IF(AND(ISBLANK(F251),ISBLANK(K251)),\"\",IF(AND(ISBLANK(F251),B250<>\"\"),B250,IF(COUNTIF($F$13:F250,F251)>0,B250,MAX($B$13:B250)+1)))","v":""},null,null,0,null,null,null,null,"Enter PC",null,"","",{"$f":"+IF(ISBLANK(K251),\"\",VLOOKUP(K251,'5.3 Schedule of Rates'!B:D,3,0))","v":""},null,"",null,"","",null,null,null,{"$f":"IFERROR(INDEX('1.2 Sub-Con Application'!$B$13:$U$1012,MATCH(1,('1.2 Sub-Con Application'!$B$13:$B$1012=B251)*('1.2 Sub-Con Application'!$U$13:$U$1012=\"Rejected\"),0),20),\"\")","v":""}]
[null,{"$f":"+IF(AND(ISBLANK(F252),ISBLANK(K252)),\"\",IF(AND(ISBLANK(F252),B251<>\"\"),B251,IF(COUNTIF($F$13:F251,F252)>0,B251,MAX($B$13:B251)+1)))","v":""},null,null,0,null,null,null,null,"Enter PC",null,"","",{"$f":"+IF(ISBLANK(K252),\"\",VLOOKUP(K252,'5.3 Schedule of Rates'!B:D,3,0))","v":""},null,"",null,"","",null,null,null,{"$f":"IFERROR(INDEX('1.2 Sub-Con Application'!$B$13:$U$1012,MATCH(1,('1.2 Sub-Con Application'!$B$13:$B$1012=B252)*('1.2 Sub-Con Application'!$U$13:$U$1012=\"Rejected\"),0),20),\"\")","v":""}]
[null,{"$f":"+IF(AND(ISBLANK(F253),ISBLANK(K253)),\"\",IF(AND(ISBLANK(F253),B252<>\"\"),B252,IF(COUNTIF($F$13:F252,F253)>0,B252,MAX($B$13:B252)+1)))","v":""},null,null,0,null,null,null,null,"Enter PC",null,"","",{"$f":"+IF(ISBLANK(K253),\"\",VLOOKUP(K253,'5.3 Schedule of Rates'!B:D,3,0))","v":""},null,"",null,"","",null,null,null,{"$f":"IFERROR(INDEX('1.2 Sub-Con Application'!$B$13:$U$1012,MATCH(1,('1.2 Sub-Con Application'!$B$13:$B$1012=B253)*('1.2 Sub-Con Application'!$U$13:$U$1012=\"Rejected\"),0),20),\"\")","v":""}]
[null,{"$f":"+IF(AND(ISBLANK(F254),ISBLANK(K254)),\"\",IF(AND(ISBLANK(F254),B253<>\"\"),B253,IF(COUNTIF($F$13:F253,F254)>0,B253,MAX($B$13:B253)+1)))","v":""},null,null,0,null,null,null,null,"Enter PC",null,"","",{"$f":"+IF(ISBLANK(K254),\"\",VLOOKUP(K254,'5.3 Schedule of Rates'!B:D,3,0))","v":""},null,"",null,"","",null,null,null,{"$f":"IFERROR(INDEX('1.2 Sub-Con Application'!$B$13:$U$1012,MATCH(1,('1.2 Sub-Con Application'!$B$13:$B$1012=B254)*('1.2 Sub-Con Application'!$U$13:$U$1012=\"Rejected\"),0),20),\"\")","v":""}]
[null,{"$f":"+IF(AND(ISBLANK(F255),ISBLANK(K255)),\"\",IF(AND(ISBLANK(F255),B254<>\"\"),B254,IF(COUNTIF($F$13:F254,F255)>0,B254,MAX($B$13:B254)+1)))","v":""},null,null,0,null,null,null,null,"Enter PC",null,"","",{"$f":"+IF(ISBLANK(K255),\"\",VLOOKUP(K255,'5.3 Schedule of Rates'!B:D,3,0))","v":""},null,"",null,"","",null,null,null,{"$f":"IFERROR(INDEX('1.2 Sub-Con Application'!$B$13:$U$1012,MATCH(1,('1.2 Sub-Con Application'!$B$13:$B$1012=B255)*('1.2 Sub-Con Application'!$U$13:$U$1012=\"Rejected\"),0),20),\"\")","v":""}]
[null,{"$f":"+IF(AND(ISBLANK(F256),ISBLANK(K256)),\"\",IF(AND(ISBLANK(F256),B255<>\"\"),B255,IF(COUNTIF($F$13:F255,F256)>0,B255,MAX($B$13:B255)+1)))","v":""},null,null,0,null,null,null,null,"Enter PC",null,"","",{"$f":"+IF(ISBLANK(K256),\"\",VLOOKUP(K256,'5.3 Schedule of Rates'!B:D,3,0))","v":""},null,"",null,"","",null,null,null,{"$f":"IFERROR(INDEX('1.2 Sub-Con Application'!$B$13:$U$1012,MATCH(1,('1.2 Sub-Con Application'!$B$13:$B$1012=B256)*('1.2 Sub-Con Application'!$U$13:$U$1012=\"Rejected\"),0),20),\"\")","v":""}]
[null,{"$f":"+IF(AND(ISBLANK(F257),ISBLANK(K257)),\"\",IF(AND(ISBLANK(F257),B256<>\"\"),B256,IF(COUNTIF($F$13:F256,F257)>0,B256,MAX($B$13:B256)+1)))","v":""},null,null,0,null,null,null,null,"Enter PC",null,"","",{"$f":"+IF(ISBLANK(K257),\"\",VLOOKUP(K257,'5.3 Schedule of Rates'!B:D,3,0))","v":""},null,"",null,"","",null,null,null,{"$f":"IFERROR(INDEX('1.2 Sub-Con Application'!$B$13:$U$1012,MATCH(1,('1.2 Sub-Con Application'!$B$13:$B$1012=B257)*('1.2 Sub-Con Application'!$U$13:$U$1012=\"Rejected\"),0),20),\"\")","v":""}]
[null,{"$f":"+IF(AND(ISBLANK(F258),ISBLANK(K258)),\"\",IF(AND(ISBLANK(F258),B257<>\"\"),B257,IF(COUNTIF($F$13:F257,F258)>0,B257,MAX($B$13:B257)+1)))","v":""},null,null,0,null,null,null,null,"Enter PC",null,"","",{"$f":"+IF(ISBLANK(K258),\"\",VLOOKUP(K258,'5.3 Schedule of Rates'!B:D,3,0))","v":""},null,"",null,"","",null,null,null,{"$f":"IFERROR(INDEX('1.2 Sub-Con Application'!$B$13:$U$1012,MATCH(1,('1.2 Sub-Con Application'!$B$13:$B$1012=B258)*('1.2 Sub-Con Application'!$U$13:$U$1012=\"Rejected\"),0),20),\"\")","v":""}]
[null,{"$f":"+IF(AND(ISBLANK(F259),ISBLANK(K259)),\"\",IF(AND(ISBLANK(F259),B258<>\"\"),B258,IF(COUNTIF($F$13:F258,F259)>0,B258,MAX($B$13:B258)+1)))","v":""},null,null,0,null,null,null,null,"Enter PC",null,"","",{"$f":"+IF(ISBLANK(K259),\"\",VLOOKUP(K259,'5.3 Schedule of Rates'!B:D,3,0))","v":""},null,"",null,"","",null,null,null,{"$f":"IFERROR(INDEX('1.2 Sub-Con Application'!$B$13:$U$1012,MATCH(1,('1.2 Sub-Con Application'!$B$13:$B$1012=B259)*('1.2 Sub-Con Application'!$U$13:$U$1012=\"Rejected\"),0),20),\"\")","v":""}]
[null,{"$f":"+IF(AND(ISBLANK(F260),ISBLANK(K260)),\"\",IF(AND(ISBLANK(F260),B259<>\"\"),B259,IF(COUNTIF($F$13:F259,F260)>0,B259,MAX($B$13:B259)+1)))","v":""},null,null,0,null,null,null,null,"Enter PC",null,"","",{"$f":"+IF(ISBLANK(K260),\"\",VLOOKUP(K260,'5.3 Schedule of Rates'!B:D,3,0))","v":""},null,"",null,"","",null,null,null,{"$f":"IFERROR(INDEX('1.2 Sub-Con Application'!$B$13:$U$1012,MATCH(1,('1.2 Sub-Con Application'!$B$13:$B$1012=B260)*('1.2 Sub-Con Application'!$U$13:$U$1012=\"Rejected\"),0),20),\"\")","v":""}]
[null,{"$f":"+IF(AND(ISBLANK(F261),ISBLANK(K261)),\"\",IF(AND(ISBLANK(F261),B260<>\"\"),B260,IF(COUNTIF($F$13:F260,F261)>0,B260,MAX($B$13:B260)+1)))","v":""},null,null,0,null,null,null,null,"Enter PC",null,"","",{"$f":"+IF(ISBLANK(K261),\"\",VLOOKUP(K261,'5.3 Schedule of Rates'!B:D,3,0))","v":""},null,"",null,"","",null,null,null,{"$f":"IFERROR(INDEX('1.2 Sub-Con Application'!$B$13:$U$1012,MATCH(1,('1.2 Sub-Con Application'!$B$13:$B$1012=B261)*('1.2 Sub-Con Application'!$U$13:$U$1012=\"Rejected\"),0),20),\"\")","v":""}]
[null,{"$f":"+IF(AND(ISBLANK(F262),ISBLANK(K262)),\"\",IF(AND(ISBLANK(F262),B261<>\"\"),B261,IF(COUNTIF($F$13:F261,F262)>0,B261,MAX($B$13:B261)+1)))","v":""},null,null,0,null,null,null,null,"Enter PC",null,"","",{"$f":"+IF(ISBLANK(K262),\"\",VLOOKUP(K262,'5.3 Schedule of Rates'!B:D,3,0))","v":""},null,"",null,"","",null,null,null,{"$f":"IFERROR(INDEX('1.2 Sub-Con Application'!$B$13:$U$1012,MATCH(1,('1.2 Sub-Con Application'!$B$13:$B$1012=B262)*('1.2 Sub-Con Application'!$U$13:$U$1012=\"Rejected\"),0),20),\"\")","v":""}]
[null,{"$f":"+IF(AND(ISBLANK(F263),ISBLANK(K263)),\"\",IF(AND(ISBLANK(F263),B262<>\"\"),B262,IF(COUNTIF($F$13:F262,F263)>0,B262,MAX($B$13:B262)+1)))","v":""},null,null,0,null,null,null,null,"Enter PC",null,"","",{"$f":"+IF(ISBLANK(K263),\"\",VLOOKUP(K263,'5.3 Schedule of Rates'!B:D,3,0))","v":""},null,"",null,"","",null,null,null,{"$f":"IFERROR(INDEX('1.2 Sub-Con Application'!$B$13:$U$1012,MATCH(1,('1.2 Sub-Con Application'!$B$13:$B$1012=B263)*('1.2 Sub-Con Application'!$U$13:$U$1012=\"Rejected\"),0),20),\"\")","v":""}]
[null,{"$f":"+IF(AND(ISBLANK(F264),ISBLANK(K264)),\"\",IF(AND(ISBLANK(F264),B263<>\"\"),B263,IF(COUNTIF($F$13:F263,F264)>0,B263,MAX($B$13:B263)+1)))","v":""},null,null,0,null,null,null,null,"Enter PC",null,"","",{"$f":"+IF(ISBLANK(K264),\"\",VLOOKUP(K264,'5.3 Schedule of Rates'!B:D,3,0))","v":""},null,"",null,"","",null,null,null,{"$f":"IFERROR(INDEX('1.2 Sub-Con Application'!$B$13:$U$1012,MATCH(1,('1.2 Sub-Con Application'!$B$13:$B$1012=B264)*('1.2 Sub-Con Application'!$U$13:$U$1012=\"Rejected\"),0),20),\"\")","v":""}]
[null,{"$f":"+IF(AND(ISBLANK(F265),ISBLANK(K265)),\"\",IF(AND(ISBLANK(F265),B264<>\"\"),B264,IF(COUNTIF($F$13:F264,F265)>0,B264,MAX($B$13:B264)+1)))","v":""},null,null,0,null,null,null,null,"Enter PC",null,"","",{"$f":"+IF(ISBLANK(K265),\"\",VLOOKUP(K265,'5.3 Schedule of Rates'!B:D,3,0))","v":""},null,"",null,"","",null,null,null,{"$f":"IFERROR(INDEX('1.2 Sub-Con Application'!$B$13:$U$1012,MATCH(1,('1.2 Sub-Con Application'!$B$13:$B$1012=B265)*('1.2 Sub-Con Application'!$U$13:$U$1012=\"Rejected\"),0),20),\"\")","v":""}]
[null,{"$f":"+IF(AND(ISBLANK(F266),ISBLANK(K266)),\"\",IF(AND(ISBLANK(F266),B265<>\"\"),B265,IF(COUNTIF($F$13:F265,F266)>0,B265,MAX($B$13:B265)+1)))","v":""},null,null,0,null,null,null,null,"Enter PC",null,"","",{"$f":"+IF(ISBLANK(K266),\"\",VLOOKUP(K266,'5.3 Schedule of Rates'!B:D,3,0))","v":""},null,"",null,"","",null,null,null,{"$f":"IFERROR(INDEX('1.2 Sub-Con Application'!$B$13:$U$1012,MATCH(1,('1.2 Sub-Con Application'!$B$13:$B$1012=B266)*('1.2 Sub-Con Application'!$U$13:$U$1012=\"Rejected\"),0),20),\"\")","v":""}]
[null,{"$f":"+IF(AND(ISBLANK(F267),ISBLANK(K267)),\"\",IF(AND(ISBLANK(F267),B266<>\"\"),B266,IF(COUNTIF($F$13:F266,F267)>0,B266,MAX($B$13:B266)+1)))","v":""},null,null,0,null,null,null,null,"Enter PC",null,"","",{"$f":"+IF(ISBLANK(K267),\"\",VLOOKUP(K267,'5.3 Schedule of Rates'!B:D,3,0))","v":""},null,"",null,"","",null,null,null,{"$f":"IFERROR(INDEX('1.2 Sub-Con Application'!$B$13:$U$1012,MATCH(1,('1.2 Sub-Con Application'!$B$13:$B$1012=B267)*('1.2 Sub-Con Application'!$U$13:$U$1012=\"Rejected\"),0),20),\"\")","v":""}]
[null,{"$f":"+IF(AND(ISBLANK(F268),ISBLANK(K268)),\"\",IF(AND(ISBLANK(F268),B267<>\"\"),B267,IF(COUNTIF($F$13:F267,F268)>0,B267,MAX($B$13:B267)+1)))","v":""},null,null,0,null,null,null,null,"Enter PC",null,"","",{"$f":"+IF(ISBLANK(K268),\"\",VLOOKUP(K268,'5.3 Schedule of Rates'!B:D,3,0))","v":""},null,"",null,"","",null,null,null,{"$f":"IFERROR(INDEX('1.2 Sub-Con Application'!$B$13:$U$1012,MATCH(1,('1.2 Sub-Con Application'!$B$13:$B$1012=B268)*('1.2 Sub-Con Application'!$U$13:$U$1012=\"Rejected\"),0),20),\"\")","v":""}]
[null,{"$f":"+IF(AND(ISBLANK(F269),ISBLANK(K269)),\"\",IF(AND(ISBLANK(F269),B268<>\"\"),B268,IF(COUNTIF($F$13:F268,F269)>0,B268,MAX($B$13:B268)+1)))","v":""},null,null,0,null,null,null,null,{"$f":"IFERROR(IF(I269=\"\",\"Enter PC\",VLOOKUP(IF(LEN(I269)=6,LEFT(I269,2),IF(LEN(I269)=7,LEFT(I269,3),LEFT(I269,4))),table_pcRegion,2,FALSE)=work_Region),\"INVALID\")","v":"Enter PC"},null,{"$f":"+IF(ISBLANK(K269),\"\",VLOOKUP(K269,table_SoR,2,0))","v":""},{"$f":"+IF(ISBLANK(K269),\"\",INDEX(table_subconSoR,MATCH(L269,row_SoR,0),MATCH($H$4,col_SoR,0)))","v":""},{"$f":"+IF(ISBLANK(K269),\"\",VLOOKUP(K269,'5.3 Schedule of Rates'!B:D,3,0))","v":""},null,{"$f":"+IF(ISBLANK($O269),\"\",ROUND(SUM(SUM(VLOOKUP($K269,table_SoR,6,0)*(1+$M269))*O269),2))","v":""},null,{"$f":"+IF(ISBLANK($O269),\"\",ROUND(IF(Q269>0,Q269,SUM(SUM(VLOOKUP($K269,table_SoR,7,0)*(1+$M269))*O269)),2))","v":""},"",null,null,null,{"$f":"IFERROR(INDEX('1.2 Sub-Con Application'!$B$13:$U$1012,MATCH(1,('1.2 Sub-Con Application'!$B$13:$B$1012=B269)*('1.2 Sub-Con Application'!$U$13:$U$1012=\"Rejected\"),0),20),\"\")","v":""}]
[null,{"$f":"+IF(AND(ISBLANK(F270),ISBLANK(K270)),\"\",IF(AND(ISBLANK(F270),B269<>\"\"),B269,IF(COUNTIF($F$13:F269,F270)>0,B269,MAX($B$13:B269)+1)))","v":""},null,null,0,null,null,null,null,"Enter PC",null,"","",{"$f":"+IF(ISBLANK(K270),\"\",VLOOKUP(K270,'5.3 Schedule of Rates'!B:D,3,0))","v":""},null,"",null,"",{"$f":"IF(ISERROR(SUM(P270-R270)),\"\",SUM(P270-R270))","v":""},null,null,null,{"$f":"IFERROR(INDEX('1.2 Sub-Con Application'!$B$13:$U$1012,MATCH(1,('1.2 Sub-Con Application'!$B$13:$B$1012=B270)*('1.2 Sub-Con Application'!$U$13:$U$1012=\"Rejected\"),0),20),\"\")","v":""}]
[null,{"$f":"+IF(AND(ISBLANK(F271),ISBLANK(K271)),\"\",IF(AND(ISBLANK(F271),B270<>\"\"),B270,IF(COUNTIF($F$13:F270,F271)>0,B270,MAX($B$13:B270)+1)))","v":""},null,null,{"$f":"NETWORKDAYS(C271,D271)","v":0},null,null,null,null,"Enter PC",null,"","",{"$f":"+IF(ISBLANK(K271),\"\",VLOOKUP(K271,'5.3 Schedule of Rates'!B:D,3,0))","v":""},null,"",null,"","",null,null,null,{"$f":"IFERROR(INDEX('1.2 Sub-Con Application'!$B$13:$U$1012,MATCH(1,('1.2 Sub-Con Application'!$B$13:$B$1012=B271)*('1.2 Sub-Con Application'!$U$13:$U$1012=\"Rejected\"),0),20),\"\")","v":""}]
[null,{"$f":"+IF(AND(ISBLANK(F272),ISBLANK(K272)),\"\",IF(AND(ISBLANK(F272),B271<>\"\"),B271,IF(COUNTIF($F$13:F271,F272)>0,B271,MAX($B$13:B271)+1)))","v":""},null,null,0,null,null,null,null,"Enter PC",null,"","",{"$f":"+IF(ISBLANK(K272),\"\",VLOOKUP(K272,'5.3 Schedule of Rates'!B:D,3,0))","v":""},null,"",null,"","",null,null,null,{"$f":"IFERROR(INDEX('1.2 Sub-Con Application'!$B$13:$U$1012,MATCH(1,('1.2 Sub-Con Application'!$B$13:$B$1012=B272)*('1.2 Sub-Con Application'!$U$13:$U$1012=\"Rejected\"),0),20),\"\")","v":""}]
[null,{"$f":"+IF(AND(ISBLANK(F273),ISBLANK(K273)),\"\",IF(AND(ISBLANK(F273),B272<>\"\"),B272,IF(COUNTIF($F$13:F272,F273)>0,B272,MAX($B$13:B272)+1)))","v":""},null,null,0,null,null,null,null,"Enter PC",null,"","",{"$f":"+IF(ISBLANK(K273),\"\",VLOOKUP(K273,'5.3 Schedule of Rates'!B:D,3,0))","v":""},null,"",null,"","",null,null,null,{"$f":"IFERROR(INDEX('1.2 Sub-Con Application'!$B$13:$U$1012,MATCH(1,('1.2 Sub-Con Application'!$B$13:$B$1012=B273)*('1.2 Sub-Con Application'!$U$13:$U$1012=\"Rejected\"),0),20),\"\")","v":""}]
[null,{"$f":"+IF(AND(ISBLANK(F274),ISBLANK(K274)),\"\",IF(AND(ISBLANK(F274),B273<>\"\"),B273,IF(COUNTIF($F$13:F273,F274)>0,B273,MAX($B$13:B273)+1)))","v":""},null,null,0,null,null,null,null,"Enter PC",null,"","",{"$f":"+IF(ISBLANK(K274),\"\",VLOOKUP(K274,'5.3 Schedule of Rates'!B:D,3,0))","v":""},null,"",null,"","",null,null,null,{"$f":"IFERROR(INDEX('1.2 Sub-Con Application'!$B$13:$U$1012,MATCH(1,('1.2 Sub-Con Application'!$B$13:$B$1012=B274)*('1.2 Sub-Con Application'!$U$13:$U$1012=\"Rejected\"),0),20),\"\")","v":""}]
[null,{"$f":"+IF(AND(ISBLANK(F275),ISBLANK(K275)),\"\",IF(AND(ISBLANK(F275),B274<>\"\"),B274,IF(COUNTIF($F$13:F274,F275)>0,B274,MAX($B$13:B274)+1)))","v":""},null,null,0,null,null,null,null,"Enter PC",null,"","",{"$f":"+IF(ISBLANK(K275),\"\",VLOOKUP(K275,'5.3 Schedule of Rates'!B:D,3,0))","v":""},null,"",null,"","",null,null,null,{"$f":"IFERROR(INDEX('1.2 Sub-Con Application'!$B$13:$U$1012,MATCH(1,('1.2 Sub-Con Application'!$B$13:$B$1012=B275)*('1.2 Sub-Con Application'!$U$13:$U$1012=\"Rejected\"),0),20),\"\")","v":""}]
[null,{"$f":"+IF(AND(ISBLANK(F276),ISBLANK(K276)),\"\",IF(AND(ISBLANK(F276),B275<>\"\"),B275,IF(COUNTIF($F$13:F275,F276)>0,B275,MAX($B$13:B275)+1)))","v":""},null,null,0,null,null,null,null,"Enter PC",null,"","",{"$f":"+IF(ISBLANK(K276),\"\",VLOOKUP(K276,'5.3 Schedule of Rates'!B:D,3,0))","v":""},null,"",null,"","",null,null,null,{"$f":"IFERROR(INDEX('1.2 Sub-Con Application'!$B$13:$U$1012,MATCH(1,('1.2 Sub-Con Application'!$B$13:$B$1012=B276)*('1.2 Sub-Con Application'!$U$13:$U$1012=\"Rejected\"),0),20),\"\")","v":""}]
[null,{"$f":"+IF(AND(ISBLANK(F277),ISBLANK(K277)),\"\",IF(AND(ISBLANK(F277),B276<>\"\"),B276,IF(COUNTIF($F$13:F276,F277)>0,B276,MAX($B$13:B276)+1)))","v":""},null,null,0,null,null,null,null,"Enter PC",null,"","",{"$f":"+IF(ISBLANK(K277),\"\",VLOOKUP(K277,'5.3 Schedule of Rates'!B:D,3,0))","v":""},null,"",null,"","",null,null,null,{"$f":"IFERROR(INDEX('1.2 Sub-Con Application'!$B$13:$U$1012,MATCH(1,('1.2 Sub-Con Application'!$B$13:$B$1012=B277)*('1.2 Sub-Con Application'!$U$13:$U$1012=\"Rejected\"),0),20),\"\")","v":""}]
[null,{"$f":"+IF(AND(ISBLANK(F278),ISBLANK(K278)),\"\",IF(AND(ISBLANK(F278),B277<>\"\"),B277,IF(COUNTIF($F$13:F277,F278)>0,B277,MAX($B$13:B277)+1)))","v":""},null,null,0,null,null,null,null,"Enter PC",null,"","",{"$f":"+IF(ISBLANK(K278),\"\",VLOOKUP(K278,'5.3 Schedule of Rates'!B:D,3,0))","v":""},null,"",null,"","",null,null,null,{"$f":"IFERROR(INDEX('1.2 Sub-Con Application'!$B$13:$U$1012,MATCH(1,('1.2 Sub-Con Application'!$B$13:$B$1012=B278)*('1.2 Sub-Con Application'!$U$13:$U$1012=\"Rejected\"),0),20),\"\")","v":""}]
[null,{"$f":"+IF(AND(ISBLANK(F279),ISBLANK(K279)),\"\",IF(AND(ISBLANK(F279),B278<>\"\"),B278,IF(COUNTIF($F$13:F278,F279)>0,B278,MAX($B$13:B278)+1)))","v":""},null,null,0,null,null,null,null,"Enter PC",null,"","",{"$f":"+IF(ISBLANK(K279),\"\",VLOOKUP(K279,'5.3 Schedule of Rates'!B:D,3,0))","v":""},null,"",null,"","",null,null,null,{"$f":"IFERROR(INDEX('1.2 Sub-Con Application'!$B$13:$U$1012,MATCH(1,('1.2 Sub-Con Application'!$B$13:$B$1012=B279)*('1.2 Sub-Con Application'!$U$13:$U$1012=\"Rejected\"),0),20),\"\")","v":""}]
[null,{"$f":"+IF(AND(ISBLANK(F280),ISBLANK(K280)),\"\",IF(AND(ISBLANK(F280),B279<>\"\"),B279,IF(COUNTIF($F$13:F279,F280)>0,B279,MAX($B$13:B279)+1)))","v":""},null,null,0,null,null,null,null,"Enter PC",null,"","",{"$f":"+IF(ISBLANK(K280),\"\",VLOOKUP(K280,'5.3 Schedule of Rates'!B:D,3,0))","v":""},null,"",null,"","",null,null,null,{"$f":"IFERROR(INDEX('1.2 Sub-Con Application'!$B$13:$U$1012,MATCH(1,('1.2 Sub-Con Application'!$B$13:$B$1012=B280)*('1.2 Sub-Con Application'!$U$13:$U$1012=\"Rejected\"),0),20),\"\")","v":""}]
[null,{"$f":"+IF(AND(ISBLANK(F281),ISBLANK(K281)),\"\",IF(AND(ISBLANK(F281),B280<>\"\"),B280,IF(COUNTIF($F$13:F280,F281)>0,B280,MAX($B$13:B280)+1)))","v":""},null,null,0,null,null,null,null,"Enter PC",null,"","",{"$f":"+IF(ISBLANK(K281),\"\",VLOOKUP(K281,'5.3 Schedule of Rates'!B:D,3,0))","v":""},null,"",null,"","",null,null,null,{"$f":"IFERROR(INDEX('1.2 Sub-Con Application'!$B$13:$U$1012,MATCH(1,('1.2 Sub-Con Application'!$B$13:$B$1012=B281)*('1.2 Sub-Con Application'!$U$13:$U$1012=\"Rejected\"),0),20),\"\")","v":""}]
[null,{"$f":"+IF(AND(ISBLANK(F282),ISBLANK(K282)),\"\",IF(AND(ISBLANK(F282),B281<>\"\"),B281,IF(COUNTIF($F$13:F281,F282)>0,B281,MAX($B$13:B281)+1)))","v":""},null,null,0,null,null,null,null,"Enter PC",null,"","",{"$f":"+IF(ISBLANK(K282),\"\",VLOOKUP(K282,'5.3 Schedule of Rates'!B:D,3,0))","v":""},null,"",null,"","",null,null,null,{"$f":"IFERROR(INDEX('1.2 Sub-Con Application'!$B$13:$U$1012,MATCH(1,('1.2 Sub-Con Application'!$B$13:$B$1012=B282)*('1.2 Sub-Con Application'!$U$13:$U$1012=\"Rejected\"),0),20),\"\")","v":""}]
[null,{"$f":"+IF(AND(ISBLANK(F283),ISBLANK(K283)),\"\",IF(AND(ISBLANK(F283),B282<>\"\"),B282,IF(COUNTIF($F$13:F282,F283)>0,B282,MAX($B$13:B282)+1)))","v":""},null,null,0,null,null,null,null,"Enter PC",null,"","",{"$f":"+IF(ISBLANK(K283),\"\",VLOOKUP(K283,'5.3 Schedule of Rates'!B:D,3,0))","v":""},null,"",null,"","",null,null,null,{"$f":"IFERROR(INDEX('1.2 Sub-Con Application'!$B$13:$U$1012,MATCH(1,('1.2 Sub-Con Application'!$B$13:$B$1012=B283)*('1.2 Sub-Con Application'!$U$13:$U$1012=\"Rejected\"),0),20),\"\")","v":""}]
[null,{"$f":"+IF(AND(ISBLANK(F284),ISBLANK(K284)),\"\",IF(AND(ISBLANK(F284),B283<>\"\"),B283,IF(COUNTIF($F$13:F283,F284)>0,B283,MAX($B$13:B283)+1)))","v":""},null,null,0,null,null,null,null,"Enter PC",null,"","",{"$f":"+IF(ISBLANK(K284),\"\",VLOOKUP(K284,'5.3 Schedule of Rates'!B:D,3,0))","v":""},null,"",null,"","",null,null,null,{"$f":"IFERROR(INDEX('1.2 Sub-Con Application'!$B$13:$U$1012,MATCH(1,('1.2 Sub-Con Application'!$B$13:$B$1012=B284)*('1.2 Sub-Con Application'!$U$13:$U$1012=\"Rejected\"),0),20),\"\")","v":""}]
[null,{"$f":"+IF(AND(ISBLANK(F285),ISBLANK(K285)),\"\",IF(AND(ISBLANK(F285),B284<>\"\"),B284,IF(COUNTIF($F$13:F284,F285)>0,B284,MAX($B$13:B284)+1)))","v":""},null,null,0,null,null,null,null,"Enter PC",null,"","",{"$f":"+IF(ISBLANK(K285),\"\",VLOOKUP(K285,'5.3 Schedule of Rates'!B:D,3,0))","v":""},null,"",null,"","",null,null,null,{"$f":"IFERROR(INDEX('1.2 Sub-Con Application'!$B$13:$U$1012,MATCH(1,('1.2 Sub-Con Application'!$B$13:$B$1012=B285)*('1.2 Sub-Con Application'!$U$13:$U$1012=\"Rejected\"),0),20),\"\")","v":""}]
[null,{"$f":"+IF(AND(ISBLANK(F286),ISBLANK(K286)),\"\",IF(AND(ISBLANK(F286),B285<>\"\"),B285,IF(COUNTIF($F$13:F285,F286)>0,B285,MAX($B$13:B285)+1)))","v":""},null,null,0,null,null,null,null,"Enter PC",null,"","",{"$f":"+IF(ISBLANK(K286),\"\",VLOOKUP(K286,'5.3 Schedule of Rates'!B:D,3,0))","v":""},null,"",null,"","",null,null,null,{"$f":"IFERROR(INDEX('1.2 Sub-Con Application'!$B$13:$U$1012,MATCH(1,('1.2 Sub-Con Application'!$B$13:$B$1012=B286)*('1.2 Sub-Con Application'!$U$13:$U$1012=\"Rejected\"),0),20),\"\")","v":""}]
[null,{"$f":"+IF(AND(ISBLANK(F287),ISBLANK(K287)),\"\",IF(AND(ISBLANK(F287),B286<>\"\"),B286,IF(COUNTIF($F$13:F286,F287)>0,B286,MAX($B$13:B286)+1)))","v":""},null,null,0,null,null,null,null,"Enter PC",null,"","",{"$f":"+IF(ISBLANK(K287),\"\",VLOOKUP(K287,'5.3 Schedule of Rates'!B:D,3,0))","v":""},null,"",null,"","",null,null,null,{"$f":"IFERROR(INDEX('1.2 Sub-Con Application'!$B$13:$U$1012,MATCH(1,('1.2 Sub-Con Application'!$B$13:$B$1012=B287)*('1.2 Sub-Con Application'!$U$13:$U$1012=\"Rejected\"),0),20),\"\")","v":""}]
[null,{"$f":"+IF(AND(ISBLANK(F288),ISBLANK(K288)),\"\",IF(AND(ISBLANK(F288),B287<>\"\"),B287,IF(COUNTIF($F$13:F287,F288)>0,B287,MAX($B$13:B287)+1)))","v":""},null,null,0,null,null,null,null,"Enter PC",null,"","",{"$f":"+IF(ISBLANK(K288),\"\",VLOOKUP(K288,'5.3 Schedule of Rates'!B:D,3,0))","v":""},null,"",null,"","",null,null,null,{"$f":"IFERROR(INDEX('1.2 Sub-Con Application'!$B$13:$U$1012,MATCH(1,('1.2 Sub-Con Application'!$B$13:$B$1012=B288)*('1.2 Sub-Con Application'!$U$13:$U$1012=\"Rejected\"),0),20),\"\")","v":""}]
[null,{"$f":"+IF(AND(ISBLANK(F289),ISBLANK(K289)),\"\",IF(AND(ISBLANK(F289),B288<>\"\"),B288,IF(COUNTIF($F$13:F288,F289)>0,B288,MAX($B$13:B288)+1)))","v":""},null,null,0,null,null,null,null,"Enter PC",null,"","",{"$f":"+IF(ISBLANK(K289),\"\",VLOOKUP(K289,'5.3 Schedule of Rates'!B:D,3,0))","v":""},null,"",null,"","",null,null,null,{"$f":"IFERROR(INDEX('1.2 Sub-Con Application'!$B$13:$U$1012,MATCH(1,('1.2 Sub-Con Application'!$B$13:$B$1012=B289)*('1.2 Sub-Con Application'!$U$13:$U$1012=\"Rejected\"),0),20),\"\")","v":""}]
[null,{"$f":"+IF(AND(ISBLANK(F290),ISBLANK(K290)),\"\",IF(AND(ISBLANK(F290),B289<>\"\"),B289,IF(COUNTIF($F$13:F289,F290)>0,B289,MAX($B$13:B289)+1)))","v":""},null,null,0,null,null,null,null,"Enter PC",null,"","",{"$f":"+IF(ISBLANK(K290),\"\",VLOOKUP(K290,'5.3 Schedule of Rates'!B:D,3,0))","v":""},null,"",null,"","",null,null,null,{"$f":"IFERROR(INDEX('1.2 Sub-Con Application'!$B$13:$U$1012,MATCH(1,('1.2 Sub-Con Application'!$B$13:$B$1012=B290)*('1.2 Sub-Con Application'!$U$13:$U$1012=\"Rejected\"),0),20),\"\")","v":""}]
[null,{"$f":"+IF(AND(ISBLANK(F291),ISBLANK(K291)),\"\",IF(AND(ISBLANK(F291),B290<>\"\"),B290,IF(COUNTIF($F$13:F290,F291)>0,B290,MAX($B$13:B290)+1)))","v":""},null,null,0,null,null,null,null,"Enter PC",null,"","",{"$f":"+IF(ISBLANK(K291),\"\",VLOOKUP(K291,'5.3 Schedule of Rates'!B:D,3,0))","v":""},null,"",null,"","",null,null,null,{"$f":"IFERROR(INDEX('1.2 Sub-Con Application'!$B$13:$U$1012,MATCH(1,('1.2 Sub-Con Application'!$B$13:$B$1012=B291)*('1.2 Sub-Con Application'!$U$13:$U$1012=\"Rejected\"),0),20),\"\")","v":""}]
[null,{"$f":"+IF(AND(ISBLANK(F292),ISBLANK(K292)),\"\",IF(AND(ISBLANK(F292),B291<>\"\"),B291,IF(COUNTIF($F$13:F291,F292)>0,B291,MAX($B$13:B291)+1)))","v":""},null,null,0,null,null,null,null,"Enter PC",null,"","",{"$f":"+IF(ISBLANK(K292),\"\",VLOOKUP(K292,'5.3 Schedule of Rates'!B:D,3,0))","v":""},null,"",null,"","",null,null,null,{"$f":"IFERROR(INDEX('1.2 Sub-Con Application'!$B$13:$U$1012,MATCH(1,('1.2 Sub-Con Application'!$B$13:$B$1012=B292)*('1.2 Sub-Con Application'!$U$13:$U$1012=\"Rejected\"),0),20),\"\")","v":""}]
[null,{"$f":"+IF(AND(ISBLANK(F293),ISBLANK(K293)),\"\",IF(AND(ISBLANK(F293),B292<>\"\"),B292,IF(COUNTIF($F$13:F292,F293)>0,B292,MAX($B$13:B292)+1)))","v":""},null,null,0,null,null,null,null,"Enter PC",null,"","",{"$f":"+IF(ISBLANK(K293),\"\",VLOOKUP(K293,'5.3 Schedule of Rates'!B:D,3,0))","v":""},null,"",null,"","",null,null,null,{"$f":"IFERROR(INDEX('1.2 Sub-Con Application'!$B$13:$U$1012,MATCH(1,('1.2 Sub-Con Application'!$B$13:$B$1012=B293)*('1.2 Sub-Con Application'!$U$13:$U$1012=\"Rejected\"),0),20),\"\")","v":""}]
[null,{"$f":"+IF(AND(ISBLANK(F294),ISBLANK(K294)),\"\",IF(AND(ISBLANK(F294),B293<>\"\"),B293,IF(COUNTIF($F$13:F293,F294)>0,B293,MAX($B$13:B293)+1)))","v":""},null,null,0,null,null,null,null,"Enter PC",null,"","",{"$f":"+IF(ISBLANK(K294),\"\",VLOOKUP(K294,'5.3 Schedule of Rates'!B:D,3,0))","v":""},null,"",null,"","",null,null,null,{"$f":"IFERROR(INDEX('1.2 Sub-Con Application'!$B$13:$U$1012,MATCH(1,('1.2 Sub-Con Application'!$B$13:$B$1012=B294)*('1.2 Sub-Con Application'!$U$13:$U$1012=\"Rejected\"),0),20),\"\")","v":""}]
[null,{"$f":"+IF(AND(ISBLANK(F295),ISBLANK(K295)),\"\",IF(AND(ISBLANK(F295),B294<>\"\"),B294,IF(COUNTIF($F$13:F294,F295)>0,B294,MAX($B$13:B294)+1)))","v":""},null,null,0,null,null,null,null,"Enter PC",null,"","",{"$f":"+IF(ISBLANK(K295),\"\",VLOOKUP(K295,'5.3 Schedule of Rates'!B:D,3,0))","v":""},null,"",null,"","",null,null,null,{"$f":"IFERROR(INDEX('1.2 Sub-Con Application'!$B$13:$U$1012,MATCH(1,('1.2 Sub-Con Application'!$B$13:$B$1012=B295)*('1.2 Sub-Con Application'!$U$13:$U$1012=\"Rejected\"),0),20),\"\")","v":""}]
[null,{"$f":"+IF(AND(ISBLANK(F296),ISBLANK(K296)),\"\",IF(AND(ISBLANK(F296),B295<>\"\"),B295,IF(COUNTIF($F$13:F295,F296)>0,B295,MAX($B$13:B295)+1)))","v":""},null,null,0,null,null,null,null,"Enter PC",null,"","",{"$f":"+IF(ISBLANK(K296),\"\",VLOOKUP(K296,'5.3 Schedule of Rates'!B:D,3,0))","v":""},null,"",null,"","",null,null,null,{"$f":"IFERROR(INDEX('1.2 Sub-Con Application'!$B$13:$U$1012,MATCH(1,('1.2 Sub-Con Application'!$B$13:$B$1012=B296)*('1.2 Sub-Con Application'!$U$13:$U$1012=\"Rejected\"),0),20),\"\")","v":""}]
[null,{"$f":"+IF(AND(ISBLANK(F297),ISBLANK(K297)),\"\",IF(AND(ISBLANK(F297),B296<>\"\"),B296,IF(COUNTIF($F$13:F296,F297)>0,B296,MAX($B$13:B296)+1)))","v":""},null,null,0,null,null,null,null,"Enter PC",null,"","",{"$f":"+IF(ISBLANK(K297),\"\",VLOOKUP(K297,'5.3 Schedule of Rates'!B:D,3,0))","v":""},null,"",null,"","",null,null,null,{"$f":"IFERROR(INDEX('1.2 Sub-Con Application'!$B$13:$U$1012,MATCH(1,('1.2 Sub-Con Application'!$B$13:$B$1012=B297)*('1.2 Sub-Con Application'!$U$13:$U$1012=\"Rejected\"),0),20),\"\")","v":""}]
[null,{"$f":"+IF(AND(ISBLANK(F298),ISBLANK(K298)),\"\",IF(AND(ISBLANK(F298),B297<>\"\"),B297,IF(COUNTIF($F$13:F297,F298)>0,B297,MAX($B$13:B297)+1)))","v":""},null,null,0,null,null,null,null,"Enter PC",null,"","",{"$f":"+IF(ISBLANK(K298),\"\",VLOOKUP(K298,'5.3 Schedule of Rates'!B:D,3,0))","v":""},null,"",null,"","",null,null,null,{"$f":"IFERROR(INDEX('1.2 Sub-Con Application'!$B$13:$U$1012,MATCH(1,('1.2 Sub-Con Application'!$B$13:$B$1012=B298)*('1.2 Sub-Con Application'!$U$13:$U$1012=\"Rejected\"),0),20),\"\")","v":""}]
[null,{"$f":"+IF(AND(ISBLANK(F299),ISBLANK(K299)),\"\",IF(AND(ISBLANK(F299),B298<>\"\"),B298,IF(COUNTIF($F$13:F298,F299)>0,B298,MAX($B$13:B298)+1)))","v":""},null,null,0,null,null,null,null,"Enter PC",null,"","",{"$f":"+IF(ISBLANK(K299),\"\",VLOOKUP(K299,'5.3 Schedule of Rates'!B:D,3,0))","v":""},null,"",null,"","",null,null,null,{"$f":"IFERROR(INDEX('1.2 Sub-Con Application'!$B$13:$U$1012,MATCH(1,('1.2 Sub-Con Application'!$B$13:$B$1012=B299)*('1.2 Sub-Con Application'!$U$13:$U$1012=\"Rejected\"),0),20),\"\")","v":""}]
[null,{"$f":"+IF(AND(ISBLANK(F300),ISBLANK(K300)),\"\",IF(AND(ISBLANK(F300),B299<>\"\"),B299,IF(COUNTIF($F$13:F299,F300)>0,B299,MAX($B$13:B299)+1)))","v":""},null,null,0,null,null,null,null,"Enter PC",null,"","",{"$f":"+IF(ISBLANK(K300),\"\",VLOOKUP(K300,'5.3 Schedule of Rates'!B:D,3,0))","v":""},null,"",null,"","",null,null,null,{"$f":"IFERROR(INDEX('1.2 Sub-Con Application'!$B$13:$U$1012,MATCH(1,('1.2 Sub-Con Application'!$B$13:$B$1012=B300)*('1.2 Sub-Con Application'!$U$13:$U$1012=\"Rejected\"),0),20),\"\")","v":""}]
[null,{"$f":"+IF(AND(ISBLANK(F301),ISBLANK(K301)),\"\",IF(AND(ISBLANK(F301),B300<>\"\"),B300,IF(COUNTIF($F$13:F300,F301)>0,B300,MAX($B$13:B300)+1)))","v":""},null,null,0,null,null,null,null,"Enter PC",null,"","",{"$f":"+IF(ISBLANK(K301),\"\",VLOOKUP(K301,'5.3 Schedule of Rates'!B:D,3,0))","v":""},null,"",null,"","",null,null,null,{"$f":"IFERROR(INDEX('1.2 Sub-Con Application'!$B$13:$U$1012,MATCH(1,('1.2 Sub-Con Application'!$B$13:$B$1012=B301)*('1.2 Sub-Con Application'!$U$13:$U$1012=\"Rejected\"),0),20),\"\")","v":""}]
[null,{"$f":"+IF(AND(ISBLANK(F302),ISBLANK(K302)),\"\",IF(AND(ISBLANK(F302),B301<>\"\"),B301,IF(COUNTIF($F$13:F301,F302)>0,B301,MAX($B$13:B301)+1)))","v":""},null,null,0,null,null,null,null,"Enter PC",null,"","",{"$f":"+IF(ISBLANK(K302),\"\",VLOOKUP(K302,'5.3 Schedule of Rates'!B:D,3,0))","v":""},null,"",null,"","",null,null,null,{"$f":"IFERROR(INDEX('1.2 Sub-Con Application'!$B$13:$U$1012,MATCH(1,('1.2 Sub-Con Application'!$B$13:$B$1012=B302)*('1.2 Sub-Con Application'!$U$13:$U$1012=\"Rejected\"),0),20),\"\")","v":""}]
[null,{"$f":"+IF(AND(ISBLANK(F303),ISBLANK(K303)),\"\",IF(AND(ISBLANK(F303),B302<>\"\"),B302,IF(COUNTIF($F$13:F302,F303)>0,B302,MAX($B$13:B302)+1)))","v":""},null,null,0,null,null,null,null,"Enter PC",null,"","",{"$f":"+IF(ISBLANK(K303),\"\",VLOOKUP(K303,'5.3 Schedule of Rates'!B:D,3,0))","v":""},null,"",null,"","",null,null,null,{"$f":"IFERROR(INDEX('1.2 Sub-Con Application'!$B$13:$U$1012,MATCH(1,('1.2 Sub-Con Application'!$B$13:$B$1012=B303)*('1.2 Sub-Con Application'!$U$13:$U$1012=\"Rejected\"),0),20),\"\")","v":""}]
[null,{"$f":"+IF(AND(ISBLANK(F304),ISBLANK(K304)),\"\",IF(AND(ISBLANK(F304),B303<>\"\"),B303,IF(COUNTIF($F$13:F303,F304)>0,B303,MAX($B$13:B303)+1)))","v":""},null,null,0,null,null,null,null,"Enter PC",null,"","",{"$f":"+IF(ISBLANK(K304),\"\",VLOOKUP(K304,'5.3 Schedule of Rates'!B:D,3,0))","v":""},null,"",null,"","",null,null,null,{"$f":"IFERROR(INDEX('1.2 Sub-Con Application'!$B$13:$U$1012,MATCH(1,('1.2 Sub-Con Application'!$B$13:$B$1012=B304)*('1.2 Sub-Con Application'!$U$13:$U$1012=\"Rejected\"),0),20),\"\")","v":""}]
[null,{"$f":"+IF(AND(ISBLANK(F305),ISBLANK(K305)),\"\",IF(AND(ISBLANK(F305),B304<>\"\"),B304,IF(COUNTIF($F$13:F304,F305)>0,B304,MAX($B$13:B304)+1)))","v":""},null,null,0,null,null,null,null,"Enter PC",null,"","",{"$f":"+IF(ISBLANK(K305),\"\",VLOOKUP(K305,'5.3 Schedule of Rates'!B:D,3,0))","v":""},null,"",null,"","",null,null,null,{"$f":"IFERROR(INDEX('1.2 Sub-Con Application'!$B$13:$U$1012,MATCH(1,('1.2 Sub-Con Application'!$B$13:$B$1012=B305)*('1.2 Sub-Con Application'!$U$13:$U$1012=\"Rejected\"),0),20),\"\")","v":""}]
[null,{"$f":"+IF(AND(ISBLANK(F306),ISBLANK(K306)),\"\",IF(AND(ISBLANK(F306),B305<>\"\"),B305,IF(COUNTIF($F$13:F305,F306)>0,B305,MAX($B$13:B305)+1)))","v":""},null,null,0,null,null,null,null,"Enter PC",null,"","",{"$f":"+IF(ISBLANK(K306),\"\",VLOOKUP(K306,'5.3 Schedule of Rates'!B:D,3,0))","v":""},null,"",null,"","",null,null,null,{"$f":"IFERROR(INDEX('1.2 Sub-Con Application'!$B$13:$U$1012,MATCH(1,('1.2 Sub-Con Application'!$B$13:$B$1012=B306)*('1.2 Sub-Con Application'!$U$13:$U$1012=\"Rejected\"),0),20),\"\")","v":""}]
[null,{"$f":"+IF(AND(ISBLANK(F307),ISBLANK(K307)),\"\",IF(AND(ISBLANK(F307),B306<>\"\"),B306,IF(COUNTIF($F$13:F306,F307)>0,B306,MAX($B$13:B306)+1)))","v":""},null,null,0,null,null,null,null,"Enter PC",null,"","",{"$f":"+IF(ISBLANK(K307),\"\",VLOOKUP(K307,'5.3 Schedule of Rates'!B:D,3,0))","v":""},null,"",null,"","",null,null,null,{"$f":"IFERROR(INDEX('1.2 Sub-Con Application'!$B$13:$U$1012,MATCH(1,('1.2 Sub-Con Application'!$B$13:$B$1012=B307)*('1.2 Sub-Con Application'!$U$13:$U$1012=\"Rejected\"),0),20),\"\")","v":""}]
[null,{"$f":"+IF(AND(ISBLANK(F308),ISBLANK(K308)),\"\",IF(AND(ISBLANK(F308),B307<>\"\"),B307,IF(COUNTIF($F$13:F307,F308)>0,B307,MAX($B$13:B307)+1)))","v":""},null,null,0,null,null,null,null,"Enter PC",null,"","",{"$f":"+IF(ISBLANK(K308),\"\",VLOOKUP(K308,'5.3 Schedule of Rates'!B:D,3,0))","v":""},null,"",null,"","",null,null,null,{"$f":"IFERROR(INDEX('1.2 Sub-Con Application'!$B$13:$U$1012,MATCH(1,('1.2 Sub-Con Application'!$B$13:$B$1012=B308)*('1.2 Sub-Con Application'!$U$13:$U$1012=\"Rejected\"),0),20),\"\")","v":""}]
[null,{"$f":"+IF(AND(ISBLANK(F309),ISBLANK(K309)),\"\",IF(AND(ISBLANK(F309),B308<>\"\"),B308,IF(COUNTIF($F$13:F308,F309)>0,B308,MAX($B$13:B308)+1)))","v":""},null,null,0,null,null,null,null,"Enter PC",null,"","",{"$f":"+IF(ISBLANK(K309),\"\",VLOOKUP(K309,'5.3 Schedule of Rates'!B:D,3,0))","v":""},null,"",null,"","",null,null,null,{"$f":"IFERROR(INDEX('1.2 Sub-Con Application'!$B$13:$U$1012,MATCH(1,('1.2 Sub-Con Application'!$B$13:$B$1012=B309)*('1.2 Sub-Con Application'!$U$13:$U$1012=\"Rejected\"),0),20),\"\")","v":""}]
[null,{"$f":"+IF(AND(ISBLANK(F310),ISBLANK(K310)),\"\",IF(AND(ISBLANK(F310),B309<>\"\"),B309,IF(COUNTIF($F$13:F309,F310)>0,B309,MAX($B$13:B309)+1)))","v":""},null,null,0,null,null,null,null,"Enter PC",null,"","",{"$f":"+IF(ISBLANK(K310),\"\",VLOOKUP(K310,'5.3 Schedule of Rates'!B:D,3,0))","v":""},null,"",null,"","",null,null,null,{"$f":"IFERROR(INDEX('1.2 Sub-Con Application'!$B$13:$U$1012,MATCH(1,('1.2 Sub-Con Application'!$B$13:$B$1012=B310)*('1.2 Sub-Con Application'!$U$13:$U$1012=\"Rejected\"),0),20),\"\")","v":""}]
[null,{"$f":"+IF(AND(ISBLANK(F311),ISBLANK(K311)),\"\",IF(AND(ISBLANK(F311),B310<>\"\"),B310,IF(COUNTIF($F$13:F310,F311)>0,B310,MAX($B$13:B310)+1)))","v":""},null,null,0,null,null,null,null,"Enter PC",null,"","",{"$f":"+IF(ISBLANK(K311),\"\",VLOOKUP(K311,'5.3 Schedule of Rates'!B:D,3,0))","v":""},null,"",null,"","",null,null,null,{"$f":"IFERROR(INDEX('1.2 Sub-Con Application'!$B$13:$U$1012,MATCH(1,('1.2 Sub-Con Application'!$B$13:$B$1012=B311)*('1.2 Sub-Con Application'!$U$13:$U$1012=\"Rejected\"),0),20),\"\")","v":""}]
[null,{"$f":"+IF(AND(ISBLANK(F312),ISBLANK(K312)),\"\",IF(AND(ISBLANK(F312),B311<>\"\"),B311,IF(COUNTIF($F$13:F311,F312)>0,B311,MAX($B$13:B311)+1)))","v":""},null,null,0,null,null,null,null,"Enter PC",null,"","",{"$f":"+IF(ISBLANK(K312),\"\",VLOOKUP(K312,'5.3 Schedule of Rates'!B:D,3,0))","v":""},null,"",null,"","",null,null,null,{"$f":"IFERROR(INDEX('1.2 Sub-Con Application'!$B$13:$U$1012,MATCH(1,('1.2 Sub-Con Application'!$B$13:$B$1012=B312)*('1.2 Sub-Con Application'!$U$13:$U$1012=\"Rejected\"),0),20),\"\")","v":""}]
[null,{"$f":"+IF(AND(ISBLANK(F313),ISBLANK(K313)),\"\",IF(AND(ISBLANK(F313),B312<>\"\"),B312,IF(COUNTIF($F$13:F312,F313)>0,B312,MAX($B$13:B312)+1)))","v":""},null,null,0,null,null,null,null,"Enter PC",null,"","",{"$f":"+IF(ISBLANK(K313),\"\",VLOOKUP(K313,'5.3 Schedule of Rates'!B:D,3,0))","v":""},null,"",null,"","",null,null,null,{"$f":"IFERROR(INDEX('1.2 Sub-Con Application'!$B$13:$U$1012,MATCH(1,('1.2 Sub-Con Application'!$B$13:$B$1012=B313)*('1.2 Sub-Con Application'!$U$13:$U$1012=\"Rejected\"),0),20),\"\")","v":""}]
[null,{"$f":"+IF(AND(ISBLANK(F314),ISBLANK(K314)),\"\",IF(AND(ISBLANK(F314),B313<>\"\"),B313,IF(COUNTIF($F$13:F313,F314)>0,B313,MAX($B$13:B313)+1)))","v":""},null,null,0,null,null,null,null,"Enter PC",null,"","",{"$f":"+IF(ISBLANK(K314),\"\",VLOOKUP(K314,'5.3 Schedule of Rates'!B:D,3,0))","v":""},null,"",null,"","",null,null,null,{"$f":"IFERROR(INDEX('1.2 Sub-Con Application'!$B$13:$U$1012,MATCH(1,('1.2 Sub-Con Application'!$B$13:$B$1012=B314)*('1.2 Sub-Con Application'!$U$13:$U$1012=\"Rejected\"),0),20),\"\")","v":""}]
[null,{"$f":"+IF(AND(ISBLANK(F315),ISBLANK(K315)),\"\",IF(AND(ISBLANK(F315),B314<>\"\"),B314,IF(COUNTIF($F$13:F314,F315)>0,B314,MAX($B$13:B314)+1)))","v":""},null,null,0,null,null,null,null,"Enter PC",null,"","",{"$f":"+IF(ISBLANK(K315),\"\",VLOOKUP(K315,'5.3 Schedule of Rates'!B:D,3,0))","v":""},null,"",null,"","",null,null,null,{"$f":"IFERROR(INDEX('1.2 Sub-Con Application'!$B$13:$U$1012,MATCH(1,('1.2 Sub-Con Application'!$B$13:$B$1012=B315)*('1.2 Sub-Con Application'!$U$13:$U$1012=\"Rejected\"),0),20),\"\")","v":""}]
[null,{"$f":"+IF(AND(ISBLANK(F316),ISBLANK(K316)),\"\",IF(AND(ISBLANK(F316),B315<>\"\"),B315,IF(COUNTIF($F$13:F315,F316)>0,B315,MAX($B$13:B315)+1)))","v":""},null,null,0,null,null,null,null,"Enter PC",null,"","",{"$f":"+IF(ISBLANK(K316),\"\",VLOOKUP(K316,'5.3 Schedule of Rates'!B:D,3,0))","v":""},null,"",null,"","",null,null,null,{"$f":"IFERROR(INDEX('1.2 Sub-Con Application'!$B$13:$U$1012,MATCH(1,('1.2 Sub-Con Application'!$B$13:$B$1012=B316)*('1.2 Sub-Con Application'!$U$13:$U$1012=\"Rejected\"),0),20),\"\")","v":""}]
[null,{"$f":"+IF(AND(ISBLANK(F317),ISBLANK(K317)),\"\",IF(AND(ISBLANK(F317),B316<>\"\"),B316,IF(COUNTIF($F$13:F316,F317)>0,B316,MAX($B$13:B316)+1)))","v":""},null,null,0,null,null,null,null,"Enter PC",null,"","",{"$f":"+IF(ISBLANK(K317),\"\",VLOOKUP(K317,'5.3 Schedule of Rates'!B:D,3,0))","v":""},null,"",null,"","",null,null,null,{"$f":"IFERROR(INDEX('1.2 Sub-Con Application'!$B$13:$U$1012,MATCH(1,('1.2 Sub-Con Application'!$B$13:$B$1012=B317)*('1.2 Sub-Con Application'!$U$13:$U$1012=\"Rejected\"),0),20),\"\")","v":""}]
[null,{"$f":"+IF(AND(ISBLANK(F318),ISBLANK(K318)),\"\",IF(AND(ISBLANK(F318),B317<>\"\"),B317,IF(COUNTIF($F$13:F317,F318)>0,B317,MAX($B$13:B317)+1)))","v":""},null,null,0,null,null,null,null,"Enter PC",null,"","",{"$f":"+IF(ISBLANK(K318),\"\",VLOOKUP(K318,'5.3 Schedule of Rates'!B:D,3,0))","v":""},null,"",null,"","",null,null,null,{"$f":"IFERROR(INDEX('1.2 Sub-Con Application'!$B$13:$U$1012,MATCH(1,('1.2 Sub-Con Application'!$B$13:$B$1012=B318)*('1.2 Sub-Con Application'!$U$13:$U$1012=\"Rejected\"),0),20),\"\")","v":""}]
[null,{"$f":"+IF(AND(ISBLANK(F319),ISBLANK(K319)),\"\",IF(AND(ISBLANK(F319),B318<>\"\"),B318,IF(COUNTIF($F$13:F318,F319)>0,B318,MAX($B$13:B318)+1)))","v":""},null,null,0,null,null,null,null,"Enter PC",null,"","",{"$f":"+IF(ISBLANK(K319),\"\",VLOOKUP(K319,'5.3 Schedule of Rates'!B:D,3,0))","v":""},null,"",null,"","",null,null,null,{"$f":"IFERROR(INDEX('1.2 Sub-Con Application'!$B$13:$U$1012,MATCH(1,('1.2 Sub-Con Application'!$B$13:$B$1012=B319)*('1.2 Sub-Con Application'!$U$13:$U$1012=\"Rejected\"),0),20),\"\")","v":""}]
[null,{"$f":"+IF(AND(ISBLANK(F320),ISBLANK(K320)),\"\",IF(AND(ISBLANK(F320),B319<>\"\"),B319,IF(COUNTIF($F$13:F319,F320)>0,B319,MAX($B$13:B319)+1)))","v":""},null,null,0,null,null,null,null,"Enter PC",null,"","",{"$f":"+IF(ISBLANK(K320),\"\",VLOOKUP(K320,'5.3 Schedule of Rates'!B:D,3,0))","v":""},null,"",null,"","",null,null,null,{"$f":"IFERROR(INDEX('1.2 Sub-Con Application'!$B$13:$U$1012,MATCH(1,('1.2 Sub-Con Application'!$B$13:$B$1012=B320)*('1.2 Sub-Con Application'!$U$13:$U$1012=\"Rejected\"),0),20),\"\")","v":""}]
[null,{"$f":"+IF(AND(ISBLANK(F321),ISBLANK(K321)),\"\",IF(AND(ISBLANK(F321),B320<>\"\"),B320,IF(COUNTIF($F$13:F320,F321)>0,B320,MAX($B$13:B320)+1)))","v":""},null,null,0,null,null,null,null,"Enter PC",null,"","",{"$f":"+IF(ISBLANK(K321),\"\",VLOOKUP(K321,'5.3 Schedule of Rates'!B:D,3,0))","v":""},null,"",null,"","",null,null,null,{"$f":"IFERROR(INDEX('1.2 Sub-Con Application'!$B$13:$U$1012,MATCH(1,('1.2 Sub-Con Application'!$B$13:$B$1012=B321)*('1.2 Sub-Con Application'!$U$13:$U$1012=\"Rejected\"),0),20),\"\")","v":""}]
[null,{"$f":"+IF(AND(ISBLANK(F322),ISBLANK(K322)),\"\",IF(AND(ISBLANK(F322),B321<>\"\"),B321,IF(COUNTIF($F$13:F321,F322)>0,B321,MAX($B$13:B321)+1)))","v":""},null,null,0,null,null,null,null,"Enter PC",null,"","",{"$f":"+IF(ISBLANK(K322),\"\",VLOOKUP(K322,'5.3 Schedule of Rates'!B:D,3,0))","v":""},null,"",null,"","",null,null,null,{"$f":"IFERROR(INDEX('1.2 Sub-Con Application'!$B$13:$U$1012,MATCH(1,('1.2 Sub-Con Application'!$B$13:$B$1012=B322)*('1.2 Sub-Con Application'!$U$13:$U$1012=\"Rejected\"),0),20),\"\")","v":""}]
[null,{"$f":"+IF(AND(ISBLANK(F323),ISBLANK(K323)),\"\",IF(AND(ISBLANK(F323),B322<>\"\"),B322,IF(COUNTIF($F$13:F322,F323)>0,B322,MAX($B$13:B322)+1)))","v":""},null,null,0,null,null,null,null,"Enter PC",null,"","",{"$f":"+IF(ISBLANK(K323),\"\",VLOOKUP(K323,'5.3 Schedule of Rates'!B:D,3,0))","v":""},null,"",null,"","",null,null,null,{"$f":"IFERROR(INDEX('1.2 Sub-Con Application'!$B$13:$U$1012,MATCH(1,('1.2 Sub-Con Application'!$B$13:$B$1012=B323)*('1.2 Sub-Con Application'!$U$13:$U$1012=\"Rejected\"),0),20),\"\")","v":""}]
[null,{"$f":"+IF(AND(ISBLANK(F324),ISBLANK(K324)),\"\",IF(AND(ISBLANK(F324),B323<>\"\"),B323,IF(COUNTIF($F$13:F323,F324)>0,B323,MAX($B$13:B323)+1)))","v":""},null,null,0,null,null,null,null,"Enter PC",null,"","",{"$f":"+IF(ISBLANK(K324),\"\",VLOOKUP(K324,'5.3 Schedule of Rates'!B:D,3,0))","v":""},null,"",null,"","",null,null,null,{"$f":"IFERROR(INDEX('1.2 Sub-Con Application'!$B$13:$U$1012,MATCH(1,('1.2 Sub-Con Application'!$B$13:$B$1012=B324)*('1.2 Sub-Con Application'!$U$13:$U$1012=\"Rejected\"),0),20),\"\")","v":""}]
[null,{"$f":"+IF(AND(ISBLANK(F325),ISBLANK(K325)),\"\",IF(AND(ISBLANK(F325),B324<>\"\"),B324,IF(COUNTIF($F$13:F324,F325)>0,B324,MAX($B$13:B324)+1)))","v":""},null,null,0,null,null,null,null,"Enter PC",null,"","",{"$f":"+IF(ISBLANK(K325),\"\",VLOOKUP(K325,'5.3 Schedule of Rates'!B:D,3,0))","v":""},null,"",null,"","",null,null,null,{"$f":"IFERROR(INDEX('1.2 Sub-Con Application'!$B$13:$U$1012,MATCH(1,('1.2 Sub-Con Application'!$B$13:$B$1012=B325)*('1.2 Sub-Con Application'!$U$13:$U$1012=\"Rejected\"),0),20),\"\")","v":""}]
[null,{"$f":"+IF(AND(ISBLANK(F326),ISBLANK(K326)),\"\",IF(AND(ISBLANK(F326),B325<>\"\"),B325,IF(COUNTIF($F$13:F325,F326)>0,B325,MAX($B$13:B325)+1)))","v":""},null,null,0,null,null,null,null,"Enter PC",null,"","",{"$f":"+IF(ISBLANK(K326),\"\",VLOOKUP(K326,'5.3 Schedule of Rates'!B:D,3,0))","v":""},null,"",null,"","",null,null,null,{"$f":"IFERROR(INDEX('1.2 Sub-Con Application'!$B$13:$U$1012,MATCH(1,('1.2 Sub-Con Application'!$B$13:$B$1012=B326)*('1.2 Sub-Con Application'!$U$13:$U$1012=\"Rejected\"),0),20),\"\")","v":""}]
[null,{"$f":"+IF(AND(ISBLANK(F327),ISBLANK(K327)),\"\",IF(AND(ISBLANK(F327),B326<>\"\"),B326,IF(COUNTIF($F$13:F326,F327)>0,B326,MAX($B$13:B326)+1)))","v":""},null,null,0,null,null,null,null,"Enter PC",null,"","",{"$f":"+IF(ISBLANK(K327),\"\",VLOOKUP(K327,'5.3 Schedule of Rates'!B:D,3,0))","v":""},null,"",null,"","",null,null,null,{"$f":"IFERROR(INDEX('1.2 Sub-Con Application'!$B$13:$U$1012,MATCH(1,('1.2 Sub-Con Application'!$B$13:$B$1012=B327)*('1.2 Sub-Con Application'!$U$13:$U$1012=\"Rejected\"),0),20),\"\")","v":""}]
[null,{"$f":"+IF(AND(ISBLANK(F328),ISBLANK(K328)),\"\",IF(AND(ISBLANK(F328),B327<>\"\"),B327,IF(COUNTIF($F$13:F327,F328)>0,B327,MAX($B$13:B327)+1)))","v":""},null,null,0,null,null,null,null,"Enter PC",null,"","",{"$f":"+IF(ISBLANK(K328),\"\",VLOOKUP(K328,'5.3 Schedule of Rates'!B:D,3,0))","v":""},null,"",null,"","",null,null,null,{"$f":"IFERROR(INDEX('1.2 Sub-Con Application'!$B$13:$U$1012,MATCH(1,('1.2 Sub-Con Application'!$B$13:$B$1012=B328)*('1.2 Sub-Con Application'!$U$13:$U$1012=\"Rejected\"),0),20),\"\")","v":""}]
[null,{"$f":"+IF(AND(ISBLANK(F329),ISBLANK(K329)),\"\",IF(AND(ISBLANK(F329),B328<>\"\"),B328,IF(COUNTIF($F$13:F328,F329)>0,B328,MAX($B$13:B328)+1)))","v":""},null,null,0,null,null,null,null,"Enter PC",null,"","",{"$f":"+IF(ISBLANK(K329),\"\",VLOOKUP(K329,'5.3 Schedule of Rates'!B:D,3,0))","v":""},null,"",null,"","",null,null,null,{"$f":"IFERROR(INDEX('1.2 Sub-Con Application'!$B$13:$U$1012,MATCH(1,('1.2 Sub-Con Application'!$B$13:$B$1012=B329)*('1.2 Sub-Con Application'!$U$13:$U$1012=\"Rejected\"),0),20),\"\")","v":""}]
[null,{"$f":"+IF(AND(ISBLANK(F330),ISBLANK(K330)),\"\",IF(AND(ISBLANK(F330),B329<>\"\"),B329,IF(COUNTIF($F$13:F329,F330)>0,B329,MAX($B$13:B329)+1)))","v":""},null,null,0,null,null,null,null,"Enter PC",null,"","",{"$f":"+IF(ISBLANK(K330),\"\",VLOOKUP(K330,'5.3 Schedule of Rates'!B:D,3,0))","v":""},null,"",null,"","",null,null,null,{"$f":"IFERROR(INDEX('1.2 Sub-Con Application'!$B$13:$U$1012,MATCH(1,('1.2 Sub-Con Application'!$B$13:$B$1012=B330)*('1.2 Sub-Con Application'!$U$13:$U$1012=\"Rejected\"),0),20),\"\")","v":""}]
[null,{"$f":"+IF(AND(ISBLANK(F331),ISBLANK(K331)),\"\",IF(AND(ISBLANK(F331),B330<>\"\"),B330,IF(COUNTIF($F$13:F330,F331)>0,B330,MAX($B$13:B330)+1)))","v":""},null,null,0,null,null,null,null,"Enter PC",null,"","",{"$f":"+IF(ISBLANK(K331),\"\",VLOOKUP(K331,'5.3 Schedule of Rates'!B:D,3,0))","v":""},null,"",null,"","",null,null,null,{"$f":"IFERROR(INDEX('1.2 Sub-Con Application'!$B$13:$U$1012,MATCH(1,('1.2 Sub-Con Application'!$B$13:$B$1012=B331)*('1.2 Sub-Con Application'!$U$13:$U$1012=\"Rejected\"),0),20),\"\")","v":""}]
[null,{"$f":"+IF(AND(ISBLANK(F332),ISBLANK(K332)),\"\",IF(AND(ISBLANK(F332),B331<>\"\"),B331,IF(COUNTIF($F$13:F331,F332)>0,B331,MAX($B$13:B331)+1)))","v":""},null,null,0,null,null,null,null,"Enter PC",null,"","",{"$f":"+IF(ISBLANK(K332),\"\",VLOOKUP(K332,'5.3 Schedule of Rates'!B:D,3,0))","v":""},null,"",null,"","",null,null,null,{"$f":"IFERROR(INDEX('1.2 Sub-Con Application'!$B$13:$U$1012,MATCH(1,('1.2 Sub-Con Application'!$B$13:$B$1012=B332)*('1.2 Sub-Con Application'!$U$13:$U$1012=\"Rejected\"),0),20),\"\")","v":""}]
[null,{"$f":"+IF(AND(ISBLANK(F333),ISBLANK(K333)),\"\",IF(AND(ISBLANK(F333),B332<>\"\"),B332,IF(COUNTIF($F$13:F332,F333)>0,B332,MAX($B$13:B332)+1)))","v":""},null,null,0,null,null,null,null,{"$f":"IFERROR(IF(I333=\"\",\"Enter PC\",VLOOKUP(IF(LEN(I333)=6,LEFT(I333,2),IF(LEN(I333)=7,LEFT(I333,3),LEFT(I333,4))),table_pcRegion,2,FALSE)=work_Region),\"INVALID\")","v":"Enter PC"},null,{"$f":"+IF(ISBLANK(K333),\"\",VLOOKUP(K333,table_SoR,2,0))","v":""},{"$f":"+IF(ISBLANK(K333),\"\",INDEX(table_subconSoR,MATCH(L333,row_SoR,0),MATCH($H$4,col_SoR,0)))","v":""},{"$f":"+IF(ISBLANK(K333),\"\",VLOOKUP(K333,'5.3 Schedule of Rates'!B:D,3,0))","v":""},null,{"$f":"+IF(ISBLANK($O333),\"\",ROUND(SUM(SUM(VLOOKUP($K333,table_SoR,6,0)*(1+$M333))*O333),2))","v":""},null,{"$f":"+IF(ISBLANK($O333),\"\",ROUND(IF(Q333>0,Q333,SUM(SUM(VLOOKUP($K333,table_SoR,7,0)*(1+$M333))*O333)),2))","v":""},"",null,null,null,{"$f":"IFERROR(INDEX('1.2 Sub-Con Application'!$B$13:$U$1012,MATCH(1,('1.2 Sub-Con Application'!$B$13:$B$1012=B333)*('1.2 Sub-Con Application'!$U$13:$U$1012=\"Rejected\"),0),20),\"\")","v":""}]
[null,{"$f":"+IF(AND(ISBLANK(F334),ISBLANK(K334)),\"\",IF(AND(ISBLANK(F334),B333<>\"\"),B333,IF(COUNTIF($F$13:F333,F334)>0,B333,MAX($B$13:B333)+1)))","v":""},null,null,0,null,null,null,null,"Enter PC",null,"","",{"$f":"+IF(ISBLANK(K334),\"\",VLOOKUP(K334,'5.3 Schedule of Rates'!B:D,3,0))","v":""},null,"",null,"",{"$f":"IF(ISERROR(SUM(P334-R334)),\"\",SUM(P334-R334))","v":""},null,null,null,{"$f":"IFERROR(INDEX('1.2 Sub-Con Application'!$B$13:$U$1012,MATCH(1,('1.2 Sub-Con Application'!$B$13:$B$1012=B334)*('1.2 Sub-Con Application'!$U$13:$U$1012=\"Rejected\"),0),20),\"\")","v":""}]
[null,{"$f":"+IF(AND(ISBLANK(F335),ISBLANK(K335)),\"\",IF(AND(ISBLANK(F335),B334<>\"\"),B334,IF(COUNTIF($F$13:F334,F335)>0,B334,MAX($B$13:B334)+1)))","v":""},null,null,{"$f":"NETWORKDAYS(C335,D335)","v":0},null,null,null,null,"Enter PC",null,"","",{"$f":"+IF(ISBLANK(K335),\"\",VLOOKUP(K335,'5.3 Schedule of Rates'!B:D,3,0))","v":""},null,"",null,"","",null,null,null,{"$f":"IFERROR(INDEX('1.2 Sub-Con Application'!$B$13:$U$1012,MATCH(1,('1.2 Sub-Con Application'!$B$13:$B$1012=B335)*('1.2 Sub-Con Application'!$U$13:$U$1012=\"Rejected\"),0),20),\"\")","v":""}]
[null,{"$f":"+IF(AND(ISBLANK(F336),ISBLANK(K336)),\"\",IF(AND(ISBLANK(F336),B335<>\"\"),B335,IF(COUNTIF($F$13:F335,F336)>0,B335,MAX($B$13:B335)+1)))","v":""},null,null,0,null,null,null,null,"Enter PC",null,"","",{"$f":"+IF(ISBLANK(K336),\"\",VLOOKUP(K336,'5.3 Schedule of Rates'!B:D,3,0))","v":""},null,"",null,"","",null,null,null,{"$f":"IFERROR(INDEX('1.2 Sub-Con Application'!$B$13:$U$1012,MATCH(1,('1.2 Sub-Con Application'!$B$13:$B$1012=B336)*('1.2 Sub-Con Application'!$U$13:$U$1012=\"Rejected\"),0),20),\"\")","v":""}]
[null,{"$f":"+IF(AND(ISBLANK(F337),ISBLANK(K337)),\"\",IF(AND(ISBLANK(F337),B336<>\"\"),B336,IF(COUNTIF($F$13:F336,F337)>0,B336,MAX($B$13:B336)+1)))","v":""},null,null,0,null,null,null,null,"Enter PC",null,"","",{"$f":"+IF(ISBLANK(K337),\"\",VLOOKUP(K337,'5.3 Schedule of Rates'!B:D,3,0))","v":""},null,"",null,"","",null,null,null,{"$f":"IFERROR(INDEX('1.2 Sub-Con Application'!$B$13:$U$1012,MATCH(1,('1.2 Sub-Con Application'!$B$13:$B$1012=B337)*('1.2 Sub-Con Application'!$U$13:$U$1012=\"Rejected\"),0),20),\"\")","v":""}]
[null,{"$f":"+IF(AND(ISBLANK(F338),ISBLANK(K338)),\"\",IF(AND(ISBLANK(F338),B337<>\"\"),B337,IF(COUNTIF($F$13:F337,F338)>0,B337,MAX($B$13:B337)+1)))","v":""},null,null,0,null,null,null,null,"Enter PC",null,"","",{"$f":"+IF(ISBLANK(K338),\"\",VLOOKUP(K338,'5.3 Schedule of Rates'!B:D,3,0))","v":""},null,"",null,"","",null,null,null,{"$f":"IFERROR(INDEX('1.2 Sub-Con Application'!$B$13:$U$1012,MATCH(1,('1.2 Sub-Con Application'!$B$13:$B$1012=B338)*('1.2 Sub-Con Application'!$U$13:$U$1012=\"Rejected\"),0),20),\"\")","v":""}]
[null,{"$f":"+IF(AND(ISBLANK(F339),ISBLANK(K339)),\"\",IF(AND(ISBLANK(F339),B338<>\"\"),B338,IF(COUNTIF($F$13:F338,F339)>0,B338,MAX($B$13:B338)+1)))","v":""},null,null,0,null,null,null,null,"Enter PC",null,"","",{"$f":"+IF(ISBLANK(K339),\"\",VLOOKUP(K339,'5.3 Schedule of Rates'!B:D,3,0))","v":""},null,"",null,"","",null,null,null,{"$f":"IFERROR(INDEX('1.2 Sub-Con Application'!$B$13:$U$1012,MATCH(1,('1.2 Sub-Con Application'!$B$13:$B$1012=B339)*('1.2 Sub-Con Application'!$U$13:$U$1012=\"Rejected\"),0),20),\"\")","v":""}]
[null,{"$f":"+IF(AND(ISBLANK(F340),ISBLANK(K340)),\"\",IF(AND(ISBLANK(F340),B339<>\"\"),B339,IF(COUNTIF($F$13:F339,F340)>0,B339,MAX($B$13:B339)+1)))","v":""},null,null,0,null,null,null,null,"Enter PC",null,"","",{"$f":"+IF(ISBLANK(K340),\"\",VLOOKUP(K340,'5.3 Schedule of Rates'!B:D,3,0))","v":""},null,"",null,"","",null,null,null,{"$f":"IFERROR(INDEX('1.2 Sub-Con Application'!$B$13:$U$1012,MATCH(1,('1.2 Sub-Con Application'!$B$13:$B$1012=B340)*('1.2 Sub-Con Application'!$U$13:$U$1012=\"Rejected\"),0),20),\"\")","v":""}]
[null,{"$f":"+IF(AND(ISBLANK(F341),ISBLANK(K341)),\"\",IF(AND(ISBLANK(F341),B340<>\"\"),B340,IF(COUNTIF($F$13:F340,F341)>0,B340,MAX($B$13:B340)+1)))","v":""},null,null,0,null,null,null,null,"Enter PC",null,"","",{"$f":"+IF(ISBLANK(K341),\"\",VLOOKUP(K341,'5.3 Schedule of Rates'!B:D,3,0))","v":""},null,"",null,"","",null,null,null,{"$f":"IFERROR(INDEX('1.2 Sub-Con Application'!$B$13:$U$1012,MATCH(1,('1.2 Sub-Con Application'!$B$13:$B$1012=B341)*('1.2 Sub-Con Application'!$U$13:$U$1012=\"Rejected\"),0),20),\"\")","v":""}]
[null,{"$f":"+IF(AND(ISBLANK(F342),ISBLANK(K342)),\"\",IF(AND(ISBLANK(F342),B341<>\"\"),B341,IF(COUNTIF($F$13:F341,F342)>0,B341,MAX($B$13:B341)+1)))","v":""},null,null,0,null,null,null,null,"Enter PC",null,"","",{"$f":"+IF(ISBLANK(K342),\"\",VLOOKUP(K342,'5.3 Schedule of Rates'!B:D,3,0))","v":""},null,"",null,"","",null,null,null,{"$f":"IFERROR(INDEX('1.2 Sub-Con Application'!$B$13:$U$1012,MATCH(1,('1.2 Sub-Con Application'!$B$13:$B$1012=B342)*('1.2 Sub-Con Application'!$U$13:$U$1012=\"Rejected\"),0),20),\"\")","v":""}]
[null,{"$f":"+IF(AND(ISBLANK(F343),ISBLANK(K343)),\"\",IF(AND(ISBLANK(F343),B342<>\"\"),B342,IF(COUNTIF($F$13:F342,F343)>0,B342,MAX($B$13:B342)+1)))","v":""},null,null,0,null,null,null,null,"Enter PC",null,"","",{"$f":"+IF(ISBLANK(K343),\"\",VLOOKUP(K343,'5.3 Schedule of Rates'!B:D,3,0))","v":""},null,"",null,"","",null,null,null,{"$f":"IFERROR(INDEX('1.2 Sub-Con Application'!$B$13:$U$1012,MATCH(1,('1.2 Sub-Con Application'!$B$13:$B$1012=B343)*('1.2 Sub-Con Application'!$U$13:$U$1012=\"Rejected\"),0),20),\"\")","v":""}]
[null,{"$f":"+IF(AND(ISBLANK(F344),ISBLANK(K344)),\"\",IF(AND(ISBLANK(F344),B343<>\"\"),B343,IF(COUNTIF($F$13:F343,F344)>0,B343,MAX($B$13:B343)+1)))","v":""},null,null,0,null,null,null,null,"Enter PC",null,"","",{"$f":"+IF(ISBLANK(K344),\"\",VLOOKUP(K344,'5.3 Schedule of Rates'!B:D,3,0))","v":""},null,"",null,"","",null,null,null,{"$f":"IFERROR(INDEX('1.2 Sub-Con Application'!$B$13:$U$1012,MATCH(1,('1.2 Sub-Con Application'!$B$13:$B$1012=B344)*('1.2 Sub-Con Application'!$U$13:$U$1012=\"Rejected\"),0),20),\"\")","v":""}]
[null,{"$f":"+IF(AND(ISBLANK(F345),ISBLANK(K345)),\"\",IF(AND(ISBLANK(F345),B344<>\"\"),B344,IF(COUNTIF($F$13:F344,F345)>0,B344,MAX($B$13:B344)+1)))","v":""},null,null,0,null,null,null,null,"Enter PC",null,"","",{"$f":"+IF(ISBLANK(K345),\"\",VLOOKUP(K345,'5.3 Schedule of Rates'!B:D,3,0))","v":""},null,"",null,"","",null,null,null,{"$f":"IFERROR(INDEX('1.2 Sub-Con Application'!$B$13:$U$1012,MATCH(1,('1.2 Sub-Con Application'!$B$13:$B$1012=B345)*('1.2 Sub-Con Application'!$U$13:$U$1012=\"Rejected\"),0),20),\"\")","v":""}]
[null,{"$f":"+IF(AND(ISBLANK(F346),ISBLANK(K346)),\"\",IF(AND(ISBLANK(F346),B345<>\"\"),B345,IF(COUNTIF($F$13:F345,F346)>0,B345,MAX($B$13:B345)+1)))","v":""},null,null,0,null,null,null,null,"Enter PC",null,"","",{"$f":"+IF(ISBLANK(K346),\"\",VLOOKUP(K346,'5.3 Schedule of Rates'!B:D,3,0))","v":""},null,"",null,"","",null,null,null,{"$f":"IFERROR(INDEX('1.2 Sub-Con Application'!$B$13:$U$1012,MATCH(1,('1.2 Sub-Con Application'!$B$13:$B$1012=B346)*('1.2 Sub-Con Application'!$U$13:$U$1012=\"Rejected\"),0),20),\"\")","v":""}]
[null,{"$f":"+IF(AND(ISBLANK(F347),ISBLANK(K347)),\"\",IF(AND(ISBLANK(F347),B346<>\"\"),B346,IF(COUNTIF($F$13:F346,F347)>0,B346,MAX($B$13:B346)+1)))","v":""},null,null,0,null,null,null,null,"Enter PC",null,"","",{"$f":"+IF(ISBLANK(K347),\"\",VLOOKUP(K347,'5.3 Schedule of Rates'!B:D,3,0))","v":""},null,"",null,"","",null,null,null,{"$f":"IFERROR(INDEX('1.2 Sub-Con Application'!$B$13:$U$1012,MATCH(1,('1.2 Sub-Con Application'!$B$13:$B$1012=B347)*('1.2 Sub-Con Application'!$U$13:$U$1012=\"Rejected\"),0),20),\"\")","v":""}]
[null,{"$f":"+IF(AND(ISBLANK(F348),ISBLANK(K348)),\"\",IF(AND(ISBLANK(F348),B347<>\"\"),B347,IF(COUNTIF($F$13:F347,F348)>0,B347,MAX($B$13:B347)+1)))","v":""},null,null,0,null,null,null,null,"Enter PC",null,"","",{"$f":"+IF(ISBLANK(K348),\"\",VLOOKUP(K348,'5.3 Schedule of Rates'!B:D,3,0))","v":""},null,"",null,"","",null,null,null,{"$f":"IFERROR(INDEX('1.2 Sub-Con Application'!$B$13:$U$1012,MATCH(1,('1.2 Sub-Con Application'!$B$13:$B$1012=B348)*('1.2 Sub-Con Application'!$U$13:$U$1012=\"Rejected\"),0),20),\"\")","v":""}]
[null,{"$f":"+IF(AND(ISBLANK(F349),ISBLANK(K349)),\"\",IF(AND(ISBLANK(F349),B348<>\"\"),B348,IF(COUNTIF($F$13:F348,F349)>0,B348,MAX($B$13:B348)+1)))","v":""},null,null,0,null,null,null,null,"Enter PC",null,"","",{"$f":"+IF(ISBLANK(K349),\"\",VLOOKUP(K349,'5.3 Schedule of Rates'!B:D,3,0))","v":""},null,"",null,"","",null,null,null,{"$f":"IFERROR(INDEX('1.2 Sub-Con Application'!$B$13:$U$1012,MATCH(1,('1.2 Sub-Con Application'!$B$13:$B$1012=B349)*('1.2 Sub-Con Application'!$U$13:$U$1012=\"Rejected\"),0),20),\"\")","v":""}]
[null,{"$f":"+IF(AND(ISBLANK(F350),ISBLANK(K350)),\"\",IF(AND(ISBLANK(F350),B349<>\"\"),B349,IF(COUNTIF($F$13:F349,F350)>0,B349,MAX($B$13:B349)+1)))","v":""},null,null,0,null,null,null,null,"Enter PC",null,"","",{"$f":"+IF(ISBLANK(K350),\"\",VLOOKUP(K350,'5.3 Schedule of Rates'!B:D,3,0))","v":""},null,"",null,"","",null,null,null,{"$f":"IFERROR(INDEX('1.2 Sub-Con Application'!$B$13:$U$1012,MATCH(1,('1.2 Sub-Con Application'!$B$13:$B$1012=B350)*('1.2 Sub-Con Application'!$U$13:$U$1012=\"Rejected\"),0),20),\"\")","v":""}]
[null,{"$f":"+IF(AND(ISBLANK(F351),ISBLANK(K351)),\"\",IF(AND(ISBLANK(F351),B350<>\"\"),B350,IF(COUNTIF($F$13:F350,F351)>0,B350,MAX($B$13:B350)+1)))","v":""},null,null,0,null,null,null,null,"Enter PC",null,"","",{"$f":"+IF(ISBLANK(K351),\"\",VLOOKUP(K351,'5.3 Schedule of Rates'!B:D,3,0))","v":""},null,"",null,"","",null,null,null,{"$f":"IFERROR(INDEX('1.2 Sub-Con Application'!$B$13:$U$1012,MATCH(1,('1.2 Sub-Con Application'!$B$13:$B$1012=B351)*('1.2 Sub-Con Application'!$U$13:$U$1012=\"Rejected\"),0),20),\"\")","v":""}]
[null,{"$f":"+IF(AND(ISBLANK(F352),ISBLANK(K352)),\"\",IF(AND(ISBLANK(F352),B351<>\"\"),B351,IF(COUNTIF($F$13:F351,F352)>0,B351,MAX($B$13:B351)+1)))","v":""},null,null,0,null,null,null,null,"Enter PC",null,"","",{"$f":"+IF(ISBLANK(K352),\"\",VLOOKUP(K352,'5.3 Schedule of Rates'!B:D,3,0))","v":""},null,"",null,"","",null,null,null,{"$f":"IFERROR(INDEX('1.2 Sub-Con Application'!$B$13:$U$1012,MATCH(1,('1.2 Sub-Con Application'!$B$13:$B$1012=B352)*('1.2 Sub-Con Application'!$U$13:$U$1012=\"Rejected\"),0),20),\"\")","v":""}]
[null,{"$f":"+IF(AND(ISBLANK(F353),ISBLANK(K353)),\"\",IF(AND(ISBLANK(F353),B352<>\"\"),B352,IF(COUNTIF($F$13:F352,F353)>0,B352,MAX($B$13:B352)+1)))","v":""},null,null,0,null,null,null,null,"Enter PC",null,"","",{"$f":"+IF(ISBLANK(K353),\"\",VLOOKUP(K353,'5.3 Schedule of Rates'!B:D,3,0))","v":""},null,"",null,"","",null,null,null,{"$f":"IFERROR(INDEX('1.2 Sub-Con Application'!$B$13:$U$1012,MATCH(1,('1.2 Sub-Con Application'!$B$13:$B$1012=B353)*('1.2 Sub-Con Application'!$U$13:$U$1012=\"Rejected\"),0),20),\"\")","v":""}]
[null,{"$f":"+IF(AND(ISBLANK(F354),ISBLANK(K354)),\"\",IF(AND(ISBLANK(F354),B353<>\"\"),B353,IF(COUNTIF($F$13:F353,F354)>0,B353,MAX($B$13:B353)+1)))","v":""},null,null,0,null,null,null,null,"Enter PC",null,"","",{"$f":"+IF(ISBLANK(K354),\"\",VLOOKUP(K354,'5.3 Schedule of Rates'!B:D,3,0))","v":""},null,"",null,"","",null,null,null,{"$f":"IFERROR(INDEX('1.2 Sub-Con Application'!$B$13:$U$1012,MATCH(1,('1.2 Sub-Con Application'!$B$13:$B$1012=B354)*('1.2 Sub-Con Application'!$U$13:$U$1012=\"Rejected\"),0),20),\"\")","v":""}]
[null,{"$f":"+IF(AND(ISBLANK(F355),ISBLANK(K355)),\"\",IF(AND(ISBLANK(F355),B354<>\"\"),B354,IF(COUNTIF($F$13:F354,F355)>0,B354,MAX($B$13:B354)+1)))","v":""},null,null,0,null,null,null,null,"Enter PC",null,"","",{"$f":"+IF(ISBLANK(K355),\"\",VLOOKUP(K355,'5.3 Schedule of Rates'!B:D,3,0))","v":""},null,"",null,"","",null,null,null,{"$f":"IFERROR(INDEX('1.2 Sub-Con Application'!$B$13:$U$1012,MATCH(1,('1.2 Sub-Con Application'!$B$13:$B$1012=B355)*('1.2 Sub-Con Application'!$U$13:$U$1012=\"Rejected\"),0),20),\"\")","v":""}]
[null,{"$f":"+IF(AND(ISBLANK(F356),ISBLANK(K356)),\"\",IF(AND(ISBLANK(F356),B355<>\"\"),B355,IF(COUNTIF($F$13:F355,F356)>0,B355,MAX($B$13:B355)+1)))","v":""},null,null,0,null,null,null,null,"Enter PC",null,"","",{"$f":"+IF(ISBLANK(K356),\"\",VLOOKUP(K356,'5.3 Schedule of Rates'!B:D,3,0))","v":""},null,"",null,"","",null,null,null,{"$f":"IFERROR(INDEX('1.2 Sub-Con Application'!$B$13:$U$1012,MATCH(1,('1.2 Sub-Con Application'!$B$13:$B$1012=B356)*('1.2 Sub-Con Application'!$U$13:$U$1012=\"Rejected\"),0),20),\"\")","v":""}]
[null,{"$f":"+IF(AND(ISBLANK(F357),ISBLANK(K357)),\"\",IF(AND(ISBLANK(F357),B356<>\"\"),B356,IF(COUNTIF($F$13:F356,F357)>0,B356,MAX($B$13:B356)+1)))","v":""},null,null,0,null,null,null,null,"Enter PC",null,"","",{"$f":"+IF(ISBLANK(K357),\"\",VLOOKUP(K357,'5.3 Schedule of Rates'!B:D,3,0))","v":""},null,"",null,"","",null,null,null,{"$f":"IFERROR(INDEX('1.2 Sub-Con Application'!$B$13:$U$1012,MATCH(1,('1.2 Sub-Con Application'!$B$13:$B$1012=B357)*('1.2 Sub-Con Application'!$U$13:$U$1012=\"Rejected\"),0),20),\"\")","v":""}]
[null,{"$f":"+IF(AND(ISBLANK(F358),ISBLANK(K358)),\"\",IF(AND(ISBLANK(F358),B357<>\"\"),B357,IF(COUNTIF($F$13:F357,F358)>0,B357,MAX($B$13:B357)+1)))","v":""},null,null,0,null,null,null,null,"Enter PC",null,"","",{"$f":"+IF(ISBLANK(K358),\"\",VLOOKUP(K358,'5.3 Schedule of Rates'!B:D,3,0))","v":""},null,"",null,"","",null,null,null,{"$f":"IFERROR(INDEX('1.2 Sub-Con Application'!$B$13:$U$1012,MATCH(1,('1.2 Sub-Con Application'!$B$13:$B$1012=B358)*('1.2 Sub-Con Application'!$U$13:$U$1012=\"Rejected\"),0),20),\"\")","v":""}]
[null,{"$f":"+IF(AND(ISBLANK(F359),ISBLANK(K359)),\"\",IF(AND(ISBLANK(F359),B358<>\"\"),B358,IF(COUNTIF($F$13:F358,F359)>0,B358,MAX($B$13:B358)+1)))","v":""},null,null,0,null,null,null,null,"Enter PC",null,"","",{"$f":"+IF(ISBLANK(K359),\"\",VLOOKUP(K359,'5.3 Schedule of Rates'!B:D,3,0))","v":""},null,"",null,"","",null,null,null,{"$f":"IFERROR(INDEX('1.2 Sub-Con Application'!$B$13:$U$1012,MATCH(1,('1.2 Sub-Con Application'!$B$13:$B$1012=B359)*('1.2 Sub-Con Application'!$U$13:$U$1012=\"Rejected\"),0),20),\"\")","v":""}]
[null,{"$f":"+IF(AND(ISBLANK(F360),ISBLANK(K360)),\"\",IF(AND(ISBLANK(F360),B359<>\"\"),B359,IF(COUNTIF($F$13:F359,F360)>0,B359,MAX($B$13:B359)+1)))","v":""},null,null,0,null,null,null,null,"Enter PC",null,"","",{"$f":"+IF(ISBLANK(K360),\"\",VLOOKUP(K360,'5.3 Schedule of Rates'!B:D,3,0))","v":""},null,"",null,"","",null,null,null,{"$f":"IFERROR(INDEX('1.2 Sub-Con Application'!$B$13:$U$1012,MATCH(1,('1.2 Sub-Con Application'!$B$13:$B$1012=B360)*('1.2 Sub-Con Application'!$U$13:$U$1012=\"Rejected\"),0),20),\"\")","v":""}]
[null,{"$f":"+IF(AND(ISBLANK(F361),ISBLANK(K361)),\"\",IF(AND(ISBLANK(F361),B360<>\"\"),B360,IF(COUNTIF($F$13:F360,F361)>0,B360,MAX($B$13:B360)+1)))","v":""},null,null,0,null,null,null,null,"Enter PC",null,"","",{"$f":"+IF(ISBLANK(K361),\"\",VLOOKUP(K361,'5.3 Schedule of Rates'!B:D,3,0))","v":""},null,"",null,"","",null,null,null,{"$f":"IFERROR(INDEX('1.2 Sub-Con Application'!$B$13:$U$1012,MATCH(1,('1.2 Sub-Con Application'!$B$13:$B$1012=B361)*('1.2 Sub-Con Application'!$U$13:$U$1012=\"Rejected\"),0),20),\"\")","v":""}]
[null,{"$f":"+IF(AND(ISBLANK(F362),ISBLANK(K362)),\"\",IF(AND(ISBLANK(F362),B361<>\"\"),B361,IF(COUNTIF($F$13:F361,F362)>0,B361,MAX($B$13:B361)+1)))","v":""},null,null,0,null,null,null,null,"Enter PC",null,"","",{"$f":"+IF(ISBLANK(K362),\"\",VLOOKUP(K362,'5.3 Schedule of Rates'!B:D,3,0))","v":""},null,"",null,"","",null,null,null,{"$f":"IFERROR(INDEX('1.2 Sub-Con Application'!$B$13:$U$1012,MATCH(1,('1.2 Sub-Con Application'!$B$13:$B$1012=B362)*('1.2 Sub-Con Application'!$U$13:$U$1012=\"Rejected\"),0),20),\"\")","v":""}]
[null,{"$f":"+IF(AND(ISBLANK(F363),ISBLANK(K363)),\"\",IF(AND(ISBLANK(F363),B362<>\"\"),B362,IF(COUNTIF($F$13:F362,F363)>0,B362,MAX($B$13:B362)+1)))","v":""},null,null,0,null,null,null,null,"Enter PC",null,"","",{"$f":"+IF(ISBLANK(K363),\"\",VLOOKUP(K363,'5.3 Schedule of Rates'!B:D,3,0))","v":""},null,"",null,"","",null,null,null,{"$f":"IFERROR(INDEX('1.2 Sub-Con Application'!$B$13:$U$1012,MATCH(1,('1.2 Sub-Con Application'!$B$13:$B$1012=B363)*('1.2 Sub-Con Application'!$U$13:$U$1012=\"Rejected\"),0),20),\"\")","v":""}]
[null,{"$f":"+IF(AND(ISBLANK(F364),ISBLANK(K364)),\"\",IF(AND(ISBLANK(F364),B363<>\"\"),B363,IF(COUNTIF($F$13:F363,F364)>0,B363,MAX($B$13:B363)+1)))","v":""},null,null,0,null,null,null,null,"Enter PC",null,"","",{"$f":"+IF(ISBLANK(K364),\"\",VLOOKUP(K364,'5.3 Schedule of Rates'!B:D,3,0))","v":""},null,"",null,"","",null,null,null,{"$f":"IFERROR(INDEX('1.2 Sub-Con Application'!$B$13:$U$1012,MATCH(1,('1.2 Sub-Con Application'!$B$13:$B$1012=B364)*('1.2 Sub-Con Application'!$U$13:$U$1012=\"Rejected\"),0),20),\"\")","v":""}]
[null,{"$f":"+IF(AND(ISBLANK(F365),ISBLANK(K365)),\"\",IF(AND(ISBLANK(F365),B364<>\"\"),B364,IF(COUNTIF($F$13:F364,F365)>0,B364,MAX($B$13:B364)+1)))","v":""},null,null,0,null,null,null,null,"Enter PC",null,"","",{"$f":"+IF(ISBLANK(K365),\"\",VLOOKUP(K365,'5.3 Schedule of Rates'!B:D,3,0))","v":""},null,"",null,"","",null,null,null,{"$f":"IFERROR(INDEX('1.2 Sub-Con Application'!$B$13:$U$1012,MATCH(1,('1.2 Sub-Con Application'!$B$13:$B$1012=B365)*('1.2 Sub-Con Application'!$U$13:$U$1012=\"Rejected\"),0),20),\"\")","v":""}]
[null,{"$f":"+IF(AND(ISBLANK(F366),ISBLANK(K366)),\"\",IF(AND(ISBLANK(F366),B365<>\"\"),B365,IF(COUNTIF($F$13:F365,F366)>0,B365,MAX($B$13:B365)+1)))","v":""},null,null,0,null,null,null,null,"Enter PC",null,"","",{"$f":"+IF(ISBLANK(K366),\"\",VLOOKUP(K366,'5.3 Schedule of Rates'!B:D,3,0))","v":""},null,"",null,"","",null,null,null,{"$f":"IFERROR(INDEX('1.2 Sub-Con Application'!$B$13:$U$1012,MATCH(1,('1.2 Sub-Con Application'!$B$13:$B$1012=B366)*('1.2 Sub-Con Application'!$U$13:$U$1012=\"Rejected\"),0),20),\"\")","v":""}]
[null,{"$f":"+IF(AND(ISBLANK(F367),ISBLANK(K367)),\"\",IF(AND(ISBLANK(F367),B366<>\"\"),B366,IF(COUNTIF($F$13:F366,F367)>0,B366,MAX($B$13:B366)+1)))","v":""},null,null,0,null,null,null,null,"Enter PC",null,"","",{"$f":"+IF(ISBLANK(K367),\"\",VLOOKUP(K367,'5.3 Schedule of Rates'!B:D,3,0))","v":""},null,"",null,"","",null,null,null,{"$f":"IFERROR(INDEX('1.2 Sub-Con Application'!$B$13:$U$1012,MATCH(1,('1.2 Sub-Con Application'!$B$13:$B$1012=B367)*('1.2 Sub-Con Application'!$U$13:$U$1012=\"Rejected\"),0),20),\"\")","v":""}]
[null,{"$f":"+IF(AND(ISBLANK(F368),ISBLANK(K368)),\"\",IF(AND(ISBLANK(F368),B367<>\"\"),B367,IF(COUNTIF($F$13:F367,F368)>0,B367,MAX($B$13:B367)+1)))","v":""},null,null,0,null,null,null,null,"Enter PC",null,"","",{"$f":"+IF(ISBLANK(K368),\"\",VLOOKUP(K368,'5.3 Schedule of Rates'!B:D,3,0))","v":""},null,"",null,"","",null,null,null,{"$f":"IFERROR(INDEX('1.2 Sub-Con Application'!$B$13:$U$1012,MATCH(1,('1.2 Sub-Con Application'!$B$13:$B$1012=B368)*('1.2 Sub-Con Application'!$U$13:$U$1012=\"Rejected\"),0),20),\"\")","v":""}]
[null,{"$f":"+IF(AND(ISBLANK(F369),ISBLANK(K369)),\"\",IF(AND(ISBLANK(F369),B368<>\"\"),B368,IF(COUNTIF($F$13:F368,F369)>0,B368,MAX($B$13:B368)+1)))","v":""},null,null,0,null,null,null,null,"Enter PC",null,"","",{"$f":"+IF(ISBLANK(K369),\"\",VLOOKUP(K369,'5.3 Schedule of Rates'!B:D,3,0))","v":""},null,"",null,"","",null,null,null,{"$f":"IFERROR(INDEX('1.2 Sub-Con Application'!$B$13:$U$1012,MATCH(1,('1.2 Sub-Con Application'!$B$13:$B$1012=B369)*('1.2 Sub-Con Application'!$U$13:$U$1012=\"Rejected\"),0),20),\"\")","v":""}]
[null,{"$f":"+IF(AND(ISBLANK(F370),ISBLANK(K370)),\"\",IF(AND(ISBLANK(F370),B369<>\"\"),B369,IF(COUNTIF($F$13:F369,F370)>0,B369,MAX($B$13:B369)+1)))","v":""},null,null,0,null,null,null,null,"Enter PC",null,"","",{"$f":"+IF(ISBLANK(K370),\"\",VLOOKUP(K370,'5.3 Schedule of Rates'!B:D,3,0))","v":""},null,"",null,"","",null,null,null,{"$f":"IFERROR(INDEX('1.2 Sub-Con Application'!$B$13:$U$1012,MATCH(1,('1.2 Sub-Con Application'!$B$13:$B$1012=B370)*('1.2 Sub-Con Application'!$U$13:$U$1012=\"Rejected\"),0),20),\"\")","v":""}]
[null,{"$f":"+IF(AND(ISBLANK(F371),ISBLANK(K371)),\"\",IF(AND(ISBLANK(F371),B370<>\"\"),B370,IF(COUNTIF($F$13:F370,F371)>0,B370,MAX($B$13:B370)+1)))","v":""},null,null,0,null,null,null,null,"Enter PC",null,"","",{"$f":"+IF(ISBLANK(K371),\"\",VLOOKUP(K371,'5.3 Schedule of Rates'!B:D,3,0))","v":""},null,"",null,"","",null,null,null,{"$f":"IFERROR(INDEX('1.2 Sub-Con Application'!$B$13:$U$1012,MATCH(1,('1.2 Sub-Con Application'!$B$13:$B$1012=B371)*('1.2 Sub-Con Application'!$U$13:$U$1012=\"Rejected\"),0),20),\"\")","v":""}]
[null,{"$f":"+IF(AND(ISBLANK(F372),ISBLANK(K372)),\"\",IF(AND(ISBLANK(F372),B371<>\"\"),B371,IF(COUNTIF($F$13:F371,F372)>0,B371,MAX($B$13:B371)+1)))","v":""},null,null,0,null,null,null,null,"Enter PC",null,"","",{"$f":"+IF(ISBLANK(K372),\"\",VLOOKUP(K372,'5.3 Schedule of Rates'!B:D,3,0))","v":""},null,"",null,"","",null,null,null,{"$f":"IFERROR(INDEX('1.2 Sub-Con Application'!$B$13:$U$1012,MATCH(1,('1.2 Sub-Con Application'!$B$13:$B$1012=B372)*('1.2 Sub-Con Application'!$U$13:$U$1012=\"Rejected\"),0),20),\"\")","v":""}]
[null,{"$f":"+IF(AND(ISBLANK(F373),ISBLANK(K373)),\"\",IF(AND(ISBLANK(F373),B372<>\"\"),B372,IF(COUNTIF($F$13:F372,F373)>0,B372,MAX($B$13:B372)+1)))","v":""},null,null,0,null,null,null,null,"Enter PC",null,"","",{"$f":"+IF(ISBLANK(K373),\"\",VLOOKUP(K373,'5.3 Schedule of Rates'!B:D,3,0))","v":""},null,"",null,"","",null,null,null,{"$f":"IFERROR(INDEX('1.2 Sub-Con Application'!$B$13:$U$1012,MATCH(1,('1.2 Sub-Con Application'!$B$13:$B$1012=B373)*('1.2 Sub-Con Application'!$U$13:$U$1012=\"Rejected\"),0),20),\"\")","v":""}]
[null,{"$f":"+IF(AND(ISBLANK(F374),ISBLANK(K374)),\"\",IF(AND(ISBLANK(F374),B373<>\"\"),B373,IF(COUNTIF($F$13:F373,F374)>0,B373,MAX($B$13:B373)+1)))","v":""},null,null,0,null,null,null,null,"Enter PC",null,"","",{"$f":"+IF(ISBLANK(K374),\"\",VLOOKUP(K374,'5.3 Schedule of Rates'!B:D,3,0))","v":""},null,"",null,"","",null,null,null,{"$f":"IFERROR(INDEX('1.2 Sub-Con Application'!$B$13:$U$1012,MATCH(1,('1.2 Sub-Con Application'!$B$13:$B$1012=B374)*('1.2 Sub-Con Application'!$U$13:$U$1012=\"Rejected\"),0),20),\"\")","v":""}]
[null,{"$f":"+IF(AND(ISBLANK(F375),ISBLANK(K375)),\"\",IF(AND(ISBLANK(F375),B374<>\"\"),B374,IF(COUNTIF($F$13:F374,F375)>0,B374,MAX($B$13:B374)+1)))","v":""},null,null,0,null,null,null,null,"Enter PC",null,"","",{"$f":"+IF(ISBLANK(K375),\"\",VLOOKUP(K375,'5.3 Schedule of Rates'!B:D,3,0))","v":""},null,"",null,"","",null,null,null,{"$f":"IFERROR(INDEX('1.2 Sub-Con Application'!$B$13:$U$1012,MATCH(1,('1.2 Sub-Con Application'!$B$13:$B$1012=B375)*('1.2 Sub-Con Application'!$U$13:$U$1012=\"Rejected\"),0),20),\"\")","v":""}]
[null,{"$f":"+IF(AND(ISBLANK(F376),ISBLANK(K376)),\"\",IF(AND(ISBLANK(F376),B375<>\"\"),B375,IF(COUNTIF($F$13:F375,F376)>0,B375,MAX($B$13:B375)+1)))","v":""},null,null,0,null,null,null,null,"Enter PC",null,"","",{"$f":"+IF(ISBLANK(K376),\"\",VLOOKUP(K376,'5.3 Schedule of Rates'!B:D,3,0))","v":""},null,"",null,"","",null,null,null,{"$f":"IFERROR(INDEX('1.2 Sub-Con Application'!$B$13:$U$1012,MATCH(1,('1.2 Sub-Con Application'!$B$13:$B$1012=B376)*('1.2 Sub-Con Application'!$U$13:$U$1012=\"Rejected\"),0),20),\"\")","v":""}]
[null,{"$f":"+IF(AND(ISBLANK(F377),ISBLANK(K377)),\"\",IF(AND(ISBLANK(F377),B376<>\"\"),B376,IF(COUNTIF($F$13:F376,F377)>0,B376,MAX($B$13:B376)+1)))","v":""},null,null,0,null,null,null,null,"Enter PC",null,"","",{"$f":"+IF(ISBLANK(K377),\"\",VLOOKUP(K377,'5.3 Schedule of Rates'!B:D,3,0))","v":""},null,"",null,"","",null,null,null,{"$f":"IFERROR(INDEX('1.2 Sub-Con Application'!$B$13:$U$1012,MATCH(1,('1.2 Sub-Con Application'!$B$13:$B$1012=B377)*('1.2 Sub-Con Application'!$U$13:$U$1012=\"Rejected\"),0),20),\"\")","v":""}]
[null,{"$f":"+IF(AND(ISBLANK(F378),ISBLANK(K378)),\"\",IF(AND(ISBLANK(F378),B377<>\"\"),B377,IF(COUNTIF($F$13:F377,F378)>0,B377,MAX($B$13:B377)+1)))","v":""},null,null,0,null,null,null,null,"Enter PC",null,"","",{"$f":"+IF(ISBLANK(K378),\"\",VLOOKUP(K378,'5.3 Schedule of Rates'!B:D,3,0))","v":""},null,"",null,"","",null,null,null,{"$f":"IFERROR(INDEX('1.2 Sub-Con Application'!$B$13:$U$1012,MATCH(1,('1.2 Sub-Con Application'!$B$13:$B$1012=B378)*('1.2 Sub-Con Application'!$U$13:$U$1012=\"Rejected\"),0),20),\"\")","v":""}]
[null,{"$f":"+IF(AND(ISBLANK(F379),ISBLANK(K379)),\"\",IF(AND(ISBLANK(F379),B378<>\"\"),B378,IF(COUNTIF($F$13:F378,F379)>0,B378,MAX($B$13:B378)+1)))","v":""},null,null,0,null,null,null,null,"Enter PC",null,"","",{"$f":"+IF(ISBLANK(K379),\"\",VLOOKUP(K379,'5.3 Schedule of Rates'!B:D,3,0))","v":""},null,"",null,"","",null,null,null,{"$f":"IFERROR(INDEX('1.2 Sub-Con Application'!$B$13:$U$1012,MATCH(1,('1.2 Sub-Con Application'!$B$13:$B$1012=B379)*('1.2 Sub-Con Application'!$U$13:$U$1012=\"Rejected\"),0),20),\"\")","v":""}]
[null,{"$f":"+IF(AND(ISBLANK(F380),ISBLANK(K380)),\"\",IF(AND(ISBLANK(F380),B379<>\"\"),B379,IF(COUNTIF($F$13:F379,F380)>0,B379,MAX($B$13:B379)+1)))","v":""},null,null,0,null,null,null,null,"Enter PC",null,"","",{"$f":"+IF(ISBLANK(K380),\"\",VLOOKUP(K380,'5.3 Schedule of Rates'!B:D,3,0))","v":""},null,"",null,"","",null,null,null,{"$f":"IFERROR(INDEX('1.2 Sub-Con Application'!$B$13:$U$1012,MATCH(1,('1.2 Sub-Con Application'!$B$13:$B$1012=B380)*('1.2 Sub-Con Application'!$U$13:$U$1012=\"Rejected\"),0),20),\"\")","v":""}]
[null,{"$f":"+IF(AND(ISBLANK(F381),ISBLANK(K381)),\"\",IF(AND(ISBLANK(F381),B380<>\"\"),B380,IF(COUNTIF($F$13:F380,F381)>0,B380,MAX($B$13:B380)+1)))","v":""},null,null,0,null,null,null,null,"Enter PC",null,"","",{"$f":"+IF(ISBLANK(K381),\"\",VLOOKUP(K381,'5.3 Schedule of Rates'!B:D,3,0))","v":""},null,"",null,"","",null,null,null,{"$f":"IFERROR(INDEX('1.2 Sub-Con Application'!$B$13:$U$1012,MATCH(1,('1.2 Sub-Con Application'!$B$13:$B$1012=B381)*('1.2 Sub-Con Application'!$U$13:$U$1012=\"Rejected\"),0),20),\"\")","v":""}]
[null,{"$f":"+IF(AND(ISBLANK(F382),ISBLANK(K382)),\"\",IF(AND(ISBLANK(F382),B381<>\"\"),B381,IF(COUNTIF($F$13:F381,F382)>0,B381,MAX($B$13:B381)+1)))","v":""},null,null,0,null,null,null,null,"Enter PC",null,"","",{"$f":"+IF(ISBLANK(K382),\"\",VLOOKUP(K382,'5.3 Schedule of Rates'!B:D,3,0))","v":""},null,"",null,"","",null,null,null,{"$f":"IFERROR(INDEX('1.2 Sub-Con Application'!$B$13:$U$1012,MATCH(1,('1.2 Sub-Con Application'!$B$13:$B$1012=B382)*('1.2 Sub-Con Application'!$U$13:$U$1012=\"Rejected\"),0),20),\"\")","v":""}]
[null,{"$f":"+IF(AND(ISBLANK(F383),ISBLANK(K383)),\"\",IF(AND(ISBLANK(F383),B382<>\"\"),B382,IF(COUNTIF($F$13:F382,F383)>0,B382,MAX($B$13:B382)+1)))","v":""},null,null,0,null,null,null,null,"Enter PC",null,"","",{"$f":"+IF(ISBLANK(K383),\"\",VLOOKUP(K383,'5.3 Schedule of Rates'!B:D,3,0))","v":""},null,"",null,"","",null,null,null,{"$f":"IFERROR(INDEX('1.2 Sub-Con Application'!$B$13:$U$1012,MATCH(1,('1.2 Sub-Con Application'!$B$13:$B$1012=B383)*('1.2 Sub-Con Application'!$U$13:$U$1012=\"Rejected\"),0),20),\"\")","v":""}]
[null,{"$f":"+IF(AND(ISBLANK(F384),ISBLANK(K384)),\"\",IF(AND(ISBLANK(F384),B383<>\"\"),B383,IF(COUNTIF($F$13:F383,F384)>0,B383,MAX($B$13:B383)+1)))","v":""},null,null,0,null,null,null,null,"Enter PC",null,"","",{"$f":"+IF(ISBLANK(K384),\"\",VLOOKUP(K384,'5.3 Schedule of Rates'!B:D,3,0))","v":""},null,"",null,"","",null,null,null,{"$f":"IFERROR(INDEX('1.2 Sub-Con Application'!$B$13:$U$1012,MATCH(1,('1.2 Sub-Con Application'!$B$13:$B$1012=B384)*('1.2 Sub-Con Application'!$U$13:$U$1012=\"Rejected\"),0),20),\"\")","v":""}]
[null,{"$f":"+IF(AND(ISBLANK(F385),ISBLANK(K385)),\"\",IF(AND(ISBLANK(F385),B384<>\"\"),B384,IF(COUNTIF($F$13:F384,F385)>0,B384,MAX($B$13:B384)+1)))","v":""},null,null,0,null,null,null,null,"Enter PC",null,"","",{"$f":"+IF(ISBLANK(K385),\"\",VLOOKUP(K385,'5.3 Schedule of Rates'!B:D,3,0))","v":""},null,"",null,"","",null,null,null,{"$f":"IFERROR(INDEX('1.2 Sub-Con Application'!$B$13:$U$1012,MATCH(1,('1.2 Sub-Con Application'!$B$13:$B$1012=B385)*('1.2 Sub-Con Application'!$U$13:$U$1012=\"Rejected\"),0),20),\"\")","v":""}]
[null,{"$f":"+IF(AND(ISBLANK(F386),ISBLANK(K386)),\"\",IF(AND(ISBLANK(F386),B385<>\"\"),B385,IF(COUNTIF($F$13:F385,F386)>0,B385,MAX($B$13:B385)+1)))","v":""},null,null,0,null,null,null,null,"Enter PC",null,"","",{"$f":"+IF(ISBLANK(K386),\"\",VLOOKUP(K386,'5.3 Schedule of Rates'!B:D,3,0))","v":""},null,"",null,"","",null,null,null,{"$f":"IFERROR(INDEX('1.2 Sub-Con Application'!$B$13:$U$1012,MATCH(1,('1.2 Sub-Con Application'!$B$13:$B$1012=B386)*('1.2 Sub-Con Application'!$U$13:$U$1012=\"Rejected\"),0),20),\"\")","v":""}]
[null,{"$f":"+IF(AND(ISBLANK(F387),ISBLANK(K387)),\"\",IF(AND(ISBLANK(F387),B386<>\"\"),B386,IF(COUNTIF($F$13:F386,F387)>0,B386,MAX($B$13:B386)+1)))","v":""},null,null,0,null,null,null,null,"Enter PC",null,"","",{"$f":"+IF(ISBLANK(K387),\"\",VLOOKUP(K387,'5.3 Schedule of Rates'!B:D,3,0))","v":""},null,"",null,"","",null,null,null,{"$f":"IFERROR(INDEX('1.2 Sub-Con Application'!$B$13:$U$1012,MATCH(1,('1.2 Sub-Con Application'!$B$13:$B$1012=B387)*('1.2 Sub-Con Application'!$U$13:$U$1012=\"Rejected\"),0),20),\"\")","v":""}]
[null,{"$f":"+IF(AND(ISBLANK(F388),ISBLANK(K388)),\"\",IF(AND(ISBLANK(F388),B387<>\"\"),B387,IF(COUNTIF($F$13:F387,F388)>0,B387,MAX($B$13:B387)+1)))","v":""},null,null,0,null,null,null,null,"Enter PC",null,"","",{"$f":"+IF(ISBLANK(K388),\"\",VLOOKUP(K388,'5.3 Schedule of Rates'!B:D,3,0))","v":""},null,"",null,"","",null,null,null,{"$f":"IFERROR(INDEX('1.2 Sub-Con Application'!$B$13:$U$1012,MATCH(1,('1.2 Sub-Con Application'!$B$13:$B$1012=B388)*('1.2 Sub-Con Application'!$U$13:$U$1012=\"Rejected\"),0),20),\"\")","v":""}]
[null,{"$f":"+IF(AND(ISBLANK(F389),ISBLANK(K389)),\"\",IF(AND(ISBLANK(F389),B388<>\"\"),B388,IF(COUNTIF($F$13:F388,F389)>0,B388,MAX($B$13:B388)+1)))","v":""},null,null,0,null,null,null,null,"Enter PC",null,"","",{"$f":"+IF(ISBLANK(K389),\"\",VLOOKUP(K389,'5.3 Schedule of Rates'!B:D,3,0))","v":""},null,"",null,"","",null,null,null,{"$f":"IFERROR(INDEX('1.2 Sub-Con Application'!$B$13:$U$1012,MATCH(1,('1.2 Sub-Con Application'!$B$13:$B$1012=B389)*('1.2 Sub-Con Application'!$U$13:$U$1012=\"Rejected\"),0),20),\"\")","v":""}]
[null,{"$f":"+IF(AND(ISBLANK(F390),ISBLANK(K390)),\"\",IF(AND(ISBLANK(F390),B389<>\"\"),B389,IF(COUNTIF($F$13:F389,F390)>0,B389,MAX($B$13:B389)+1)))","v":""},null,null,0,null,null,null,null,"Enter PC",null,"","",{"$f":"+IF(ISBLANK(K390),\"\",VLOOKUP(K390,'5.3 Schedule of Rates'!B:D,3,0))","v":""},null,"",null,"","",null,null,null,{"$f":"IFERROR(INDEX('1.2 Sub-Con Application'!$B$13:$U$1012,MATCH(1,('1.2 Sub-Con Application'!$B$13:$B$1012=B390)*('1.2 Sub-Con Application'!$U$13:$U$1012=\"Rejected\"),0),20),\"\")","v":""}]
[null,{"$f":"+IF(AND(ISBLANK(F391),ISBLANK(K391)),\"\",IF(AND(ISBLANK(F391),B390<>\"\"),B390,IF(COUNTIF($F$13:F390,F391)>0,B390,MAX($B$13:B390)+1)))","v":""},null,null,0,null,null,null,null,"Enter PC",null,"","",{"$f":"+IF(ISBLANK(K391),\"\",VLOOKUP(K391,'5.3 Schedule of Rates'!B:D,3,0))","v":""},null,"",null,"","",null,null,null,{"$f":"IFERROR(INDEX('1.2 Sub-Con Application'!$B$13:$U$1012,MATCH(1,('1.2 Sub-Con Application'!$B$13:$B$1012=B391)*('1.2 Sub-Con Application'!$U$13:$U$1012=\"Rejected\"),0),20),\"\")","v":""}]
[null,{"$f":"+IF(AND(ISBLANK(F392),ISBLANK(K392)),\"\",IF(AND(ISBLANK(F392),B391<>\"\"),B391,IF(COUNTIF($F$13:F391,F392)>0,B391,MAX($B$13:B391)+1)))","v":""},null,null,0,null,null,null,null,"Enter PC",null,"","",{"$f":"+IF(ISBLANK(K392),\"\",VLOOKUP(K392,'5.3 Schedule of Rates'!B:D,3,0))","v":""},null,"",null,"","",null,null,null,{"$f":"IFERROR(INDEX('1.2 Sub-Con Application'!$B$13:$U$1012,MATCH(1,('1.2 Sub-Con Application'!$B$13:$B$1012=B392)*('1.2 Sub-Con Application'!$U$13:$U$1012=\"Rejected\"),0),20),\"\")","v":""}]
[null,{"$f":"+IF(AND(ISBLANK(F393),ISBLANK(K393)),\"\",IF(AND(ISBLANK(F393),B392<>\"\"),B392,IF(COUNTIF($F$13:F392,F393)>0,B392,MAX($B$13:B392)+1)))","v":""},null,null,0,null,null,null,null,"Enter PC",null,"","",{"$f":"+IF(ISBLANK(K393),\"\",VLOOKUP(K393,'5.3 Schedule of Rates'!B:D,3,0))","v":""},null,"",null,"","",null,null,null,{"$f":"IFERROR(INDEX('1.2 Sub-Con Application'!$B$13:$U$1012,MATCH(1,('1.2 Sub-Con Application'!$B$13:$B$1012=B393)*('1.2 Sub-Con Application'!$U$13:$U$1012=\"Rejected\"),0),20),\"\")","v":""}]
[null,{"$f":"+IF(AND(ISBLANK(F394),ISBLANK(K394)),\"\",IF(AND(ISBLANK(F394),B393<>\"\"),B393,IF(COUNTIF($F$13:F393,F394)>0,B393,MAX($B$13:B393)+1)))","v":""},null,null,0,null,null,null,null,"Enter PC",null,"","",{"$f":"+IF(ISBLANK(K394),\"\",VLOOKUP(K394,'5.3 Schedule of Rates'!B:D,3,0))","v":""},null,"",null,"","",null,null,null,{"$f":"IFERROR(INDEX('1.2 Sub-Con Application'!$B$13:$U$1012,MATCH(1,('1.2 Sub-Con Application'!$B$13:$B$1012=B394)*('1.2 Sub-Con Application'!$U$13:$U$1012=\"Rejected\"),0),20),\"\")","v":""}]
[null,{"$f":"+IF(AND(ISBLANK(F395),ISBLANK(K395)),\"\",IF(AND(ISBLANK(F395),B394<>\"\"),B394,IF(COUNTIF($F$13:F394,F395)>0,B394,MAX($B$13:B394)+1)))","v":""},null,null,0,null,null,null,null,"Enter PC",null,"","",{"$f":"+IF(ISBLANK(K395),\"\",VLOOKUP(K395,'5.3 Schedule of Rates'!B:D,3,0))","v":""},null,"",null,"","",null,null,null,{"$f":"IFERROR(INDEX('1.2 Sub-Con Application'!$B$13:$U$1012,MATCH(1,('1.2 Sub-Con Application'!$B$13:$B$1012=B395)*('1.2 Sub-Con Application'!$U$13:$U$1012=\"Rejected\"),0),20),\"\")","v":""}]
[null,{"$f":"+IF(AND(ISBLANK(F396),ISBLANK(K396)),\"\",IF(AND(ISBLANK(F396),B395<>\"\"),B395,IF(COUNTIF($F$13:F395,F396)>0,B395,MAX($B$13:B395)+1)))","v":""},null,null,0,null,null,null,null,"Enter PC",null,"","",{"$f":"+IF(ISBLANK(K396),\"\",VLOOKUP(K396,'5.3 Schedule of Rates'!B:D,3,0))","v":""},null,"",null,"","",null,null,null,{"$f":"IFERROR(INDEX('1.2 Sub-Con Application'!$B$13:$U$1012,MATCH(1,('1.2 Sub-Con Application'!$B$13:$B$1012=B396)*('1.2 Sub-Con Application'!$U$13:$U$1012=\"Rejected\"),0),20),\"\")","v":""}]
[null,{"$f":"+IF(AND(ISBLANK(F397),ISBLANK(K397)),\"\",IF(AND(ISBLANK(F397),B396<>\"\"),B396,IF(COUNTIF($F$13:F396,F397)>0,B396,MAX($B$13:B396)+1)))","v":""},null,null,0,null,null,null,null,{"$f":"IFERROR(IF(I397=\"\",\"Enter PC\",VLOOKUP(IF(LEN(I397)=6,LEFT(I397,2),IF(LEN(I397)=7,LEFT(I397,3),LEFT(I397,4))),table_pcRegion,2,FALSE)=work_Region),\"INVALID\")","v":"Enter PC"},null,{"$f":"+IF(ISBLANK(K397),\"\",VLOOKUP(K397,table_SoR,2,0))","v":""},{"$f":"+IF(ISBLANK(K397),\"\",INDEX(table_subconSoR,MATCH(L397,row_SoR,0),MATCH($H$4,col_SoR,0)))","v":""},{"$f":"+IF(ISBLANK(K397),\"\",VLOOKUP(K397,'5.3 Schedule of Rates'!B:D,3,0))","v":""},null,{"$f":"+IF(ISBLANK($O397),\"\",ROUND(SUM(SUM(VLOOKUP($K397,table_SoR,6,0)*(1+$M397))*O397),2))","v":""},null,{"$f":"+IF(ISBLANK($O397),\"\",ROUND(IF(Q397>0,Q397,SUM(SUM(VLOOKUP($K397,table_SoR,7,0)*(1+$M397))*O397)),2))","v":""},"",null,null,null,{"$f":"IFERROR(INDEX('1.2 Sub-Con Application'!$B$13:$U$1012,MATCH(1,('1.2 Sub-Con Application'!$B$13:$B$1012=B397)*('1.2 Sub-Con Application'!$U$13:$U$1012=\"Rejected\"),0),20),\"\")","v":""}]
[null,{"$f":"+IF(AND(ISBLANK(F398),ISBLANK(K398)),\"\",IF(AND(ISBLANK(F398),B397<>\"\"),B397,IF(COUNTIF($F$13:F397,F398)>0,B397,MAX($B$13:B397)+1)))","v":""},null,null,0,null,null,null,null,"Enter PC",null,"","",{"$f":"+IF(ISBLANK(K398),\"\",VLOOKUP(K398,'5.3 Schedule of Rates'!B:D,3,0))","v":""},null,"",null,"",{"$f":"IF(ISERROR(SUM(P398-R398)),\"\",SUM(P398-R398))","v":""},null,null,null,{"$f":"IFERROR(INDEX('1.2 Sub-Con Application'!$B$13:$U$1012,MATCH(1,('1.2 Sub-Con Application'!$B$13:$B$1012=B398)*('1.2 Sub-Con Application'!$U$13:$U$1012=\"Rejected\"),0),20),\"\")","v":""}]
[null,{"$f":"+IF(AND(ISBLANK(F399),ISBLANK(K399)),\"\",IF(AND(ISBLANK(F399),B398<>\"\"),B398,IF(COUNTIF($F$13:F398,F399)>0,B398,MAX($B$13:B398)+1)))","v":""},null,null,{"$f":"NETWORKDAYS(C399,D399)","v":0},null,null,null,null,"Enter PC",null,"","",{"$f":"+IF(ISBLANK(K399),\"\",VLOOKUP(K399,'5.3 Schedule of Rates'!B:D,3,0))","v":""},null,"",null,"","",null,null,null,{"$f":"IFERROR(INDEX('1.2 Sub-Con Application'!$B$13:$U$1012,MATCH(1,('1.2 Sub-Con Application'!$B$13:$B$1012=B399)*('1.2 Sub-Con Application'!$U$13:$U$1012=\"Rejected\"),0),20),\"\")","v":""}]
[null,{"$f":"+IF(AND(ISBLANK(F400),ISBLANK(K400)),\"\",IF(AND(ISBLANK(F400),B399<>\"\"),B399,IF(COUNTIF($F$13:F399,F400)>0,B399,MAX($B$13:B399)+1)))","v":""},null,null,0,null,null,null,null,"Enter PC",null,"","",{"$f":"+IF(ISBLANK(K400),\"\",VLOOKUP(K400,'5.3 Schedule of Rates'!B:D,3,0))","v":""},null,"",null,"","",null,null,null,{"$f":"IFERROR(INDEX('1.2 Sub-Con Application'!$B$13:$U$1012,MATCH(1,('1.2 Sub-Con Application'!$B$13:$B$1012=B400)*('1.2 Sub-Con Application'!$U$13:$U$1012=\"Rejected\"),0),20),\"\")","v":""}]
[null,{"$f":"+IF(AND(ISBLANK(F401),ISBLANK(K401)),\"\",IF(AND(ISBLANK(F401),B400<>\"\"),B400,IF(COUNTIF($F$13:F400,F401)>0,B400,MAX($B$13:B400)+1)))","v":""},null,null,0,null,null,null,null,"Enter PC",null,"","",{"$f":"+IF(ISBLANK(K401),\"\",VLOOKUP(K401,'5.3 Schedule of Rates'!B:D,3,0))","v":""},null,"",null,"","",null,null,null,{"$f":"IFERROR(INDEX('1.2 Sub-Con Application'!$B$13:$U$1012,MATCH(1,('1.2 Sub-Con Application'!$B$13:$B$1012=B401)*('1.2 Sub-Con Application'!$U$13:$U$1012=\"Rejected\"),0),20),\"\")","v":""}]
[null,{"$f":"+IF(AND(ISBLANK(F402),ISBLANK(K402)),\"\",IF(AND(ISBLANK(F402),B401<>\"\"),B401,IF(COUNTIF($F$13:F401,F402)>0,B401,MAX($B$13:B401)+1)))","v":""},null,null,0,null,null,null,null,"Enter PC",null,"","",{"$f":"+IF(ISBLANK(K402),\"\",VLOOKUP(K402,'5.3 Schedule of Rates'!B:D,3,0))","v":""},null,"",null,"","",null,null,null,{"$f":"IFERROR(INDEX('1.2 Sub-Con Application'!$B$13:$U$1012,MATCH(1,('1.2 Sub-Con Application'!$B$13:$B$1012=B402)*('1.2 Sub-Con Application'!$U$13:$U$1012=\"Rejected\"),0),20),\"\")","v":""}]
[null,{"$f":"+IF(AND(ISBLANK(F403),ISBLANK(K403)),\"\",IF(AND(ISBLANK(F403),B402<>\"\"),B402,IF(COUNTIF($F$13:F402,F403)>0,B402,MAX($B$13:B402)+1)))","v":""},null,null,0,null,null,null,null,"Enter PC",null,"","",{"$f":"+IF(ISBLANK(K403),\"\",VLOOKUP(K403,'5.3 Schedule of Rates'!B:D,3,0))","v":""},null,"",null,"","",null,null,null,{"$f":"IFERROR(INDEX('1.2 Sub-Con Application'!$B$13:$U$1012,MATCH(1,('1.2 Sub-Con Application'!$B$13:$B$1012=B403)*('1.2 Sub-Con Application'!$U$13:$U$1012=\"Rejected\"),0),20),\"\")","v":""}]
[null,{"$f":"+IF(AND(ISBLANK(F404),ISBLANK(K404)),\"\",IF(AND(ISBLANK(F404),B403<>\"\"),B403,IF(COUNTIF($F$13:F403,F404)>0,B403,MAX($B$13:B403)+1)))","v":""},null,null,0,null,null,null,null,"Enter PC",null,"","",{"$f":"+IF(ISBLANK(K404),\"\",VLOOKUP(K404,'5.3 Schedule of Rates'!B:D,3,0))","v":""},null,"",null,"","",null,null,null,{"$f":"IFERROR(INDEX('1.2 Sub-Con Application'!$B$13:$U$1012,MATCH(1,('1.2 Sub-Con Application'!$B$13:$B$1012=B404)*('1.2 Sub-Con Application'!$U$13:$U$1012=\"Rejected\"),0),20),\"\")","v":""}]
[null,{"$f":"+IF(AND(ISBLANK(F405),ISBLANK(K405)),\"\",IF(AND(ISBLANK(F405),B404<>\"\"),B404,IF(COUNTIF($F$13:F404,F405)>0,B404,MAX($B$13:B404)+1)))","v":""},null,null,0,null,null,null,null,"Enter PC",null,"","",{"$f":"+IF(ISBLANK(K405),\"\",VLOOKUP(K405,'5.3 Schedule of Rates'!B:D,3,0))","v":""},null,"",null,"","",null,null,null,{"$f":"IFERROR(INDEX('1.2 Sub-Con Application'!$B$13:$U$1012,MATCH(1,('1.2 Sub-Con Application'!$B$13:$B$1012=B405)*('1.2 Sub-Con Application'!$U$13:$U$1012=\"Rejected\"),0),20),\"\")","v":""}]
[null,{"$f":"+IF(AND(ISBLANK(F406),ISBLANK(K406)),\"\",IF(AND(ISBLANK(F406),B405<>\"\"),B405,IF(COUNTIF($F$13:F405,F406)>0,B405,MAX($B$13:B405)+1)))","v":""},null,null,0,null,null,null,null,"Enter PC",null,"","",{"$f":"+IF(ISBLANK(K406),\"\",VLOOKUP(K406,'5.3 Schedule of Rates'!B:D,3,0))","v":""},null,"",null,"","",null,null,null,{"$f":"IFERROR(INDEX('1.2 Sub-Con Application'!$B$13:$U$1012,MATCH(1,('1.2 Sub-Con Application'!$B$13:$B$1012=B406)*('1.2 Sub-Con Application'!$U$13:$U$1012=\"Rejected\"),0),20),\"\")","v":""}]
[null,{"$f":"+IF(AND(ISBLANK(F407),ISBLANK(K407)),\"\",IF(AND(ISBLANK(F407),B406<>\"\"),B406,IF(COUNTIF($F$13:F406,F407)>0,B406,MAX($B$13:B406)+1)))","v":""},null,null,0,null,null,null,null,"Enter PC",null,"","",{"$f":"+IF(ISBLANK(K407),\"\",VLOOKUP(K407,'5.3 Schedule of Rates'!B:D,3,0))","v":""},null,"",null,"","",null,null,null,{"$f":"IFERROR(INDEX('1.2 Sub-Con Application'!$B$13:$U$1012,MATCH(1,('1.2 Sub-Con Application'!$B$13:$B$1012=B407)*('1.2 Sub-Con Application'!$U$13:$U$1012=\"Rejected\"),0),20),\"\")","v":""}]
[null,{"$f":"+IF(AND(ISBLANK(F408),ISBLANK(K408)),\"\",IF(AND(ISBLANK(F408),B407<>\"\"),B407,IF(COUNTIF($F$13:F407,F408)>0,B407,MAX($B$13:B407)+1)))","v":""},null,null,0,null,null,null,null,"Enter PC",null,"","",{"$f":"+IF(ISBLANK(K408),\"\",VLOOKUP(K408,'5.3 Schedule of Rates'!B:D,3,0))","v":""},null,"",null,"","",null,null,null,{"$f":"IFERROR(INDEX('1.2 Sub-Con Application'!$B$13:$U$1012,MATCH(1,('1.2 Sub-Con Application'!$B$13:$B$1012=B408)*('1.2 Sub-Con Application'!$U$13:$U$1012=\"Rejected\"),0),20),\"\")","v":""}]
[null,{"$f":"+IF(AND(ISBLANK(F409),ISBLANK(K409)),\"\",IF(AND(ISBLANK(F409),B408<>\"\"),B408,IF(COUNTIF($F$13:F408,F409)>0,B408,MAX($B$13:B408)+1)))","v":""},null,null,0,null,null,null,null,"Enter PC",null,"","",{"$f":"+IF(ISBLANK(K409),\"\",VLOOKUP(K409,'5.3 Schedule of Rates'!B:D,3,0))","v":""},null,"",null,"","",null,null,null,{"$f":"IFERROR(INDEX('1.2 Sub-Con Application'!$B$13:$U$1012,MATCH(1,('1.2 Sub-Con Application'!$B$13:$B$1012=B409)*('1.2 Sub-Con Application'!$U$13:$U$1012=\"Rejected\"),0),20),\"\")","v":""}]
[null,{"$f":"+IF(AND(ISBLANK(F410),ISBLANK(K410)),\"\",IF(AND(ISBLANK(F410),B409<>\"\"),B409,IF(COUNTIF($F$13:F409,F410)>0,B409,MAX($B$13:B409)+1)))","v":""},null,null,0,null,null,null,null,"Enter PC",null,"","",{"$f":"+IF(ISBLANK(K410),\"\",VLOOKUP(K410,'5.3 Schedule of Rates'!B:D,3,0))","v":""},null,"",null,"","",null,null,null,{"$f":"IFERROR(INDEX('1.2 Sub-Con Application'!$B$13:$U$1012,MATCH(1,('1.2 Sub-Con Application'!$B$13:$B$1012=B410)*('1.2 Sub-Con Application'!$U$13:$U$1012=\"Rejected\"),0),20),\"\")","v":""}]
[null,{"$f":"+IF(AND(ISBLANK(F411),ISBLANK(K411)),\"\",IF(AND(ISBLANK(F411),B410<>\"\"),B410,IF(COUNTIF($F$13:F410,F411)>0,B410,MAX($B$13:B410)+1)))","v":""},null,null,0,null,null,null,null,"Enter PC",null,"","",{"$f":"+IF(ISBLANK(K411),\"\",VLOOKUP(K411,'5.3 Schedule of Rates'!B:D,3,0))","v":""},null,"",null,"","",null,null,null,{"$f":"IFERROR(INDEX('1.2 Sub-Con Application'!$B$13:$U$1012,MATCH(1,('1.2 Sub-Con Application'!$B$13:$B$1012=B411)*('1.2 Sub-Con Application'!$U$13:$U$1012=\"Rejected\"),0),20),\"\")","v":""}]
[null,{"$f":"+IF(AND(ISBLANK(F412),ISBLANK(K412)),\"\",IF(AND(ISBLANK(F412),B411<>\"\"),B411,IF(COUNTIF($F$13:F411,F412)>0,B411,MAX($B$13:B411)+1)))","v":""},null,null,0,null,null,null,null,"Enter PC",null,"","",{"$f":"+IF(ISBLANK(K412),\"\",VLOOKUP(K412,'5.3 Schedule of Rates'!B:D,3,0))","v":""},null,"",null,"","",null,null,null,{"$f":"IFERROR(INDEX('1.2 Sub-Con Application'!$B$13:$U$1012,MATCH(1,('1.2 Sub-Con Application'!$B$13:$B$1012=B412)*('1.2 Sub-Con Application'!$U$13:$U$1012=\"Rejected\"),0),20),\"\")","v":""}]
[null,{"$f":"+IF(AND(ISBLANK(F413),ISBLANK(K413)),\"\",IF(AND(ISBLANK(F413),B412<>\"\"),B412,IF(COUNTIF($F$13:F412,F413)>0,B412,MAX($B$13:B412)+1)))","v":""},null,null,0,null,null,null,null,"Enter PC",null,"","",{"$f":"+IF(ISBLANK(K413),\"\",VLOOKUP(K413,'5.3 Schedule of Rates'!B:D,3,0))","v":""},null,"",null,"","",null,null,null,{"$f":"IFERROR(INDEX('1.2 Sub-Con Application'!$B$13:$U$1012,MATCH(1,('1.2 Sub-Con Application'!$B$13:$B$1012=B413)*('1.2 Sub-Con Application'!$U$13:$U$1012=\"Rejected\"),0),20),\"\")","v":""}]
[null,{"$f":"+IF(AND(ISBLANK(F414),ISBLANK(K414)),\"\",IF(AND(ISBLANK(F414),B413<>\"\"),B413,IF(COUNTIF($F$13:F413,F414)>0,B413,MAX($B$13:B413)+1)))","v":""},null,null,0,null,null,null,null,"Enter PC",null,"","",{"$f":"+IF(ISBLANK(K414),\"\",VLOOKUP(K414,'5.3 Schedule of Rates'!B:D,3,0))","v":""},null,"",null,"","",null,null,null,{"$f":"IFERROR(INDEX('1.2 Sub-Con Application'!$B$13:$U$1012,MATCH(1,('1.2 Sub-Con Application'!$B$13:$B$1012=B414)*('1.2 Sub-Con Application'!$U$13:$U$1012=\"Rejected\"),0),20),\"\")","v":""}]
[null,{"$f":"+IF(AND(ISBLANK(F415),ISBLANK(K415)),\"\",IF(AND(ISBLANK(F415),B414<>\"\"),B414,IF(COUNTIF($F$13:F414,F415)>0,B414,MAX($B$13:B414)+1)))","v":""},null,null,0,null,null,null,null,"Enter PC",null,"","",{"$f":"+IF(ISBLANK(K415),\"\",VLOOKUP(K415,'5.3 Schedule of Rates'!B:D,3,0))","v":""},null,"",null,"","",null,null,null,{"$f":"IFERROR(INDEX('1.2 Sub-Con Application'!$B$13:$U$1012,MATCH(1,('1.2 Sub-Con Application'!$B$13:$B$1012=B415)*('1.2 Sub-Con Application'!$U$13:$U$1012=\"Rejected\"),0),20),\"\")","v":""}]
[null,{"$f":"+IF(AND(ISBLANK(F416),ISBLANK(K416)),\"\",IF(AND(ISBLANK(F416),B415<>\"\"),B415,IF(COUNTIF($F$13:F415,F416)>0,B415,MAX($B$13:B415)+1)))","v":""},null,null,0,null,null,null,null,"Enter PC",null,"","",{"$f":"+IF(ISBLANK(K416),\"\",VLOOKUP(K416,'5.3 Schedule of Rates'!B:D,3,0))","v":""},null,"",null,"","",null,null,null,{"$f":"IFERROR(INDEX('1.2 Sub-Con Application'!$B$13:$U$1012,MATCH(1,('1.2 Sub-Con Application'!$B$13:$B$1012=B416)*('1.2 Sub-Con Application'!$U$13:$U$1012=\"Rejected\"),0),20),\"\")","v":""}]
[null,{"$f":"+IF(AND(ISBLANK(F417),ISBLANK(K417)),\"\",IF(AND(ISBLANK(F417),B416<>\"\"),B416,IF(COUNTIF($F$13:F416,F417)>0,B416,MAX($B$13:B416)+1)))","v":""},null,null,0,null,null,null,null,"Enter PC",null,"","",{"$f":"+IF(ISBLANK(K417),\"\",VLOOKUP(K417,'5.3 Schedule of Rates'!B:D,3,0))","v":""},null,"",null,"","",null,null,null,{"$f":"IFERROR(INDEX('1.2 Sub-Con Application'!$B$13:$U$1012,MATCH(1,('1.2 Sub-Con Application'!$B$13:$B$1012=B417)*('1.2 Sub-Con Application'!$U$13:$U$1012=\"Rejected\"),0),20),\"\")","v":""}]
[null,{"$f":"+IF(AND(ISBLANK(F418),ISBLANK(K418)),\"\",IF(AND(ISBLANK(F418),B417<>\"\"),B417,IF(COUNTIF($F$13:F417,F418)>0,B417,MAX($B$13:B417)+1)))","v":""},null,null,0,null,null,null,null,"Enter PC",null,"","",{"$f":"+IF(ISBLANK(K418),\"\",VLOOKUP(K418,'5.3 Schedule of Rates'!B:D,3,0))","v":""},null,"",null,"","",null,null,null,{"$f":"IFERROR(INDEX('1.2 Sub-Con Application'!$B$13:$U$1012,MATCH(1,('1.2 Sub-Con Application'!$B$13:$B$1012=B418)*('1.2 Sub-Con Application'!$U$13:$U$1012=\"Rejected\"),0),20),\"\")","v":""}]
[null,{"$f":"+IF(AND(ISBLANK(F419),ISBLANK(K419)),\"\",IF(AND(ISBLANK(F419),B418<>\"\"),B418,IF(COUNTIF($F$13:F418,F419)>0,B418,MAX($B$13:B418)+1)))","v":""},null,null,0,null,null,null,null,"Enter PC",null,"","",{"$f":"+IF(ISBLANK(K419),\"\",VLOOKUP(K419,'5.3 Schedule of Rates'!B:D,3,0))","v":""},null,"",null,"","",null,null,null,{"$f":"IFERROR(INDEX('1.2 Sub-Con Application'!$B$13:$U$1012,MATCH(1,('1.2 Sub-Con Application'!$B$13:$B$1012=B419)*('1.2 Sub-Con Application'!$U$13:$U$1012=\"Rejected\"),0),20),\"\")","v":""}]
[null,{"$f":"+IF(AND(ISBLANK(F420),ISBLANK(K420)),\"\",IF(AND(ISBLANK(F420),B419<>\"\"),B419,IF(COUNTIF($F$13:F419,F420)>0,B419,MAX($B$13:B419)+1)))","v":""},null,null,0,null,null,null,null,"Enter PC",null,"","",{"$f":"+IF(ISBLANK(K420),\"\",VLOOKUP(K420,'5.3 Schedule of Rates'!B:D,3,0))","v":""},null,"",null,"","",null,null,null,{"$f":"IFERROR(INDEX('1.2 Sub-Con Application'!$B$13:$U$1012,MATCH(1,('1.2 Sub-Con Application'!$B$13:$B$1012=B420)*('1.2 Sub-Con Application'!$U$13:$U$1012=\"Rejected\"),0),20),\"\")","v":""}]
[null,{"$f":"+IF(AND(ISBLANK(F421),ISBLANK(K421)),\"\",IF(AND(ISBLANK(F421),B420<>\"\"),B420,IF(COUNTIF($F$13:F420,F421)>0,B420,MAX($B$13:B420)+1)))","v":""},null,null,0,null,null,null,null,"Enter PC",null,"","",{"$f":"+IF(ISBLANK(K421),\"\",VLOOKUP(K421,'5.3 Schedule of Rates'!B:D,3,0))","v":""},null,"",null,"","",null,null,null,{"$f":"IFERROR(INDEX('1.2 Sub-Con Application'!$B$13:$U$1012,MATCH(1,('1.2 Sub-Con Application'!$B$13:$B$1012=B421)*('1.2 Sub-Con Application'!$U$13:$U$1012=\"Rejected\"),0),20),\"\")","v":""}]
[null,{"$f":"+IF(AND(ISBLANK(F422),ISBLANK(K422)),\"\",IF(AND(ISBLANK(F422),B421<>\"\"),B421,IF(COUNTIF($F$13:F421,F422)>0,B421,MAX($B$13:B421)+1)))","v":""},null,null,0,null,null,null,null,"Enter PC",null,"","",{"$f":"+IF(ISBLANK(K422),\"\",VLOOKUP(K422,'5.3 Schedule of Rates'!B:D,3,0))","v":""},null,"",null,"","",null,null,null,{"$f":"IFERROR(INDEX('1.2 Sub-Con Application'!$B$13:$U$1012,MATCH(1,('1.2 Sub-Con Application'!$B$13:$B$1012=B422)*('1.2 Sub-Con Application'!$U$13:$U$1012=\"Rejected\"),0),20),\"\")","v":""}]
[null,{"$f":"+IF(AND(ISBLANK(F423),ISBLANK(K423)),\"\",IF(AND(ISBLANK(F423),B422<>\"\"),B422,IF(COUNTIF($F$13:F422,F423)>0,B422,MAX($B$13:B422)+1)))","v":""},null,null,0,null,null,null,null,"Enter PC",null,"","",{"$f":"+IF(ISBLANK(K423),\"\",VLOOKUP(K423,'5.3 Schedule of Rates'!B:D,3,0))","v":""},null,"",null,"","",null,null,null,{"$f":"IFERROR(INDEX('1.2 Sub-Con Application'!$B$13:$U$1012,MATCH(1,('1.2 Sub-Con Application'!$B$13:$B$1012=B423)*('1.2 Sub-Con Application'!$U$13:$U$1012=\"Rejected\"),0),20),\"\")","v":""}]
[null,{"$f":"+IF(AND(ISBLANK(F424),ISBLANK(K424)),\"\",IF(AND(ISBLANK(F424),B423<>\"\"),B423,IF(COUNTIF($F$13:F423,F424)>0,B423,MAX($B$13:B423)+1)))","v":""},null,null,0,null,null,null,null,"Enter PC",null,"","",{"$f":"+IF(ISBLANK(K424),\"\",VLOOKUP(K424,'5.3 Schedule of Rates'!B:D,3,0))","v":""},null,"",null,"","",null,null,null,{"$f":"IFERROR(INDEX('1.2 Sub-Con Application'!$B$13:$U$1012,MATCH(1,('1.2 Sub-Con Application'!$B$13:$B$1012=B424)*('1.2 Sub-Con Application'!$U$13:$U$1012=\"Rejected\"),0),20),\"\")","v":""}]
[null,{"$f":"+IF(AND(ISBLANK(F425),ISBLANK(K425)),\"\",IF(AND(ISBLANK(F425),B424<>\"\"),B424,IF(COUNTIF($F$13:F424,F425)>0,B424,MAX($B$13:B424)+1)))","v":""},null,null,0,null,null,null,null,"Enter PC",null,"","",{"$f":"+IF(ISBLANK(K425),\"\",VLOOKUP(K425,'5.3 Schedule of Rates'!B:D,3,0))","v":""},null,"",null,"","",null,null,null,{"$f":"IFERROR(INDEX('1.2 Sub-Con Application'!$B$13:$U$1012,MATCH(1,('1.2 Sub-Con Application'!$B$13:$B$1012=B425)*('1.2 Sub-Con Application'!$U$13:$U$1012=\"Rejected\"),0),20),\"\")","v":""}]
[null,{"$f":"+IF(AND(ISBLANK(F426),ISBLANK(K426)),\"\",IF(AND(ISBLANK(F426),B425<>\"\"),B425,IF(COUNTIF($F$13:F425,F426)>0,B425,MAX($B$13:B425)+1)))","v":""},null,null,0,null,null,null,null,"Enter PC",null,"","",{"$f":"+IF(ISBLANK(K426),\"\",VLOOKUP(K426,'5.3 Schedule of Rates'!B:D,3,0))","v":""},null,"",null,"","",null,null,null,{"$f":"IFERROR(INDEX('1.2 Sub-Con Application'!$B$13:$U$1012,MATCH(1,('1.2 Sub-Con Application'!$B$13:$B$1012=B426)*('1.2 Sub-Con Application'!$U$13:$U$1012=\"Rejected\"),0),20),\"\")","v":""}]
[null,{"$f":"+IF(AND(ISBLANK(F427),ISBLANK(K427)),\"\",IF(AND(ISBLANK(F427),B426<>\"\"),B426,IF(COUNTIF($F$13:F426,F427)>0,B426,MAX($B$13:B426)+1)))","v":""},null,null,0,null,null,null,null,"Enter PC",null,"","",{"$f":"+IF(ISBLANK(K427),\"\",VLOOKUP(K427,'5.3 Schedule of Rates'!B:D,3,0))","v":""},null,"",null,"","",null,null,null,{"$f":"IFERROR(INDEX('1.2 Sub-Con Application'!$B$13:$U$1012,MATCH(1,('1.2 Sub-Con Application'!$B$13:$B$1012=B427)*('1.2 Sub-Con Application'!$U$13:$U$1012=\"Rejected\"),0),20),\"\")","v":""}]
[null,{"$f":"+IF(AND(ISBLANK(F428),ISBLANK(K428)),\"\",IF(AND(ISBLANK(F428),B427<>\"\"),B427,IF(COUNTIF($F$13:F427,F428)>0,B427,MAX($B$13:B427)+1)))","v":""},null,null,0,null,null,null,null,"Enter PC",null,"","",{"$f":"+IF(ISBLANK(K428),\"\",VLOOKUP(K428,'5.3 Schedule of Rates'!B:D,3,0))","v":""},null,"",null,"","",null,null,null,{"$f":"IFERROR(INDEX('1.2 Sub-Con Application'!$B$13:$U$1012,MATCH(1,('1.2 Sub-Con Application'!$B$13:$B$1012=B428)*('1.2 Sub-Con Application'!$U$13:$U$1012=\"Rejected\"),0),20),\"\")","v":""}]
[null,{"$f":"+IF(AND(ISBLANK(F429),ISBLANK(K429)),\"\",IF(AND(ISBLANK(F429),B428<>\"\"),B428,IF(COUNTIF($F$13:F428,F429)>0,B428,MAX($B$13:B428)+1)))","v":""},null,null,0,null,null,null,null,"Enter PC",null,"","",{"$f":"+IF(ISBLANK(K429),\"\",VLOOKUP(K429,'5.3 Schedule of Rates'!B:D,3,0))","v":""},null,"",null,"","",null,null,null,{"$f":"IFERROR(INDEX('1.2 Sub-Con Application'!$B$13:$U$1012,MATCH(1,('1.2 Sub-Con Application'!$B$13:$B$1012=B429)*('1.2 Sub-Con Application'!$U$13:$U$1012=\"Rejected\"),0),20),\"\")","v":""}]
[null,{"$f":"+IF(AND(ISBLANK(F430),ISBLANK(K430)),\"\",IF(AND(ISBLANK(F430),B429<>\"\"),B429,IF(COUNTIF($F$13:F429,F430)>0,B429,MAX($B$13:B429)+1)))","v":""},null,null,0,null,null,null,null,"Enter PC",null,"","",{"$f":"+IF(ISBLANK(K430),\"\",VLOOKUP(K430,'5.3 Schedule of Rates'!B:D,3,0))","v":""},null,"",null,"","",null,null,null,{"$f":"IFERROR(INDEX('1.2 Sub-Con Application'!$B$13:$U$1012,MATCH(1,('1.2 Sub-Con Application'!$B$13:$B$1012=B430)*('1.2 Sub-Con Application'!$U$13:$U$1012=\"Rejected\"),0),20),\"\")","v":""}]
[null,{"$f":"+IF(AND(ISBLANK(F431),ISBLANK(K431)),\"\",IF(AND(ISBLANK(F431),B430<>\"\"),B430,IF(COUNTIF($F$13:F430,F431)>0,B430,MAX($B$13:B430)+1)))","v":""},null,null,0,null,null,null,null,"Enter PC",null,"","",{"$f":"+IF(ISBLANK(K431),\"\",VLOOKUP(K431,'5.3 Schedule of Rates'!B:D,3,0))","v":""},null,"",null,"","",null,null,null,{"$f":"IFERROR(INDEX('1.2 Sub-Con Application'!$B$13:$U$1012,MATCH(1,('1.2 Sub-Con Application'!$B$13:$B$1012=B431)*('1.2 Sub-Con Application'!$U$13:$U$1012=\"Rejected\"),0),20),\"\")","v":""}]
[null,{"$f":"+IF(AND(ISBLANK(F432),ISBLANK(K432)),\"\",IF(AND(ISBLANK(F432),B431<>\"\"),B431,IF(COUNTIF($F$13:F431,F432)>0,B431,MAX($B$13:B431)+1)))","v":""},null,null,0,null,null,null,null,"Enter PC",null,"","",{"$f":"+IF(ISBLANK(K432),\"\",VLOOKUP(K432,'5.3 Schedule of Rates'!B:D,3,0))","v":""},null,"",null,"","",null,null,null,{"$f":"IFERROR(INDEX('1.2 Sub-Con Application'!$B$13:$U$1012,MATCH(1,('1.2 Sub-Con Application'!$B$13:$B$1012=B432)*('1.2 Sub-Con Application'!$U$13:$U$1012=\"Rejected\"),0),20),\"\")","v":""}]
[null,{"$f":"+IF(AND(ISBLANK(F433),ISBLANK(K433)),\"\",IF(AND(ISBLANK(F433),B432<>\"\"),B432,IF(COUNTIF($F$13:F432,F433)>0,B432,MAX($B$13:B432)+1)))","v":""},null,null,0,null,null,null,null,"Enter PC",null,"","",{"$f":"+IF(ISBLANK(K433),\"\",VLOOKUP(K433,'5.3 Schedule of Rates'!B:D,3,0))","v":""},null,"",null,"","",null,null,null,{"$f":"IFERROR(INDEX('1.2 Sub-Con Application'!$B$13:$U$1012,MATCH(1,('1.2 Sub-Con Application'!$B$13:$B$1012=B433)*('1.2 Sub-Con Application'!$U$13:$U$1012=\"Rejected\"),0),20),\"\")","v":""}]
[null,{"$f":"+IF(AND(ISBLANK(F434),ISBLANK(K434)),\"\",IF(AND(ISBLANK(F434),B433<>\"\"),B433,IF(COUNTIF($F$13:F433,F434)>0,B433,MAX($B$13:B433)+1)))","v":""},null,null,0,null,null,null,null,"Enter PC",null,"","",{"$f":"+IF(ISBLANK(K434),\"\",VLOOKUP(K434,'5.3 Schedule of Rates'!B:D,3,0))","v":""},null,"",null,"","",null,null,null,{"$f":"IFERROR(INDEX('1.2 Sub-Con Application'!$B$13:$U$1012,MATCH(1,('1.2 Sub-Con Application'!$B$13:$B$1012=B434)*('1.2 Sub-Con Application'!$U$13:$U$1012=\"Rejected\"),0),20),\"\")","v":""}]
[null,{"$f":"+IF(AND(ISBLANK(F435),ISBLANK(K435)),\"\",IF(AND(ISBLANK(F435),B434<>\"\"),B434,IF(COUNTIF($F$13:F434,F435)>0,B434,MAX($B$13:B434)+1)))","v":""},null,null,0,null,null,null,null,"Enter PC",null,"","",{"$f":"+IF(ISBLANK(K435),\"\",VLOOKUP(K435,'5.3 Schedule of Rates'!B:D,3,0))","v":""},null,"",null,"","",null,null,null,{"$f":"IFERROR(INDEX('1.2 Sub-Con Application'!$B$13:$U$1012,MATCH(1,('1.2 Sub-Con Application'!$B$13:$B$1012=B435)*('1.2 Sub-Con Application'!$U$13:$U$1012=\"Rejected\"),0),20),\"\")","v":""}]
[null,{"$f":"+IF(AND(ISBLANK(F436),ISBLANK(K436)),\"\",IF(AND(ISBLANK(F436),B435<>\"\"),B435,IF(COUNTIF($F$13:F435,F436)>0,B435,MAX($B$13:B435)+1)))","v":""},null,null,0,null,null,null,null,"Enter PC",null,"","",{"$f":"+IF(ISBLANK(K436),\"\",VLOOKUP(K436,'5.3 Schedule of Rates'!B:D,3,0))","v":""},null,"",null,"","",null,null,null,{"$f":"IFERROR(INDEX('1.2 Sub-Con Application'!$B$13:$U$1012,MATCH(1,('1.2 Sub-Con Application'!$B$13:$B$1012=B436)*('1.2 Sub-Con Application'!$U$13:$U$1012=\"Rejected\"),0),20),\"\")","v":""}]
[null,{"$f":"+IF(AND(ISBLANK(F437),ISBLANK(K437)),\"\",IF(AND(ISBLANK(F437),B436<>\"\"),B436,IF(COUNTIF($F$13:F436,F437)>0,B436,MAX($B$13:B436)+1)))","v":""},null,null,0,null,null,null,null,"Enter PC",null,"","",{"$f":"+IF(ISBLANK(K437),\"\",VLOOKUP(K437,'5.3 Schedule of Rates'!B:D,3,0))","v":""},null,"",null,"","",null,null,null,{"$f":"IFERROR(INDEX('1.2 Sub-Con Application'!$B$13:$U$1012,MATCH(1,('1.2 Sub-Con Application'!$B$13:$B$1012=B437)*('1.2 Sub-Con Application'!$U$13:$U$1012=\"Rejected\"),0),20),\"\")","v":""}]
[null,{"$f":"+IF(AND(ISBLANK(F438),ISBLANK(K438)),\"\",IF(AND(ISBLANK(F438),B437<>\"\"),B437,IF(COUNTIF($F$13:F437,F438)>0,B437,MAX($B$13:B437)+1)))","v":""},null,null,0,null,null,null,null,"Enter PC",null,"","",{"$f":"+IF(ISBLANK(K438),\"\",VLOOKUP(K438,'5.3 Schedule of Rates'!B:D,3,0))","v":""},null,"",null,"","",null,null,null,{"$f":"IFERROR(INDEX('1.2 Sub-Con Application'!$B$13:$U$1012,MATCH(1,('1.2 Sub-Con Application'!$B$13:$B$1012=B438)*('1.2 Sub-Con Application'!$U$13:$U$1012=\"Rejected\"),0),20),\"\")","v":""}]
[null,{"$f":"+IF(AND(ISBLANK(F439),ISBLANK(K439)),\"\",IF(AND(ISBLANK(F439),B438<>\"\"),B438,IF(COUNTIF($F$13:F438,F439)>0,B438,MAX($B$13:B438)+1)))","v":""},null,null,0,null,null,null,null,"Enter PC",null,"","",{"$f":"+IF(ISBLANK(K439),\"\",VLOOKUP(K439,'5.3 Schedule of Rates'!B:D,3,0))","v":""},null,"",null,"","",null,null,null,{"$f":"IFERROR(INDEX('1.2 Sub-Con Application'!$B$13:$U$1012,MATCH(1,('1.2 Sub-Con Application'!$B$13:$B$1012=B439)*('1.2 Sub-Con Application'!$U$13:$U$1012=\"Rejected\"),0),20),\"\")","v":""}]
[null,{"$f":"+IF(AND(ISBLANK(F440),ISBLANK(K440)),\"\",IF(AND(ISBLANK(F440),B439<>\"\"),B439,IF(COUNTIF($F$13:F439,F440)>0,B439,MAX($B$13:B439)+1)))","v":""},null,null,0,null,null,null,null,"Enter PC",null,"","",{"$f":"+IF(ISBLANK(K440),\"\",VLOOKUP(K440,'5.3 Schedule of Rates'!B:D,3,0))","v":""},null,"",null,"","",null,null,null,{"$f":"IFERROR(INDEX('1.2 Sub-Con Application'!$B$13:$U$1012,MATCH(1,('1.2 Sub-Con Application'!$B$13:$B$1012=B440)*('1.2 Sub-Con Application'!$U$13:$U$1012=\"Rejected\"),0),20),\"\")","v":""}]
[null,{"$f":"+IF(AND(ISBLANK(F441),ISBLANK(K441)),\"\",IF(AND(ISBLANK(F441),B440<>\"\"),B440,IF(COUNTIF($F$13:F440,F441)>0,B440,MAX($B$13:B440)+1)))","v":""},null,null,0,null,null,null,null,"Enter PC",null,"","",{"$f":"+IF(ISBLANK(K441),\"\",VLOOKUP(K441,'5.3 Schedule of Rates'!B:D,3,0))","v":""},null,"",null,"","",null,null,null,{"$f":"IFERROR(INDEX('1.2 Sub-Con Application'!$B$13:$U$1012,MATCH(1,('1.2 Sub-Con Application'!$B$13:$B$1012=B441)*('1.2 Sub-Con Application'!$U$13:$U$1012=\"Rejected\"),0),20),\"\")","v":""}]
[null,{"$f":"+IF(AND(ISBLANK(F442),ISBLANK(K442)),\"\",IF(AND(ISBLANK(F442),B441<>\"\"),B441,IF(COUNTIF($F$13:F441,F442)>0,B441,MAX($B$13:B441)+1)))","v":""},null,null,0,null,null,null,null,"Enter PC",null,"","",{"$f":"+IF(ISBLANK(K442),\"\",VLOOKUP(K442,'5.3 Schedule of Rates'!B:D,3,0))","v":""},null,"",null,"","",null,null,null,{"$f":"IFERROR(INDEX('1.2 Sub-Con Application'!$B$13:$U$1012,MATCH(1,('1.2 Sub-Con Application'!$B$13:$B$1012=B442)*('1.2 Sub-Con Application'!$U$13:$U$1012=\"Rejected\"),0),20),\"\")","v":""}]
[null,{"$f":"+IF(AND(ISBLANK(F443),ISBLANK(K443)),\"\",IF(AND(ISBLANK(F443),B442<>\"\"),B442,IF(COUNTIF($F$13:F442,F443)>0,B442,MAX($B$13:B442)+1)))","v":""},null,null,0,null,null,null,null,"Enter PC",null,"","",{"$f":"+IF(ISBLANK(K443),\"\",VLOOKUP(K443,'5.3 Schedule of Rates'!B:D,3,0))","v":""},null,"",null,"","",null,null,null,{"$f":"IFERROR(INDEX('1.2 Sub-Con Application'!$B$13:$U$1012,MATCH(1,('1.2 Sub-Con Application'!$B$13:$B$1012=B443)*('1.2 Sub-Con Application'!$U$13:$U$1012=\"Rejected\"),0),20),\"\")","v":""}]
[null,{"$f":"+IF(AND(ISBLANK(F444),ISBLANK(K444)),\"\",IF(AND(ISBLANK(F444),B443<>\"\"),B443,IF(COUNTIF($F$13:F443,F444)>0,B443,MAX($B$13:B443)+1)))","v":""},null,null,0,null,null,null,null,"Enter PC",null,"","",{"$f":"+IF(ISBLANK(K444),\"\",VLOOKUP(K444,'5.3 Schedule of Rates'!B:D,3,0))","v":""},null,"",null,"","",null,null,null,{"$f":"IFERROR(INDEX('1.2 Sub-Con Application'!$B$13:$U$1012,MATCH(1,('1.2 Sub-Con Application'!$B$13:$B$1012=B444)*('1.2 Sub-Con Application'!$U$13:$U$1012=\"Rejected\"),0),20),\"\")","v":""}]
[null,{"$f":"+IF(AND(ISBLANK(F445),ISBLANK(K445)),\"\",IF(AND(ISBLANK(F445),B444<>\"\"),B444,IF(COUNTIF($F$13:F444,F445)>0,B444,MAX($B$13:B444)+1)))","v":""},null,null,0,null,null,null,null,"Enter PC",null,"","",{"$f":"+IF(ISBLANK(K445),\"\",VLOOKUP(K445,'5.3 Schedule of Rates'!B:D,3,0))","v":""},null,"",null,"","",null,null,null,{"$f":"IFERROR(INDEX('1.2 Sub-Con Application'!$B$13:$U$1012,MATCH(1,('1.2 Sub-Con Application'!$B$13:$B$1012=B445)*('1.2 Sub-Con Application'!$U$13:$U$1012=\"Rejected\"),0),20),\"\")","v":""}]
[null,{"$f":"+IF(AND(ISBLANK(F446),ISBLANK(K446)),\"\",IF(AND(ISBLANK(F446),B445<>\"\"),B445,IF(COUNTIF($F$13:F445,F446)>0,B445,MAX($B$13:B445)+1)))","v":""},null,null,0,null,null,null,null,"Enter PC",null,"","",{"$f":"+IF(ISBLANK(K446),\"\",VLOOKUP(K446,'5.3 Schedule of Rates'!B:D,3,0))","v":""},null,"",null,"","",null,null,null,{"$f":"IFERROR(INDEX('1.2 Sub-Con Application'!$B$13:$U$1012,MATCH(1,('1.2 Sub-Con Application'!$B$13:$B$1012=B446)*('1.2 Sub-Con Application'!$U$13:$U$1012=\"Rejected\"),0),20),\"\")","v":""}]
[null,{"$f":"+IF(AND(ISBLANK(F447),ISBLANK(K447)),\"\",IF(AND(ISBLANK(F447),B446<>\"\"),B446,IF(COUNTIF($F$13:F446,F447)>0,B446,MAX($B$13:B446)+1)))","v":""},null,null,0,null,null,null,null,"Enter PC",null,"","",{"$f":"+IF(ISBLANK(K447),\"\",VLOOKUP(K447,'5.3 Schedule of Rates'!B:D,3,0))","v":""},null,"",null,"","",null,null,null,{"$f":"IFERROR(INDEX('1.2 Sub-Con Application'!$B$13:$U$1012,MATCH(1,('1.2 Sub-Con Application'!$B$13:$B$1012=B447)*('1.2 Sub-Con Application'!$U$13:$U$1012=\"Rejected\"),0),20),\"\")","v":""}]
[null,{"$f":"+IF(AND(ISBLANK(F448),ISBLANK(K448)),\"\",IF(AND(ISBLANK(F448),B447<>\"\"),B447,IF(COUNTIF($F$13:F447,F448)>0,B447,MAX($B$13:B447)+1)))","v":""},null,null,0,null,null,null,null,"Enter PC",null,"","",{"$f":"+IF(ISBLANK(K448),\"\",VLOOKUP(K448,'5.3 Schedule of Rates'!B:D,3,0))","v":""},null,"",null,"","",null,null,null,{"$f":"IFERROR(INDEX('1.2 Sub-Con Application'!$B$13:$U$1012,MATCH(1,('1.2 Sub-Con Application'!$B$13:$B$1012=B448)*('1.2 Sub-Con Application'!$U$13:$U$1012=\"Rejected\"),0),20),\"\")","v":""}]
[null,{"$f":"+IF(AND(ISBLANK(F449),ISBLANK(K449)),\"\",IF(AND(ISBLANK(F449),B448<>\"\"),B448,IF(COUNTIF($F$13:F448,F449)>0,B448,MAX($B$13:B448)+1)))","v":""},null,null,0,null,null,null,null,"Enter PC",null,"","",{"$f":"+IF(ISBLANK(K449),\"\",VLOOKUP(K449,'5.3 Schedule of Rates'!B:D,3,0))","v":""},null,"",null,"","",null,null,null,{"$f":"IFERROR(INDEX('1.2 Sub-Con Application'!$B$13:$U$1012,MATCH(1,('1.2 Sub-Con Application'!$B$13:$B$1012=B449)*('1.2 Sub-Con Application'!$U$13:$U$1012=\"Rejected\"),0),20),\"\")","v":""}]
[null,{"$f":"+IF(AND(ISBLANK(F450),ISBLANK(K450)),\"\",IF(AND(ISBLANK(F450),B449<>\"\"),B449,IF(COUNTIF($F$13:F449,F450)>0,B449,MAX($B$13:B449)+1)))","v":""},null,null,0,null,null,null,null,"Enter PC",null,"","",{"$f":"+IF(ISBLANK(K450),\"\",VLOOKUP(K450,'5.3 Schedule of Rates'!B:D,3,0))","v":""},null,"",null,"","",null,null,null,{"$f":"IFERROR(INDEX('1.2 Sub-Con Application'!$B$13:$U$1012,MATCH(1,('1.2 Sub-Con Application'!$B$13:$B$1012=B450)*('1.2 Sub-Con Application'!$U$13:$U$1012=\"Rejected\"),0),20),\"\")","v":""}]
[null,{"$f":"+IF(AND(ISBLANK(F451),ISBLANK(K451)),\"\",IF(AND(ISBLANK(F451),B450<>\"\"),B450,IF(COUNTIF($F$13:F450,F451)>0,B450,MAX($B$13:B450)+1)))","v":""},null,null,0,null,null,null,null,"Enter PC",null,"","",{"$f":"+IF(ISBLANK(K451),\"\",VLOOKUP(K451,'5.3 Schedule of Rates'!B:D,3,0))","v":""},null,"",null,"","",null,null,null,{"$f":"IFERROR(INDEX('1.2 Sub-Con Application'!$B$13:$U$1012,MATCH(1,('1.2 Sub-Con Application'!$B$13:$B$1012=B451)*('1.2 Sub-Con Application'!$U$13:$U$1012=\"Rejected\"),0),20),\"\")","v":""}]
[null,{"$f":"+IF(AND(ISBLANK(F452),ISBLANK(K452)),\"\",IF(AND(ISBLANK(F452),B451<>\"\"),B451,IF(COUNTIF($F$13:F451,F452)>0,B451,MAX($B$13:B451)+1)))","v":""},null,null,0,null,null,null,null,"Enter PC",null,"","",{"$f":"+IF(ISBLANK(K452),\"\",VLOOKUP(K452,'5.3 Schedule of Rates'!B:D,3,0))","v":""},null,"",null,"","",null,null,null,{"$f":"IFERROR(INDEX('1.2 Sub-Con Application'!$B$13:$U$1012,MATCH(1,('1.2 Sub-Con Application'!$B$13:$B$1012=B452)*('1.2 Sub-Con Application'!$U$13:$U$1012=\"Rejected\"),0),20),\"\")","v":""}]
[null,{"$f":"+IF(AND(ISBLANK(F453),ISBLANK(K453)),\"\",IF(AND(ISBLANK(F453),B452<>\"\"),B452,IF(COUNTIF($F$13:F452,F453)>0,B452,MAX($B$13:B452)+1)))","v":""},null,null,0,null,null,null,null,"Enter PC",null,"","",{"$f":"+IF(ISBLANK(K453),\"\",VLOOKUP(K453,'5.3 Schedule of Rates'!B:D,3,0))","v":""},null,"",null,"","",null,null,null,{"$f":"IFERROR(INDEX('1.2 Sub-Con Application'!$B$13:$U$1012,MATCH(1,('1.2 Sub-Con Application'!$B$13:$B$1012=B453)*('1.2 Sub-Con Application'!$U$13:$U$1012=\"Rejected\"),0),20),\"\")","v":""}]
[null,{"$f":"+IF(AND(ISBLANK(F454),ISBLANK(K454)),\"\",IF(AND(ISBLANK(F454),B453<>\"\"),B453,IF(COUNTIF($F$13:F453,F454)>0,B453,MAX($B$13:B453)+1)))","v":""},null,null,0,null,null,null,null,"Enter PC",null,"","",{"$f":"+IF(ISBLANK(K454),\"\",VLOOKUP(K454,'5.3 Schedule of Rates'!B:D,3,0))","v":""},null,"",null,"","",null,null,null,{"$f":"IFERROR(INDEX('1.2 Sub-Con Application'!$B$13:$U$1012,MATCH(1,('1.2 Sub-Con Application'!$B$13:$B$1012=B454)*('1.2 Sub-Con Application'!$U$13:$U$1012=\"Rejected\"),0),20),\"\")","v":""}]
[null,{"$f":"+IF(AND(ISBLANK(F455),ISBLANK(K455)),\"\",IF(AND(ISBLANK(F455),B454<>\"\"),B454,IF(COUNTIF($F$13:F454,F455)>0,B454,MAX($B$13:B454)+1)))","v":""},null,null,0,null,null,null,null,"Enter PC",null,"","",{"$f":"+IF(ISBLANK(K455),\"\",VLOOKUP(K455,'5.3 Schedule of Rates'!B:D,3,0))","v":""},null,"",null,"","",null,null,null,{"$f":"IFERROR(INDEX('1.2 Sub-Con Application'!$B$13:$U$1012,MATCH(1,('1.2 Sub-Con Application'!$B$13:$B$1012=B455)*('1.2 Sub-Con Application'!$U$13:$U$1012=\"Rejected\"),0),20),\"\")","v":""}]
[null,{"$f":"+IF(AND(ISBLANK(F456),ISBLANK(K456)),\"\",IF(AND(ISBLANK(F456),B455<>\"\"),B455,IF(COUNTIF($F$13:F455,F456)>0,B455,MAX($B$13:B455)+1)))","v":""},null,null,0,null,null,null,null,"Enter PC",null,"","",{"$f":"+IF(ISBLANK(K456),\"\",VLOOKUP(K456,'5.3 Schedule of Rates'!B:D,3,0))","v":""},null,"",null,"","",null,null,null,{"$f":"IFERROR(INDEX('1.2 Sub-Con Application'!$B$13:$U$1012,MATCH(1,('1.2 Sub-Con Application'!$B$13:$B$1012=B456)*('1.2 Sub-Con Application'!$U$13:$U$1012=\"Rejected\"),0),20),\"\")","v":""}]
[null,{"$f":"+IF(AND(ISBLANK(F457),ISBLANK(K457)),\"\",IF(AND(ISBLANK(F457),B456<>\"\"),B456,IF(COUNTIF($F$13:F456,F457)>0,B456,MAX($B$13:B456)+1)))","v":""},null,null,0,null,null,null,null,"Enter PC",null,"","",{"$f":"+IF(ISBLANK(K457),\"\",VLOOKUP(K457,'5.3 Schedule of Rates'!B:D,3,0))","v":""},null,"",null,"","",null,null,null,{"$f":"IFERROR(INDEX('1.2 Sub-Con Application'!$B$13:$U$1012,MATCH(1,('1.2 Sub-Con Application'!$B$13:$B$1012=B457)*('1.2 Sub-Con Application'!$U$13:$U$1012=\"Rejected\"),0),20),\"\")","v":""}]
[null,{"$f":"+IF(AND(ISBLANK(F458),ISBLANK(K458)),\"\",IF(AND(ISBLANK(F458),B457<>\"\"),B457,IF(COUNTIF($F$13:F457,F458)>0,B457,MAX($B$13:B457)+1)))","v":""},null,null,0,null,null,null,null,"Enter PC",null,"","",{"$f":"+IF(ISBLANK(K458),\"\",VLOOKUP(K458,'5.3 Schedule of Rates'!B:D,3,0))","v":""},null,"",null,"","",null,null,null,{"$f":"IFERROR(INDEX('1.2 Sub-Con Application'!$B$13:$U$1012,MATCH(1,('1.2 Sub-Con Application'!$B$13:$B$1012=B458)*('1.2 Sub-Con Application'!$U$13:$U$1012=\"Rejected\"),0),20),\"\")","v":""}]
[null,{"$f":"+IF(AND(ISBLANK(F459),ISBLANK(K459)),\"\",IF(AND(ISBLANK(F459),B458<>\"\"),B458,IF(COUNTIF($F$13:F458,F459)>0,B458,MAX($B$13:B458)+1)))","v":""},null,null,0,null,null,null,null,"Enter PC",null,"","",{"$f":"+IF(ISBLANK(K459),\"\",VLOOKUP(K459,'5.3 Schedule of Rates'!B:D,3,0))","v":""},null,"",null,"","",null,null,null,{"$f":"IFERROR(INDEX('1.2 Sub-Con Application'!$B$13:$U$1012,MATCH(1,('1.2 Sub-Con Application'!$B$13:$B$1012=B459)*('1.2 Sub-Con Application'!$U$13:$U$1012=\"Rejected\"),0),20),\"\")","v":""}]
[null,{"$f":"+IF(AND(ISBLANK(F460),ISBLANK(K460)),\"\",IF(AND(ISBLANK(F460),B459<>\"\"),B459,IF(COUNTIF($F$13:F459,F460)>0,B459,MAX($B$13:B459)+1)))","v":""},null,null,0,null,null,null,null,"Enter PC",null,"","",{"$f":"+IF(ISBLANK(K460),\"\",VLOOKUP(K460,'5.3 Schedule of Rates'!B:D,3,0))","v":""},null,"",null,"","",null,null,null,{"$f":"IFERROR(INDEX('1.2 Sub-Con Application'!$B$13:$U$1012,MATCH(1,('1.2 Sub-Con Application'!$B$13:$B$1012=B460)*('1.2 Sub-Con Application'!$U$13:$U$1012=\"Rejected\"),0),20),\"\")","v":""}]
[null,{"$f":"+IF(AND(ISBLANK(F461),ISBLANK(K461)),\"\",IF(AND(ISBLANK(F461),B460<>\"\"),B460,IF(COUNTIF($F$13:F460,F461)>0,B460,MAX($B$13:B460)+1)))","v":""},null,null,0,null,null,null,null,{"$f":"IFERROR(IF(I461=\"\",\"Enter PC\",VLOOKUP(IF(LEN(I461)=6,LEFT(I461,2),IF(LEN(I461)=7,LEFT(I461,3),LEFT(I461,4))),table_pcRegion,2,FALSE)=work_Region),\"INVALID\")","v":"Enter PC"},null,{"$f":"+IF(ISBLANK(K461),\"\",VLOOKUP(K461,table_SoR,2,0))","v":""},{"$f":"+IF(ISBLANK(K461),\"\",INDEX(table_subconSoR,MATCH(L461,row_SoR,0),MATCH($H$4,col_SoR,0)))","v":""},{"$f":"+IF(ISBLANK(K461),\"\",VLOOKUP(K461,'5.3 Schedule of Rates'!B:D,3,0))","v":""},null,{"$f":"+IF(ISBLANK($O461),\"\",ROUND(SUM(SUM(VLOOKUP($K461,table_SoR,6,0)*(1+$M461))*O461),2))","v":""},null,{"$f":"+IF(ISBLANK($O461),\"\",ROUND(IF(Q461>0,Q461,SUM(SUM(VLOOKUP($K461,table_SoR,7,0)*(1+$M461))*O461)),2))","v":""},"",null,null,null,{"$f":"IFERROR(INDEX('1.2 Sub-Con Application'!$B$13:$U$1012,MATCH(1,('1.2 Sub-Con Application'!$B$13:$B$1012=B461)*('1.2 Sub-Con Application'!$U$13:$U$1012=\"Rejected\"),0),20),\"\")","v":""}]
[null,{"$f":"+IF(AND(ISBLANK(F462),ISBLANK(K462)),\"\",IF(AND(ISBLANK(F462),B461<>\"\"),B461,IF(COUNTIF($F$13:F461,F462)>0,B461,MAX($B$13:B461)+1)))","v":""},null,null,0,null,null,null,null,"Enter PC",null,"","",{"$f":"+IF(ISBLANK(K462),\"\",VLOOKUP(K462,'5.3 Schedule of Rates'!B:D,3,0))","v":""},null,"",null,"",{"$f":"IF(ISERROR(SUM(P462-R462)),\"\",SUM(P462-R462))","v":""},null,null,null,{"$f":"IFERROR(INDEX('1.2 Sub-Con Application'!$B$13:$U$1012,MATCH(1,('1.2 Sub-Con Application'!$B$13:$B$1012=B462)*('1.2 Sub-Con Application'!$U$13:$U$1012=\"Rejected\"),0),20),\"\")","v":""}]
[null,{"$f":"+IF(AND(ISBLANK(F463),ISBLANK(K463)),\"\",IF(AND(ISBLANK(F463),B462<>\"\"),B462,IF(COUNTIF($F$13:F462,F463)>0,B462,MAX($B$13:B462)+1)))","v":""},null,null,{"$f":"NETWORKDAYS(C463,D463)","v":0},null,null,null,null,"Enter PC",null,"","",{"$f":"+IF(ISBLANK(K463),\"\",VLOOKUP(K463,'5.3 Schedule of Rates'!B:D,3,0))","v":""},null,"",null,"",{"$f":"IF(ISERROR(SUM(P463-R463)),\"\",SUM(P463-R463))","v":""},null,null,null,{"$f":"IFERROR(INDEX('1.2 Sub-Con Application'!$B$13:$U$1012,MATCH(1,('1.2 Sub-Con Application'!$B$13:$B$1012=B463)*('1.2 Sub-Con Application'!$U$13:$U$1012=\"Rejected\"),0),20),\"\")","v":""}]
[null,{"$f":"+IF(AND(ISBLANK(F464),ISBLANK(K464)),\"\",IF(AND(ISBLANK(F464),B463<>\"\"),B463,IF(COUNTIF($F$13:F463,F464)>0,B463,MAX($B$13:B463)+1)))","v":""},null,null,0,null,null,null,null,"Enter PC",null,"","",{"$f":"+IF(ISBLANK(K464),\"\",VLOOKUP(K464,'5.3 Schedule of Rates'!B:D,3,0))","v":""},null,"",null,"","",null,null,null,{"$f":"IFERROR(INDEX('1.2 Sub-Con Application'!$B$13:$U$1012,MATCH(1,('1.2 Sub-Con Application'!$B$13:$B$1012=B464)*('1.2 Sub-Con Application'!$U$13:$U$1012=\"Rejected\"),0),20),\"\")","v":""}]
[null,{"$f":"+IF(AND(ISBLANK(F465),ISBLANK(K465)),\"\",IF(AND(ISBLANK(F465),B464<>\"\"),B464,IF(COUNTIF($F$13:F464,F465)>0,B464,MAX($B$13:B464)+1)))","v":""},null,null,0,null,null,null,null,"Enter PC",null,"","",{"$f":"+IF(ISBLANK(K465),\"\",VLOOKUP(K465,'5.3 Schedule of Rates'!B:D,3,0))","v":""},null,"",null,"","",null,null,null,{"$f":"IFERROR(INDEX('1.2 Sub-Con Application'!$B$13:$U$1012,MATCH(1,('1.2 Sub-Con Application'!$B$13:$B$1012=B465)*('1.2 Sub-Con Application'!$U$13:$U$1012=\"Rejected\"),0),20),\"\")","v":""}]
[null,{"$f":"+IF(AND(ISBLANK(F466),ISBLANK(K466)),\"\",IF(AND(ISBLANK(F466),B465<>\"\"),B465,IF(COUNTIF($F$13:F465,F466)>0,B465,MAX($B$13:B465)+1)))","v":""},null,null,0,null,null,null,null,"Enter PC",null,"","",{"$f":"+IF(ISBLANK(K466),\"\",VLOOKUP(K466,'5.3 Schedule of Rates'!B:D,3,0))","v":""},null,"",null,"","",null,null,null,{"$f":"IFERROR(INDEX('1.2 Sub-Con Application'!$B$13:$U$1012,MATCH(1,('1.2 Sub-Con Application'!$B$13:$B$1012=B466)*('1.2 Sub-Con Application'!$U$13:$U$1012=\"Rejected\"),0),20),\"\")","v":""}]
[null,{"$f":"+IF(AND(ISBLANK(F467),ISBLANK(K467)),\"\",IF(AND(ISBLANK(F467),B466<>\"\"),B466,IF(COUNTIF($F$13:F466,F467)>0,B466,MAX($B$13:B466)+1)))","v":""},null,null,0,null,null,null,null,"Enter PC",null,"","",{"$f":"+IF(ISBLANK(K467),\"\",VLOOKUP(K467,'5.3 Schedule of Rates'!B:D,3,0))","v":""},null,"",null,"","",null,null,null,{"$f":"IFERROR(INDEX('1.2 Sub-Con Application'!$B$13:$U$1012,MATCH(1,('1.2 Sub-Con Application'!$B$13:$B$1012=B467)*('1.2 Sub-Con Application'!$U$13:$U$1012=\"Rejected\"),0),20),\"\")","v":""}]
[null,{"$f":"+IF(AND(ISBLANK(F468),ISBLANK(K468)),\"\",IF(AND(ISBLANK(F468),B467<>\"\"),B467,IF(COUNTIF($F$13:F467,F468)>0,B467,MAX($B$13:B467)+1)))","v":""},null,null,0,null,null,null,null,"Enter PC",null,"","",{"$f":"+IF(ISBLANK(K468),\"\",VLOOKUP(K468,'5.3 Schedule of Rates'!B:D,3,0))","v":""},null,"",null,"","",null,null,null,{"$f":"IFERROR(INDEX('1.2 Sub-Con Application'!$B$13:$U$1012,MATCH(1,('1.2 Sub-Con Application'!$B$13:$B$1012=B468)*('1.2 Sub-Con Application'!$U$13:$U$1012=\"Rejected\"),0),20),\"\")","v":""}]
[null,{"$f":"+IF(AND(ISBLANK(F469),ISBLANK(K469)),\"\",IF(AND(ISBLANK(F469),B468<>\"\"),B468,IF(COUNTIF($F$13:F468,F469)>0,B468,MAX($B$13:B468)+1)))","v":""},null,null,0,null,null,null,null,"Enter PC",null,"","",{"$f":"+IF(ISBLANK(K469),\"\",VLOOKUP(K469,'5.3 Schedule of Rates'!B:D,3,0))","v":""},null,"",null,"","",null,null,null,{"$f":"IFERROR(INDEX('1.2 Sub-Con Application'!$B$13:$U$1012,MATCH(1,('1.2 Sub-Con Application'!$B$13:$B$1012=B469)*('1.2 Sub-Con Application'!$U$13:$U$1012=\"Rejected\"),0),20),\"\")","v":""}]
[null,{"$f":"+IF(AND(ISBLANK(F470),ISBLANK(K470)),\"\",IF(AND(ISBLANK(F470),B469<>\"\"),B469,IF(COUNTIF($F$13:F469,F470)>0,B469,MAX($B$13:B469)+1)))","v":""},null,null,0,null,null,null,null,"Enter PC",null,"","",{"$f":"+IF(ISBLANK(K470),\"\",VLOOKUP(K470,'5.3 Schedule of Rates'!B:D,3,0))","v":""},null,"",null,"","",null,null,null,{"$f":"IFERROR(INDEX('1.2 Sub-Con Application'!$B$13:$U$1012,MATCH(1,('1.2 Sub-Con Application'!$B$13:$B$1012=B470)*('1.2 Sub-Con Application'!$U$13:$U$1012=\"Rejected\"),0),20),\"\")","v":""}]
[null,{"$f":"+IF(AND(ISBLANK(F471),ISBLANK(K471)),\"\",IF(AND(ISBLANK(F471),B470<>\"\"),B470,IF(COUNTIF($F$13:F470,F471)>0,B470,MAX($B$13:B470)+1)))","v":""},null,null,0,null,null,null,null,"Enter PC",null,"","",{"$f":"+IF(ISBLANK(K471),\"\",VLOOKUP(K471,'5.3 Schedule of Rates'!B:D,3,0))","v":""},null,"",null,"","",null,null,null,{"$f":"IFERROR(INDEX('1.2 Sub-Con Application'!$B$13:$U$1012,MATCH(1,('1.2 Sub-Con Application'!$B$13:$B$1012=B471)*('1.2 Sub-Con Application'!$U$13:$U$1012=\"Rejected\"),0),20),\"\")","v":""}]
[null,{"$f":"+IF(AND(ISBLANK(F472),ISBLANK(K472)),\"\",IF(AND(ISBLANK(F472),B471<>\"\"),B471,IF(COUNTIF($F$13:F471,F472)>0,B471,MAX($B$13:B471)+1)))","v":""},null,null,0,null,null,null,null,"Enter PC",null,"","",{"$f":"+IF(ISBLANK(K472),\"\",VLOOKUP(K472,'5.3 Schedule of Rates'!B:D,3,0))","v":""},null,"",null,"","",null,null,null,{"$f":"IFERROR(INDEX('1.2 Sub-Con Application'!$B$13:$U$1012,MATCH(1,('1.2 Sub-Con Application'!$B$13:$B$1012=B472)*('1.2 Sub-Con Application'!$U$13:$U$1012=\"Rejected\"),0),20),\"\")","v":""}]
[null,{"$f":"+IF(AND(ISBLANK(F473),ISBLANK(K473)),\"\",IF(AND(ISBLANK(F473),B472<>\"\"),B472,IF(COUNTIF($F$13:F472,F473)>0,B472,MAX($B$13:B472)+1)))","v":""},null,null,0,null,null,null,null,"Enter PC",null,"","",{"$f":"+IF(ISBLANK(K473),\"\",VLOOKUP(K473,'5.3 Schedule of Rates'!B:D,3,0))","v":""},null,"",null,"","",null,null,null,{"$f":"IFERROR(INDEX('1.2 Sub-Con Application'!$B$13:$U$1012,MATCH(1,('1.2 Sub-Con Application'!$B$13:$B$1012=B473)*('1.2 Sub-Con Application'!$U$13:$U$1012=\"Rejected\"),0),20),\"\")","v":""}]
[null,{"$f":"+IF(AND(ISBLANK(F474),ISBLANK(K474)),\"\",IF(AND(ISBLANK(F474),B473<>\"\"),B473,IF(COUNTIF($F$13:F473,F474)>0,B473,MAX($B$13:B473)+1)))","v":""},null,null,0,null,null,null,null,"Enter PC",null,"","",{"$f":"+IF(ISBLANK(K474),\"\",VLOOKUP(K474,'5.3 Schedule of Rates'!B:D,3,0))","v":""},null,"",null,"","",null,null,null,{"$f":"IFERROR(INDEX('1.2 Sub-Con Application'!$B$13:$U$1012,MATCH(1,('1.2 Sub-Con Application'!$B$13:$B$1012=B474)*('1.2 Sub-Con Application'!$U$13:$U$1012=\"Rejected\"),0),20),\"\")","v":""}]
[null,{"$f":"+IF(AND(ISBLANK(F475),ISBLANK(K475)),\"\",IF(AND(ISBLANK(F475),B474<>\"\"),B474,IF(COUNTIF($F$13:F474,F475)>0,B474,MAX($B$13:B474)+1)))","v":""},null,null,0,null,null,null,null,"Enter PC",null,"","",{"$f":"+IF(ISBLANK(K475),\"\",VLOOKUP(K475,'5.3 Schedule of Rates'!B:D,3,0))","v":""},null,"",null,"","",null,null,null,{"$f":"IFERROR(INDEX('1.2 Sub-Con Application'!$B$13:$U$1012,MATCH(1,('1.2 Sub-Con Application'!$B$13:$B$1012=B475)*('1.2 Sub-Con Application'!$U$13:$U$1012=\"Rejected\"),0),20),\"\")","v":""}]
[null,{"$f":"+IF(AND(ISBLANK(F476),ISBLANK(K476)),\"\",IF(AND(ISBLANK(F476),B475<>\"\"),B475,IF(COUNTIF($F$13:F475,F476)>0,B475,MAX($B$13:B475)+1)))","v":""},null,null,0,null,null,null,null,"Enter PC",null,"","",{"$f":"+IF(ISBLANK(K476),\"\",VLOOKUP(K476,'5.3 Schedule of Rates'!B:D,3,0))","v":""},null,"",null,"","",null,null,null,{"$f":"IFERROR(INDEX('1.2 Sub-Con Application'!$B$13:$U$1012,MATCH(1,('1.2 Sub-Con Application'!$B$13:$B$1012=B476)*('1.2 Sub-Con Application'!$U$13:$U$1012=\"Rejected\"),0),20),\"\")","v":""}]
[null,{"$f":"+IF(AND(ISBLANK(F477),ISBLANK(K477)),\"\",IF(AND(ISBLANK(F477),B476<>\"\"),B476,IF(COUNTIF($F$13:F476,F477)>0,B476,MAX($B$13:B476)+1)))","v":""},null,null,0,null,null,null,null,"Enter PC",null,"","",{"$f":"+IF(ISBLANK(K477),\"\",VLOOKUP(K477,'5.3 Schedule of Rates'!B:D,3,0))","v":""},null,"",null,"","",null,null,null,{"$f":"IFERROR(INDEX('1.2 Sub-Con Application'!$B$13:$U$1012,MATCH(1,('1.2 Sub-Con Application'!$B$13:$B$1012=B477)*('1.2 Sub-Con Application'!$U$13:$U$1012=\"Rejected\"),0),20),\"\")","v":""}]
[null,{"$f":"+IF(AND(ISBLANK(F478),ISBLANK(K478)),\"\",IF(AND(ISBLANK(F478),B477<>\"\"),B477,IF(COUNTIF($F$13:F477,F478)>0,B477,MAX($B$13:B477)+1)))","v":""},null,null,0,null,null,null,null,"Enter PC",null,"","",{"$f":"+IF(ISBLANK(K478),\"\",VLOOKUP(K478,'5.3 Schedule of Rates'!B:D,3,0))","v":""},null,"",null,"","",null,null,null,{"$f":"IFERROR(INDEX('1.2 Sub-Con Application'!$B$13:$U$1012,MATCH(1,('1.2 Sub-Con Application'!$B$13:$B$1012=B478)*('1.2 Sub-Con Application'!$U$13:$U$1012=\"Rejected\"),0),20),\"\")","v":""}]
[null,{"$f":"+IF(AND(ISBLANK(F479),ISBLANK(K479)),\"\",IF(AND(ISBLANK(F479),B478<>\"\"),B478,IF(COUNTIF($F$13:F478,F479)>0,B478,MAX($B$13:B478)+1)))","v":""},null,null,0,null,null,null,null,"Enter PC",null,"","",{"$f":"+IF(ISBLANK(K479),\"\",VLOOKUP(K479,'5.3 Schedule of Rates'!B:D,3,0))","v":""},null,"",null,"","",null,null,null,{"$f":"IFERROR(INDEX('1.2 Sub-Con Application'!$B$13:$U$1012,MATCH(1,('1.2 Sub-Con Application'!$B$13:$B$1012=B479)*('1.2 Sub-Con Application'!$U$13:$U$1012=\"Rejected\"),0),20),\"\")","v":""}]
[null,{"$f":"+IF(AND(ISBLANK(F480),ISBLANK(K480)),\"\",IF(AND(ISBLANK(F480),B479<>\"\"),B479,IF(COUNTIF($F$13:F479,F480)>0,B479,MAX($B$13:B479)+1)))","v":""},null,null,0,null,null,null,null,"Enter PC",null,"","",{"$f":"+IF(ISBLANK(K480),\"\",VLOOKUP(K480,'5.3 Schedule of Rates'!B:D,3,0))","v":""},null,"",null,"","",null,null,null,{"$f":"IFERROR(INDEX('1.2 Sub-Con Application'!$B$13:$U$1012,MATCH(1,('1.2 Sub-Con Application'!$B$13:$B$1012=B480)*('1.2 Sub-Con Application'!$U$13:$U$1012=\"Rejected\"),0),20),\"\")","v":""}]
[null,{"$f":"+IF(AND(ISBLANK(F481),ISBLANK(K481)),\"\",IF(AND(ISBLANK(F481),B480<>\"\"),B480,IF(COUNTIF($F$13:F480,F481)>0,B480,MAX($B$13:B480)+1)))","v":""},null,null,0,null,null,null,null,"Enter PC",null,"","",{"$f":"+IF(ISBLANK(K481),\"\",VLOOKUP(K481,'5.3 Schedule of Rates'!B:D,3,0))","v":""},null,"",null,"","",null,null,null,{"$f":"IFERROR(INDEX('1.2 Sub-Con Application'!$B$13:$U$1012,MATCH(1,('1.2 Sub-Con Application'!$B$13:$B$1012=B481)*('1.2 Sub-Con Application'!$U$13:$U$1012=\"Rejected\"),0),20),\"\")","v":""}]
[null,{"$f":"+IF(AND(ISBLANK(F482),ISBLANK(K482)),\"\",IF(AND(ISBLANK(F482),B481<>\"\"),B481,IF(COUNTIF($F$13:F481,F482)>0,B481,MAX($B$13:B481)+1)))","v":""},null,null,0,null,null,null,null,"Enter PC",null,"","",{"$f":"+IF(ISBLANK(K482),\"\",VLOOKUP(K482,'5.3 Schedule of Rates'!B:D,3,0))","v":""},null,"",null,"","",null,null,null,{"$f":"IFERROR(INDEX('1.2 Sub-Con Application'!$B$13:$U$1012,MATCH(1,('1.2 Sub-Con Application'!$B$13:$B$1012=B482)*('1.2 Sub-Con Application'!$U$13:$U$1012=\"Rejected\"),0),20),\"\")","v":""}]
[null,{"$f":"+IF(AND(ISBLANK(F483),ISBLANK(K483)),\"\",IF(AND(ISBLANK(F483),B482<>\"\"),B482,IF(COUNTIF($F$13:F482,F483)>0,B482,MAX($B$13:B482)+1)))","v":""},null,null,0,null,null,null,null,"Enter PC",null,"","",{"$f":"+IF(ISBLANK(K483),\"\",VLOOKUP(K483,'5.3 Schedule of Rates'!B:D,3,0))","v":""},null,"",null,"","",null,null,null,{"$f":"IFERROR(INDEX('1.2 Sub-Con Application'!$B$13:$U$1012,MATCH(1,('1.2 Sub-Con Application'!$B$13:$B$1012=B483)*('1.2 Sub-Con Application'!$U$13:$U$1012=\"Rejected\"),0),20),\"\")","v":""}]
[null,{"$f":"+IF(AND(ISBLANK(F484),ISBLANK(K484)),\"\",IF(AND(ISBLANK(F484),B483<>\"\"),B483,IF(COUNTIF($F$13:F483,F484)>0,B483,MAX($B$13:B483)+1)))","v":""},null,null,0,null,null,null,null,"Enter PC",null,"","",{"$f":"+IF(ISBLANK(K484),\"\",VLOOKUP(K484,'5.3 Schedule of Rates'!B:D,3,0))","v":""},null,"",null,"","",null,null,null,{"$f":"IFERROR(INDEX('1.2 Sub-Con Application'!$B$13:$U$1012,MATCH(1,('1.2 Sub-Con Application'!$B$13:$B$1012=B484)*('1.2 Sub-Con Application'!$U$13:$U$1012=\"Rejected\"),0),20),\"\")","v":""}]
[null,{"$f":"+IF(AND(ISBLANK(F485),ISBLANK(K485)),\"\",IF(AND(ISBLANK(F485),B484<>\"\"),B484,IF(COUNTIF($F$13:F484,F485)>0,B484,MAX($B$13:B484)+1)))","v":""},null,null,0,null,null,null,null,"Enter PC",null,"","",{"$f":"+IF(ISBLANK(K485),\"\",VLOOKUP(K485,'5.3 Schedule of Rates'!B:D,3,0))","v":""},null,"",null,"","",null,null,null,{"$f":"IFERROR(INDEX('1.2 Sub-Con Application'!$B$13:$U$1012,MATCH(1,('1.2 Sub-Con Application'!$B$13:$B$1012=B485)*('1.2 Sub-Con Application'!$U$13:$U$1012=\"Rejected\"),0),20),\"\")","v":""}]
[null,{"$f":"+IF(AND(ISBLANK(F486),ISBLANK(K486)),\"\",IF(AND(ISBLANK(F486),B485<>\"\"),B485,IF(COUNTIF($F$13:F485,F486)>0,B485,MAX($B$13:B485)+1)))","v":""},null,null,0,null,null,null,null,"Enter PC",null,"","",{"$f":"+IF(ISBLANK(K486),\"\",VLOOKUP(K486,'5.3 Schedule of Rates'!B:D,3,0))","v":""},null,"",null,"","",null,null,null,{"$f":"IFERROR(INDEX('1.2 Sub-Con Application'!$B$13:$U$1012,MATCH(1,('1.2 Sub-Con Application'!$B$13:$B$1012=B486)*('1.2 Sub-Con Application'!$U$13:$U$1012=\"Rejected\"),0),20),\"\")","v":""}]
[null,{"$f":"+IF(AND(ISBLANK(F487),ISBLANK(K487)),\"\",IF(AND(ISBLANK(F487),B486<>\"\"),B486,IF(COUNTIF($F$13:F486,F487)>0,B486,MAX($B$13:B486)+1)))","v":""},null,null,0,null,null,null,null,"Enter PC",null,"","",{"$f":"+IF(ISBLANK(K487),\"\",VLOOKUP(K487,'5.3 Schedule of Rates'!B:D,3,0))","v":""},null,"",null,"","",null,null,null,{"$f":"IFERROR(INDEX('1.2 Sub-Con Application'!$B$13:$U$1012,MATCH(1,('1.2 Sub-Con Application'!$B$13:$B$1012=B487)*('1.2 Sub-Con Application'!$U$13:$U$1012=\"Rejected\"),0),20),\"\")","v":""}]
[null,{"$f":"+IF(AND(ISBLANK(F488),ISBLANK(K488)),\"\",IF(AND(ISBLANK(F488),B487<>\"\"),B487,IF(COUNTIF($F$13:F487,F488)>0,B487,MAX($B$13:B487)+1)))","v":""},null,null,0,null,null,null,null,"Enter PC",null,"","",{"$f":"+IF(ISBLANK(K488),\"\",VLOOKUP(K488,'5.3 Schedule of Rates'!B:D,3,0))","v":""},null,"",null,"","",null,null,null,{"$f":"IFERROR(INDEX('1.2 Sub-Con Application'!$B$13:$U$1012,MATCH(1,('1.2 Sub-Con Application'!$B$13:$B$1012=B488)*('1.2 Sub-Con Application'!$U$13:$U$1012=\"Rejected\"),0),20),\"\")","v":""}]
[null,{"$f":"+IF(AND(ISBLANK(F489),ISBLANK(K489)),\"\",IF(AND(ISBLANK(F489),B488<>\"\"),B488,IF(COUNTIF($F$13:F488,F489)>0,B488,MAX($B$13:B488)+1)))","v":""},null,null,0,null,null,null,null,"Enter PC",null,"","",{"$f":"+IF(ISBLANK(K489),\"\",VLOOKUP(K489,'5.3 Schedule of Rates'!B:D,3,0))","v":""},null,"",null,"","",null,null,null,{"$f":"IFERROR(INDEX('1.2 Sub-Con Application'!$B$13:$U$1012,MATCH(1,('1.2 Sub-Con Application'!$B$13:$B$1012=B489)*('1.2 Sub-Con Application'!$U$13:$U$1012=\"Rejected\"),0),20),\"\")","v":""}]
[null,{"$f":"+IF(AND(ISBLANK(F490),ISBLANK(K490)),\"\",IF(AND(ISBLANK(F490),B489<>\"\"),B489,IF(COUNTIF($F$13:F489,F490)>0,B489,MAX($B$13:B489)+1)))","v":""},null,null,0,null,null,null,null,"Enter PC",null,"","",{"$f":"+IF(ISBLANK(K490),\"\",VLOOKUP(K490,'5.3 Schedule of Rates'!B:D,3,0))","v":""},null,"",null,"","",null,null,null,{"$f":"IFERROR(INDEX('1.2 Sub-Con Application'!$B$13:$U$1012,MATCH(1,('1.2 Sub-Con Application'!$B$13:$B$1012=B490)*('1.2 Sub-Con Application'!$U$13:$U$1012=\"Rejected\"),0),20),\"\")","v":""}]
[null,{"$f":"+IF(AND(ISBLANK(F491),ISBLANK(K491)),\"\",IF(AND(ISBLANK(F491),B490<>\"\"),B490,IF(COUNTIF($F$13:F490,F491)>0,B490,MAX($B$13:B490)+1)))","v":""},null,null,0,null,null,null,null,"Enter PC",null,"","",{"$f":"+IF(ISBLANK(K491),\"\",VLOOKUP(K491,'5.3 Schedule of Rates'!B:D,3,0))","v":""},null,"",null,"","",null,null,null,{"$f":"IFERROR(INDEX('1.2 Sub-Con Application'!$B$13:$U$1012,MATCH(1,('1.2 Sub-Con Application'!$B$13:$B$1012=B491)*('1.2 Sub-Con Application'!$U$13:$U$1012=\"Rejected\"),0),20),\"\")","v":""}]
[null,{"$f":"+IF(AND(ISBLANK(F492),ISBLANK(K492)),\"\",IF(AND(ISBLANK(F492),B491<>\"\"),B491,IF(COUNTIF($F$13:F491,F492)>0,B491,MAX($B$13:B491)+1)))","v":""},null,null,0,null,null,null,null,"Enter PC",null,"","",{"$f":"+IF(ISBLANK(K492),\"\",VLOOKUP(K492,'5.3 Schedule of Rates'!B:D,3,0))","v":""},null,"",null,"","",null,null,null,{"$f":"IFERROR(INDEX('1.2 Sub-Con Application'!$B$13:$U$1012,MATCH(1,('1.2 Sub-Con Application'!$B$13:$B$1012=B492)*('1.2 Sub-Con Application'!$U$13:$U$1012=\"Rejected\"),0),20),\"\")","v":""}]
[null,{"$f":"+IF(AND(ISBLANK(F493),ISBLANK(K493)),\"\",IF(AND(ISBLANK(F493),B492<>\"\"),B492,IF(COUNTIF($F$13:F492,F493)>0,B492,MAX($B$13:B492)+1)))","v":""},null,null,0,null,null,null,null,"Enter PC",null,"","",{"$f":"+IF(ISBLANK(K493),\"\",VLOOKUP(K493,'5.3 Schedule of Rates'!B:D,3,0))","v":""},null,"",null,"","",null,null,null,{"$f":"IFERROR(INDEX('1.2 Sub-Con Application'!$B$13:$U$1012,MATCH(1,('1.2 Sub-Con Application'!$B$13:$B$1012=B493)*('1.2 Sub-Con Application'!$U$13:$U$1012=\"Rejected\"),0),20),\"\")","v":""}]
[null,{"$f":"+IF(AND(ISBLANK(F494),ISBLANK(K494)),\"\",IF(AND(ISBLANK(F494),B493<>\"\"),B493,IF(COUNTIF($F$13:F493,F494)>0,B493,MAX($B$13:B493)+1)))","v":""},null,null,0,null,null,null,null,"Enter PC",null,"","",{"$f":"+IF(ISBLANK(K494),\"\",VLOOKUP(K494,'5.3 Schedule of Rates'!B:D,3,0))","v":""},null,"",null,"","",null,null,null,{"$f":"IFERROR(INDEX('1.2 Sub-Con Application'!$B$13:$U$1012,MATCH(1,('1.2 Sub-Con Application'!$B$13:$B$1012=B494)*('1.2 Sub-Con Application'!$U$13:$U$1012=\"Rejected\"),0),20),\"\")","v":""}]
[null,{"$f":"+IF(AND(ISBLANK(F495),ISBLANK(K495)),\"\",IF(AND(ISBLANK(F495),B494<>\"\"),B494,IF(COUNTIF($F$13:F494,F495)>0,B494,MAX($B$13:B494)+1)))","v":""},null,null,0,null,null,null,null,"Enter PC",null,"","",{"$f":"+IF(ISBLANK(K495),\"\",VLOOKUP(K495,'5.3 Schedule of Rates'!B:D,3,0))","v":""},null,"",null,"","",null,null,null,{"$f":"IFERROR(INDEX('1.2 Sub-Con Application'!$B$13:$U$1012,MATCH(1,('1.2 Sub-Con Application'!$B$13:$B$1012=B495)*('1.2 Sub-Con Application'!$U$13:$U$1012=\"Rejected\"),0),20),\"\")","v":""}]
[null,{"$f":"+IF(AND(ISBLANK(F496),ISBLANK(K496)),\"\",IF(AND(ISBLANK(F496),B495<>\"\"),B495,IF(COUNTIF($F$13:F495,F496)>0,B495,MAX($B$13:B495)+1)))","v":""},null,null,0,null,null,null,null,"Enter PC",null,"","",{"$f":"+IF(ISBLANK(K496),\"\",VLOOKUP(K496,'5.3 Schedule of Rates'!B:D,3,0))","v":""},null,"",null,"","",null,null,null,{"$f":"IFERROR(INDEX('1.2 Sub-Con Application'!$B$13:$U$1012,MATCH(1,('1.2 Sub-Con Application'!$B$13:$B$1012=B496)*('1.2 Sub-Con Application'!$U$13:$U$1012=\"Rejected\"),0),20),\"\")","v":""}]
[null,{"$f":"+IF(AND(ISBLANK(F497),ISBLANK(K497)),\"\",IF(AND(ISBLANK(F497),B496<>\"\"),B496,IF(COUNTIF($F$13:F496,F497)>0,B496,MAX($B$13:B496)+1)))","v":""},null,null,0,null,null,null,null,"Enter PC",null,"","",{"$f":"+IF(ISBLANK(K497),\"\",VLOOKUP(K497,'5.3 Schedule of Rates'!B:D,3,0))","v":""},null,"",null,"","",null,null,null,{"$f":"IFERROR(INDEX('1.2 Sub-Con Application'!$B$13:$U$1012,MATCH(1,('1.2 Sub-Con Application'!$B$13:$B$1012=B497)*('1.2 Sub-Con Application'!$U$13:$U$1012=\"Rejected\"),0),20),\"\")","v":""}]
[null,{"$f":"+IF(AND(ISBLANK(F498),ISBLANK(K498)),\"\",IF(AND(ISBLANK(F498),B497<>\"\"),B497,IF(COUNTIF($F$13:F497,F498)>0,B497,MAX($B$13:B497)+1)))","v":""},null,null,0,null,null,null,null,"Enter PC",null,"","",{"$f":"+IF(ISBLANK(K498),\"\",VLOOKUP(K498,'5.3 Schedule of Rates'!B:D,3,0))","v":""},null,"",null,"","",null,null,null,{"$f":"IFERROR(INDEX('1.2 Sub-Con Application'!$B$13:$U$1012,MATCH(1,('1.2 Sub-Con Application'!$B$13:$B$1012=B498)*('1.2 Sub-Con Application'!$U$13:$U$1012=\"Rejected\"),0),20),\"\")","v":""}]
[null,{"$f":"+IF(AND(ISBLANK(F499),ISBLANK(K499)),\"\",IF(AND(ISBLANK(F499),B498<>\"\"),B498,IF(COUNTIF($F$13:F498,F499)>0,B498,MAX($B$13:B498)+1)))","v":""},null,null,0,null,null,null,null,"Enter PC",null,"","",{"$f":"+IF(ISBLANK(K499),\"\",VLOOKUP(K499,'5.3 Schedule of Rates'!B:D,3,0))","v":""},null,"",null,"","",null,null,null,{"$f":"IFERROR(INDEX('1.2 Sub-Con Application'!$B$13:$U$1012,MATCH(1,('1.2 Sub-Con Application'!$B$13:$B$1012=B499)*('1.2 Sub-Con Application'!$U$13:$U$1012=\"Rejected\"),0),20),\"\")","v":""}]
[null,{"$f":"+IF(AND(ISBLANK(F500),ISBLANK(K500)),\"\",IF(AND(ISBLANK(F500),B499<>\"\"),B499,IF(COUNTIF($F$13:F499,F500)>0,B499,MAX($B$13:B499)+1)))","v":""},null,null,0,null,null,null,null,"Enter PC",null,"","",{"$f":"+IF(ISBLANK(K500),\"\",VLOOKUP(K500,'5.3 Schedule of Rates'!B:D,3,0))","v":""},null,"",null,"","",null,null,null,{"$f":"IFERROR(INDEX('1.2 Sub-Con Application'!$B$13:$U$1012,MATCH(1,('1.2 Sub-Con Application'!$B$13:$B$1012=B500)*('1.2 Sub-Con Application'!$U$13:$U$1012=\"Rejected\"),0),20),\"\")","v":""}]
[null,{"$f":"+IF(AND(ISBLANK(F501),ISBLANK(K501)),\"\",IF(AND(ISBLANK(F501),B500<>\"\"),B500,IF(COUNTIF($F$13:F500,F501)>0,B500,MAX($B$13:B500)+1)))","v":""},null,null,0,null,null,null,null,"Enter PC",null,"","",{"$f":"+IF(ISBLANK(K501),\"\",VLOOKUP(K501,'5.3 Schedule of Rates'!B:D,3,0))","v":""},null,"",null,"","",null,null,null,{"$f":"IFERROR(INDEX('1.2 Sub-Con Application'!$B$13:$U$1012,MATCH(1,('1.2 Sub-Con Application'!$B$13:$B$1012=B501)*('1.2 Sub-Con Application'!$U$13:$U$1012=\"Rejected\"),0),20),\"\")","v":""}]
[null,{"$f":"+IF(AND(ISBLANK(F502),ISBLANK(K502)),\"\",IF(AND(ISBLANK(F502),B501<>\"\"),B501,IF(COUNTIF($F$13:F501,F502)>0,B501,MAX($B$13:B501)+1)))","v":""},null,null,0,null,null,null,null,"Enter PC",null,"","",{"$f":"+IF(ISBLANK(K502),\"\",VLOOKUP(K502,'5.3 Schedule of Rates'!B:D,3,0))","v":""},null,"",null,"","",null,null,null,{"$f":"IFERROR(INDEX('1.2 Sub-Con Application'!$B$13:$U$1012,MATCH(1,('1.2 Sub-Con Application'!$B$13:$B$1012=B502)*('1.2 Sub-Con Application'!$U$13:$U$1012=\"Rejected\"),0),20),\"\")","v":""}]
[null,{"$f":"+IF(AND(ISBLANK(F503),ISBLANK(K503)),\"\",IF(AND(ISBLANK(F503),B502<>\"\"),B502,IF(COUNTIF($F$13:F502,F503)>0,B502,MAX($B$13:B502)+1)))","v":""},null,null,0,null,null,null,null,"Enter PC",null,"","",{"$f":"+IF(ISBLANK(K503),\"\",VLOOKUP(K503,'5.3 Schedule of Rates'!B:D,3,0))","v":""},null,"",null,"","",null,null,null,{"$f":"IFERROR(INDEX('1.2 Sub-Con Application'!$B$13:$U$1012,MATCH(1,('1.2 Sub-Con Application'!$B$13:$B$1012=B503)*('1.2 Sub-Con Application'!$U$13:$U$1012=\"Rejected\"),0),20),\"\")","v":""}]
[null,{"$f":"+IF(AND(ISBLANK(F504),ISBLANK(K504)),\"\",IF(AND(ISBLANK(F504),B503<>\"\"),B503,IF(COUNTIF($F$13:F503,F504)>0,B503,MAX($B$13:B503)+1)))","v":""},null,null,0,null,null,null,null,"Enter PC",null,"","",{"$f":"+IF(ISBLANK(K504),\"\",VLOOKUP(K504,'5.3 Schedule of Rates'!B:D,3,0))","v":""},null,"",null,"","",null,null,null,{"$f":"IFERROR(INDEX('1.2 Sub-Con Application'!$B$13:$U$1012,MATCH(1,('1.2 Sub-Con Application'!$B$13:$B$1012=B504)*('1.2 Sub-Con Application'!$U$13:$U$1012=\"Rejected\"),0),20),\"\")","v":""}]
[null,{"$f":"+IF(AND(ISBLANK(F505),ISBLANK(K505)),\"\",IF(AND(ISBLANK(F505),B504<>\"\"),B504,IF(COUNTIF($F$13:F504,F505)>0,B504,MAX($B$13:B504)+1)))","v":""},null,null,0,null,null,null,null,"Enter PC",null,"","",{"$f":"+IF(ISBLANK(K505),\"\",VLOOKUP(K505,'5.3 Schedule of Rates'!B:D,3,0))","v":""},null,"",null,"","",null,null,null,{"$f":"IFERROR(INDEX('1.2 Sub-Con Application'!$B$13:$U$1012,MATCH(1,('1.2 Sub-Con Application'!$B$13:$B$1012=B505)*('1.2 Sub-Con Application'!$U$13:$U$1012=\"Rejected\"),0),20),\"\")","v":""}]
[null,{"$f":"+IF(AND(ISBLANK(F506),ISBLANK(K506)),\"\",IF(AND(ISBLANK(F506),B505<>\"\"),B505,IF(COUNTIF($F$13:F505,F506)>0,B505,MAX($B$13:B505)+1)))","v":""},null,null,0,null,null,null,null,"Enter PC",null,"","",{"$f":"+IF(ISBLANK(K506),\"\",VLOOKUP(K506,'5.3 Schedule of Rates'!B:D,3,0))","v":""},null,"",null,"","",null,null,null,{"$f":"IFERROR(INDEX('1.2 Sub-Con Application'!$B$13:$U$1012,MATCH(1,('1.2 Sub-Con Application'!$B$13:$B$1012=B506)*('1.2 Sub-Con Application'!$U$13:$U$1012=\"Rejected\"),0),20),\"\")","v":""}]
[null,{"$f":"+IF(AND(ISBLANK(F507),ISBLANK(K507)),\"\",IF(AND(ISBLANK(F507),B506<>\"\"),B506,IF(COUNTIF($F$13:F506,F507)>0,B506,MAX($B$13:B506)+1)))","v":""},null,null,0,null,null,null,null,"Enter PC",null,"","",{"$f":"+IF(ISBLANK(K507),\"\",VLOOKUP(K507,'5.3 Schedule of Rates'!B:D,3,0))","v":""},null,"",null,"","",null,null,null,{"$f":"IFERROR(INDEX('1.2 Sub-Con Application'!$B$13:$U$1012,MATCH(1,('1.2 Sub-Con Application'!$B$13:$B$1012=B507)*('1.2 Sub-Con Application'!$U$13:$U$1012=\"Rejected\"),0),20),\"\")","v":""}]
[null,{"$f":"+IF(AND(ISBLANK(F508),ISBLANK(K508)),\"\",IF(AND(ISBLANK(F508),B507<>\"\"),B507,IF(COUNTIF($F$13:F507,F508)>0,B507,MAX($B$13:B507)+1)))","v":""},null,null,0,null,null,null,null,"Enter PC",null,"","",{"$f":"+IF(ISBLANK(K508),\"\",VLOOKUP(K508,'5.3 Schedule of Rates'!B:D,3,0))","v":""},null,"",null,"","",null,null,null,{"$f":"IFERROR(INDEX('1.2 Sub-Con Application'!$B$13:$U$1012,MATCH(1,('1.2 Sub-Con Application'!$B$13:$B$1012=B508)*('1.2 Sub-Con Application'!$U$13:$U$1012=\"Rejected\"),0),20),\"\")","v":""}]
[null,{"$f":"+IF(AND(ISBLANK(F509),ISBLANK(K509)),\"\",IF(AND(ISBLANK(F509),B508<>\"\"),B508,IF(COUNTIF($F$13:F508,F509)>0,B508,MAX($B$13:B508)+1)))","v":""},null,null,0,null,null,null,null,"Enter PC",null,"","",{"$f":"+IF(ISBLANK(K509),\"\",VLOOKUP(K509,'5.3 Schedule of Rates'!B:D,3,0))","v":""},null,"",null,"","",null,null,null,{"$f":"IFERROR(INDEX('1.2 Sub-Con Application'!$B$13:$U$1012,MATCH(1,('1.2 Sub-Con Application'!$B$13:$B$1012=B509)*('1.2 Sub-Con Application'!$U$13:$U$1012=\"Rejected\"),0),20),\"\")","v":""}]
[null,{"$f":"+IF(AND(ISBLANK(F510),ISBLANK(K510)),\"\",IF(AND(ISBLANK(F510),B509<>\"\"),B509,IF(COUNTIF($F$13:F509,F510)>0,B509,MAX($B$13:B509)+1)))","v":""},null,null,0,null,null,null,null,"Enter PC",null,"","",{"$f":"+IF(ISBLANK(K510),\"\",VLOOKUP(K510,'5.3 Schedule of Rates'!B:D,3,0))","v":""},null,"",null,"","",null,null,null,{"$f":"IFERROR(INDEX('1.2 Sub-Con Application'!$B$13:$U$1012,MATCH(1,('1.2 Sub-Con Application'!$B$13:$B$1012=B510)*('1.2 Sub-Con Application'!$U$13:$U$1012=\"Rejected\"),0),20),\"\")","v":""}]
[null,{"$f":"+IF(AND(ISBLANK(F511),ISBLANK(K511)),\"\",IF(AND(ISBLANK(F511),B510<>\"\"),B510,IF(COUNTIF($F$13:F510,F511)>0,B510,MAX($B$13:B510)+1)))","v":""},null,null,{"$f":"NETWORKDAYS(C511,D511)","v":0},null,null,null,null,"Enter PC",null,"","",{"$f":"+IF(ISBLANK(K511),\"\",VLOOKUP(K511,'5.3 Schedule of Rates'!B:D,3,0))","v":""},null,"",null,"",{"$f":"IF(ISERROR(SUM(P511-R511)),\"\",SUM(P511-R511))","v":""},null,null,null,{"$f":"IFERROR(INDEX('1.2 Sub-Con Application'!$B$13:$U$1012,MATCH(1,('1.2 Sub-Con Application'!$B$13:$B$1012=B511)*('1.2 Sub-Con Application'!$U$13:$U$1012=\"Rejected\"),0),20),\"\")","v":""}]
[null,{"$f":"+IF(AND(ISBLANK(F512),ISBLANK(K512)),\"\",IF(AND(ISBLANK(F512),B511<>\"\"),B511,IF(COUNTIF($F$13:F511,F512)>0,B511,MAX($B$13:B511)+1)))","v":""},null,null,0,null,null,null,null,"Enter PC",null,"","",{"$f":"+IF(ISBLANK(K512),\"\",VLOOKUP(K512,'5.3 Schedule of Rates'!B:D,3,0))","v":""},null,"",null,"","",null,null,null,{"$f":"IFERROR(INDEX('1.2 Sub-Con Application'!$B$13:$U$1012,MATCH(1,('1.2 Sub-Con Application'!$B$13:$B$1012=B512)*('1.2 Sub-Con Application'!$U$13:$U$1012=\"Rejected\"),0),20),\"\")","v":""}]
[null,{"$f":"+IF(AND(ISBLANK(F513),ISBLANK(K513)),\"\",IF(AND(ISBLANK(F513),B512<>\"\"),B512,IF(COUNTIF($F$13:F512,F513)>0,B512,MAX($B$13:B512)+1)))","v":""},null,null,0,null,null,null,null,"Enter PC",null,"","",{"$f":"+IF(ISBLANK(K513),\"\",VLOOKUP(K513,'5.3 Schedule of Rates'!B:D,3,0))","v":""},null,"",null,"","",null,null,null,{"$f":"IFERROR(INDEX('1.2 Sub-Con Application'!$B$13:$U$1012,MATCH(1,('1.2 Sub-Con Application'!$B$13:$B$1012=B513)*('1.2 Sub-Con Application'!$U$13:$U$1012=\"Rejected\"),0),20),\"\")","v":""}]
[null,{"$f":"+IF(AND(ISBLANK(F514),ISBLANK(K514)),\"\",IF(AND(ISBLANK(F514),B513<>\"\"),B513,IF(COUNTIF($F$13:F513,F514)>0,B513,MAX($B$13:B513)+1)))","v":""},null,null,0,null,null,null,null,"Enter PC",null,"","",{"$f":"+IF(ISBLANK(K514),\"\",VLOOKUP(K514,'5.3 Schedule of Rates'!B:D,3,0))","v":""},null,"",null,"","",null,null,null,{"$f":"IFERROR(INDEX('1.2 Sub-Con Application'!$B$13:$U$1012,MATCH(1,('1.2 Sub-Con Application'!$B$13:$B$1012=B514)*('1.2 Sub-Con Application'!$U$13:$U$1012=\"Rejected\"),0),20),\"\")","v":""}]
[null,{"$f":"+IF(AND(ISBLANK(F515),ISBLANK(K515)),\"\",IF(AND(ISBLANK(F515),B514<>\"\"),B514,IF(COUNTIF($F$13:F514,F515)>0,B514,MAX($B$13:B514)+1)))","v":""},null,null,0,null,null,null,null,"Enter PC",null,"","",{"$f":"+IF(ISBLANK(K515),\"\",VLOOKUP(K515,'5.3 Schedule of Rates'!B:D,3,0))","v":""},null,"",null,"","",null,null,null,{"$f":"IFERROR(INDEX('1.2 Sub-Con Application'!$B$13:$U$1012,MATCH(1,('1.2 Sub-Con Application'!$B$13:$B$1012=B515)*('1.2 Sub-Con Application'!$U$13:$U$1012=\"Rejected\"),0),20),\"\")","v":""}]
[null,{"$f":"+IF(AND(ISBLANK(F516),ISBLANK(K516)),\"\",IF(AND(ISBLANK(F516),B515<>\"\"),B515,IF(COUNTIF($F$13:F515,F516)>0,B515,MAX($B$13:B515)+1)))","v":""},null,null,0,null,null,null,null,"Enter PC",null,"","",{"$f":"+IF(ISBLANK(K516),\"\",VLOOKUP(K516,'5.3 Schedule of Rates'!B:D,3,0))","v":""},null,"",null,"","",null,null,null,{"$f":"IFERROR(INDEX('1.2 Sub-Con Application'!$B$13:$U$1012,MATCH(1,('1.2 Sub-Con Application'!$B$13:$B$1012=B516)*('1.2 Sub-Con Application'!$U$13:$U$1012=\"Rejected\"),0),20),\"\")","v":""}]
[null,{"$f":"+IF(AND(ISBLANK(F517),ISBLANK(K517)),\"\",IF(AND(ISBLANK(F517),B516<>\"\"),B516,IF(COUNTIF($F$13:F516,F517)>0,B516,MAX($B$13:B516)+1)))","v":""},null,null,0,null,null,null,null,"Enter PC",null,"","",{"$f":"+IF(ISBLANK(K517),\"\",VLOOKUP(K517,'5.3 Schedule of Rates'!B:D,3,0))","v":""},null,"",null,"","",null,null,null,{"$f":"IFERROR(INDEX('1.2 Sub-Con Application'!$B$13:$U$1012,MATCH(1,('1.2 Sub-Con Application'!$B$13:$B$1012=B517)*('1.2 Sub-Con Application'!$U$13:$U$1012=\"Rejected\"),0),20),\"\")","v":""}]
[null,{"$f":"+IF(AND(ISBLANK(F518),ISBLANK(K518)),\"\",IF(AND(ISBLANK(F518),B517<>\"\"),B517,IF(COUNTIF($F$13:F517,F518)>0,B517,MAX($B$13:B517)+1)))","v":""},null,null,0,null,null,null,null,"Enter PC",null,"","",{"$f":"+IF(ISBLANK(K518),\"\",VLOOKUP(K518,'5.3 Schedule of Rates'!B:D,3,0))","v":""},null,"",null,"","",null,null,null,{"$f":"IFERROR(INDEX('1.2 Sub-Con Application'!$B$13:$U$1012,MATCH(1,('1.2 Sub-Con Application'!$B$13:$B$1012=B518)*('1.2 Sub-Con Application'!$U$13:$U$1012=\"Rejected\"),0),20),\"\")","v":""}]
[null,{"$f":"+IF(AND(ISBLANK(F519),ISBLANK(K519)),\"\",IF(AND(ISBLANK(F519),B518<>\"\"),B518,IF(COUNTIF($F$13:F518,F519)>0,B518,MAX($B$13:B518)+1)))","v":""},null,null,0,null,null,null,null,"Enter PC",null,"","",{"$f":"+IF(ISBLANK(K519),\"\",VLOOKUP(K519,'5.3 Schedule of Rates'!B:D,3,0))","v":""},null,"",null,"","",null,null,null,{"$f":"IFERROR(INDEX('1.2 Sub-Con Application'!$B$13:$U$1012,MATCH(1,('1.2 Sub-Con Application'!$B$13:$B$1012=B519)*('1.2 Sub-Con Application'!$U$13:$U$1012=\"Rejected\"),0),20),\"\")","v":""}]
[null,{"$f":"+IF(AND(ISBLANK(F520),ISBLANK(K520)),\"\",IF(AND(ISBLANK(F520),B519<>\"\"),B519,IF(COUNTIF($F$13:F519,F520)>0,B519,MAX($B$13:B519)+1)))","v":""},null,null,0,null,null,null,null,"Enter PC",null,"","",{"$f":"+IF(ISBLANK(K520),\"\",VLOOKUP(K520,'5.3 Schedule of Rates'!B:D,3,0))","v":""},null,"",null,"","",null,null,null,{"$f":"IFERROR(INDEX('1.2 Sub-Con Application'!$B$13:$U$1012,MATCH(1,('1.2 Sub-Con Application'!$B$13:$B$1012=B520)*('1.2 Sub-Con Application'!$U$13:$U$1012=\"Rejected\"),0),20),\"\")","v":""}]
[null,{"$f":"+IF(AND(ISBLANK(F521),ISBLANK(K521)),\"\",IF(AND(ISBLANK(F521),B520<>\"\"),B520,IF(COUNTIF($F$13:F520,F521)>0,B520,MAX($B$13:B520)+1)))","v":""},null,null,0,null,null,null,null,"Enter PC",null,"","",{"$f":"+IF(ISBLANK(K521),\"\",VLOOKUP(K521,'5.3 Schedule of Rates'!B:D,3,0))","v":""},null,"",null,"","",null,null,null,{"$f":"IFERROR(INDEX('1.2 Sub-Con Application'!$B$13:$U$1012,MATCH(1,('1.2 Sub-Con Application'!$B$13:$B$1012=B521)*('1.2 Sub-Con Application'!$U$13:$U$1012=\"Rejected\"),0),20),\"\")","v":""}]
[null,{"$f":"+IF(AND(ISBLANK(F522),ISBLANK(K522)),\"\",IF(AND(ISBLANK(F522),B521<>\"\"),B521,IF(COUNTIF($F$13:F521,F522)>0,B521,MAX($B$13:B521)+1)))","v":""},null,null,0,null,null,null,null,"Enter PC",null,"","",{"$f":"+IF(ISBLANK(K522),\"\",VLOOKUP(K522,'5.3 Schedule of Rates'!B:D,3,0))","v":""},null,"",null,"","",null,null,null,{"$f":"IFERROR(INDEX('1.2 Sub-Con Application'!$B$13:$U$1012,MATCH(1,('1.2 Sub-Con Application'!$B$13:$B$1012=B522)*('1.2 Sub-Con Application'!$U$13:$U$1012=\"Rejected\"),0),20),\"\")","v":""}]
[null,{"$f":"+IF(AND(ISBLANK(F523),ISBLANK(K523)),\"\",IF(AND(ISBLANK(F523),B522<>\"\"),B522,IF(COUNTIF($F$13:F522,F523)>0,B522,MAX($B$13:B522)+1)))","v":""},null,null,0,null,null,null,null,"Enter PC",null,"","",{"$f":"+IF(ISBLANK(K523),\"\",VLOOKUP(K523,'5.3 Schedule of Rates'!B:D,3,0))","v":""},null,"",null,"","",null,null,null,{"$f":"IFERROR(INDEX('1.2 Sub-Con Application'!$B$13:$U$1012,MATCH(1,('1.2 Sub-Con Application'!$B$13:$B$1012=B523)*('1.2 Sub-Con Application'!$U$13:$U$1012=\"Rejected\"),0),20),\"\")","v":""}]
[null,{"$f":"+IF(AND(ISBLANK(F524),ISBLANK(K524)),\"\",IF(AND(ISBLANK(F524),B523<>\"\"),B523,IF(COUNTIF($F$13:F523,F524)>0,B523,MAX($B$13:B523)+1)))","v":""},null,null,0,null,null,null,null,"Enter PC",null,"","",{"$f":"+IF(ISBLANK(K524),\"\",VLOOKUP(K524,'5.3 Schedule of Rates'!B:D,3,0))","v":""},null,"",null,"","",null,null,null,{"$f":"IFERROR(INDEX('1.2 Sub-Con Application'!$B$13:$U$1012,MATCH(1,('1.2 Sub-Con Application'!$B$13:$B$1012=B524)*('1.2 Sub-Con Application'!$U$13:$U$1012=\"Rejected\"),0),20),\"\")","v":""}]
[null,{"$f":"+IF(AND(ISBLANK(F525),ISBLANK(K525)),\"\",IF(AND(ISBLANK(F525),B524<>\"\"),B524,IF(COUNTIF($F$13:F524,F525)>0,B524,MAX($B$13:B524)+1)))","v":""},null,null,0,null,null,null,null,{"$f":"IFERROR(IF(I525=\"\",\"Enter PC\",VLOOKUP(IF(LEN(I525)=6,LEFT(I525,2),IF(LEN(I525)=7,LEFT(I525,3),LEFT(I525,4))),table_pcRegion,2,FALSE)=work_Region),\"INVALID\")","v":"Enter PC"},null,{"$f":"+IF(ISBLANK(K525),\"\",VLOOKUP(K525,table_SoR,2,0))","v":""},{"$f":"+IF(ISBLANK(K525),\"\",INDEX(table_subconSoR,MATCH(L525,row_SoR,0),MATCH($H$4,col_SoR,0)))","v":""},{"$f":"+IF(ISBLANK(K525),\"\",VLOOKUP(K525,'5.3 Schedule of Rates'!B:D,3,0))","v":""},null,{"$f":"+IF(ISBLANK($O525),\"\",ROUND(SUM(SUM(VLOOKUP($K525,table_SoR,6,0)*(1+$M525))*O525),2))","v":""},null,{"$f":"+IF(ISBLANK($O525),\"\",ROUND(IF(Q525>0,Q525,SUM(SUM(VLOOKUP($K525,table_SoR,7,0)*(1+$M525))*O525)),2))","v":""},"",null,null,null,{"$f":"IFERROR(INDEX('1.2 Sub-Con Application'!$B$13:$U$1012,MATCH(1,('1.2 Sub-Con Application'!$B$13:$B$1012=B525)*('1.2 Sub-Con Application'!$U$13:$U$1012=\"Rejected\"),0),20),\"\")","v":""}]
[null,{"$f":"+IF(AND(ISBLANK(F526),ISBLANK(K526)),\"\",IF(AND(ISBLANK(F526),B525<>\"\"),B525,IF(COUNTIF($F$13:F525,F526)>0,B525,MAX($B$13:B525)+1)))","v":""},null,null,0,null,null,null,null,"Enter PC",null,"","",{"$f":"+IF(ISBLANK(K526),\"\",VLOOKUP(K526,'5.3 Schedule of Rates'!B:D,3,0))","v":""},null,"",null,"","",null,null,null,{"$f":"IFERROR(INDEX('1.2 Sub-Con Application'!$B$13:$U$1012,MATCH(1,('1.2 Sub-Con Application'!$B$13:$B$1012=B526)*('1.2 Sub-Con Application'!$U$13:$U$1012=\"Rejected\"),0),20),\"\")","v":""}]
[null,{"$f":"+IF(AND(ISBLANK(F527),ISBLANK(K527)),\"\",IF(AND(ISBLANK(F527),B526<>\"\"),B526,IF(COUNTIF($F$13:F526,F527)>0,B526,MAX($B$13:B526)+1)))","v":""},null,null,0,null,null,null,null,"Enter PC",null,"","",{"$f":"+IF(ISBLANK(K527),\"\",VLOOKUP(K527,'5.3 Schedule of Rates'!B:D,3,0))","v":""},null,"",null,"","",null,null,null,{"$f":"IFERROR(INDEX('1.2 Sub-Con Application'!$B$13:$U$1012,MATCH(1,('1.2 Sub-Con Application'!$B$13:$B$1012=B527)*('1.2 Sub-Con Application'!$U$13:$U$1012=\"Rejected\"),0),20),\"\")","v":""}]
[null,{"$f":"+IF(AND(ISBLANK(F528),ISBLANK(K528)),\"\",IF(AND(ISBLANK(F528),B527<>\"\"),B527,IF(COUNTIF($F$13:F527,F528)>0,B527,MAX($B$13:B527)+1)))","v":""},null,null,0,null,null,null,null,"Enter PC",null,"","",{"$f":"+IF(ISBLANK(K528),\"\",VLOOKUP(K528,'5.3 Schedule of Rates'!B:D,3,0))","v":""},null,"",null,"","",null,null,null,{"$f":"IFERROR(INDEX('1.2 Sub-Con Application'!$B$13:$U$1012,MATCH(1,('1.2 Sub-Con Application'!$B$13:$B$1012=B528)*('1.2 Sub-Con Application'!$U$13:$U$1012=\"Rejected\"),0),20),\"\")","v":""}]
[null,{"$f":"+IF(AND(ISBLANK(F529),ISBLANK(K529)),\"\",IF(AND(ISBLANK(F529),B528<>\"\"),B528,IF(COUNTIF($F$13:F528,F529)>0,B528,MAX($B$13:B528)+1)))","v":""},null,null,0,null,null,null,null,"Enter PC",null,"","",{"$f":"+IF(ISBLANK(K529),\"\",VLOOKUP(K529,'5.3 Schedule of Rates'!B:D,3,0))","v":""},null,"",null,"","",null,null,null,{"$f":"IFERROR(INDEX('1.2 Sub-Con Application'!$B$13:$U$1012,MATCH(1,('1.2 Sub-Con Application'!$B$13:$B$1012=B529)*('1.2 Sub-Con Application'!$U$13:$U$1012=\"Rejected\"),0),20),\"\")","v":""}]
[null,{"$f":"+IF(AND(ISBLANK(F530),ISBLANK(K530)),\"\",IF(AND(ISBLANK(F530),B529<>\"\"),B529,IF(COUNTIF($F$13:F529,F530)>0,B529,MAX($B$13:B529)+1)))","v":""},null,null,0,null,null,null,null,"Enter PC",null,"","",{"$f":"+IF(ISBLANK(K530),\"\",VLOOKUP(K530,'5.3 Schedule of Rates'!B:D,3,0))","v":""},null,"",null,"","",null,null,null,{"$f":"IFERROR(INDEX('1.2 Sub-Con Application'!$B$13:$U$1012,MATCH(1,('1.2 Sub-Con Application'!$B$13:$B$1012=B530)*('1.2 Sub-Con Application'!$U$13:$U$1012=\"Rejected\"),0),20),\"\")","v":""}]
[null,{"$f":"+IF(AND(ISBLANK(F531),ISBLANK(K531)),\"\",IF(AND(ISBLANK(F531),B530<>\"\"),B530,IF(COUNTIF($F$13:F530,F531)>0,B530,MAX($B$13:B530)+1)))","v":""},null,null,0,null,null,null,null,"Enter PC",null,"","",{"$f":"+IF(ISBLANK(K531),\"\",VLOOKUP(K531,'5.3 Schedule of Rates'!B:D,3,0))","v":""},null,"",null,"","",null,null,null,{"$f":"IFERROR(INDEX('1.2 Sub-Con Application'!$B$13:$U$1012,MATCH(1,('1.2 Sub-Con Application'!$B$13:$B$1012=B531)*('1.2 Sub-Con Application'!$U$13:$U$1012=\"Rejected\"),0),20),\"\")","v":""}]
[null,{"$f":"+IF(AND(ISBLANK(F532),ISBLANK(K532)),\"\",IF(AND(ISBLANK(F532),B531<>\"\"),B531,IF(COUNTIF($F$13:F531,F532)>0,B531,MAX($B$13:B531)+1)))","v":""},null,null,0,null,null,null,null,"Enter PC",null,"","",{"$f":"+IF(ISBLANK(K532),\"\",VLOOKUP(K532,'5.3 Schedule of Rates'!B:D,3,0))","v":""},null,"",null,"","",null,null,null,{"$f":"IFERROR(INDEX('1.2 Sub-Con Application'!$B$13:$U$1012,MATCH(1,('1.2 Sub-Con Application'!$B$13:$B$1012=B532)*('1.2 Sub-Con Application'!$U$13:$U$1012=\"Rejected\"),0),20),\"\")","v":""}]
[null,{"$f":"+IF(AND(ISBLANK(F533),ISBLANK(K533)),\"\",IF(AND(ISBLANK(F533),B532<>\"\"),B532,IF(COUNTIF($F$13:F532,F533)>0,B532,MAX($B$13:B532)+1)))","v":""},null,null,0,null,null,null,null,"Enter PC",null,"","",{"$f":"+IF(ISBLANK(K533),\"\",VLOOKUP(K533,'5.3 Schedule of Rates'!B:D,3,0))","v":""},null,"",null,"","",null,null,null,{"$f":"IFERROR(INDEX('1.2 Sub-Con Application'!$B$13:$U$1012,MATCH(1,('1.2 Sub-Con Application'!$B$13:$B$1012=B533)*('1.2 Sub-Con Application'!$U$13:$U$1012=\"Rejected\"),0),20),\"\")","v":""}]
[null,{"$f":"+IF(AND(ISBLANK(F534),ISBLANK(K534)),\"\",IF(AND(ISBLANK(F534),B533<>\"\"),B533,IF(COUNTIF($F$13:F533,F534)>0,B533,MAX($B$13:B533)+1)))","v":""},null,null,0,null,null,null,null,"Enter PC",null,"","",{"$f":"+IF(ISBLANK(K534),\"\",VLOOKUP(K534,'5.3 Schedule of Rates'!B:D,3,0))","v":""},null,"",null,"","",null,null,null,{"$f":"IFERROR(INDEX('1.2 Sub-Con Application'!$B$13:$U$1012,MATCH(1,('1.2 Sub-Con Application'!$B$13:$B$1012=B534)*('1.2 Sub-Con Application'!$U$13:$U$1012=\"Rejected\"),0),20),\"\")","v":""}]
[null,{"$f":"+IF(AND(ISBLANK(F535),ISBLANK(K535)),\"\",IF(AND(ISBLANK(F535),B534<>\"\"),B534,IF(COUNTIF($F$13:F534,F535)>0,B534,MAX($B$13:B534)+1)))","v":""},null,null,0,null,null,null,null,"Enter PC",null,"","",{"$f":"+IF(ISBLANK(K535),\"\",VLOOKUP(K535,'5.3 Schedule of Rates'!B:D,3,0))","v":""},null,"",null,"","",null,null,null,{"$f":"IFERROR(INDEX('1.2 Sub-Con Application'!$B$13:$U$1012,MATCH(1,('1.2 Sub-Con Application'!$B$13:$B$1012=B535)*('1.2 Sub-Con Application'!$U$13:$U$1012=\"Rejected\"),0),20),\"\")","v":""}]
[null,{"$f":"+IF(AND(ISBLANK(F536),ISBLANK(K536)),\"\",IF(AND(ISBLANK(F536),B535<>\"\"),B535,IF(COUNTIF($F$13:F535,F536)>0,B535,MAX($B$13:B535)+1)))","v":""},null,null,0,null,null,null,null,"Enter PC",null,"","",{"$f":"+IF(ISBLANK(K536),\"\",VLOOKUP(K536,'5.3 Schedule of Rates'!B:D,3,0))","v":""},null,"",null,"","",null,null,null,{"$f":"IFERROR(INDEX('1.2 Sub-Con Application'!$B$13:$U$1012,MATCH(1,('1.2 Sub-Con Application'!$B$13:$B$1012=B536)*('1.2 Sub-Con Application'!$U$13:$U$1012=\"Rejected\"),0),20),\"\")","v":""}]
[null,{"$f":"+IF(AND(ISBLANK(F537),ISBLANK(K537)),\"\",IF(AND(ISBLANK(F537),B536<>\"\"),B536,IF(COUNTIF($F$13:F536,F537)>0,B536,MAX($B$13:B536)+1)))","v":""},null,null,0,null,null,null,null,"Enter PC",null,"","",{"$f":"+IF(ISBLANK(K537),\"\",VLOOKUP(K537,'5.3 Schedule of Rates'!B:D,3,0))","v":""},null,"",null,"","",null,null,null,{"$f":"IFERROR(INDEX('1.2 Sub-Con Application'!$B$13:$U$1012,MATCH(1,('1.2 Sub-Con Application'!$B$13:$B$1012=B537)*('1.2 Sub-Con Application'!$U$13:$U$1012=\"Rejected\"),0),20),\"\")","v":""}]
[null,{"$f":"+IF(AND(ISBLANK(F538),ISBLANK(K538)),\"\",IF(AND(ISBLANK(F538),B537<>\"\"),B537,IF(COUNTIF($F$13:F537,F538)>0,B537,MAX($B$13:B537)+1)))","v":""},null,null,0,null,null,null,null,"Enter PC",null,"","",{"$f":"+IF(ISBLANK(K538),\"\",VLOOKUP(K538,'5.3 Schedule of Rates'!B:D,3,0))","v":""},null,"",null,"","",null,null,null,{"$f":"IFERROR(INDEX('1.2 Sub-Con Application'!$B$13:$U$1012,MATCH(1,('1.2 Sub-Con Application'!$B$13:$B$1012=B538)*('1.2 Sub-Con Application'!$U$13:$U$1012=\"Rejected\"),0),20),\"\")","v":""}]
[null,{"$f":"+IF(AND(ISBLANK(F539),ISBLANK(K539)),\"\",IF(AND(ISBLANK(F539),B538<>\"\"),B538,IF(COUNTIF($F$13:F538,F539)>0,B538,MAX($B$13:B538)+1)))","v":""},null,null,0,null,null,null,null,"Enter PC",null,"","",{"$f":"+IF(ISBLANK(K539),\"\",VLOOKUP(K539,'5.3 Schedule of Rates'!B:D,3,0))","v":""},null,"",null,"","",null,null,null,{"$f":"IFERROR(INDEX('1.2 Sub-Con Application'!$B$13:$U$1012,MATCH(1,('1.2 Sub-Con Application'!$B$13:$B$1012=B539)*('1.2 Sub-Con Application'!$U$13:$U$1012=\"Rejected\"),0),20),\"\")","v":""}]
[null,{"$f":"+IF(AND(ISBLANK(F540),ISBLANK(K540)),\"\",IF(AND(ISBLANK(F540),B539<>\"\"),B539,IF(COUNTIF($F$13:F539,F540)>0,B539,MAX($B$13:B539)+1)))","v":""},null,null,0,null,null,null,null,"Enter PC",null,"","",{"$f":"+IF(ISBLANK(K540),\"\",VLOOKUP(K540,'5.3 Schedule of Rates'!B:D,3,0))","v":""},null,"",null,"","",null,null,null,{"$f":"IFERROR(INDEX('1.2 Sub-Con Application'!$B$13:$U$1012,MATCH(1,('1.2 Sub-Con Application'!$B$13:$B$1012=B540)*('1.2 Sub-Con Application'!$U$13:$U$1012=\"Rejected\"),0),20),\"\")","v":""}]
[null,{"$f":"+IF(AND(ISBLANK(F541),ISBLANK(K541)),\"\",IF(AND(ISBLANK(F541),B540<>\"\"),B540,IF(COUNTIF($F$13:F540,F541)>0,B540,MAX($B$13:B540)+1)))","v":""},null,null,0,null,null,null,null,"Enter PC",null,"","",{"$f":"+IF(ISBLANK(K541),\"\",VLOOKUP(K541,'5.3 Schedule of Rates'!B:D,3,0))","v":""},null,"",null,"","",null,null,null,{"$f":"IFERROR(INDEX('1.2 Sub-Con Application'!$B$13:$U$1012,MATCH(1,('1.2 Sub-Con Application'!$B$13:$B$1012=B541)*('1.2 Sub-Con Application'!$U$13:$U$1012=\"Rejected\"),0),20),\"\")","v":""}]
[null,{"$f":"+IF(AND(ISBLANK(F542),ISBLANK(K542)),\"\",IF(AND(ISBLANK(F542),B541<>\"\"),B541,IF(COUNTIF($F$13:F541,F542)>0,B541,MAX($B$13:B541)+1)))","v":""},null,null,0,null,null,null,null,"Enter PC",null,"","",{"$f":"+IF(ISBLANK(K542),\"\",VLOOKUP(K542,'5.3 Schedule of Rates'!B:D,3,0))","v":""},null,"",null,"","",null,null,null,{"$f":"IFERROR(INDEX('1.2 Sub-Con Application'!$B$13:$U$1012,MATCH(1,('1.2 Sub-Con Application'!$B$13:$B$1012=B542)*('1.2 Sub-Con Application'!$U$13:$U$1012=\"Rejected\"),0),20),\"\")","v":""}]
[null,{"$f":"+IF(AND(ISBLANK(F543),ISBLANK(K543)),\"\",IF(AND(ISBLANK(F543),B542<>\"\"),B542,IF(COUNTIF($F$13:F542,F543)>0,B542,MAX($B$13:B542)+1)))","v":""},null,null,0,null,null,null,null,"Enter PC",null,"","",{"$f":"+IF(ISBLANK(K543),\"\",VLOOKUP(K543,'5.3 Schedule of Rates'!B:D,3,0))","v":""},null,"",null,"","",null,null,null,{"$f":"IFERROR(INDEX('1.2 Sub-Con Application'!$B$13:$U$1012,MATCH(1,('1.2 Sub-Con Application'!$B$13:$B$1012=B543)*('1.2 Sub-Con Application'!$U$13:$U$1012=\"Rejected\"),0),20),\"\")","v":""}]
[null,{"$f":"+IF(AND(ISBLANK(F544),ISBLANK(K544)),\"\",IF(AND(ISBLANK(F544),B543<>\"\"),B543,IF(COUNTIF($F$13:F543,F544)>0,B543,MAX($B$13:B543)+1)))","v":""},null,null,0,null,null,null,null,"Enter PC",null,"","",{"$f":"+IF(ISBLANK(K544),\"\",VLOOKUP(K544,'5.3 Schedule of Rates'!B:D,3,0))","v":""},null,"",null,"","",null,null,null,{"$f":"IFERROR(INDEX('1.2 Sub-Con Application'!$B$13:$U$1012,MATCH(1,('1.2 Sub-Con Application'!$B$13:$B$1012=B544)*('1.2 Sub-Con Application'!$U$13:$U$1012=\"Rejected\"),0),20),\"\")","v":""}]
[null,{"$f":"+IF(AND(ISBLANK(F545),ISBLANK(K545)),\"\",IF(AND(ISBLANK(F545),B544<>\"\"),B544,IF(COUNTIF($F$13:F544,F545)>0,B544,MAX($B$13:B544)+1)))","v":""},null,null,0,null,null,null,null,"Enter PC",null,"","",{"$f":"+IF(ISBLANK(K545),\"\",VLOOKUP(K545,'5.3 Schedule of Rates'!B:D,3,0))","v":""},null,"",null,"","",null,null,null,{"$f":"IFERROR(INDEX('1.2 Sub-Con Application'!$B$13:$U$1012,MATCH(1,('1.2 Sub-Con Application'!$B$13:$B$1012=B545)*('1.2 Sub-Con Application'!$U$13:$U$1012=\"Rejected\"),0),20),\"\")","v":""}]
[null,{"$f":"+IF(AND(ISBLANK(F546),ISBLANK(K546)),\"\",IF(AND(ISBLANK(F546),B545<>\"\"),B545,IF(COUNTIF($F$13:F545,F546)>0,B545,MAX($B$13:B545)+1)))","v":""},null,null,0,null,null,null,null,"Enter PC",null,"","",{"$f":"+IF(ISBLANK(K546),\"\",VLOOKUP(K546,'5.3 Schedule of Rates'!B:D,3,0))","v":""},null,"",null,"","",null,null,null,{"$f":"IFERROR(INDEX('1.2 Sub-Con Application'!$B$13:$U$1012,MATCH(1,('1.2 Sub-Con Application'!$B$13:$B$1012=B546)*('1.2 Sub-Con Application'!$U$13:$U$1012=\"Rejected\"),0),20),\"\")","v":""}]
[null,{"$f":"+IF(AND(ISBLANK(F547),ISBLANK(K547)),\"\",IF(AND(ISBLANK(F547),B546<>\"\"),B546,IF(COUNTIF($F$13:F546,F547)>0,B546,MAX($B$13:B546)+1)))","v":""},null,null,0,null,null,null,null,"Enter PC",null,"","",{"$f":"+IF(ISBLANK(K547),\"\",VLOOKUP(K547,'5.3 Schedule of Rates'!B:D,3,0))","v":""},null,"",null,"","",null,null,null,{"$f":"IFERROR(INDEX('1.2 Sub-Con Application'!$B$13:$U$1012,MATCH(1,('1.2 Sub-Con Application'!$B$13:$B$1012=B547)*('1.2 Sub-Con Application'!$U$13:$U$1012=\"Rejected\"),0),20),\"\")","v":""}]
[null,{"$f":"+IF(AND(ISBLANK(F548),ISBLANK(K548)),\"\",IF(AND(ISBLANK(F548),B547<>\"\"),B547,IF(COUNTIF($F$13:F547,F548)>0,B547,MAX($B$13:B547)+1)))","v":""},null,null,0,null,null,null,null,"Enter PC",null,"","",{"$f":"+IF(ISBLANK(K548),\"\",VLOOKUP(K548,'5.3 Schedule of Rates'!B:D,3,0))","v":""},null,"",null,"","",null,null,null,{"$f":"IFERROR(INDEX('1.2 Sub-Con Application'!$B$13:$U$1012,MATCH(1,('1.2 Sub-Con Application'!$B$13:$B$1012=B548)*('1.2 Sub-Con Application'!$U$13:$U$1012=\"Rejected\"),0),20),\"\")","v":""}]
[null,{"$f":"+IF(AND(ISBLANK(F549),ISBLANK(K549)),\"\",IF(AND(ISBLANK(F549),B548<>\"\"),B548,IF(COUNTIF($F$13:F548,F549)>0,B548,MAX($B$13:B548)+1)))","v":""},null,null,0,null,null,null,null,"Enter PC",null,"","",{"$f":"+IF(ISBLANK(K549),\"\",VLOOKUP(K549,'5.3 Schedule of Rates'!B:D,3,0))","v":""},null,"",null,"","",null,null,null,{"$f":"IFERROR(INDEX('1.2 Sub-Con Application'!$B$13:$U$1012,MATCH(1,('1.2 Sub-Con Application'!$B$13:$B$1012=B549)*('1.2 Sub-Con Application'!$U$13:$U$1012=\"Rejected\"),0),20),\"\")","v":""}]
[null,{"$f":"+IF(AND(ISBLANK(F550),ISBLANK(K550)),\"\",IF(AND(ISBLANK(F550),B549<>\"\"),B549,IF(COUNTIF($F$13:F549,F550)>0,B549,MAX($B$13:B549)+1)))","v":""},null,null,0,null,null,null,null,"Enter PC",null,"","",{"$f":"+IF(ISBLANK(K550),\"\",VLOOKUP(K550,'5.3 Schedule of Rates'!B:D,3,0))","v":""},null,"",null,"","",null,null,null,{"$f":"IFERROR(INDEX('1.2 Sub-Con Application'!$B$13:$U$1012,MATCH(1,('1.2 Sub-Con Application'!$B$13:$B$1012=B550)*('1.2 Sub-Con Application'!$U$13:$U$1012=\"Rejected\"),0),20),\"\")","v":""}]
[null,{"$f":"+IF(AND(ISBLANK(F551),ISBLANK(K551)),\"\",IF(AND(ISBLANK(F551),B550<>\"\"),B550,IF(COUNTIF($F$13:F550,F551)>0,B550,MAX($B$13:B550)+1)))","v":""},null,null,0,null,null,null,null,"Enter PC",null,"","",{"$f":"+IF(ISBLANK(K551),\"\",VLOOKUP(K551,'5.3 Schedule of Rates'!B:D,3,0))","v":""},null,"",null,"","",null,null,null,{"$f":"IFERROR(INDEX('1.2 Sub-Con Application'!$B$13:$U$1012,MATCH(1,('1.2 Sub-Con Application'!$B$13:$B$1012=B551)*('1.2 Sub-Con Application'!$U$13:$U$1012=\"Rejected\"),0),20),\"\")","v":""}]
[null,{"$f":"+IF(AND(ISBLANK(F552),ISBLANK(K552)),\"\",IF(AND(ISBLANK(F552),B551<>\"\"),B551,IF(COUNTIF($F$13:F551,F552)>0,B551,MAX($B$13:B551)+1)))","v":""},null,null,0,null,null,null,null,"Enter PC",null,"","",{"$f":"+IF(ISBLANK(K552),\"\",VLOOKUP(K552,'5.3 Schedule of Rates'!B:D,3,0))","v":""},null,"",null,"","",null,null,null,{"$f":"IFERROR(INDEX('1.2 Sub-Con Application'!$B$13:$U$1012,MATCH(1,('1.2 Sub-Con Application'!$B$13:$B$1012=B552)*('1.2 Sub-Con Application'!$U$13:$U$1012=\"Rejected\"),0),20),\"\")","v":""}]
[null,{"$f":"+IF(AND(ISBLANK(F553),ISBLANK(K553)),\"\",IF(AND(ISBLANK(F553),B552<>\"\"),B552,IF(COUNTIF($F$13:F552,F553)>0,B552,MAX($B$13:B552)+1)))","v":""},null,null,0,null,null,null,null,"Enter PC",null,"","",{"$f":"+IF(ISBLANK(K553),\"\",VLOOKUP(K553,'5.3 Schedule of Rates'!B:D,3,0))","v":""},null,"",null,"","",null,null,null,{"$f":"IFERROR(INDEX('1.2 Sub-Con Application'!$B$13:$U$1012,MATCH(1,('1.2 Sub-Con Application'!$B$13:$B$1012=B553)*('1.2 Sub-Con Application'!$U$13:$U$1012=\"Rejected\"),0),20),\"\")","v":""}]
[null,{"$f":"+IF(AND(ISBLANK(F554),ISBLANK(K554)),\"\",IF(AND(ISBLANK(F554),B553<>\"\"),B553,IF(COUNTIF($F$13:F553,F554)>0,B553,MAX($B$13:B553)+1)))","v":""},null,null,0,null,null,null,null,"Enter PC",null,"","",{"$f":"+IF(ISBLANK(K554),\"\",VLOOKUP(K554,'5.3 Schedule of Rates'!B:D,3,0))","v":""},null,"",null,"","",null,null,null,{"$f":"IFERROR(INDEX('1.2 Sub-Con Application'!$B$13:$U$1012,MATCH(1,('1.2 Sub-Con Application'!$B$13:$B$1012=B554)*('1.2 Sub-Con Application'!$U$13:$U$1012=\"Rejected\"),0),20),\"\")","v":""}]
[null,{"$f":"+IF(AND(ISBLANK(F555),ISBLANK(K555)),\"\",IF(AND(ISBLANK(F555),B554<>\"\"),B554,IF(COUNTIF($F$13:F554,F555)>0,B554,MAX($B$13:B554)+1)))","v":""},null,null,0,null,null,null,null,"Enter PC",null,"","",{"$f":"+IF(ISBLANK(K555),\"\",VLOOKUP(K555,'5.3 Schedule of Rates'!B:D,3,0))","v":""},null,"",null,"","",null,null,null,{"$f":"IFERROR(INDEX('1.2 Sub-Con Application'!$B$13:$U$1012,MATCH(1,('1.2 Sub-Con Application'!$B$13:$B$1012=B555)*('1.2 Sub-Con Application'!$U$13:$U$1012=\"Rejected\"),0),20),\"\")","v":""}]
[null,{"$f":"+IF(AND(ISBLANK(F556),ISBLANK(K556)),\"\",IF(AND(ISBLANK(F556),B555<>\"\"),B555,IF(COUNTIF($F$13:F555,F556)>0,B555,MAX($B$13:B555)+1)))","v":""},null,null,0,null,null,null,null,"Enter PC",null,"","",{"$f":"+IF(ISBLANK(K556),\"\",VLOOKUP(K556,'5.3 Schedule of Rates'!B:D,3,0))","v":""},null,"",null,"","",null,null,null,{"$f":"IFERROR(INDEX('1.2 Sub-Con Application'!$B$13:$U$1012,MATCH(1,('1.2 Sub-Con Application'!$B$13:$B$1012=B556)*('1.2 Sub-Con Application'!$U$13:$U$1012=\"Rejected\"),0),20),\"\")","v":""}]
[null,{"$f":"+IF(AND(ISBLANK(F557),ISBLANK(K557)),\"\",IF(AND(ISBLANK(F557),B556<>\"\"),B556,IF(COUNTIF($F$13:F556,F557)>0,B556,MAX($B$13:B556)+1)))","v":""},null,null,0,null,null,null,null,"Enter PC",null,"","",{"$f":"+IF(ISBLANK(K557),\"\",VLOOKUP(K557,'5.3 Schedule of Rates'!B:D,3,0))","v":""},null,"",null,"","",null,null,null,{"$f":"IFERROR(INDEX('1.2 Sub-Con Application'!$B$13:$U$1012,MATCH(1,('1.2 Sub-Con Application'!$B$13:$B$1012=B557)*('1.2 Sub-Con Application'!$U$13:$U$1012=\"Rejected\"),0),20),\"\")","v":""}]
[null,{"$f":"+IF(AND(ISBLANK(F558),ISBLANK(K558)),\"\",IF(AND(ISBLANK(F558),B557<>\"\"),B557,IF(COUNTIF($F$13:F557,F558)>0,B557,MAX($B$13:B557)+1)))","v":""},null,null,0,null,null,null,null,"Enter PC",null,"","",{"$f":"+IF(ISBLANK(K558),\"\",VLOOKUP(K558,'5.3 Schedule of Rates'!B:D,3,0))","v":""},null,"",null,"","",null,null,null,{"$f":"IFERROR(INDEX('1.2 Sub-Con Application'!$B$13:$U$1012,MATCH(1,('1.2 Sub-Con Application'!$B$13:$B$1012=B558)*('1.2 Sub-Con Application'!$U$13:$U$1012=\"Rejected\"),0),20),\"\")","v":""}]
[null,{"$f":"+IF(AND(ISBLANK(F559),ISBLANK(K559)),\"\",IF(AND(ISBLANK(F559),B558<>\"\"),B558,IF(COUNTIF($F$13:F558,F559)>0,B558,MAX($B$13:B558)+1)))","v":""},null,null,0,null,null,null,null,"Enter PC",null,"","",{"$f":"+IF(ISBLANK(K559),\"\",VLOOKUP(K559,'5.3 Schedule of Rates'!B:D,3,0))","v":""},null,"",null,"","",null,null,null,{"$f":"IFERROR(INDEX('1.2 Sub-Con Application'!$B$13:$U$1012,MATCH(1,('1.2 Sub-Con Application'!$B$13:$B$1012=B559)*('1.2 Sub-Con Application'!$U$13:$U$1012=\"Rejected\"),0),20),\"\")","v":""}]
[null,{"$f":"+IF(AND(ISBLANK(F560),ISBLANK(K560)),\"\",IF(AND(ISBLANK(F560),B559<>\"\"),B559,IF(COUNTIF($F$13:F559,F560)>0,B559,MAX($B$13:B559)+1)))","v":""},null,null,0,null,null,null,null,"Enter PC",null,"","",{"$f":"+IF(ISBLANK(K560),\"\",VLOOKUP(K560,'5.3 Schedule of Rates'!B:D,3,0))","v":""},null,"",null,"","",null,null,null,{"$f":"IFERROR(INDEX('1.2 Sub-Con Application'!$B$13:$U$1012,MATCH(1,('1.2 Sub-Con Application'!$B$13:$B$1012=B560)*('1.2 Sub-Con Application'!$U$13:$U$1012=\"Rejected\"),0),20),\"\")","v":""}]
[null,{"$f":"+IF(AND(ISBLANK(F561),ISBLANK(K561)),\"\",IF(AND(ISBLANK(F561),B560<>\"\"),B560,IF(COUNTIF($F$13:F560,F561)>0,B560,MAX($B$13:B560)+1)))","v":""},null,null,0,null,null,null,null,"Enter PC",null,"","",{"$f":"+IF(ISBLANK(K561),\"\",VLOOKUP(K561,'5.3 Schedule of Rates'!B:D,3,0))","v":""},null,"",null,"","",null,null,null,{"$f":"IFERROR(INDEX('1.2 Sub-Con Application'!$B$13:$U$1012,MATCH(1,('1.2 Sub-Con Application'!$B$13:$B$1012=B561)*('1.2 Sub-Con Application'!$U$13:$U$1012=\"Rejected\"),0),20),\"\")","v":""}]
[null,{"$f":"+IF(AND(ISBLANK(F562),ISBLANK(K562)),\"\",IF(AND(ISBLANK(F562),B561<>\"\"),B561,IF(COUNTIF($F$13:F561,F562)>0,B561,MAX($B$13:B561)+1)))","v":""},null,null,0,null,null,null,null,"Enter PC",null,"","",{"$f":"+IF(ISBLANK(K562),\"\",VLOOKUP(K562,'5.3 Schedule of Rates'!B:D,3,0))","v":""},null,"",null,"","",null,null,null,{"$f":"IFERROR(INDEX('1.2 Sub-Con Application'!$B$13:$U$1012,MATCH(1,('1.2 Sub-Con Application'!$B$13:$B$1012=B562)*('1.2 Sub-Con Application'!$U$13:$U$1012=\"Rejected\"),0),20),\"\")","v":""}]
[null,{"$f":"+IF(AND(ISBLANK(F563),ISBLANK(K563)),\"\",IF(AND(ISBLANK(F563),B562<>\"\"),B562,IF(COUNTIF($F$13:F562,F563)>0,B562,MAX($B$13:B562)+1)))","v":""},null,null,0,null,null,null,null,"Enter PC",null,"","",{"$f":"+IF(ISBLANK(K563),\"\",VLOOKUP(K563,'5.3 Schedule of Rates'!B:D,3,0))","v":""},null,"",null,"","",null,null,null,{"$f":"IFERROR(INDEX('1.2 Sub-Con Application'!$B$13:$U$1012,MATCH(1,('1.2 Sub-Con Application'!$B$13:$B$1012=B563)*('1.2 Sub-Con Application'!$U$13:$U$1012=\"Rejected\"),0),20),\"\")","v":""}]
[null,{"$f":"+IF(AND(ISBLANK(F564),ISBLANK(K564)),\"\",IF(AND(ISBLANK(F564),B563<>\"\"),B563,IF(COUNTIF($F$13:F563,F564)>0,B563,MAX($B$13:B563)+1)))","v":""},null,null,0,null,null,null,null,"Enter PC",null,"","",{"$f":"+IF(ISBLANK(K564),\"\",VLOOKUP(K564,'5.3 Schedule of Rates'!B:D,3,0))","v":""},null,"",null,"","",null,null,null,{"$f":"IFERROR(INDEX('1.2 Sub-Con Application'!$B$13:$U$1012,MATCH(1,('1.2 Sub-Con Application'!$B$13:$B$1012=B564)*('1.2 Sub-Con Application'!$U$13:$U$1012=\"Rejected\"),0),20),\"\")","v":""}]
[null,{"$f":"+IF(AND(ISBLANK(F565),ISBLANK(K565)),\"\",IF(AND(ISBLANK(F565),B564<>\"\"),B564,IF(COUNTIF($F$13:F564,F565)>0,B564,MAX($B$13:B564)+1)))","v":""},null,null,0,null,null,null,null,"Enter PC",null,"","",{"$f":"+IF(ISBLANK(K565),\"\",VLOOKUP(K565,'5.3 Schedule of Rates'!B:D,3,0))","v":""},null,"",null,"","",null,null,null,{"$f":"IFERROR(INDEX('1.2 Sub-Con Application'!$B$13:$U$1012,MATCH(1,('1.2 Sub-Con Application'!$B$13:$B$1012=B565)*('1.2 Sub-Con Application'!$U$13:$U$1012=\"Rejected\"),0),20),\"\")","v":""}]
[null,{"$f":"+IF(AND(ISBLANK(F566),ISBLANK(K566)),\"\",IF(AND(ISBLANK(F566),B565<>\"\"),B565,IF(COUNTIF($F$13:F565,F566)>0,B565,MAX($B$13:B565)+1)))","v":""},null,null,0,null,null,null,null,"Enter PC",null,"","",{"$f":"+IF(ISBLANK(K566),\"\",VLOOKUP(K566,'5.3 Schedule of Rates'!B:D,3,0))","v":""},null,"",null,"","",null,null,null,{"$f":"IFERROR(INDEX('1.2 Sub-Con Application'!$B$13:$U$1012,MATCH(1,('1.2 Sub-Con Application'!$B$13:$B$1012=B566)*('1.2 Sub-Con Application'!$U$13:$U$1012=\"Rejected\"),0),20),\"\")","v":""}]
[null,{"$f":"+IF(AND(ISBLANK(F567),ISBLANK(K567)),\"\",IF(AND(ISBLANK(F567),B566<>\"\"),B566,IF(COUNTIF($F$13:F566,F567)>0,B566,MAX($B$13:B566)+1)))","v":""},null,null,0,null,null,null,null,"Enter PC",null,"","",{"$f":"+IF(ISBLANK(K567),\"\",VLOOKUP(K567,'5.3 Schedule of Rates'!B:D,3,0))","v":""},null,"",null,"","",null,null,null,{"$f":"IFERROR(INDEX('1.2 Sub-Con Application'!$B$13:$U$1012,MATCH(1,('1.2 Sub-Con Application'!$B$13:$B$1012=B567)*('1.2 Sub-Con Application'!$U$13:$U$1012=\"Rejected\"),0),20),\"\")","v":""}]
[null,{"$f":"+IF(AND(ISBLANK(F568),ISBLANK(K568)),\"\",IF(AND(ISBLANK(F568),B567<>\"\"),B567,IF(COUNTIF($F$13:F567,F568)>0,B567,MAX($B$13:B567)+1)))","v":""},null,null,0,null,null,null,null,"Enter PC",null,"","",{"$f":"+IF(ISBLANK(K568),\"\",VLOOKUP(K568,'5.3 Schedule of Rates'!B:D,3,0))","v":""},null,"",null,"","",null,null,null,{"$f":"IFERROR(INDEX('1.2 Sub-Con Application'!$B$13:$U$1012,MATCH(1,('1.2 Sub-Con Application'!$B$13:$B$1012=B568)*('1.2 Sub-Con Application'!$U$13:$U$1012=\"Rejected\"),0),20),\"\")","v":""}]
[null,{"$f":"+IF(AND(ISBLANK(F569),ISBLANK(K569)),\"\",IF(AND(ISBLANK(F569),B568<>\"\"),B568,IF(COUNTIF($F$13:F568,F569)>0,B568,MAX($B$13:B568)+1)))","v":""},null,null,0,null,null,null,null,"Enter PC",null,"","",{"$f":"+IF(ISBLANK(K569),\"\",VLOOKUP(K569,'5.3 Schedule of Rates'!B:D,3,0))","v":""},null,"",null,"","",null,null,null,{"$f":"IFERROR(INDEX('1.2 Sub-Con Application'!$B$13:$U$1012,MATCH(1,('1.2 Sub-Con Application'!$B$13:$B$1012=B569)*('1.2 Sub-Con Application'!$U$13:$U$1012=\"Rejected\"),0),20),\"\")","v":""}]
[null,{"$f":"+IF(AND(ISBLANK(F570),ISBLANK(K570)),\"\",IF(AND(ISBLANK(F570),B569<>\"\"),B569,IF(COUNTIF($F$13:F569,F570)>0,B569,MAX($B$13:B569)+1)))","v":""},null,null,0,null,null,null,null,"Enter PC",null,"","",{"$f":"+IF(ISBLANK(K570),\"\",VLOOKUP(K570,'5.3 Schedule of Rates'!B:D,3,0))","v":""},null,"",null,"","",null,null,null,{"$f":"IFERROR(INDEX('1.2 Sub-Con Application'!$B$13:$U$1012,MATCH(1,('1.2 Sub-Con Application'!$B$13:$B$1012=B570)*('1.2 Sub-Con Application'!$U$13:$U$1012=\"Rejected\"),0),20),\"\")","v":""}]
[null,{"$f":"+IF(AND(ISBLANK(F571),ISBLANK(K571)),\"\",IF(AND(ISBLANK(F571),B570<>\"\"),B570,IF(COUNTIF($F$13:F570,F571)>0,B570,MAX($B$13:B570)+1)))","v":""},null,null,0,null,null,null,null,"Enter PC",null,"","",{"$f":"+IF(ISBLANK(K571),\"\",VLOOKUP(K571,'5.3 Schedule of Rates'!B:D,3,0))","v":""},null,"",null,"","",null,null,null,{"$f":"IFERROR(INDEX('1.2 Sub-Con Application'!$B$13:$U$1012,MATCH(1,('1.2 Sub-Con Application'!$B$13:$B$1012=B571)*('1.2 Sub-Con Application'!$U$13:$U$1012=\"Rejected\"),0),20),\"\")","v":""}]
[null,{"$f":"+IF(AND(ISBLANK(F572),ISBLANK(K572)),\"\",IF(AND(ISBLANK(F572),B571<>\"\"),B571,IF(COUNTIF($F$13:F571,F572)>0,B571,MAX($B$13:B571)+1)))","v":""},null,null,0,null,null,null,null,"Enter PC",null,"","",{"$f":"+IF(ISBLANK(K572),\"\",VLOOKUP(K572,'5.3 Schedule of Rates'!B:D,3,0))","v":""},null,"",null,"","",null,null,null,{"$f":"IFERROR(INDEX('1.2 Sub-Con Application'!$B$13:$U$1012,MATCH(1,('1.2 Sub-Con Application'!$B$13:$B$1012=B572)*('1.2 Sub-Con Application'!$U$13:$U$1012=\"Rejected\"),0),20),\"\")","v":""}]
[null,{"$f":"+IF(AND(ISBLANK(F573),ISBLANK(K573)),\"\",IF(AND(ISBLANK(F573),B572<>\"\"),B572,IF(COUNTIF($F$13:F572,F573)>0,B572,MAX($B$13:B572)+1)))","v":""},null,null,0,null,null,null,null,"Enter PC",null,"","",{"$f":"+IF(ISBLANK(K573),\"\",VLOOKUP(K573,'5.3 Schedule of Rates'!B:D,3,0))","v":""},null,"",null,"","",null,null,null,{"$f":"IFERROR(INDEX('1.2 Sub-Con Application'!$B$13:$U$1012,MATCH(1,('1.2 Sub-Con Application'!$B$13:$B$1012=B573)*('1.2 Sub-Con Application'!$U$13:$U$1012=\"Rejected\"),0),20),\"\")","v":""}]
[null,{"$f":"+IF(AND(ISBLANK(F574),ISBLANK(K574)),\"\",IF(AND(ISBLANK(F574),B573<>\"\"),B573,IF(COUNTIF($F$13:F573,F574)>0,B573,MAX($B$13:B573)+1)))","v":""},null,null,0,null,null,null,null,"Enter PC",null,"","",{"$f":"+IF(ISBLANK(K574),\"\",VLOOKUP(K574,'5.3 Schedule of Rates'!B:D,3,0))","v":""},null,"",null,"","",null,null,null,{"$f":"IFERROR(INDEX('1.2 Sub-Con Application'!$B$13:$U$1012,MATCH(1,('1.2 Sub-Con Application'!$B$13:$B$1012=B574)*('1.2 Sub-Con Application'!$U$13:$U$1012=\"Rejected\"),0),20),\"\")","v":""}]
[null,{"$f":"+IF(AND(ISBLANK(F575),ISBLANK(K575)),\"\",IF(AND(ISBLANK(F575),B574<>\"\"),B574,IF(COUNTIF($F$13:F574,F575)>0,B574,MAX($B$13:B574)+1)))","v":""},null,null,{"$f":"NETWORKDAYS(C575,D575)","v":0},null,null,null,null,"Enter PC",null,"","",{"$f":"+IF(ISBLANK(K575),\"\",VLOOKUP(K575,'5.3 Schedule of Rates'!B:D,3,0))","v":""},null,"",null,"",{"$f":"IF(ISERROR(SUM(P575-R575)),\"\",SUM(P575-R575))","v":""},null,null,null,{"$f":"IFERROR(INDEX('1.2 Sub-Con Application'!$B$13:$U$1012,MATCH(1,('1.2 Sub-Con Application'!$B$13:$B$1012=B575)*('1.2 Sub-Con Application'!$U$13:$U$1012=\"Rejected\"),0),20),\"\")","v":""}]
[null,{"$f":"+IF(AND(ISBLANK(F576),ISBLANK(K576)),\"\",IF(AND(ISBLANK(F576),B575<>\"\"),B575,IF(COUNTIF($F$13:F575,F576)>0,B575,MAX($B$13:B575)+1)))","v":""},null,null,0,null,null,null,null,"Enter PC",null,"","",{"$f":"+IF(ISBLANK(K576),\"\",VLOOKUP(K576,'5.3 Schedule of Rates'!B:D,3,0))","v":""},null,"",null,"","",null,null,null,{"$f":"IFERROR(INDEX('1.2 Sub-Con Application'!$B$13:$U$1012,MATCH(1,('1.2 Sub-Con Application'!$B$13:$B$1012=B576)*('1.2 Sub-Con Application'!$U$13:$U$1012=\"Rejected\"),0),20),\"\")","v":""}]
[null,{"$f":"+IF(AND(ISBLANK(F577),ISBLANK(K577)),\"\",IF(AND(ISBLANK(F577),B576<>\"\"),B576,IF(COUNTIF($F$13:F576,F577)>0,B576,MAX($B$13:B576)+1)))","v":""},null,null,0,null,null,null,null,"Enter PC",null,"","",{"$f":"+IF(ISBLANK(K577),\"\",VLOOKUP(K577,'5.3 Schedule of Rates'!B:D,3,0))","v":""},null,"",null,"","",null,null,null,{"$f":"IFERROR(INDEX('1.2 Sub-Con Application'!$B$13:$U$1012,MATCH(1,('1.2 Sub-Con Application'!$B$13:$B$1012=B577)*('1.2 Sub-Con Application'!$U$13:$U$1012=\"Rejected\"),0),20),\"\")","v":""}]
[null,{"$f":"+IF(AND(ISBLANK(F578),ISBLANK(K578)),\"\",IF(AND(ISBLANK(F578),B577<>\"\"),B577,IF(COUNTIF($F$13:F577,F578)>0,B577,MAX($B$13:B577)+1)))","v":""},null,null,0,null,null,null,null,"Enter PC",null,"","",{"$f":"+IF(ISBLANK(K578),\"\",VLOOKUP(K578,'5.3 Schedule of Rates'!B:D,3,0))","v":""},null,"",null,"","",null,null,null,{"$f":"IFERROR(INDEX('1.2 Sub-Con Application'!$B$13:$U$1012,MATCH(1,('1.2 Sub-Con Application'!$B$13:$B$1012=B578)*('1.2 Sub-Con Application'!$U$13:$U$1012=\"Rejected\"),0),20),\"\")","v":""}]
[null,{"$f":"+IF(AND(ISBLANK(F579),ISBLANK(K579)),\"\",IF(AND(ISBLANK(F579),B578<>\"\"),B578,IF(COUNTIF($F$13:F578,F579)>0,B578,MAX($B$13:B578)+1)))","v":""},null,null,0,null,null,null,null,"Enter PC",null,"","",{"$f":"+IF(ISBLANK(K579),\"\",VLOOKUP(K579,'5.3 Schedule of Rates'!B:D,3,0))","v":""},null,"",null,"","",null,null,null,{"$f":"IFERROR(INDEX('1.2 Sub-Con Application'!$B$13:$U$1012,MATCH(1,('1.2 Sub-Con Application'!$B$13:$B$1012=B579)*('1.2 Sub-Con Application'!$U$13:$U$1012=\"Rejected\"),0),20),\"\")","v":""}]
[null,{"$f":"+IF(AND(ISBLANK(F580),ISBLANK(K580)),\"\",IF(AND(ISBLANK(F580),B579<>\"\"),B579,IF(COUNTIF($F$13:F579,F580)>0,B579,MAX($B$13:B579)+1)))","v":""},null,null,0,null,null,null,null,"Enter PC",null,"","",{"$f":"+IF(ISBLANK(K580),\"\",VLOOKUP(K580,'5.3 Schedule of Rates'!B:D,3,0))","v":""},null,"",null,"","",null,null,null,{"$f":"IFERROR(INDEX('1.2 Sub-Con Application'!$B$13:$U$1012,MATCH(1,('1.2 Sub-Con Application'!$B$13:$B$1012=B580)*('1.2 Sub-Con Application'!$U$13:$U$1012=\"Rejected\"),0),20),\"\")","v":""}]
[null,{"$f":"+IF(AND(ISBLANK(F581),ISBLANK(K581)),\"\",IF(AND(ISBLANK(F581),B580<>\"\"),B580,IF(COUNTIF($F$13:F580,F581)>0,B580,MAX($B$13:B580)+1)))","v":""},null,null,0,null,null,null,null,"Enter PC",null,"","",{"$f":"+IF(ISBLANK(K581),\"\",VLOOKUP(K581,'5.3 Schedule of Rates'!B:D,3,0))","v":""},null,"",null,"","",null,null,null,{"$f":"IFERROR(INDEX('1.2 Sub-Con Application'!$B$13:$U$1012,MATCH(1,('1.2 Sub-Con Application'!$B$13:$B$1012=B581)*('1.2 Sub-Con Application'!$U$13:$U$1012=\"Rejected\"),0),20),\"\")","v":""}]
[null,{"$f":"+IF(AND(ISBLANK(F582),ISBLANK(K582)),\"\",IF(AND(ISBLANK(F582),B581<>\"\"),B581,IF(COUNTIF($F$13:F581,F582)>0,B581,MAX($B$13:B581)+1)))","v":""},null,null,0,null,null,null,null,"Enter PC",null,"","",{"$f":"+IF(ISBLANK(K582),\"\",VLOOKUP(K582,'5.3 Schedule of Rates'!B:D,3,0))","v":""},null,"",null,"","",null,null,null,{"$f":"IFERROR(INDEX('1.2 Sub-Con Application'!$B$13:$U$1012,MATCH(1,('1.2 Sub-Con Application'!$B$13:$B$1012=B582)*('1.2 Sub-Con Application'!$U$13:$U$1012=\"Rejected\"),0),20),\"\")","v":""}]
[null,{"$f":"+IF(AND(ISBLANK(F583),ISBLANK(K583)),\"\",IF(AND(ISBLANK(F583),B582<>\"\"),B582,IF(COUNTIF($F$13:F582,F583)>0,B582,MAX($B$13:B582)+1)))","v":""},null,null,0,null,null,null,null,"Enter PC",null,"","",{"$f":"+IF(ISBLANK(K583),\"\",VLOOKUP(K583,'5.3 Schedule of Rates'!B:D,3,0))","v":""},null,"",null,"","",null,null,null,{"$f":"IFERROR(INDEX('1.2 Sub-Con Application'!$B$13:$U$1012,MATCH(1,('1.2 Sub-Con Application'!$B$13:$B$1012=B583)*('1.2 Sub-Con Application'!$U$13:$U$1012=\"Rejected\"),0),20),\"\")","v":""}]
[null,{"$f":"+IF(AND(ISBLANK(F584),ISBLANK(K584)),\"\",IF(AND(ISBLANK(F584),B583<>\"\"),B583,IF(COUNTIF($F$13:F583,F584)>0,B583,MAX($B$13:B583)+1)))","v":""},null,null,0,null,null,null,null,"Enter PC",null,"","",{"$f":"+IF(ISBLANK(K584),\"\",VLOOKUP(K584,'5.3 Schedule of Rates'!B:D,3,0))","v":""},null,"",null,"","",null,null,null,{"$f":"IFERROR(INDEX('1.2 Sub-Con Application'!$B$13:$U$1012,MATCH(1,('1.2 Sub-Con Application'!$B$13:$B$1012=B584)*('1.2 Sub-Con Application'!$U$13:$U$1012=\"Rejected\"),0),20),\"\")","v":""}]
[null,{"$f":"+IF(AND(ISBLANK(F585),ISBLANK(K585)),\"\",IF(AND(ISBLANK(F585),B584<>\"\"),B584,IF(COUNTIF($F$13:F584,F585)>0,B584,MAX($B$13:B584)+1)))","v":""},null,null,0,null,null,null,null,"Enter PC",null,"","",{"$f":"+IF(ISBLANK(K585),\"\",VLOOKUP(K585,'5.3 Schedule of Rates'!B:D,3,0))","v":""},null,"",null,"","",null,null,null,{"$f":"IFERROR(INDEX('1.2 Sub-Con Application'!$B$13:$U$1012,MATCH(1,('1.2 Sub-Con Application'!$B$13:$B$1012=B585)*('1.2 Sub-Con Application'!$U$13:$U$1012=\"Rejected\"),0),20),\"\")","v":""}]
[null,{"$f":"+IF(AND(ISBLANK(F586),ISBLANK(K586)),\"\",IF(AND(ISBLANK(F586),B585<>\"\"),B585,IF(COUNTIF($F$13:F585,F586)>0,B585,MAX($B$13:B585)+1)))","v":""},null,null,0,null,null,null,null,"Enter PC",null,"","",{"$f":"+IF(ISBLANK(K586),\"\",VLOOKUP(K586,'5.3 Schedule of Rates'!B:D,3,0))","v":""},null,"",null,"","",null,null,null,{"$f":"IFERROR(INDEX('1.2 Sub-Con Application'!$B$13:$U$1012,MATCH(1,('1.2 Sub-Con Application'!$B$13:$B$1012=B586)*('1.2 Sub-Con Application'!$U$13:$U$1012=\"Rejected\"),0),20),\"\")","v":""}]
[null,{"$f":"+IF(AND(ISBLANK(F587),ISBLANK(K587)),\"\",IF(AND(ISBLANK(F587),B586<>\"\"),B586,IF(COUNTIF($F$13:F586,F587)>0,B586,MAX($B$13:B586)+1)))","v":""},null,null,0,null,null,null,null,"Enter PC",null,"","",{"$f":"+IF(ISBLANK(K587),\"\",VLOOKUP(K587,'5.3 Schedule of Rates'!B:D,3,0))","v":""},null,"",null,"","",null,null,null,{"$f":"IFERROR(INDEX('1.2 Sub-Con Application'!$B$13:$U$1012,MATCH(1,('1.2 Sub-Con Application'!$B$13:$B$1012=B587)*('1.2 Sub-Con Application'!$U$13:$U$1012=\"Rejected\"),0),20),\"\")","v":""}]
[null,{"$f":"+IF(AND(ISBLANK(F588),ISBLANK(K588)),\"\",IF(AND(ISBLANK(F588),B587<>\"\"),B587,IF(COUNTIF($F$13:F587,F588)>0,B587,MAX($B$13:B587)+1)))","v":""},null,null,0,null,null,null,null,"Enter PC",null,"","",{"$f":"+IF(ISBLANK(K588),\"\",VLOOKUP(K588,'5.3 Schedule of Rates'!B:D,3,0))","v":""},null,"",null,"","",null,null,null,{"$f":"IFERROR(INDEX('1.2 Sub-Con Application'!$B$13:$U$1012,MATCH(1,('1.2 Sub-Con Application'!$B$13:$B$1012=B588)*('1.2 Sub-Con Application'!$U$13:$U$1012=\"Rejected\"),0),20),\"\")","v":""}]
[null,{"$f":"+IF(AND(ISBLANK(F589),ISBLANK(K589)),\"\",IF(AND(ISBLANK(F589),B588<>\"\"),B588,IF(COUNTIF($F$13:F588,F589)>0,B588,MAX($B$13:B588)+1)))","v":""},null,null,0,null,null,null,null,{"$f":"IFERROR(IF(I589=\"\",\"Enter PC\",VLOOKUP(IF(LEN(I589)=6,LEFT(I589,2),IF(LEN(I589)=7,LEFT(I589,3),LEFT(I589,4))),table_pcRegion,2,FALSE)=work_Region),\"INVALID\")","v":"Enter PC"},null,{"$f":"+IF(ISBLANK(K589),\"\",VLOOKUP(K589,table_SoR,2,0))","v":""},{"$f":"+IF(ISBLANK(K589),\"\",INDEX(table_subconSoR,MATCH(L589,row_SoR,0),MATCH($H$4,col_SoR,0)))","v":""},{"$f":"+IF(ISBLANK(K589),\"\",VLOOKUP(K589,'5.3 Schedule of Rates'!B:D,3,0))","v":""},null,{"$f":"+IF(ISBLANK($O589),\"\",ROUND(SUM(SUM(VLOOKUP($K589,table_SoR,6,0)*(1+$M589))*O589),2))","v":""},null,{"$f":"+IF(ISBLANK($O589),\"\",ROUND(IF(Q589>0,Q589,SUM(SUM(VLOOKUP($K589,table_SoR,7,0)*(1+$M589))*O589)),2))","v":""},"",null,null,null,{"$f":"IFERROR(INDEX('1.2 Sub-Con Application'!$B$13:$U$1012,MATCH(1,('1.2 Sub-Con Application'!$B$13:$B$1012=B589)*('1.2 Sub-Con Application'!$U$13:$U$1012=\"Rejected\"),0),20),\"\")","v":""}]
[null,{"$f":"+IF(AND(ISBLANK(F590),ISBLANK(K590)),\"\",IF(AND(ISBLANK(F590),B589<>\"\"),B589,IF(COUNTIF($F$13:F589,F590)>0,B589,MAX($B$13:B589)+1)))","v":""},null,null,0,null,null,null,null,"Enter PC",null,"","",{"$f":"+IF(ISBLANK(K590),\"\",VLOOKUP(K590,'5.3 Schedule of Rates'!B:D,3,0))","v":""},null,"",null,"","",null,null,null,{"$f":"IFERROR(INDEX('1.2 Sub-Con Application'!$B$13:$U$1012,MATCH(1,('1.2 Sub-Con Application'!$B$13:$B$1012=B590)*('1.2 Sub-Con Application'!$U$13:$U$1012=\"Rejected\"),0),20),\"\")","v":""}]
[null,{"$f":"+IF(AND(ISBLANK(F591),ISBLANK(K591)),\"\",IF(AND(ISBLANK(F591),B590<>\"\"),B590,IF(COUNTIF($F$13:F590,F591)>0,B590,MAX($B$13:B590)+1)))","v":""},null,null,0,null,null,null,null,"Enter PC",null,"","",{"$f":"+IF(ISBLANK(K591),\"\",VLOOKUP(K591,'5.3 Schedule of Rates'!B:D,3,0))","v":""},null,"",null,"","",null,null,null,{"$f":"IFERROR(INDEX('1.2 Sub-Con Application'!$B$13:$U$1012,MATCH(1,('1.2 Sub-Con Application'!$B$13:$B$1012=B591)*('1.2 Sub-Con Application'!$U$13:$U$1012=\"Rejected\"),0),20),\"\")","v":""}]
[null,{"$f":"+IF(AND(ISBLANK(F592),ISBLANK(K592)),\"\",IF(AND(ISBLANK(F592),B591<>\"\"),B591,IF(COUNTIF($F$13:F591,F592)>0,B591,MAX($B$13:B591)+1)))","v":""},null,null,0,null,null,null,null,"Enter PC",null,"","",{"$f":"+IF(ISBLANK(K592),\"\",VLOOKUP(K592,'5.3 Schedule of Rates'!B:D,3,0))","v":""},null,"",null,"","",null,null,null,{"$f":"IFERROR(INDEX('1.2 Sub-Con Application'!$B$13:$U$1012,MATCH(1,('1.2 Sub-Con Application'!$B$13:$B$1012=B592)*('1.2 Sub-Con Application'!$U$13:$U$1012=\"Rejected\"),0),20),\"\")","v":""}]
[null,{"$f":"+IF(AND(ISBLANK(F593),ISBLANK(K593)),\"\",IF(AND(ISBLANK(F593),B592<>\"\"),B592,IF(COUNTIF($F$13:F592,F593)>0,B592,MAX($B$13:B592)+1)))","v":""},null,null,0,null,null,null,null,"Enter PC",null,"","",{"$f":"+IF(ISBLANK(K593),\"\",VLOOKUP(K593,'5.3 Schedule of Rates'!B:D,3,0))","v":""},null,"",null,"","",null,null,null,{"$f":"IFERROR(INDEX('1.2 Sub-Con Application'!$B$13:$U$1012,MATCH(1,('1.2 Sub-Con Application'!$B$13:$B$1012=B593)*('1.2 Sub-Con Application'!$U$13:$U$1012=\"Rejected\"),0),20),\"\")","v":""}]
[null,{"$f":"+IF(AND(ISBLANK(F594),ISBLANK(K594)),\"\",IF(AND(ISBLANK(F594),B593<>\"\"),B593,IF(COUNTIF($F$13:F593,F594)>0,B593,MAX($B$13:B593)+1)))","v":""},null,null,0,null,null,null,null,"Enter PC",null,"","",{"$f":"+IF(ISBLANK(K594),\"\",VLOOKUP(K594,'5.3 Schedule of Rates'!B:D,3,0))","v":""},null,"",null,"","",null,null,null,{"$f":"IFERROR(INDEX('1.2 Sub-Con Application'!$B$13:$U$1012,MATCH(1,('1.2 Sub-Con Application'!$B$13:$B$1012=B594)*('1.2 Sub-Con Application'!$U$13:$U$1012=\"Rejected\"),0),20),\"\")","v":""}]
[null,{"$f":"+IF(AND(ISBLANK(F595),ISBLANK(K595)),\"\",IF(AND(ISBLANK(F595),B594<>\"\"),B594,IF(COUNTIF($F$13:F594,F595)>0,B594,MAX($B$13:B594)+1)))","v":""},null,null,0,null,null,null,null,"Enter PC",null,"","",{"$f":"+IF(ISBLANK(K595),\"\",VLOOKUP(K595,'5.3 Schedule of Rates'!B:D,3,0))","v":""},null,"",null,"","",null,null,null,{"$f":"IFERROR(INDEX('1.2 Sub-Con Application'!$B$13:$U$1012,MATCH(1,('1.2 Sub-Con Application'!$B$13:$B$1012=B595)*('1.2 Sub-Con Application'!$U$13:$U$1012=\"Rejected\"),0),20),\"\")","v":""}]
[null,{"$f":"+IF(AND(ISBLANK(F596),ISBLANK(K596)),\"\",IF(AND(ISBLANK(F596),B595<>\"\"),B595,IF(COUNTIF($F$13:F595,F596)>0,B595,MAX($B$13:B595)+1)))","v":""},null,null,0,null,null,null,null,"Enter PC",null,"","",{"$f":"+IF(ISBLANK(K596),\"\",VLOOKUP(K596,'5.3 Schedule of Rates'!B:D,3,0))","v":""},null,"",null,"","",null,null,null,{"$f":"IFERROR(INDEX('1.2 Sub-Con Application'!$B$13:$U$1012,MATCH(1,('1.2 Sub-Con Application'!$B$13:$B$1012=B596)*('1.2 Sub-Con Application'!$U$13:$U$1012=\"Rejected\"),0),20),\"\")","v":""}]
[null,{"$f":"+IF(AND(ISBLANK(F597),ISBLANK(K597)),\"\",IF(AND(ISBLANK(F597),B596<>\"\"),B596,IF(COUNTIF($F$13:F596,F597)>0,B596,MAX($B$13:B596)+1)))","v":""},null,null,0,null,null,null,null,"Enter PC",null,"","",{"$f":"+IF(ISBLANK(K597),\"\",VLOOKUP(K597,'5.3 Schedule of Rates'!B:D,3,0))","v":""},null,"",null,"","",null,null,null,{"$f":"IFERROR(INDEX('1.2 Sub-Con Application'!$B$13:$U$1012,MATCH(1,('1.2 Sub-Con Application'!$B$13:$B$1012=B597)*('1.2 Sub-Con Application'!$U$13:$U$1012=\"Rejected\"),0),20),\"\")","v":""}]
[null,{"$f":"+IF(AND(ISBLANK(F598),ISBLANK(K598)),\"\",IF(AND(ISBLANK(F598),B597<>\"\"),B597,IF(COUNTIF($F$13:F597,F598)>0,B597,MAX($B$13:B597)+1)))","v":""},null,null,0,null,null,null,null,"Enter PC",null,"","",{"$f":"+IF(ISBLANK(K598),\"\",VLOOKUP(K598,'5.3 Schedule of Rates'!B:D,3,0))","v":""},null,"",null,"","",null,null,null,{"$f":"IFERROR(INDEX('1.2 Sub-Con Application'!$B$13:$U$1012,MATCH(1,('1.2 Sub-Con Application'!$B$13:$B$1012=B598)*('1.2 Sub-Con Application'!$U$13:$U$1012=\"Rejected\"),0),20),\"\")","v":""}]
[null,{"$f":"+IF(AND(ISBLANK(F599),ISBLANK(K599)),\"\",IF(AND(ISBLANK(F599),B598<>\"\"),B598,IF(COUNTIF($F$13:F598,F599)>0,B598,MAX($B$13:B598)+1)))","v":""},null,null,0,null,null,null,null,"Enter PC",null,"","",{"$f":"+IF(ISBLANK(K599),\"\",VLOOKUP(K599,'5.3 Schedule of Rates'!B:D,3,0))","v":""},null,"",null,"","",null,null,null,{"$f":"IFERROR(INDEX('1.2 Sub-Con Application'!$B$13:$U$1012,MATCH(1,('1.2 Sub-Con Application'!$B$13:$B$1012=B599)*('1.2 Sub-Con Application'!$U$13:$U$1012=\"Rejected\"),0),20),\"\")","v":""}]
[null,{"$f":"+IF(AND(ISBLANK(F600),ISBLANK(K600)),\"\",IF(AND(ISBLANK(F600),B599<>\"\"),B599,IF(COUNTIF($F$13:F599,F600)>0,B599,MAX($B$13:B599)+1)))","v":""},null,null,0,null,null,null,null,"Enter PC",null,"","",{"$f":"+IF(ISBLANK(K600),\"\",VLOOKUP(K600,'5.3 Schedule of Rates'!B:D,3,0))","v":""},null,"",null,"","",null,null,null,{"$f":"IFERROR(INDEX('1.2 Sub-Con Application'!$B$13:$U$1012,MATCH(1,('1.2 Sub-Con Application'!$B$13:$B$1012=B600)*('1.2 Sub-Con Application'!$U$13:$U$1012=\"Rejected\"),0),20),\"\")","v":""}]
[null,{"$f":"+IF(AND(ISBLANK(F601),ISBLANK(K601)),\"\",IF(AND(ISBLANK(F601),B600<>\"\"),B600,IF(COUNTIF($F$13:F600,F601)>0,B600,MAX($B$13:B600)+1)))","v":""},null,null,0,null,null,null,null,"Enter PC",null,"","",{"$f":"+IF(ISBLANK(K601),\"\",VLOOKUP(K601,'5.3 Schedule of Rates'!B:D,3,0))","v":""},null,"",null,"","",null,null,null,{"$f":"IFERROR(INDEX('1.2 Sub-Con Application'!$B$13:$U$1012,MATCH(1,('1.2 Sub-Con Application'!$B$13:$B$1012=B601)*('1.2 Sub-Con Application'!$U$13:$U$1012=\"Rejected\"),0),20),\"\")","v":""}]
[null,{"$f":"+IF(AND(ISBLANK(F602),ISBLANK(K602)),\"\",IF(AND(ISBLANK(F602),B601<>\"\"),B601,IF(COUNTIF($F$13:F601,F602)>0,B601,MAX($B$13:B601)+1)))","v":""},null,null,0,null,null,null,null,"Enter PC",null,"","",{"$f":"+IF(ISBLANK(K602),\"\",VLOOKUP(K602,'5.3 Schedule of Rates'!B:D,3,0))","v":""},null,"",null,"","",null,null,null,{"$f":"IFERROR(INDEX('1.2 Sub-Con Application'!$B$13:$U$1012,MATCH(1,('1.2 Sub-Con Application'!$B$13:$B$1012=B602)*('1.2 Sub-Con Application'!$U$13:$U$1012=\"Rejected\"),0),20),\"\")","v":""}]
[null,{"$f":"+IF(AND(ISBLANK(F603),ISBLANK(K603)),\"\",IF(AND(ISBLANK(F603),B602<>\"\"),B602,IF(COUNTIF($F$13:F602,F603)>0,B602,MAX($B$13:B602)+1)))","v":""},null,null,0,null,null,null,null,"Enter PC",null,"","",{"$f":"+IF(ISBLANK(K603),\"\",VLOOKUP(K603,'5.3 Schedule of Rates'!B:D,3,0))","v":""},null,"",null,"","",null,null,null,{"$f":"IFERROR(INDEX('1.2 Sub-Con Application'!$B$13:$U$1012,MATCH(1,('1.2 Sub-Con Application'!$B$13:$B$1012=B603)*('1.2 Sub-Con Application'!$U$13:$U$1012=\"Rejected\"),0),20),\"\")","v":""}]
[null,{"$f":"+IF(AND(ISBLANK(F604),ISBLANK(K604)),\"\",IF(AND(ISBLANK(F604),B603<>\"\"),B603,IF(COUNTIF($F$13:F603,F604)>0,B603,MAX($B$13:B603)+1)))","v":""},null,null,0,null,null,null,null,"Enter PC",null,"","",{"$f":"+IF(ISBLANK(K604),\"\",VLOOKUP(K604,'5.3 Schedule of Rates'!B:D,3,0))","v":""},null,"",null,"","",null,null,null,{"$f":"IFERROR(INDEX('1.2 Sub-Con Application'!$B$13:$U$1012,MATCH(1,('1.2 Sub-Con Application'!$B$13:$B$1012=B604)*('1.2 Sub-Con Application'!$U$13:$U$1012=\"Rejected\"),0),20),\"\")","v":""}]
[null,{"$f":"+IF(AND(ISBLANK(F605),ISBLANK(K605)),\"\",IF(AND(ISBLANK(F605),B604<>\"\"),B604,IF(COUNTIF($F$13:F604,F605)>0,B604,MAX($B$13:B604)+1)))","v":""},null,null,0,null,null,null,null,"Enter PC",null,"","",{"$f":"+IF(ISBLANK(K605),\"\",VLOOKUP(K605,'5.3 Schedule of Rates'!B:D,3,0))","v":""},null,"",null,"","",null,null,null,{"$f":"IFERROR(INDEX('1.2 Sub-Con Application'!$B$13:$U$1012,MATCH(1,('1.2 Sub-Con Application'!$B$13:$B$1012=B605)*('1.2 Sub-Con Application'!$U$13:$U$1012=\"Rejected\"),0),20),\"\")","v":""}]
[null,{"$f":"+IF(AND(ISBLANK(F606),ISBLANK(K606)),\"\",IF(AND(ISBLANK(F606),B605<>\"\"),B605,IF(COUNTIF($F$13:F605,F606)>0,B605,MAX($B$13:B605)+1)))","v":""},null,null,0,null,null,null,null,"Enter PC",null,"","",{"$f":"+IF(ISBLANK(K606),\"\",VLOOKUP(K606,'5.3 Schedule of Rates'!B:D,3,0))","v":""},null,"",null,"","",null,null,null,{"$f":"IFERROR(INDEX('1.2 Sub-Con Application'!$B$13:$U$1012,MATCH(1,('1.2 Sub-Con Application'!$B$13:$B$1012=B606)*('1.2 Sub-Con Application'!$U$13:$U$1012=\"Rejected\"),0),20),\"\")","v":""}]
[null,{"$f":"+IF(AND(ISBLANK(F607),ISBLANK(K607)),\"\",IF(AND(ISBLANK(F607),B606<>\"\"),B606,IF(COUNTIF($F$13:F606,F607)>0,B606,MAX($B$13:B606)+1)))","v":""},null,null,0,null,null,null,null,"Enter PC",null,"","",{"$f":"+IF(ISBLANK(K607),\"\",VLOOKUP(K607,'5.3 Schedule of Rates'!B:D,3,0))","v":""},null,"",null,"","",null,null,null,{"$f":"IFERROR(INDEX('1.2 Sub-Con Application'!$B$13:$U$1012,MATCH(1,('1.2 Sub-Con Application'!$B$13:$B$1012=B607)*('1.2 Sub-Con Application'!$U$13:$U$1012=\"Rejected\"),0),20),\"\")","v":""}]
[null,{"$f":"+IF(AND(ISBLANK(F608),ISBLANK(K608)),\"\",IF(AND(ISBLANK(F608),B607<>\"\"),B607,IF(COUNTIF($F$13:F607,F608)>0,B607,MAX($B$13:B607)+1)))","v":""},null,null,0,null,null,null,null,"Enter PC",null,"","",{"$f":"+IF(ISBLANK(K608),\"\",VLOOKUP(K608,'5.3 Schedule of Rates'!B:D,3,0))","v":""},null,"",null,"","",null,null,null,{"$f":"IFERROR(INDEX('1.2 Sub-Con Application'!$B$13:$U$1012,MATCH(1,('1.2 Sub-Con Application'!$B$13:$B$1012=B608)*('1.2 Sub-Con Application'!$U$13:$U$1012=\"Rejected\"),0),20),\"\")","v":""}]
[null,{"$f":"+IF(AND(ISBLANK(F609),ISBLANK(K609)),\"\",IF(AND(ISBLANK(F609),B608<>\"\"),B608,IF(COUNTIF($F$13:F608,F609)>0,B608,MAX($B$13:B608)+1)))","v":""},null,null,0,null,null,null,null,"Enter PC",null,"","",{"$f":"+IF(ISBLANK(K609),\"\",VLOOKUP(K609,'5.3 Schedule of Rates'!B:D,3,0))","v":""},null,"",null,"","",null,null,null,{"$f":"IFERROR(INDEX('1.2 Sub-Con Application'!$B$13:$U$1012,MATCH(1,('1.2 Sub-Con Application'!$B$13:$B$1012=B609)*('1.2 Sub-Con Application'!$U$13:$U$1012=\"Rejected\"),0),20),\"\")","v":""}]
[null,{"$f":"+IF(AND(ISBLANK(F610),ISBLANK(K610)),\"\",IF(AND(ISBLANK(F610),B609<>\"\"),B609,IF(COUNTIF($F$13:F609,F610)>0,B609,MAX($B$13:B609)+1)))","v":""},null,null,0,null,null,null,null,"Enter PC",null,"","",{"$f":"+IF(ISBLANK(K610),\"\",VLOOKUP(K610,'5.3 Schedule of Rates'!B:D,3,0))","v":""},null,"",null,"","",null,null,null,{"$f":"IFERROR(INDEX('1.2 Sub-Con Application'!$B$13:$U$1012,MATCH(1,('1.2 Sub-Con Application'!$B$13:$B$1012=B610)*('1.2 Sub-Con Application'!$U$13:$U$1012=\"Rejected\"),0),20),\"\")","v":""}]
[null,{"$f":"+IF(AND(ISBLANK(F611),ISBLANK(K611)),\"\",IF(AND(ISBLANK(F611),B610<>\"\"),B610,IF(COUNTIF($F$13:F610,F611)>0,B610,MAX($B$13:B610)+1)))","v":""},null,null,0,null,null,null,null,"Enter PC",null,"","",{"$f":"+IF(ISBLANK(K611),\"\",VLOOKUP(K611,'5.3 Schedule of Rates'!B:D,3,0))","v":""},null,"",null,"","",null,null,null,{"$f":"IFERROR(INDEX('1.2 Sub-Con Application'!$B$13:$U$1012,MATCH(1,('1.2 Sub-Con Application'!$B$13:$B$1012=B611)*('1.2 Sub-Con Application'!$U$13:$U$1012=\"Rejected\"),0),20),\"\")","v":""}]
[null,{"$f":"+IF(AND(ISBLANK(F612),ISBLANK(K612)),\"\",IF(AND(ISBLANK(F612),B611<>\"\"),B611,IF(COUNTIF($F$13:F611,F612)>0,B611,MAX($B$13:B611)+1)))","v":""},null,null,0,null,null,null,null,"Enter PC",null,"","",{"$f":"+IF(ISBLANK(K612),\"\",VLOOKUP(K612,'5.3 Schedule of Rates'!B:D,3,0))","v":""},null,"",null,"","",null,null,null,{"$f":"IFERROR(INDEX('1.2 Sub-Con Application'!$B$13:$U$1012,MATCH(1,('1.2 Sub-Con Application'!$B$13:$B$1012=B612)*('1.2 Sub-Con Application'!$U$13:$U$1012=\"Rejected\"),0),20),\"\")","v":""}]
[null,{"$f":"+IF(AND(ISBLANK(F613),ISBLANK(K613)),\"\",IF(AND(ISBLANK(F613),B612<>\"\"),B612,IF(COUNTIF($F$13:F612,F613)>0,B612,MAX($B$13:B612)+1)))","v":""},null,null,0,null,null,null,null,"Enter PC",null,"","",{"$f":"+IF(ISBLANK(K613),\"\",VLOOKUP(K613,'5.3 Schedule of Rates'!B:D,3,0))","v":""},null,"",null,"","",null,null,null,{"$f":"IFERROR(INDEX('1.2 Sub-Con Application'!$B$13:$U$1012,MATCH(1,('1.2 Sub-Con Application'!$B$13:$B$1012=B613)*('1.2 Sub-Con Application'!$U$13:$U$1012=\"Rejected\"),0),20),\"\")","v":""}]
[null,{"$f":"+IF(AND(ISBLANK(F614),ISBLANK(K614)),\"\",IF(AND(ISBLANK(F614),B613<>\"\"),B613,IF(COUNTIF($F$13:F613,F614)>0,B613,MAX($B$13:B613)+1)))","v":""},null,null,0,null,null,null,null,"Enter PC",null,"","",{"$f":"+IF(ISBLANK(K614),\"\",VLOOKUP(K614,'5.3 Schedule of Rates'!B:D,3,0))","v":""},null,"",null,"","",null,null,null,{"$f":"IFERROR(INDEX('1.2 Sub-Con Application'!$B$13:$U$1012,MATCH(1,('1.2 Sub-Con Application'!$B$13:$B$1012=B614)*('1.2 Sub-Con Application'!$U$13:$U$1012=\"Rejected\"),0),20),\"\")","v":""}]
[null,{"$f":"+IF(AND(ISBLANK(F615),ISBLANK(K615)),\"\",IF(AND(ISBLANK(F615),B614<>\"\"),B614,IF(COUNTIF($F$13:F614,F615)>0,B614,MAX($B$13:B614)+1)))","v":""},null,null,0,null,null,null,null,"Enter PC",null,"","",{"$f":"+IF(ISBLANK(K615),\"\",VLOOKUP(K615,'5.3 Schedule of Rates'!B:D,3,0))","v":""},null,"",null,"","",null,null,null,{"$f":"IFERROR(INDEX('1.2 Sub-Con Application'!$B$13:$U$1012,MATCH(1,('1.2 Sub-Con Application'!$B$13:$B$1012=B615)*('1.2 Sub-Con Application'!$U$13:$U$1012=\"Rejected\"),0),20),\"\")","v":""}]
[null,{"$f":"+IF(AND(ISBLANK(F616),ISBLANK(K616)),\"\",IF(AND(ISBLANK(F616),B615<>\"\"),B615,IF(COUNTIF($F$13:F615,F616)>0,B615,MAX($B$13:B615)+1)))","v":""},null,null,0,null,null,null,null,"Enter PC",null,"","",{"$f":"+IF(ISBLANK(K616),\"\",VLOOKUP(K616,'5.3 Schedule of Rates'!B:D,3,0))","v":""},null,"",null,"","",null,null,null,{"$f":"IFERROR(INDEX('1.2 Sub-Con Application'!$B$13:$U$1012,MATCH(1,('1.2 Sub-Con Application'!$B$13:$B$1012=B616)*('1.2 Sub-Con Application'!$U$13:$U$1012=\"Rejected\"),0),20),\"\")","v":""}]
[null,{"$f":"+IF(AND(ISBLANK(F617),ISBLANK(K617)),\"\",IF(AND(ISBLANK(F617),B616<>\"\"),B616,IF(COUNTIF($F$13:F616,F617)>0,B616,MAX($B$13:B616)+1)))","v":""},null,null,0,null,null,null,null,"Enter PC",null,"","",{"$f":"+IF(ISBLANK(K617),\"\",VLOOKUP(K617,'5.3 Schedule of Rates'!B:D,3,0))","v":""},null,"",null,"","",null,null,null,{"$f":"IFERROR(INDEX('1.2 Sub-Con Application'!$B$13:$U$1012,MATCH(1,('1.2 Sub-Con Application'!$B$13:$B$1012=B617)*('1.2 Sub-Con Application'!$U$13:$U$1012=\"Rejected\"),0),20),\"\")","v":""}]
[null,{"$f":"+IF(AND(ISBLANK(F618),ISBLANK(K618)),\"\",IF(AND(ISBLANK(F618),B617<>\"\"),B617,IF(COUNTIF($F$13:F617,F618)>0,B617,MAX($B$13:B617)+1)))","v":""},null,null,0,null,null,null,null,"Enter PC",null,"","",{"$f":"+IF(ISBLANK(K618),\"\",VLOOKUP(K618,'5.3 Schedule of Rates'!B:D,3,0))","v":""},null,"",null,"","",null,null,null,{"$f":"IFERROR(INDEX('1.2 Sub-Con Application'!$B$13:$U$1012,MATCH(1,('1.2 Sub-Con Application'!$B$13:$B$1012=B618)*('1.2 Sub-Con Application'!$U$13:$U$1012=\"Rejected\"),0),20),\"\")","v":""}]
[null,{"$f":"+IF(AND(ISBLANK(F619),ISBLANK(K619)),\"\",IF(AND(ISBLANK(F619),B618<>\"\"),B618,IF(COUNTIF($F$13:F618,F619)>0,B618,MAX($B$13:B618)+1)))","v":""},null,null,0,null,null,null,null,"Enter PC",null,"","",{"$f":"+IF(ISBLANK(K619),\"\",VLOOKUP(K619,'5.3 Schedule of Rates'!B:D,3,0))","v":""},null,"",null,"","",null,null,null,{"$f":"IFERROR(INDEX('1.2 Sub-Con Application'!$B$13:$U$1012,MATCH(1,('1.2 Sub-Con Application'!$B$13:$B$1012=B619)*('1.2 Sub-Con Application'!$U$13:$U$1012=\"Rejected\"),0),20),\"\")","v":""}]
[null,{"$f":"+IF(AND(ISBLANK(F620),ISBLANK(K620)),\"\",IF(AND(ISBLANK(F620),B619<>\"\"),B619,IF(COUNTIF($F$13:F619,F620)>0,B619,MAX($B$13:B619)+1)))","v":""},null,null,0,null,null,null,null,"Enter PC",null,"","",{"$f":"+IF(ISBLANK(K620),\"\",VLOOKUP(K620,'5.3 Schedule of Rates'!B:D,3,0))","v":""},null,"",null,"","",null,null,null,{"$f":"IFERROR(INDEX('1.2 Sub-Con Application'!$B$13:$U$1012,MATCH(1,('1.2 Sub-Con Application'!$B$13:$B$1012=B620)*('1.2 Sub-Con Application'!$U$13:$U$1012=\"Rejected\"),0),20),\"\")","v":""}]
[null,{"$f":"+IF(AND(ISBLANK(F621),ISBLANK(K621)),\"\",IF(AND(ISBLANK(F621),B620<>\"\"),B620,IF(COUNTIF($F$13:F620,F621)>0,B620,MAX($B$13:B620)+1)))","v":""},null,null,0,null,null,null,null,"Enter PC",null,"","",{"$f":"+IF(ISBLANK(K621),\"\",VLOOKUP(K621,'5.3 Schedule of Rates'!B:D,3,0))","v":""},null,"",null,"","",null,null,null,{"$f":"IFERROR(INDEX('1.2 Sub-Con Application'!$B$13:$U$1012,MATCH(1,('1.2 Sub-Con Application'!$B$13:$B$1012=B621)*('1.2 Sub-Con Application'!$U$13:$U$1012=\"Rejected\"),0),20),\"\")","v":""}]
[null,{"$f":"+IF(AND(ISBLANK(F622),ISBLANK(K622)),\"\",IF(AND(ISBLANK(F622),B621<>\"\"),B621,IF(COUNTIF($F$13:F621,F622)>0,B621,MAX($B$13:B621)+1)))","v":""},null,null,0,null,null,null,null,"Enter PC",null,"","",{"$f":"+IF(ISBLANK(K622),\"\",VLOOKUP(K622,'5.3 Schedule of Rates'!B:D,3,0))","v":""},null,"",null,"","",null,null,null,{"$f":"IFERROR(INDEX('1.2 Sub-Con Application'!$B$13:$U$1012,MATCH(1,('1.2 Sub-Con Application'!$B$13:$B$1012=B622)*('1.2 Sub-Con Application'!$U$13:$U$1012=\"Rejected\"),0),20),\"\")","v":""}]
[null,{"$f":"+IF(AND(ISBLANK(F623),ISBLANK(K623)),\"\",IF(AND(ISBLANK(F623),B622<>\"\"),B622,IF(COUNTIF($F$13:F622,F623)>0,B622,MAX($B$13:B622)+1)))","v":""},null,null,0,null,null,null,null,"Enter PC",null,"","",{"$f":"+IF(ISBLANK(K623),\"\",VLOOKUP(K623,'5.3 Schedule of Rates'!B:D,3,0))","v":""},null,"",null,"","",null,null,null,{"$f":"IFERROR(INDEX('1.2 Sub-Con Application'!$B$13:$U$1012,MATCH(1,('1.2 Sub-Con Application'!$B$13:$B$1012=B623)*('1.2 Sub-Con Application'!$U$13:$U$1012=\"Rejected\"),0),20),\"\")","v":""}]
[null,{"$f":"+IF(AND(ISBLANK(F624),ISBLANK(K624)),\"\",IF(AND(ISBLANK(F624),B623<>\"\"),B623,IF(COUNTIF($F$13:F623,F624)>0,B623,MAX($B$13:B623)+1)))","v":""},null,null,0,null,null,null,null,"Enter PC",null,"","",{"$f":"+IF(ISBLANK(K624),\"\",VLOOKUP(K624,'5.3 Schedule of Rates'!B:D,3,0))","v":""},null,"",null,"","",null,null,null,{"$f":"IFERROR(INDEX('1.2 Sub-Con Application'!$B$13:$U$1012,MATCH(1,('1.2 Sub-Con Application'!$B$13:$B$1012=B624)*('1.2 Sub-Con Application'!$U$13:$U$1012=\"Rejected\"),0),20),\"\")","v":""}]
[null,{"$f":"+IF(AND(ISBLANK(F625),ISBLANK(K625)),\"\",IF(AND(ISBLANK(F625),B624<>\"\"),B624,IF(COUNTIF($F$13:F624,F625)>0,B624,MAX($B$13:B624)+1)))","v":""},null,null,0,null,null,null,null,"Enter PC",null,"","",{"$f":"+IF(ISBLANK(K625),\"\",VLOOKUP(K625,'5.3 Schedule of Rates'!B:D,3,0))","v":""},null,"",null,"","",null,null,null,{"$f":"IFERROR(INDEX('1.2 Sub-Con Application'!$B$13:$U$1012,MATCH(1,('1.2 Sub-Con Application'!$B$13:$B$1012=B625)*('1.2 Sub-Con Application'!$U$13:$U$1012=\"Rejected\"),0),20),\"\")","v":""}]
[null,{"$f":"+IF(AND(ISBLANK(F626),ISBLANK(K626)),\"\",IF(AND(ISBLANK(F626),B625<>\"\"),B625,IF(COUNTIF($F$13:F625,F626)>0,B625,MAX($B$13:B625)+1)))","v":""},null,null,0,null,null,null,null,"Enter PC",null,"","",{"$f":"+IF(ISBLANK(K626),\"\",VLOOKUP(K626,'5.3 Schedule of Rates'!B:D,3,0))","v":""},null,"",null,"","",null,null,null,{"$f":"IFERROR(INDEX('1.2 Sub-Con Application'!$B$13:$U$1012,MATCH(1,('1.2 Sub-Con Application'!$B$13:$B$1012=B626)*('1.2 Sub-Con Application'!$U$13:$U$1012=\"Rejected\"),0),20),\"\")","v":""}]
[null,{"$f":"+IF(AND(ISBLANK(F627),ISBLANK(K627)),\"\",IF(AND(ISBLANK(F627),B626<>\"\"),B626,IF(COUNTIF($F$13:F626,F627)>0,B626,MAX($B$13:B626)+1)))","v":""},null,null,0,null,null,null,null,"Enter PC",null,"","",{"$f":"+IF(ISBLANK(K627),\"\",VLOOKUP(K627,'5.3 Schedule of Rates'!B:D,3,0))","v":""},null,"",null,"","",null,null,null,{"$f":"IFERROR(INDEX('1.2 Sub-Con Application'!$B$13:$U$1012,MATCH(1,('1.2 Sub-Con Application'!$B$13:$B$1012=B627)*('1.2 Sub-Con Application'!$U$13:$U$1012=\"Rejected\"),0),20),\"\")","v":""}]
[null,{"$f":"+IF(AND(ISBLANK(F628),ISBLANK(K628)),\"\",IF(AND(ISBLANK(F628),B627<>\"\"),B627,IF(COUNTIF($F$13:F627,F628)>0,B627,MAX($B$13:B627)+1)))","v":""},null,null,0,null,null,null,null,"Enter PC",null,"","",{"$f":"+IF(ISBLANK(K628),\"\",VLOOKUP(K628,'5.3 Schedule of Rates'!B:D,3,0))","v":""},null,"",null,"","",null,null,null,{"$f":"IFERROR(INDEX('1.2 Sub-Con Application'!$B$13:$U$1012,MATCH(1,('1.2 Sub-Con Application'!$B$13:$B$1012=B628)*('1.2 Sub-Con Application'!$U$13:$U$1012=\"Rejected\"),0),20),\"\")","v":""}]
[null,{"$f":"+IF(AND(ISBLANK(F629),ISBLANK(K629)),\"\",IF(AND(ISBLANK(F629),B628<>\"\"),B628,IF(COUNTIF($F$13:F628,F629)>0,B628,MAX($B$13:B628)+1)))","v":""},null,null,0,null,null,null,null,"Enter PC",null,"","",{"$f":"+IF(ISBLANK(K629),\"\",VLOOKUP(K629,'5.3 Schedule of Rates'!B:D,3,0))","v":""},null,"",null,"","",null,null,null,{"$f":"IFERROR(INDEX('1.2 Sub-Con Application'!$B$13:$U$1012,MATCH(1,('1.2 Sub-Con Application'!$B$13:$B$1012=B629)*('1.2 Sub-Con Application'!$U$13:$U$1012=\"Rejected\"),0),20),\"\")","v":""}]
[null,{"$f":"+IF(AND(ISBLANK(F630),ISBLANK(K630)),\"\",IF(AND(ISBLANK(F630),B629<>\"\"),B629,IF(COUNTIF($F$13:F629,F630)>0,B629,MAX($B$13:B629)+1)))","v":""},null,null,0,null,null,null,null,"Enter PC",null,"","",{"$f":"+IF(ISBLANK(K630),\"\",VLOOKUP(K630,'5.3 Schedule of Rates'!B:D,3,0))","v":""},null,"",null,"","",null,null,null,{"$f":"IFERROR(INDEX('1.2 Sub-Con Application'!$B$13:$U$1012,MATCH(1,('1.2 Sub-Con Application'!$B$13:$B$1012=B630)*('1.2 Sub-Con Application'!$U$13:$U$1012=\"Rejected\"),0),20),\"\")","v":""}]
[null,{"$f":"+IF(AND(ISBLANK(F631),ISBLANK(K631)),\"\",IF(AND(ISBLANK(F631),B630<>\"\"),B630,IF(COUNTIF($F$13:F630,F631)>0,B630,MAX($B$13:B630)+1)))","v":""},null,null,0,null,null,null,null,"Enter PC",null,"","",{"$f":"+IF(ISBLANK(K631),\"\",VLOOKUP(K631,'5.3 Schedule of Rates'!B:D,3,0))","v":""},null,"",null,"","",null,null,null,{"$f":"IFERROR(INDEX('1.2 Sub-Con Application'!$B$13:$U$1012,MATCH(1,('1.2 Sub-Con Application'!$B$13:$B$1012=B631)*('1.2 Sub-Con Application'!$U$13:$U$1012=\"Rejected\"),0),20),\"\")","v":""}]
[null,{"$f":"+IF(AND(ISBLANK(F632),ISBLANK(K632)),\"\",IF(AND(ISBLANK(F632),B631<>\"\"),B631,IF(COUNTIF($F$13:F631,F632)>0,B631,MAX($B$13:B631)+1)))","v":""},null,null,0,null,null,null,null,"Enter PC",null,"","",{"$f":"+IF(ISBLANK(K632),\"\",VLOOKUP(K632,'5.3 Schedule of Rates'!B:D,3,0))","v":""},null,"",null,"","",null,null,null,{"$f":"IFERROR(INDEX('1.2 Sub-Con Application'!$B$13:$U$1012,MATCH(1,('1.2 Sub-Con Application'!$B$13:$B$1012=B632)*('1.2 Sub-Con Application'!$U$13:$U$1012=\"Rejected\"),0),20),\"\")","v":""}]
[null,{"$f":"+IF(AND(ISBLANK(F633),ISBLANK(K633)),\"\",IF(AND(ISBLANK(F633),B632<>\"\"),B632,IF(COUNTIF($F$13:F632,F633)>0,B632,MAX($B$13:B632)+1)))","v":""},null,null,0,null,null,null,null,"Enter PC",null,"","",{"$f":"+IF(ISBLANK(K633),\"\",VLOOKUP(K633,'5.3 Schedule of Rates'!B:D,3,0))","v":""},null,"",null,"","",null,null,null,{"$f":"IFERROR(INDEX('1.2 Sub-Con Application'!$B$13:$U$1012,MATCH(1,('1.2 Sub-Con Application'!$B$13:$B$1012=B633)*('1.2 Sub-Con Application'!$U$13:$U$1012=\"Rejected\"),0),20),\"\")","v":""}]
[null,{"$f":"+IF(AND(ISBLANK(F634),ISBLANK(K634)),\"\",IF(AND(ISBLANK(F634),B633<>\"\"),B633,IF(COUNTIF($F$13:F633,F634)>0,B633,MAX($B$13:B633)+1)))","v":""},null,null,0,null,null,null,null,"Enter PC",null,"","",{"$f":"+IF(ISBLANK(K634),\"\",VLOOKUP(K634,'5.3 Schedule of Rates'!B:D,3,0))","v":""},null,"",null,"","",null,null,null,{"$f":"IFERROR(INDEX('1.2 Sub-Con Application'!$B$13:$U$1012,MATCH(1,('1.2 Sub-Con Application'!$B$13:$B$1012=B634)*('1.2 Sub-Con Application'!$U$13:$U$1012=\"Rejected\"),0),20),\"\")","v":""}]
[null,{"$f":"+IF(AND(ISBLANK(F635),ISBLANK(K635)),\"\",IF(AND(ISBLANK(F635),B634<>\"\"),B634,IF(COUNTIF($F$13:F634,F635)>0,B634,MAX($B$13:B634)+1)))","v":""},null,null,0,null,null,null,null,"Enter PC",null,"","",{"$f":"+IF(ISBLANK(K635),\"\",VLOOKUP(K635,'5.3 Schedule of Rates'!B:D,3,0))","v":""},null,"",null,"","",null,null,null,{"$f":"IFERROR(INDEX('1.2 Sub-Con Application'!$B$13:$U$1012,MATCH(1,('1.2 Sub-Con Application'!$B$13:$B$1012=B635)*('1.2 Sub-Con Application'!$U$13:$U$1012=\"Rejected\"),0),20),\"\")","v":""}]
[null,{"$f":"+IF(AND(ISBLANK(F636),ISBLANK(K636)),\"\",IF(AND(ISBLANK(F636),B635<>\"\"),B635,IF(COUNTIF($F$13:F635,F636)>0,B635,MAX($B$13:B635)+1)))","v":""},null,null,0,null,null,null,null,"Enter PC",null,"","",{"$f":"+IF(ISBLANK(K636),\"\",VLOOKUP(K636,'5.3 Schedule of Rates'!B:D,3,0))","v":""},null,"",null,"","",null,null,null,{"$f":"IFERROR(INDEX('1.2 Sub-Con Application'!$B$13:$U$1012,MATCH(1,('1.2 Sub-Con Application'!$B$13:$B$1012=B636)*('1.2 Sub-Con Application'!$U$13:$U$1012=\"Rejected\"),0),20),\"\")","v":""}]
[null,{"$f":"+IF(AND(ISBLANK(F637),ISBLANK(K637)),\"\",IF(AND(ISBLANK(F637),B636<>\"\"),B636,IF(COUNTIF($F$13:F636,F637)>0,B636,MAX($B$13:B636)+1)))","v":""},null,null,0,null,null,null,null,"Enter PC",null,"","",{"$f":"+IF(ISBLANK(K637),\"\",VLOOKUP(K637,'5.3 Schedule of Rates'!B:D,3,0))","v":""},null,"",null,"","",null,null,null,{"$f":"IFERROR(INDEX('1.2 Sub-Con Application'!$B$13:$U$1012,MATCH(1,('1.2 Sub-Con Application'!$B$13:$B$1012=B637)*('1.2 Sub-Con Application'!$U$13:$U$1012=\"Rejected\"),0),20),\"\")","v":""}]
[null,{"$f":"+IF(AND(ISBLANK(F638),ISBLANK(K638)),\"\",IF(AND(ISBLANK(F638),B637<>\"\"),B637,IF(COUNTIF($F$13:F637,F638)>0,B637,MAX($B$13:B637)+1)))","v":""},null,null,0,null,null,null,null,"Enter PC",null,"","",{"$f":"+IF(ISBLANK(K638),\"\",VLOOKUP(K638,'5.3 Schedule of Rates'!B:D,3,0))","v":""},null,"",null,"","",null,null,null,{"$f":"IFERROR(INDEX('1.2 Sub-Con Application'!$B$13:$U$1012,MATCH(1,('1.2 Sub-Con Application'!$B$13:$B$1012=B638)*('1.2 Sub-Con Application'!$U$13:$U$1012=\"Rejected\"),0),20),\"\")","v":""}]
[null,{"$f":"+IF(AND(ISBLANK(F639),ISBLANK(K639)),\"\",IF(AND(ISBLANK(F639),B638<>\"\"),B638,IF(COUNTIF($F$13:F638,F639)>0,B638,MAX($B$13:B638)+1)))","v":""},null,null,{"$f":"NETWORKDAYS(C639,D639)","v":0},null,null,null,null,"Enter PC",null,"","",{"$f":"+IF(ISBLANK(K639),\"\",VLOOKUP(K639,'5.3 Schedule of Rates'!B:D,3,0))","v":""},null,"",null,"",{"$f":"IF(ISERROR(SUM(P639-R639)),\"\",SUM(P639-R639))","v":""},null,null,null,{"$f":"IFERROR(INDEX('1.2 Sub-Con Application'!$B$13:$U$1012,MATCH(1,('1.2 Sub-Con Application'!$B$13:$B$1012=B639)*('1.2 Sub-Con Application'!$U$13:$U$1012=\"Rejected\"),0),20),\"\")","v":""}]
[null,{"$f":"+IF(AND(ISBLANK(F640),ISBLANK(K640)),\"\",IF(AND(ISBLANK(F640),B639<>\"\"),B639,IF(COUNTIF($F$13:F639,F640)>0,B639,MAX($B$13:B639)+1)))","v":""},null,null,0,null,null,null,null,"Enter PC",null,"","",{"$f":"+IF(ISBLANK(K640),\"\",VLOOKUP(K640,'5.3 Schedule of Rates'!B:D,3,0))","v":""},null,"",null,"","",null,null,null,{"$f":"IFERROR(INDEX('1.2 Sub-Con Application'!$B$13:$U$1012,MATCH(1,('1.2 Sub-Con Application'!$B$13:$B$1012=B640)*('1.2 Sub-Con Application'!$U$13:$U$1012=\"Rejected\"),0),20),\"\")","v":""}]
[null,{"$f":"+IF(AND(ISBLANK(F641),ISBLANK(K641)),\"\",IF(AND(ISBLANK(F641),B640<>\"\"),B640,IF(COUNTIF($F$13:F640,F641)>0,B640,MAX($B$13:B640)+1)))","v":""},null,null,0,null,null,null,null,"Enter PC",null,"","",{"$f":"+IF(ISBLANK(K641),\"\",VLOOKUP(K641,'5.3 Schedule of Rates'!B:D,3,0))","v":""},null,"",null,"","",null,null,null,{"$f":"IFERROR(INDEX('1.2 Sub-Con Application'!$B$13:$U$1012,MATCH(1,('1.2 Sub-Con Application'!$B$13:$B$1012=B641)*('1.2 Sub-Con Application'!$U$13:$U$1012=\"Rejected\"),0),20),\"\")","v":""}]
[null,{"$f":"+IF(AND(ISBLANK(F642),ISBLANK(K642)),\"\",IF(AND(ISBLANK(F642),B641<>\"\"),B641,IF(COUNTIF($F$13:F641,F642)>0,B641,MAX($B$13:B641)+1)))","v":""},null,null,0,null,null,null,null,"Enter PC",null,"","",{"$f":"+IF(ISBLANK(K642),\"\",VLOOKUP(K642,'5.3 Schedule of Rates'!B:D,3,0))","v":""},null,"",null,"","",null,null,null,{"$f":"IFERROR(INDEX('1.2 Sub-Con Application'!$B$13:$U$1012,MATCH(1,('1.2 Sub-Con Application'!$B$13:$B$1012=B642)*('1.2 Sub-Con Application'!$U$13:$U$1012=\"Rejected\"),0),20),\"\")","v":""}]
[null,{"$f":"+IF(AND(ISBLANK(F643),ISBLANK(K643)),\"\",IF(AND(ISBLANK(F643),B642<>\"\"),B642,IF(COUNTIF($F$13:F642,F643)>0,B642,MAX($B$13:B642)+1)))","v":""},null,null,0,null,null,null,null,"Enter PC",null,"","",{"$f":"+IF(ISBLANK(K643),\"\",VLOOKUP(K643,'5.3 Schedule of Rates'!B:D,3,0))","v":""},null,"",null,"","",null,null,null,{"$f":"IFERROR(INDEX('1.2 Sub-Con Application'!$B$13:$U$1012,MATCH(1,('1.2 Sub-Con Application'!$B$13:$B$1012=B643)*('1.2 Sub-Con Application'!$U$13:$U$1012=\"Rejected\"),0),20),\"\")","v":""}]
[null,{"$f":"+IF(AND(ISBLANK(F644),ISBLANK(K644)),\"\",IF(AND(ISBLANK(F644),B643<>\"\"),B643,IF(COUNTIF($F$13:F643,F644)>0,B643,MAX($B$13:B643)+1)))","v":""},null,null,0,null,null,null,null,"Enter PC",null,"","",{"$f":"+IF(ISBLANK(K644),\"\",VLOOKUP(K644,'5.3 Schedule of Rates'!B:D,3,0))","v":""},null,"",null,"","",null,null,null,{"$f":"IFERROR(INDEX('1.2 Sub-Con Application'!$B$13:$U$1012,MATCH(1,('1.2 Sub-Con Application'!$B$13:$B$1012=B644)*('1.2 Sub-Con Application'!$U$13:$U$1012=\"Rejected\"),0),20),\"\")","v":""}]
[null,{"$f":"+IF(AND(ISBLANK(F645),ISBLANK(K645)),\"\",IF(AND(ISBLANK(F645),B644<>\"\"),B644,IF(COUNTIF($F$13:F644,F645)>0,B644,MAX($B$13:B644)+1)))","v":""},null,null,0,null,null,null,null,"Enter PC",null,"","",{"$f":"+IF(ISBLANK(K645),\"\",VLOOKUP(K645,'5.3 Schedule of Rates'!B:D,3,0))","v":""},null,"",null,"","",null,null,null,{"$f":"IFERROR(INDEX('1.2 Sub-Con Application'!$B$13:$U$1012,MATCH(1,('1.2 Sub-Con Application'!$B$13:$B$1012=B645)*('1.2 Sub-Con Application'!$U$13:$U$1012=\"Rejected\"),0),20),\"\")","v":""}]
[null,{"$f":"+IF(AND(ISBLANK(F646),ISBLANK(K646)),\"\",IF(AND(ISBLANK(F646),B645<>\"\"),B645,IF(COUNTIF($F$13:F645,F646)>0,B645,MAX($B$13:B645)+1)))","v":""},null,null,0,null,null,null,null,"Enter PC",null,"","",{"$f":"+IF(ISBLANK(K646),\"\",VLOOKUP(K646,'5.3 Schedule of Rates'!B:D,3,0))","v":""},null,"",null,"","",null,null,null,{"$f":"IFERROR(INDEX('1.2 Sub-Con Application'!$B$13:$U$1012,MATCH(1,('1.2 Sub-Con Application'!$B$13:$B$1012=B646)*('1.2 Sub-Con Application'!$U$13:$U$1012=\"Rejected\"),0),20),\"\")","v":""}]
[null,{"$f":"+IF(AND(ISBLANK(F647),ISBLANK(K647)),\"\",IF(AND(ISBLANK(F647),B646<>\"\"),B646,IF(COUNTIF($F$13:F646,F647)>0,B646,MAX($B$13:B646)+1)))","v":""},null,null,0,null,null,null,null,"Enter PC",null,"","",{"$f":"+IF(ISBLANK(K647),\"\",VLOOKUP(K647,'5.3 Schedule of Rates'!B:D,3,0))","v":""},null,"",null,"","",null,null,null,{"$f":"IFERROR(INDEX('1.2 Sub-Con Application'!$B$13:$U$1012,MATCH(1,('1.2 Sub-Con Application'!$B$13:$B$1012=B647)*('1.2 Sub-Con Application'!$U$13:$U$1012=\"Rejected\"),0),20),\"\")","v":""}]
[null,{"$f":"+IF(AND(ISBLANK(F648),ISBLANK(K648)),\"\",IF(AND(ISBLANK(F648),B647<>\"\"),B647,IF(COUNTIF($F$13:F647,F648)>0,B647,MAX($B$13:B647)+1)))","v":""},null,null,0,null,null,null,null,"Enter PC",null,"","",{"$f":"+IF(ISBLANK(K648),\"\",VLOOKUP(K648,'5.3 Schedule of Rates'!B:D,3,0))","v":""},null,"",null,"","",null,null,null,{"$f":"IFERROR(INDEX('1.2 Sub-Con Application'!$B$13:$U$1012,MATCH(1,('1.2 Sub-Con Application'!$B$13:$B$1012=B648)*('1.2 Sub-Con Application'!$U$13:$U$1012=\"Rejected\"),0),20),\"\")","v":""}]
[null,{"$f":"+IF(AND(ISBLANK(F649),ISBLANK(K649)),\"\",IF(AND(ISBLANK(F649),B648<>\"\"),B648,IF(COUNTIF($F$13:F648,F649)>0,B648,MAX($B$13:B648)+1)))","v":""},null,null,0,null,null,null,null,"Enter PC",null,"","",{"$f":"+IF(ISBLANK(K649),\"\",VLOOKUP(K649,'5.3 Schedule of Rates'!B:D,3,0))","v":""},null,"",null,"","",null,null,null,{"$f":"IFERROR(INDEX('1.2 Sub-Con Application'!$B$13:$U$1012,MATCH(1,('1.2 Sub-Con Application'!$B$13:$B$1012=B649)*('1.2 Sub-Con Application'!$U$13:$U$1012=\"Rejected\"),0),20),\"\")","v":""}]
[null,{"$f":"+IF(AND(ISBLANK(F650),ISBLANK(K650)),\"\",IF(AND(ISBLANK(F650),B649<>\"\"),B649,IF(COUNTIF($F$13:F649,F650)>0,B649,MAX($B$13:B649)+1)))","v":""},null,null,0,null,null,null,null,"Enter PC",null,"","",{"$f":"+IF(ISBLANK(K650),\"\",VLOOKUP(K650,'5.3 Schedule of Rates'!B:D,3,0))","v":""},null,"",null,"","",null,null,null,{"$f":"IFERROR(INDEX('1.2 Sub-Con Application'!$B$13:$U$1012,MATCH(1,('1.2 Sub-Con Application'!$B$13:$B$1012=B650)*('1.2 Sub-Con Application'!$U$13:$U$1012=\"Rejected\"),0),20),\"\")","v":""}]
[null,{"$f":"+IF(AND(ISBLANK(F651),ISBLANK(K651)),\"\",IF(AND(ISBLANK(F651),B650<>\"\"),B650,IF(COUNTIF($F$13:F650,F651)>0,B650,MAX($B$13:B650)+1)))","v":""},null,null,0,null,null,null,null,"Enter PC",null,"","",{"$f":"+IF(ISBLANK(K651),\"\",VLOOKUP(K651,'5.3 Schedule of Rates'!B:D,3,0))","v":""},null,"",null,"","",null,null,null,{"$f":"IFERROR(INDEX('1.2 Sub-Con Application'!$B$13:$U$1012,MATCH(1,('1.2 Sub-Con Application'!$B$13:$B$1012=B651)*('1.2 Sub-Con Application'!$U$13:$U$1012=\"Rejected\"),0),20),\"\")","v":""}]
[null,{"$f":"+IF(AND(ISBLANK(F652),ISBLANK(K652)),\"\",IF(AND(ISBLANK(F652),B651<>\"\"),B651,IF(COUNTIF($F$13:F651,F652)>0,B651,MAX($B$13:B651)+1)))","v":""},null,null,0,null,null,null,null,"Enter PC",null,"","",{"$f":"+IF(ISBLANK(K652),\"\",VLOOKUP(K652,'5.3 Schedule of Rates'!B:D,3,0))","v":""},null,"",null,"","",null,null,null,{"$f":"IFERROR(INDEX('1.2 Sub-Con Application'!$B$13:$U$1012,MATCH(1,('1.2 Sub-Con Application'!$B$13:$B$1012=B652)*('1.2 Sub-Con Application'!$U$13:$U$1012=\"Rejected\"),0),20),\"\")","v":""}]
[null,{"$f":"+IF(AND(ISBLANK(F653),ISBLANK(K653)),\"\",IF(AND(ISBLANK(F653),B652<>\"\"),B652,IF(COUNTIF($F$13:F652,F653)>0,B652,MAX($B$13:B652)+1)))","v":""},null,null,0,null,null,null,null,{"$f":"IFERROR(IF(I653=\"\",\"Enter PC\",VLOOKUP(IF(LEN(I653)=6,LEFT(I653,2),IF(LEN(I653)=7,LEFT(I653,3),LEFT(I653,4))),table_pcRegion,2,FALSE)=work_Region),\"INVALID\")","v":"Enter PC"},null,{"$f":"+IF(ISBLANK(K653),\"\",VLOOKUP(K653,table_SoR,2,0))","v":""},{"$f":"+IF(ISBLANK(K653),\"\",INDEX(table_subconSoR,MATCH(L653,row_SoR,0),MATCH($H$4,col_SoR,0)))","v":""},{"$f":"+IF(ISBLANK(K653),\"\",VLOOKUP(K653,'5.3 Schedule of Rates'!B:D,3,0))","v":""},null,{"$f":"+IF(ISBLANK($O653),\"\",ROUND(SUM(SUM(VLOOKUP($K653,table_SoR,6,0)*(1+$M653))*O653),2))","v":""},null,{"$f":"+IF(ISBLANK($O653),\"\",ROUND(IF(Q653>0,Q653,SUM(SUM(VLOOKUP($K653,table_SoR,7,0)*(1+$M653))*O653)),2))","v":""},"",null,null,null,{"$f":"IFERROR(INDEX('1.2 Sub-Con Application'!$B$13:$U$1012,MATCH(1,('1.2 Sub-Con Application'!$B$13:$B$1012=B653)*('1.2 Sub-Con Application'!$U$13:$U$1012=\"Rejected\"),0),20),\"\")","v":""}]
[null,{"$f":"+IF(AND(ISBLANK(F654),ISBLANK(K654)),\"\",IF(AND(ISBLANK(F654),B653<>\"\"),B653,IF(COUNTIF($F$13:F653,F654)>0,B653,MAX($B$13:B653)+1)))","v":""},null,null,0,null,null,null,null,"Enter PC",null,"","",{"$f":"+IF(ISBLANK(K654),\"\",VLOOKUP(K654,'5.3 Schedule of Rates'!B:D,3,0))","v":""},null,"",null,"","",null,null,null,{"$f":"IFERROR(INDEX('1.2 Sub-Con Application'!$B$13:$U$1012,MATCH(1,('1.2 Sub-Con Application'!$B$13:$B$1012=B654)*('1.2 Sub-Con Application'!$U$13:$U$1012=\"Rejected\"),0),20),\"\")","v":""}]
[null,{"$f":"+IF(AND(ISBLANK(F655),ISBLANK(K655)),\"\",IF(AND(ISBLANK(F655),B654<>\"\"),B654,IF(COUNTIF($F$13:F654,F655)>0,B654,MAX($B$13:B654)+1)))","v":""},null,null,0,null,null,null,null,"Enter PC",null,"","",{"$f":"+IF(ISBLANK(K655),\"\",VLOOKUP(K655,'5.3 Schedule of Rates'!B:D,3,0))","v":""},null,"",null,"","",null,null,null,{"$f":"IFERROR(INDEX('1.2 Sub-Con Application'!$B$13:$U$1012,MATCH(1,('1.2 Sub-Con Application'!$B$13:$B$1012=B655)*('1.2 Sub-Con Application'!$U$13:$U$1012=\"Rejected\"),0),20),\"\")","v":""}]
[null,{"$f":"+IF(AND(ISBLANK(F656),ISBLANK(K656)),\"\",IF(AND(ISBLANK(F656),B655<>\"\"),B655,IF(COUNTIF($F$13:F655,F656)>0,B655,MAX($B$13:B655)+1)))","v":""},null,null,0,null,null,null,null,"Enter PC",null,"","",{"$f":"+IF(ISBLANK(K656),\"\",VLOOKUP(K656,'5.3 Schedule of Rates'!B:D,3,0))","v":""},null,"",null,"","",null,null,null,{"$f":"IFERROR(INDEX('1.2 Sub-Con Application'!$B$13:$U$1012,MATCH(1,('1.2 Sub-Con Application'!$B$13:$B$1012=B656)*('1.2 Sub-Con Application'!$U$13:$U$1012=\"Rejected\"),0),20),\"\")","v":""}]
[null,{"$f":"+IF(AND(ISBLANK(F657),ISBLANK(K657)),\"\",IF(AND(ISBLANK(F657),B656<>\"\"),B656,IF(COUNTIF($F$13:F656,F657)>0,B656,MAX($B$13:B656)+1)))","v":""},null,null,0,null,null,null,null,"Enter PC",null,"","",{"$f":"+IF(ISBLANK(K657),\"\",VLOOKUP(K657,'5.3 Schedule of Rates'!B:D,3,0))","v":""},null,"",null,"","",null,null,null,{"$f":"IFERROR(INDEX('1.2 Sub-Con Application'!$B$13:$U$1012,MATCH(1,('1.2 Sub-Con Application'!$B$13:$B$1012=B657)*('1.2 Sub-Con Application'!$U$13:$U$1012=\"Rejected\"),0),20),\"\")","v":""}]
[null,{"$f":"+IF(AND(ISBLANK(F658),ISBLANK(K658)),\"\",IF(AND(ISBLANK(F658),B657<>\"\"),B657,IF(COUNTIF($F$13:F657,F658)>0,B657,MAX($B$13:B657)+1)))","v":""},null,null,0,null,null,null,null,"Enter PC",null,"","",{"$f":"+IF(ISBLANK(K658),\"\",VLOOKUP(K658,'5.3 Schedule of Rates'!B:D,3,0))","v":""},null,"",null,"","",null,null,null,{"$f":"IFERROR(INDEX('1.2 Sub-Con Application'!$B$13:$U$1012,MATCH(1,('1.2 Sub-Con Application'!$B$13:$B$1012=B658)*('1.2 Sub-Con Application'!$U$13:$U$1012=\"Rejected\"),0),20),\"\")","v":""}]
[null,{"$f":"+IF(AND(ISBLANK(F659),ISBLANK(K659)),\"\",IF(AND(ISBLANK(F659),B658<>\"\"),B658,IF(COUNTIF($F$13:F658,F659)>0,B658,MAX($B$13:B658)+1)))","v":""},null,null,0,null,null,null,null,"Enter PC",null,"","",{"$f":"+IF(ISBLANK(K659),\"\",VLOOKUP(K659,'5.3 Schedule of Rates'!B:D,3,0))","v":""},null,"",null,"","",null,null,null,{"$f":"IFERROR(INDEX('1.2 Sub-Con Application'!$B$13:$U$1012,MATCH(1,('1.2 Sub-Con Application'!$B$13:$B$1012=B659)*('1.2 Sub-Con Application'!$U$13:$U$1012=\"Rejected\"),0),20),\"\")","v":""}]
[null,{"$f":"+IF(AND(ISBLANK(F660),ISBLANK(K660)),\"\",IF(AND(ISBLANK(F660),B659<>\"\"),B659,IF(COUNTIF($F$13:F659,F660)>0,B659,MAX($B$13:B659)+1)))","v":""},null,null,0,null,null,null,null,"Enter PC",null,"","",{"$f":"+IF(ISBLANK(K660),\"\",VLOOKUP(K660,'5.3 Schedule of Rates'!B:D,3,0))","v":""},null,"",null,"","",null,null,null,{"$f":"IFERROR(INDEX('1.2 Sub-Con Application'!$B$13:$U$1012,MATCH(1,('1.2 Sub-Con Application'!$B$13:$B$1012=B660)*('1.2 Sub-Con Application'!$U$13:$U$1012=\"Rejected\"),0),20),\"\")","v":""}]
[null,{"$f":"+IF(AND(ISBLANK(F661),ISBLANK(K661)),\"\",IF(AND(ISBLANK(F661),B660<>\"\"),B660,IF(COUNTIF($F$13:F660,F661)>0,B660,MAX($B$13:B660)+1)))","v":""},null,null,0,null,null,null,null,"Enter PC",null,"","",{"$f":"+IF(ISBLANK(K661),\"\",VLOOKUP(K661,'5.3 Schedule of Rates'!B:D,3,0))","v":""},null,"",null,"","",null,null,null,{"$f":"IFERROR(INDEX('1.2 Sub-Con Application'!$B$13:$U$1012,MATCH(1,('1.2 Sub-Con Application'!$B$13:$B$1012=B661)*('1.2 Sub-Con Application'!$U$13:$U$1012=\"Rejected\"),0),20),\"\")","v":""}]
[null,{"$f":"+IF(AND(ISBLANK(F662),ISBLANK(K662)),\"\",IF(AND(ISBLANK(F662),B661<>\"\"),B661,IF(COUNTIF($F$13:F661,F662)>0,B661,MAX($B$13:B661)+1)))","v":""},null,null,0,null,null,null,null,"Enter PC",null,"","",{"$f":"+IF(ISBLANK(K662),\"\",VLOOKUP(K662,'5.3 Schedule of Rates'!B:D,3,0))","v":""},null,"",null,"","",null,null,null,{"$f":"IFERROR(INDEX('1.2 Sub-Con Application'!$B$13:$U$1012,MATCH(1,('1.2 Sub-Con Application'!$B$13:$B$1012=B662)*('1.2 Sub-Con Application'!$U$13:$U$1012=\"Rejected\"),0),20),\"\")","v":""}]
[null,{"$f":"+IF(AND(ISBLANK(F663),ISBLANK(K663)),\"\",IF(AND(ISBLANK(F663),B662<>\"\"),B662,IF(COUNTIF($F$13:F662,F663)>0,B662,MAX($B$13:B662)+1)))","v":""},null,null,0,null,null,null,null,"Enter PC",null,"","",{"$f":"+IF(ISBLANK(K663),\"\",VLOOKUP(K663,'5.3 Schedule of Rates'!B:D,3,0))","v":""},null,"",null,"","",null,null,null,{"$f":"IFERROR(INDEX('1.2 Sub-Con Application'!$B$13:$U$1012,MATCH(1,('1.2 Sub-Con Application'!$B$13:$B$1012=B663)*('1.2 Sub-Con Application'!$U$13:$U$1012=\"Rejected\"),0),20),\"\")","v":""}]
[null,{"$f":"+IF(AND(ISBLANK(F664),ISBLANK(K664)),\"\",IF(AND(ISBLANK(F664),B663<>\"\"),B663,IF(COUNTIF($F$13:F663,F664)>0,B663,MAX($B$13:B663)+1)))","v":""},null,null,0,null,null,null,null,"Enter PC",null,"","",{"$f":"+IF(ISBLANK(K664),\"\",VLOOKUP(K664,'5.3 Schedule of Rates'!B:D,3,0))","v":""},null,"",null,"","",null,null,null,{"$f":"IFERROR(INDEX('1.2 Sub-Con Application'!$B$13:$U$1012,MATCH(1,('1.2 Sub-Con Application'!$B$13:$B$1012=B664)*('1.2 Sub-Con Application'!$U$13:$U$1012=\"Rejected\"),0),20),\"\")","v":""}]
[null,{"$f":"+IF(AND(ISBLANK(F665),ISBLANK(K665)),\"\",IF(AND(ISBLANK(F665),B664<>\"\"),B664,IF(COUNTIF($F$13:F664,F665)>0,B664,MAX($B$13:B664)+1)))","v":""},null,null,0,null,null,null,null,"Enter PC",null,"","",{"$f":"+IF(ISBLANK(K665),\"\",VLOOKUP(K665,'5.3 Schedule of Rates'!B:D,3,0))","v":""},null,"",null,"","",null,null,null,{"$f":"IFERROR(INDEX('1.2 Sub-Con Application'!$B$13:$U$1012,MATCH(1,('1.2 Sub-Con Application'!$B$13:$B$1012=B665)*('1.2 Sub-Con Application'!$U$13:$U$1012=\"Rejected\"),0),20),\"\")","v":""}]
[null,{"$f":"+IF(AND(ISBLANK(F666),ISBLANK(K666)),\"\",IF(AND(ISBLANK(F666),B665<>\"\"),B665,IF(COUNTIF($F$13:F665,F666)>0,B665,MAX($B$13:B665)+1)))","v":""},null,null,0,null,null,null,null,"Enter PC",null,"","",{"$f":"+IF(ISBLANK(K666),\"\",VLOOKUP(K666,'5.3 Schedule of Rates'!B:D,3,0))","v":""},null,"",null,"","",null,null,null,{"$f":"IFERROR(INDEX('1.2 Sub-Con Application'!$B$13:$U$1012,MATCH(1,('1.2 Sub-Con Application'!$B$13:$B$1012=B666)*('1.2 Sub-Con Application'!$U$13:$U$1012=\"Rejected\"),0),20),\"\")","v":""}]
[null,{"$f":"+IF(AND(ISBLANK(F667),ISBLANK(K667)),\"\",IF(AND(ISBLANK(F667),B666<>\"\"),B666,IF(COUNTIF($F$13:F666,F667)>0,B666,MAX($B$13:B666)+1)))","v":""},null,null,0,null,null,null,null,"Enter PC",null,"","",{"$f":"+IF(ISBLANK(K667),\"\",VLOOKUP(K667,'5.3 Schedule of Rates'!B:D,3,0))","v":""},null,"",null,"","",null,null,null,{"$f":"IFERROR(INDEX('1.2 Sub-Con Application'!$B$13:$U$1012,MATCH(1,('1.2 Sub-Con Application'!$B$13:$B$1012=B667)*('1.2 Sub-Con Application'!$U$13:$U$1012=\"Rejected\"),0),20),\"\")","v":""}]
[null,{"$f":"+IF(AND(ISBLANK(F668),ISBLANK(K668)),\"\",IF(AND(ISBLANK(F668),B667<>\"\"),B667,IF(COUNTIF($F$13:F667,F668)>0,B667,MAX($B$13:B667)+1)))","v":""},null,null,0,null,null,null,null,"Enter PC",null,"","",{"$f":"+IF(ISBLANK(K668),\"\",VLOOKUP(K668,'5.3 Schedule of Rates'!B:D,3,0))","v":""},null,"",null,"","",null,null,null,{"$f":"IFERROR(INDEX('1.2 Sub-Con Application'!$B$13:$U$1012,MATCH(1,('1.2 Sub-Con Application'!$B$13:$B$1012=B668)*('1.2 Sub-Con Application'!$U$13:$U$1012=\"Rejected\"),0),20),\"\")","v":""}]
[null,{"$f":"+IF(AND(ISBLANK(F669),ISBLANK(K669)),\"\",IF(AND(ISBLANK(F669),B668<>\"\"),B668,IF(COUNTIF($F$13:F668,F669)>0,B668,MAX($B$13:B668)+1)))","v":""},null,null,0,null,null,null,null,"Enter PC",null,"","",{"$f":"+IF(ISBLANK(K669),\"\",VLOOKUP(K669,'5.3 Schedule of Rates'!B:D,3,0))","v":""},null,"",null,"","",null,null,null,{"$f":"IFERROR(INDEX('1.2 Sub-Con Application'!$B$13:$U$1012,MATCH(1,('1.2 Sub-Con Application'!$B$13:$B$1012=B669)*('1.2 Sub-Con Application'!$U$13:$U$1012=\"Rejected\"),0),20),\"\")","v":""}]
[null,{"$f":"+IF(AND(ISBLANK(F670),ISBLANK(K670)),\"\",IF(AND(ISBLANK(F670),B669<>\"\"),B669,IF(COUNTIF($F$13:F669,F670)>0,B669,MAX($B$13:B669)+1)))","v":""},null,null,0,null,null,null,null,"Enter PC",null,"","",{"$f":"+IF(ISBLANK(K670),\"\",VLOOKUP(K670,'5.3 Schedule of Rates'!B:D,3,0))","v":""},null,"",null,"","",null,null,null,{"$f":"IFERROR(INDEX('1.2 Sub-Con Application'!$B$13:$U$1012,MATCH(1,('1.2 Sub-Con Application'!$B$13:$B$1012=B670)*('1.2 Sub-Con Application'!$U$13:$U$1012=\"Rejected\"),0),20),\"\")","v":""}]
[null,{"$f":"+IF(AND(ISBLANK(F671),ISBLANK(K671)),\"\",IF(AND(ISBLANK(F671),B670<>\"\"),B670,IF(COUNTIF($F$13:F670,F671)>0,B670,MAX($B$13:B670)+1)))","v":""},null,null,0,null,null,null,null,"Enter PC",null,"","",{"$f":"+IF(ISBLANK(K671),\"\",VLOOKUP(K671,'5.3 Schedule of Rates'!B:D,3,0))","v":""},null,"",null,"","",null,null,null,{"$f":"IFERROR(INDEX('1.2 Sub-Con Application'!$B$13:$U$1012,MATCH(1,('1.2 Sub-Con Application'!$B$13:$B$1012=B671)*('1.2 Sub-Con Application'!$U$13:$U$1012=\"Rejected\"),0),20),\"\")","v":""}]
[null,{"$f":"+IF(AND(ISBLANK(F672),ISBLANK(K672)),\"\",IF(AND(ISBLANK(F672),B671<>\"\"),B671,IF(COUNTIF($F$13:F671,F672)>0,B671,MAX($B$13:B671)+1)))","v":""},null,null,0,null,null,null,null,"Enter PC",null,"","",{"$f":"+IF(ISBLANK(K672),\"\",VLOOKUP(K672,'5.3 Schedule of Rates'!B:D,3,0))","v":""},null,"",null,"","",null,null,null,{"$f":"IFERROR(INDEX('1.2 Sub-Con Application'!$B$13:$U$1012,MATCH(1,('1.2 Sub-Con Application'!$B$13:$B$1012=B672)*('1.2 Sub-Con Application'!$U$13:$U$1012=\"Rejected\"),0),20),\"\")","v":""}]
[null,{"$f":"+IF(AND(ISBLANK(F673),ISBLANK(K673)),\"\",IF(AND(ISBLANK(F673),B672<>\"\"),B672,IF(COUNTIF($F$13:F672,F673)>0,B672,MAX($B$13:B672)+1)))","v":""},null,null,0,null,null,null,null,"Enter PC",null,"","",{"$f":"+IF(ISBLANK(K673),\"\",VLOOKUP(K673,'5.3 Schedule of Rates'!B:D,3,0))","v":""},null,"",null,"","",null,null,null,{"$f":"IFERROR(INDEX('1.2 Sub-Con Application'!$B$13:$U$1012,MATCH(1,('1.2 Sub-Con Application'!$B$13:$B$1012=B673)*('1.2 Sub-Con Application'!$U$13:$U$1012=\"Rejected\"),0),20),\"\")","v":""}]
[null,{"$f":"+IF(AND(ISBLANK(F674),ISBLANK(K674)),\"\",IF(AND(ISBLANK(F674),B673<>\"\"),B673,IF(COUNTIF($F$13:F673,F674)>0,B673,MAX($B$13:B673)+1)))","v":""},null,null,0,null,null,null,null,"Enter PC",null,"","",{"$f":"+IF(ISBLANK(K674),\"\",VLOOKUP(K674,'5.3 Schedule of Rates'!B:D,3,0))","v":""},null,"",null,"","",null,null,null,{"$f":"IFERROR(INDEX('1.2 Sub-Con Application'!$B$13:$U$1012,MATCH(1,('1.2 Sub-Con Application'!$B$13:$B$1012=B674)*('1.2 Sub-Con Application'!$U$13:$U$1012=\"Rejected\"),0),20),\"\")","v":""}]
[null,{"$f":"+IF(AND(ISBLANK(F675),ISBLANK(K675)),\"\",IF(AND(ISBLANK(F675),B674<>\"\"),B674,IF(COUNTIF($F$13:F674,F675)>0,B674,MAX($B$13:B674)+1)))","v":""},null,null,0,null,null,null,null,"Enter PC",null,"","",{"$f":"+IF(ISBLANK(K675),\"\",VLOOKUP(K675,'5.3 Schedule of Rates'!B:D,3,0))","v":""},null,"",null,"","",null,null,null,{"$f":"IFERROR(INDEX('1.2 Sub-Con Application'!$B$13:$U$1012,MATCH(1,('1.2 Sub-Con Application'!$B$13:$B$1012=B675)*('1.2 Sub-Con Application'!$U$13:$U$1012=\"Rejected\"),0),20),\"\")","v":""}]
[null,{"$f":"+IF(AND(ISBLANK(F676),ISBLANK(K676)),\"\",IF(AND(ISBLANK(F676),B675<>\"\"),B675,IF(COUNTIF($F$13:F675,F676)>0,B675,MAX($B$13:B675)+1)))","v":""},null,null,0,null,null,null,null,"Enter PC",null,"","",{"$f":"+IF(ISBLANK(K676),\"\",VLOOKUP(K676,'5.3 Schedule of Rates'!B:D,3,0))","v":""},null,"",null,"","",null,null,null,{"$f":"IFERROR(INDEX('1.2 Sub-Con Application'!$B$13:$U$1012,MATCH(1,('1.2 Sub-Con Application'!$B$13:$B$1012=B676)*('1.2 Sub-Con Application'!$U$13:$U$1012=\"Rejected\"),0),20),\"\")","v":""}]
[null,{"$f":"+IF(AND(ISBLANK(F677),ISBLANK(K677)),\"\",IF(AND(ISBLANK(F677),B676<>\"\"),B676,IF(COUNTIF($F$13:F676,F677)>0,B676,MAX($B$13:B676)+1)))","v":""},null,null,0,null,null,null,null,"Enter PC",null,"","",{"$f":"+IF(ISBLANK(K677),\"\",VLOOKUP(K677,'5.3 Schedule of Rates'!B:D,3,0))","v":""},null,"",null,"","",null,null,null,{"$f":"IFERROR(INDEX('1.2 Sub-Con Application'!$B$13:$U$1012,MATCH(1,('1.2 Sub-Con Application'!$B$13:$B$1012=B677)*('1.2 Sub-Con Application'!$U$13:$U$1012=\"Rejected\"),0),20),\"\")","v":""}]
[null,{"$f":"+IF(AND(ISBLANK(F678),ISBLANK(K678)),\"\",IF(AND(ISBLANK(F678),B677<>\"\"),B677,IF(COUNTIF($F$13:F677,F678)>0,B677,MAX($B$13:B677)+1)))","v":""},null,null,0,null,null,null,null,"Enter PC",null,"","",{"$f":"+IF(ISBLANK(K678),\"\",VLOOKUP(K678,'5.3 Schedule of Rates'!B:D,3,0))","v":""},null,"",null,"","",null,null,null,{"$f":"IFERROR(INDEX('1.2 Sub-Con Application'!$B$13:$U$1012,MATCH(1,('1.2 Sub-Con Application'!$B$13:$B$1012=B678)*('1.2 Sub-Con Application'!$U$13:$U$1012=\"Rejected\"),0),20),\"\")","v":""}]
[null,{"$f":"+IF(AND(ISBLANK(F679),ISBLANK(K679)),\"\",IF(AND(ISBLANK(F679),B678<>\"\"),B678,IF(COUNTIF($F$13:F678,F679)>0,B678,MAX($B$13:B678)+1)))","v":""},null,null,0,null,null,null,null,"Enter PC",null,"","",{"$f":"+IF(ISBLANK(K679),\"\",VLOOKUP(K679,'5.3 Schedule of Rates'!B:D,3,0))","v":""},null,"",null,"","",null,null,null,{"$f":"IFERROR(INDEX('1.2 Sub-Con Application'!$B$13:$U$1012,MATCH(1,('1.2 Sub-Con Application'!$B$13:$B$1012=B679)*('1.2 Sub-Con Application'!$U$13:$U$1012=\"Rejected\"),0),20),\"\")","v":""}]
[null,{"$f":"+IF(AND(ISBLANK(F680),ISBLANK(K680)),\"\",IF(AND(ISBLANK(F680),B679<>\"\"),B679,IF(COUNTIF($F$13:F679,F680)>0,B679,MAX($B$13:B679)+1)))","v":""},null,null,0,null,null,null,null,"Enter PC",null,"","",{"$f":"+IF(ISBLANK(K680),\"\",VLOOKUP(K680,'5.3 Schedule of Rates'!B:D,3,0))","v":""},null,"",null,"","",null,null,null,{"$f":"IFERROR(INDEX('1.2 Sub-Con Application'!$B$13:$U$1012,MATCH(1,('1.2 Sub-Con Application'!$B$13:$B$1012=B680)*('1.2 Sub-Con Application'!$U$13:$U$1012=\"Rejected\"),0),20),\"\")","v":""}]
[null,{"$f":"+IF(AND(ISBLANK(F681),ISBLANK(K681)),\"\",IF(AND(ISBLANK(F681),B680<>\"\"),B680,IF(COUNTIF($F$13:F680,F681)>0,B680,MAX($B$13:B680)+1)))","v":""},null,null,0,null,null,null,null,"Enter PC",null,"","",{"$f":"+IF(ISBLANK(K681),\"\",VLOOKUP(K681,'5.3 Schedule of Rates'!B:D,3,0))","v":""},null,"",null,"","",null,null,null,{"$f":"IFERROR(INDEX('1.2 Sub-Con Application'!$B$13:$U$1012,MATCH(1,('1.2 Sub-Con Application'!$B$13:$B$1012=B681)*('1.2 Sub-Con Application'!$U$13:$U$1012=\"Rejected\"),0),20),\"\")","v":""}]
[null,{"$f":"+IF(AND(ISBLANK(F682),ISBLANK(K682)),\"\",IF(AND(ISBLANK(F682),B681<>\"\"),B681,IF(COUNTIF($F$13:F681,F682)>0,B681,MAX($B$13:B681)+1)))","v":""},null,null,0,null,null,null,null,"Enter PC",null,"","",{"$f":"+IF(ISBLANK(K682),\"\",VLOOKUP(K682,'5.3 Schedule of Rates'!B:D,3,0))","v":""},null,"",null,"","",null,null,null,{"$f":"IFERROR(INDEX('1.2 Sub-Con Application'!$B$13:$U$1012,MATCH(1,('1.2 Sub-Con Application'!$B$13:$B$1012=B682)*('1.2 Sub-Con Application'!$U$13:$U$1012=\"Rejected\"),0),20),\"\")","v":""}]
[null,{"$f":"+IF(AND(ISBLANK(F683),ISBLANK(K683)),\"\",IF(AND(ISBLANK(F683),B682<>\"\"),B682,IF(COUNTIF($F$13:F682,F683)>0,B682,MAX($B$13:B682)+1)))","v":""},null,null,0,null,null,null,null,"Enter PC",null,"","",{"$f":"+IF(ISBLANK(K683),\"\",VLOOKUP(K683,'5.3 Schedule of Rates'!B:D,3,0))","v":""},null,"",null,"","",null,null,null,{"$f":"IFERROR(INDEX('1.2 Sub-Con Application'!$B$13:$U$1012,MATCH(1,('1.2 Sub-Con Application'!$B$13:$B$1012=B683)*('1.2 Sub-Con Application'!$U$13:$U$1012=\"Rejected\"),0),20),\"\")","v":""}]
[null,{"$f":"+IF(AND(ISBLANK(F684),ISBLANK(K684)),\"\",IF(AND(ISBLANK(F684),B683<>\"\"),B683,IF(COUNTIF($F$13:F683,F684)>0,B683,MAX($B$13:B683)+1)))","v":""},null,null,0,null,null,null,null,"Enter PC",null,"","",{"$f":"+IF(ISBLANK(K684),\"\",VLOOKUP(K684,'5.3 Schedule of Rates'!B:D,3,0))","v":""},null,"",null,"","",null,null,null,{"$f":"IFERROR(INDEX('1.2 Sub-Con Application'!$B$13:$U$1012,MATCH(1,('1.2 Sub-Con Application'!$B$13:$B$1012=B684)*('1.2 Sub-Con Application'!$U$13:$U$1012=\"Rejected\"),0),20),\"\")","v":""}]
[null,{"$f":"+IF(AND(ISBLANK(F685),ISBLANK(K685)),\"\",IF(AND(ISBLANK(F685),B684<>\"\"),B684,IF(COUNTIF($F$13:F684,F685)>0,B684,MAX($B$13:B684)+1)))","v":""},null,null,0,null,null,null,null,"Enter PC",null,"","",{"$f":"+IF(ISBLANK(K685),\"\",VLOOKUP(K685,'5.3 Schedule of Rates'!B:D,3,0))","v":""},null,"",null,"","",null,null,null,{"$f":"IFERROR(INDEX('1.2 Sub-Con Application'!$B$13:$U$1012,MATCH(1,('1.2 Sub-Con Application'!$B$13:$B$1012=B685)*('1.2 Sub-Con Application'!$U$13:$U$1012=\"Rejected\"),0),20),\"\")","v":""}]
[null,{"$f":"+IF(AND(ISBLANK(F686),ISBLANK(K686)),\"\",IF(AND(ISBLANK(F686),B685<>\"\"),B685,IF(COUNTIF($F$13:F685,F686)>0,B685,MAX($B$13:B685)+1)))","v":""},null,null,0,null,null,null,null,"Enter PC",null,"","",{"$f":"+IF(ISBLANK(K686),\"\",VLOOKUP(K686,'5.3 Schedule of Rates'!B:D,3,0))","v":""},null,"",null,"","",null,null,null,{"$f":"IFERROR(INDEX('1.2 Sub-Con Application'!$B$13:$U$1012,MATCH(1,('1.2 Sub-Con Application'!$B$13:$B$1012=B686)*('1.2 Sub-Con Application'!$U$13:$U$1012=\"Rejected\"),0),20),\"\")","v":""}]
[null,{"$f":"+IF(AND(ISBLANK(F687),ISBLANK(K687)),\"\",IF(AND(ISBLANK(F687),B686<>\"\"),B686,IF(COUNTIF($F$13:F686,F687)>0,B686,MAX($B$13:B686)+1)))","v":""},null,null,0,null,null,null,null,"Enter PC",null,"","",{"$f":"+IF(ISBLANK(K687),\"\",VLOOKUP(K687,'5.3 Schedule of Rates'!B:D,3,0))","v":""},null,"",null,"","",null,null,null,{"$f":"IFERROR(INDEX('1.2 Sub-Con Application'!$B$13:$U$1012,MATCH(1,('1.2 Sub-Con Application'!$B$13:$B$1012=B687)*('1.2 Sub-Con Application'!$U$13:$U$1012=\"Rejected\"),0),20),\"\")","v":""}]
[null,{"$f":"+IF(AND(ISBLANK(F688),ISBLANK(K688)),\"\",IF(AND(ISBLANK(F688),B687<>\"\"),B687,IF(COUNTIF($F$13:F687,F688)>0,B687,MAX($B$13:B687)+1)))","v":""},null,null,0,null,null,null,null,"Enter PC",null,"","",{"$f":"+IF(ISBLANK(K688),\"\",VLOOKUP(K688,'5.3 Schedule of Rates'!B:D,3,0))","v":""},null,"",null,"","",null,null,null,{"$f":"IFERROR(INDEX('1.2 Sub-Con Application'!$B$13:$U$1012,MATCH(1,('1.2 Sub-Con Application'!$B$13:$B$1012=B688)*('1.2 Sub-Con Application'!$U$13:$U$1012=\"Rejected\"),0),20),\"\")","v":""}]
[null,{"$f":"+IF(AND(ISBLANK(F689),ISBLANK(K689)),\"\",IF(AND(ISBLANK(F689),B688<>\"\"),B688,IF(COUNTIF($F$13:F688,F689)>0,B688,MAX($B$13:B688)+1)))","v":""},null,null,0,null,null,null,null,"Enter PC",null,"","",{"$f":"+IF(ISBLANK(K689),\"\",VLOOKUP(K689,'5.3 Schedule of Rates'!B:D,3,0))","v":""},null,"",null,"","",null,null,null,{"$f":"IFERROR(INDEX('1.2 Sub-Con Application'!$B$13:$U$1012,MATCH(1,('1.2 Sub-Con Application'!$B$13:$B$1012=B689)*('1.2 Sub-Con Application'!$U$13:$U$1012=\"Rejected\"),0),20),\"\")","v":""}]
[null,{"$f":"+IF(AND(ISBLANK(F690),ISBLANK(K690)),\"\",IF(AND(ISBLANK(F690),B689<>\"\"),B689,IF(COUNTIF($F$13:F689,F690)>0,B689,MAX($B$13:B689)+1)))","v":""},null,null,0,null,null,null,null,"Enter PC",null,"","",{"$f":"+IF(ISBLANK(K690),\"\",VLOOKUP(K690,'5.3 Schedule of Rates'!B:D,3,0))","v":""},null,"",null,"","",null,null,null,{"$f":"IFERROR(INDEX('1.2 Sub-Con Application'!$B$13:$U$1012,MATCH(1,('1.2 Sub-Con Application'!$B$13:$B$1012=B690)*('1.2 Sub-Con Application'!$U$13:$U$1012=\"Rejected\"),0),20),\"\")","v":""}]
[null,{"$f":"+IF(AND(ISBLANK(F691),ISBLANK(K691)),\"\",IF(AND(ISBLANK(F691),B690<>\"\"),B690,IF(COUNTIF($F$13:F690,F691)>0,B690,MAX($B$13:B690)+1)))","v":""},null,null,0,null,null,null,null,"Enter PC",null,"","",{"$f":"+IF(ISBLANK(K691),\"\",VLOOKUP(K691,'5.3 Schedule of Rates'!B:D,3,0))","v":""},null,"",null,"","",null,null,null,{"$f":"IFERROR(INDEX('1.2 Sub-Con Application'!$B$13:$U$1012,MATCH(1,('1.2 Sub-Con Application'!$B$13:$B$1012=B691)*('1.2 Sub-Con Application'!$U$13:$U$1012=\"Rejected\"),0),20),\"\")","v":""}]
[null,{"$f":"+IF(AND(ISBLANK(F692),ISBLANK(K692)),\"\",IF(AND(ISBLANK(F692),B691<>\"\"),B691,IF(COUNTIF($F$13:F691,F692)>0,B691,MAX($B$13:B691)+1)))","v":""},null,null,0,null,null,null,null,"Enter PC",null,"","",{"$f":"+IF(ISBLANK(K692),\"\",VLOOKUP(K692,'5.3 Schedule of Rates'!B:D,3,0))","v":""},null,"",null,"","",null,null,null,{"$f":"IFERROR(INDEX('1.2 Sub-Con Application'!$B$13:$U$1012,MATCH(1,('1.2 Sub-Con Application'!$B$13:$B$1012=B692)*('1.2 Sub-Con Application'!$U$13:$U$1012=\"Rejected\"),0),20),\"\")","v":""}]
[null,{"$f":"+IF(AND(ISBLANK(F693),ISBLANK(K693)),\"\",IF(AND(ISBLANK(F693),B692<>\"\"),B692,IF(COUNTIF($F$13:F692,F693)>0,B692,MAX($B$13:B692)+1)))","v":""},null,null,0,null,null,null,null,"Enter PC",null,"","",{"$f":"+IF(ISBLANK(K693),\"\",VLOOKUP(K693,'5.3 Schedule of Rates'!B:D,3,0))","v":""},null,"",null,"","",null,null,null,{"$f":"IFERROR(INDEX('1.2 Sub-Con Application'!$B$13:$U$1012,MATCH(1,('1.2 Sub-Con Application'!$B$13:$B$1012=B693)*('1.2 Sub-Con Application'!$U$13:$U$1012=\"Rejected\"),0),20),\"\")","v":""}]
[null,{"$f":"+IF(AND(ISBLANK(F694),ISBLANK(K694)),\"\",IF(AND(ISBLANK(F694),B693<>\"\"),B693,IF(COUNTIF($F$13:F693,F694)>0,B693,MAX($B$13:B693)+1)))","v":""},null,null,0,null,null,null,null,"Enter PC",null,"","",{"$f":"+IF(ISBLANK(K694),\"\",VLOOKUP(K694,'5.3 Schedule of Rates'!B:D,3,0))","v":""},null,"",null,"","",null,null,null,{"$f":"IFERROR(INDEX('1.2 Sub-Con Application'!$B$13:$U$1012,MATCH(1,('1.2 Sub-Con Application'!$B$13:$B$1012=B694)*('1.2 Sub-Con Application'!$U$13:$U$1012=\"Rejected\"),0),20),\"\")","v":""}]
[null,{"$f":"+IF(AND(ISBLANK(F695),ISBLANK(K695)),\"\",IF(AND(ISBLANK(F695),B694<>\"\"),B694,IF(COUNTIF($F$13:F694,F695)>0,B694,MAX($B$13:B694)+1)))","v":""},null,null,0,null,null,null,null,"Enter PC",null,"","",{"$f":"+IF(ISBLANK(K695),\"\",VLOOKUP(K695,'5.3 Schedule of Rates'!B:D,3,0))","v":""},null,"",null,"","",null,null,null,{"$f":"IFERROR(INDEX('1.2 Sub-Con Application'!$B$13:$U$1012,MATCH(1,('1.2 Sub-Con Application'!$B$13:$B$1012=B695)*('1.2 Sub-Con Application'!$U$13:$U$1012=\"Rejected\"),0),20),\"\")","v":""}]
[null,{"$f":"+IF(AND(ISBLANK(F696),ISBLANK(K696)),\"\",IF(AND(ISBLANK(F696),B695<>\"\"),B695,IF(COUNTIF($F$13:F695,F696)>0,B695,MAX($B$13:B695)+1)))","v":""},null,null,0,null,null,null,null,"Enter PC",null,"","",{"$f":"+IF(ISBLANK(K696),\"\",VLOOKUP(K696,'5.3 Schedule of Rates'!B:D,3,0))","v":""},null,"",null,"","",null,null,null,{"$f":"IFERROR(INDEX('1.2 Sub-Con Application'!$B$13:$U$1012,MATCH(1,('1.2 Sub-Con Application'!$B$13:$B$1012=B696)*('1.2 Sub-Con Application'!$U$13:$U$1012=\"Rejected\"),0),20),\"\")","v":""}]
[null,{"$f":"+IF(AND(ISBLANK(F697),ISBLANK(K697)),\"\",IF(AND(ISBLANK(F697),B696<>\"\"),B696,IF(COUNTIF($F$13:F696,F697)>0,B696,MAX($B$13:B696)+1)))","v":""},null,null,0,null,null,null,null,"Enter PC",null,"","",{"$f":"+IF(ISBLANK(K697),\"\",VLOOKUP(K697,'5.3 Schedule of Rates'!B:D,3,0))","v":""},null,"",null,"","",null,null,null,{"$f":"IFERROR(INDEX('1.2 Sub-Con Application'!$B$13:$U$1012,MATCH(1,('1.2 Sub-Con Application'!$B$13:$B$1012=B697)*('1.2 Sub-Con Application'!$U$13:$U$1012=\"Rejected\"),0),20),\"\")","v":""}]
[null,{"$f":"+IF(AND(ISBLANK(F698),ISBLANK(K698)),\"\",IF(AND(ISBLANK(F698),B697<>\"\"),B697,IF(COUNTIF($F$13:F697,F698)>0,B697,MAX($B$13:B697)+1)))","v":""},null,null,0,null,null,null,null,"Enter PC",null,"","",{"$f":"+IF(ISBLANK(K698),\"\",VLOOKUP(K698,'5.3 Schedule of Rates'!B:D,3,0))","v":""},null,"",null,"","",null,null,null,{"$f":"IFERROR(INDEX('1.2 Sub-Con Application'!$B$13:$U$1012,MATCH(1,('1.2 Sub-Con Application'!$B$13:$B$1012=B698)*('1.2 Sub-Con Application'!$U$13:$U$1012=\"Rejected\"),0),20),\"\")","v":""}]
[null,{"$f":"+IF(AND(ISBLANK(F699),ISBLANK(K699)),\"\",IF(AND(ISBLANK(F699),B698<>\"\"),B698,IF(COUNTIF($F$13:F698,F699)>0,B698,MAX($B$13:B698)+1)))","v":""},null,null,0,null,null,null,null,"Enter PC",null,"","",{"$f":"+IF(ISBLANK(K699),\"\",VLOOKUP(K699,'5.3 Schedule of Rates'!B:D,3,0))","v":""},null,"",null,"","",null,null,null,{"$f":"IFERROR(INDEX('1.2 Sub-Con Application'!$B$13:$U$1012,MATCH(1,('1.2 Sub-Con Application'!$B$13:$B$1012=B699)*('1.2 Sub-Con Application'!$U$13:$U$1012=\"Rejected\"),0),20),\"\")","v":""}]
[null,{"$f":"+IF(AND(ISBLANK(F700),ISBLANK(K700)),\"\",IF(AND(ISBLANK(F700),B699<>\"\"),B699,IF(COUNTIF($F$13:F699,F700)>0,B699,MAX($B$13:B699)+1)))","v":""},null,null,0,null,null,null,null,"Enter PC",null,"","",{"$f":"+IF(ISBLANK(K700),\"\",VLOOKUP(K700,'5.3 Schedule of Rates'!B:D,3,0))","v":""},null,"",null,"","",null,null,null,{"$f":"IFERROR(INDEX('1.2 Sub-Con Application'!$B$13:$U$1012,MATCH(1,('1.2 Sub-Con Application'!$B$13:$B$1012=B700)*('1.2 Sub-Con Application'!$U$13:$U$1012=\"Rejected\"),0),20),\"\")","v":""}]
[null,{"$f":"+IF(AND(ISBLANK(F701),ISBLANK(K701)),\"\",IF(AND(ISBLANK(F701),B700<>\"\"),B700,IF(COUNTIF($F$13:F700,F701)>0,B700,MAX($B$13:B700)+1)))","v":""},null,null,0,null,null,null,null,"Enter PC",null,"","",{"$f":"+IF(ISBLANK(K701),\"\",VLOOKUP(K701,'5.3 Schedule of Rates'!B:D,3,0))","v":""},null,"",null,"","",null,null,null,{"$f":"IFERROR(INDEX('1.2 Sub-Con Application'!$B$13:$U$1012,MATCH(1,('1.2 Sub-Con Application'!$B$13:$B$1012=B701)*('1.2 Sub-Con Application'!$U$13:$U$1012=\"Rejected\"),0),20),\"\")","v":""}]
[null,{"$f":"+IF(AND(ISBLANK(F702),ISBLANK(K702)),\"\",IF(AND(ISBLANK(F702),B701<>\"\"),B701,IF(COUNTIF($F$13:F701,F702)>0,B701,MAX($B$13:B701)+1)))","v":""},null,null,0,null,null,null,null,"Enter PC",null,"","",{"$f":"+IF(ISBLANK(K702),\"\",VLOOKUP(K702,'5.3 Schedule of Rates'!B:D,3,0))","v":""},null,"",null,"","",null,null,null,{"$f":"IFERROR(INDEX('1.2 Sub-Con Application'!$B$13:$U$1012,MATCH(1,('1.2 Sub-Con Application'!$B$13:$B$1012=B702)*('1.2 Sub-Con Application'!$U$13:$U$1012=\"Rejected\"),0),20),\"\")","v":""}]
[null,{"$f":"+IF(AND(ISBLANK(F703),ISBLANK(K703)),\"\",IF(AND(ISBLANK(F703),B702<>\"\"),B702,IF(COUNTIF($F$13:F702,F703)>0,B702,MAX($B$13:B702)+1)))","v":""},null,null,{"$f":"NETWORKDAYS(C703,D703)","v":0},null,null,null,null,"Enter PC",null,"","",{"$f":"+IF(ISBLANK(K703),\"\",VLOOKUP(K703,'5.3 Schedule of Rates'!B:D,3,0))","v":""},null,"",null,"",{"$f":"IF(ISERROR(SUM(P703-R703)),\"\",SUM(P703-R703))","v":""},null,null,null,{"$f":"IFERROR(INDEX('1.2 Sub-Con Application'!$B$13:$U$1012,MATCH(1,('1.2 Sub-Con Application'!$B$13:$B$1012=B703)*('1.2 Sub-Con Application'!$U$13:$U$1012=\"Rejected\"),0),20),\"\")","v":""}]
[null,{"$f":"+IF(AND(ISBLANK(F704),ISBLANK(K704)),\"\",IF(AND(ISBLANK(F704),B703<>\"\"),B703,IF(COUNTIF($F$13:F703,F704)>0,B703,MAX($B$13:B703)+1)))","v":""},null,null,0,null,null,null,null,"Enter PC",null,"","",{"$f":"+IF(ISBLANK(K704),\"\",VLOOKUP(K704,'5.3 Schedule of Rates'!B:D,3,0))","v":""},null,"",null,"","",null,null,null,{"$f":"IFERROR(INDEX('1.2 Sub-Con Application'!$B$13:$U$1012,MATCH(1,('1.2 Sub-Con Application'!$B$13:$B$1012=B704)*('1.2 Sub-Con Application'!$U$13:$U$1012=\"Rejected\"),0),20),\"\")","v":""}]
[null,{"$f":"+IF(AND(ISBLANK(F705),ISBLANK(K705)),\"\",IF(AND(ISBLANK(F705),B704<>\"\"),B704,IF(COUNTIF($F$13:F704,F705)>0,B704,MAX($B$13:B704)+1)))","v":""},null,null,0,null,null,null,null,"Enter PC",null,"","",{"$f":"+IF(ISBLANK(K705),\"\",VLOOKUP(K705,'5.3 Schedule of Rates'!B:D,3,0))","v":""},null,"",null,"","",null,null,null,{"$f":"IFERROR(INDEX('1.2 Sub-Con Application'!$B$13:$U$1012,MATCH(1,('1.2 Sub-Con Application'!$B$13:$B$1012=B705)*('1.2 Sub-Con Application'!$U$13:$U$1012=\"Rejected\"),0),20),\"\")","v":""}]
[null,{"$f":"+IF(AND(ISBLANK(F706),ISBLANK(K706)),\"\",IF(AND(ISBLANK(F706),B705<>\"\"),B705,IF(COUNTIF($F$13:F705,F706)>0,B705,MAX($B$13:B705)+1)))","v":""},null,null,0,null,null,null,null,"Enter PC",null,"","",{"$f":"+IF(ISBLANK(K706),\"\",VLOOKUP(K706,'5.3 Schedule of Rates'!B:D,3,0))","v":""},null,"",null,"","",null,null,null,{"$f":"IFERROR(INDEX('1.2 Sub-Con Application'!$B$13:$U$1012,MATCH(1,('1.2 Sub-Con Application'!$B$13:$B$1012=B706)*('1.2 Sub-Con Application'!$U$13:$U$1012=\"Rejected\"),0),20),\"\")","v":""}]
[null,{"$f":"+IF(AND(ISBLANK(F707),ISBLANK(K707)),\"\",IF(AND(ISBLANK(F707),B706<>\"\"),B706,IF(COUNTIF($F$13:F706,F707)>0,B706,MAX($B$13:B706)+1)))","v":""},null,null,0,null,null,null,null,"Enter PC",null,"","",{"$f":"+IF(ISBLANK(K707),\"\",VLOOKUP(K707,'5.3 Schedule of Rates'!B:D,3,0))","v":""},null,"",null,"","",null,null,null,{"$f":"IFERROR(INDEX('1.2 Sub-Con Application'!$B$13:$U$1012,MATCH(1,('1.2 Sub-Con Application'!$B$13:$B$1012=B707)*('1.2 Sub-Con Application'!$U$13:$U$1012=\"Rejected\"),0),20),\"\")","v":""}]
[null,{"$f":"+IF(AND(ISBLANK(F708),ISBLANK(K708)),\"\",IF(AND(ISBLANK(F708),B707<>\"\"),B707,IF(COUNTIF($F$13:F707,F708)>0,B707,MAX($B$13:B707)+1)))","v":""},null,null,0,null,null,null,null,"Enter PC",null,"","",{"$f":"+IF(ISBLANK(K708),\"\",VLOOKUP(K708,'5.3 Schedule of Rates'!B:D,3,0))","v":""},null,"",null,"","",null,null,null,{"$f":"IFERROR(INDEX('1.2 Sub-Con Application'!$B$13:$U$1012,MATCH(1,('1.2 Sub-Con Application'!$B$13:$B$1012=B708)*('1.2 Sub-Con Application'!$U$13:$U$1012=\"Rejected\"),0),20),\"\")","v":""}]
[null,{"$f":"+IF(AND(ISBLANK(F709),ISBLANK(K709)),\"\",IF(AND(ISBLANK(F709),B708<>\"\"),B708,IF(COUNTIF($F$13:F708,F709)>0,B708,MAX($B$13:B708)+1)))","v":""},null,null,0,null,null,null,null,"Enter PC",null,"","",{"$f":"+IF(ISBLANK(K709),\"\",VLOOKUP(K709,'5.3 Schedule of Rates'!B:D,3,0))","v":""},null,"",null,"","",null,null,null,{"$f":"IFERROR(INDEX('1.2 Sub-Con Application'!$B$13:$U$1012,MATCH(1,('1.2 Sub-Con Application'!$B$13:$B$1012=B709)*('1.2 Sub-Con Application'!$U$13:$U$1012=\"Rejected\"),0),20),\"\")","v":""}]
[null,{"$f":"+IF(AND(ISBLANK(F710),ISBLANK(K710)),\"\",IF(AND(ISBLANK(F710),B709<>\"\"),B709,IF(COUNTIF($F$13:F709,F710)>0,B709,MAX($B$13:B709)+1)))","v":""},null,null,0,null,null,null,null,"Enter PC",null,"","",{"$f":"+IF(ISBLANK(K710),\"\",VLOOKUP(K710,'5.3 Schedule of Rates'!B:D,3,0))","v":""},null,"",null,"","",null,null,null,{"$f":"IFERROR(INDEX('1.2 Sub-Con Application'!$B$13:$U$1012,MATCH(1,('1.2 Sub-Con Application'!$B$13:$B$1012=B710)*('1.2 Sub-Con Application'!$U$13:$U$1012=\"Rejected\"),0),20),\"\")","v":""}]
[null,{"$f":"+IF(AND(ISBLANK(F711),ISBLANK(K711)),\"\",IF(AND(ISBLANK(F711),B710<>\"\"),B710,IF(COUNTIF($F$13:F710,F711)>0,B710,MAX($B$13:B710)+1)))","v":""},null,null,0,null,null,null,null,"Enter PC",null,"","",{"$f":"+IF(ISBLANK(K711),\"\",VLOOKUP(K711,'5.3 Schedule of Rates'!B:D,3,0))","v":""},null,"",null,"","",null,null,null,{"$f":"IFERROR(INDEX('1.2 Sub-Con Application'!$B$13:$U$1012,MATCH(1,('1.2 Sub-Con Application'!$B$13:$B$1012=B711)*('1.2 Sub-Con Application'!$U$13:$U$1012=\"Rejected\"),0),20),\"\")","v":""}]
[null,{"$f":"+IF(AND(ISBLANK(F712),ISBLANK(K712)),\"\",IF(AND(ISBLANK(F712),B711<>\"\"),B711,IF(COUNTIF($F$13:F711,F712)>0,B711,MAX($B$13:B711)+1)))","v":""},null,null,0,null,null,null,null,"Enter PC",null,"","",{"$f":"+IF(ISBLANK(K712),\"\",VLOOKUP(K712,'5.3 Schedule of Rates'!B:D,3,0))","v":""},null,"",null,"","",null,null,null,{"$f":"IFERROR(INDEX('1.2 Sub-Con Application'!$B$13:$U$1012,MATCH(1,('1.2 Sub-Con Application'!$B$13:$B$1012=B712)*('1.2 Sub-Con Application'!$U$13:$U$1012=\"Rejected\"),0),20),\"\")","v":""}]
[null,{"$f":"+IF(AND(ISBLANK(F713),ISBLANK(K713)),\"\",IF(AND(ISBLANK(F713),B712<>\"\"),B712,IF(COUNTIF($F$13:F712,F713)>0,B712,MAX($B$13:B712)+1)))","v":""},null,null,0,null,null,null,null,"Enter PC",null,"","",{"$f":"+IF(ISBLANK(K713),\"\",VLOOKUP(K713,'5.3 Schedule of Rates'!B:D,3,0))","v":""},null,"",null,"","",null,null,null,{"$f":"IFERROR(INDEX('1.2 Sub-Con Application'!$B$13:$U$1012,MATCH(1,('1.2 Sub-Con Application'!$B$13:$B$1012=B713)*('1.2 Sub-Con Application'!$U$13:$U$1012=\"Rejected\"),0),20),\"\")","v":""}]
[null,{"$f":"+IF(AND(ISBLANK(F714),ISBLANK(K714)),\"\",IF(AND(ISBLANK(F714),B713<>\"\"),B713,IF(COUNTIF($F$13:F713,F714)>0,B713,MAX($B$13:B713)+1)))","v":""},null,null,0,null,null,null,null,"Enter PC",null,"","",{"$f":"+IF(ISBLANK(K714),\"\",VLOOKUP(K714,'5.3 Schedule of Rates'!B:D,3,0))","v":""},null,"",null,"","",null,null,null,{"$f":"IFERROR(INDEX('1.2 Sub-Con Application'!$B$13:$U$1012,MATCH(1,('1.2 Sub-Con Application'!$B$13:$B$1012=B714)*('1.2 Sub-Con Application'!$U$13:$U$1012=\"Rejected\"),0),20),\"\")","v":""}]
[null,{"$f":"+IF(AND(ISBLANK(F715),ISBLANK(K715)),\"\",IF(AND(ISBLANK(F715),B714<>\"\"),B714,IF(COUNTIF($F$13:F714,F715)>0,B714,MAX($B$13:B714)+1)))","v":""},null,null,0,null,null,null,null,"Enter PC",null,"","",{"$f":"+IF(ISBLANK(K715),\"\",VLOOKUP(K715,'5.3 Schedule of Rates'!B:D,3,0))","v":""},null,"",null,"","",null,null,null,{"$f":"IFERROR(INDEX('1.2 Sub-Con Application'!$B$13:$U$1012,MATCH(1,('1.2 Sub-Con Application'!$B$13:$B$1012=B715)*('1.2 Sub-Con Application'!$U$13:$U$1012=\"Rejected\"),0),20),\"\")","v":""}]
[null,{"$f":"+IF(AND(ISBLANK(F716),ISBLANK(K716)),\"\",IF(AND(ISBLANK(F716),B715<>\"\"),B715,IF(COUNTIF($F$13:F715,F716)>0,B715,MAX($B$13:B715)+1)))","v":""},null,null,0,null,null,null,null,"Enter PC",null,"","",{"$f":"+IF(ISBLANK(K716),\"\",VLOOKUP(K716,'5.3 Schedule of Rates'!B:D,3,0))","v":""},null,"",null,"","",null,null,null,{"$f":"IFERROR(INDEX('1.2 Sub-Con Application'!$B$13:$U$1012,MATCH(1,('1.2 Sub-Con Application'!$B$13:$B$1012=B716)*('1.2 Sub-Con Application'!$U$13:$U$1012=\"Rejected\"),0),20),\"\")","v":""}]
[null,{"$f":"+IF(AND(ISBLANK(F717),ISBLANK(K717)),\"\",IF(AND(ISBLANK(F717),B716<>\"\"),B716,IF(COUNTIF($F$13:F716,F717)>0,B716,MAX($B$13:B716)+1)))","v":""},null,null,0,null,null,null,null,{"$f":"IFERROR(IF(I717=\"\",\"Enter PC\",VLOOKUP(IF(LEN(I717)=6,LEFT(I717,2),IF(LEN(I717)=7,LEFT(I717,3),LEFT(I717,4))),table_pcRegion,2,FALSE)=work_Region),\"INVALID\")","v":"Enter PC"},null,{"$f":"+IF(ISBLANK(K717),\"\",VLOOKUP(K717,table_SoR,2,0))","v":""},{"$f":"+IF(ISBLANK(K717),\"\",INDEX(table_subconSoR,MATCH(L717,row_SoR,0),MATCH($H$4,col_SoR,0)))","v":""},{"$f":"+IF(ISBLANK(K717),\"\",VLOOKUP(K717,'5.3 Schedule of Rates'!B:D,3,0))","v":""},null,{"$f":"+IF(ISBLANK($O717),\"\",ROUND(SUM(SUM(VLOOKUP($K717,table_SoR,6,0)*(1+$M717))*O717),2))","v":""},null,{"$f":"+IF(ISBLANK($O717),\"\",ROUND(IF(Q717>0,Q717,SUM(SUM(VLOOKUP($K717,table_SoR,7,0)*(1+$M717))*O717)),2))","v":""},"",null,null,null,{"$f":"IFERROR(INDEX('1.2 Sub-Con Application'!$B$13:$U$1012,MATCH(1,('1.2 Sub-Con Application'!$B$13:$B$1012=B717)*('1.2 Sub-Con Application'!$U$13:$U$1012=\"Rejected\"),0),20),\"\")","v":""}]
[null,{"$f":"+IF(AND(ISBLANK(F718),ISBLANK(K718)),\"\",IF(AND(ISBLANK(F718),B717<>\"\"),B717,IF(COUNTIF($F$13:F717,F718)>0,B717,MAX($B$13:B717)+1)))","v":""},null,null,0,null,null,null,null,"Enter PC",null,"","",{"$f":"+IF(ISBLANK(K718),\"\",VLOOKUP(K718,'5.3 Schedule of Rates'!B:D,3,0))","v":""},null,"",null,"","",null,null,null,{"$f":"IFERROR(INDEX('1.2 Sub-Con Application'!$B$13:$U$1012,MATCH(1,('1.2 Sub-Con Application'!$B$13:$B$1012=B718)*('1.2 Sub-Con Application'!$U$13:$U$1012=\"Rejected\"),0),20),\"\")","v":""}]
[null,{"$f":"+IF(AND(ISBLANK(F719),ISBLANK(K719)),\"\",IF(AND(ISBLANK(F719),B718<>\"\"),B718,IF(COUNTIF($F$13:F718,F719)>0,B718,MAX($B$13:B718)+1)))","v":""},null,null,0,null,null,null,null,"Enter PC",null,"","",{"$f":"+IF(ISBLANK(K719),\"\",VLOOKUP(K719,'5.3 Schedule of Rates'!B:D,3,0))","v":""},null,"",null,"","",null,null,null,{"$f":"IFERROR(INDEX('1.2 Sub-Con Application'!$B$13:$U$1012,MATCH(1,('1.2 Sub-Con Application'!$B$13:$B$1012=B719)*('1.2 Sub-Con Application'!$U$13:$U$1012=\"Rejected\"),0),20),\"\")","v":""}]
[null,{"$f":"+IF(AND(ISBLANK(F720),ISBLANK(K720)),\"\",IF(AND(ISBLANK(F720),B719<>\"\"),B719,IF(COUNTIF($F$13:F719,F720)>0,B719,MAX($B$13:B719)+1)))","v":""},null,null,0,null,null,null,null,"Enter PC",null,"","",{"$f":"+IF(ISBLANK(K720),\"\",VLOOKUP(K720,'5.3 Schedule of Rates'!B:D,3,0))","v":""},null,"",null,"","",null,null,null,{"$f":"IFERROR(INDEX('1.2 Sub-Con Application'!$B$13:$U$1012,MATCH(1,('1.2 Sub-Con Application'!$B$13:$B$1012=B720)*('1.2 Sub-Con Application'!$U$13:$U$1012=\"Rejected\"),0),20),\"\")","v":""}]
[null,{"$f":"+IF(AND(ISBLANK(F721),ISBLANK(K721)),\"\",IF(AND(ISBLANK(F721),B720<>\"\"),B720,IF(COUNTIF($F$13:F720,F721)>0,B720,MAX($B$13:B720)+1)))","v":""},null,null,0,null,null,null,null,"Enter PC",null,"","",{"$f":"+IF(ISBLANK(K721),\"\",VLOOKUP(K721,'5.3 Schedule of Rates'!B:D,3,0))","v":""},null,"",null,"","",null,null,null,{"$f":"IFERROR(INDEX('1.2 Sub-Con Application'!$B$13:$U$1012,MATCH(1,('1.2 Sub-Con Application'!$B$13:$B$1012=B721)*('1.2 Sub-Con Application'!$U$13:$U$1012=\"Rejected\"),0),20),\"\")","v":""}]
[null,{"$f":"+IF(AND(ISBLANK(F722),ISBLANK(K722)),\"\",IF(AND(ISBLANK(F722),B721<>\"\"),B721,IF(COUNTIF($F$13:F721,F722)>0,B721,MAX($B$13:B721)+1)))","v":""},null,null,0,null,null,null,null,"Enter PC",null,"","",{"$f":"+IF(ISBLANK(K722),\"\",VLOOKUP(K722,'5.3 Schedule of Rates'!B:D,3,0))","v":""},null,"",null,"","",null,null,null,{"$f":"IFERROR(INDEX('1.2 Sub-Con Application'!$B$13:$U$1012,MATCH(1,('1.2 Sub-Con Application'!$B$13:$B$1012=B722)*('1.2 Sub-Con Application'!$U$13:$U$1012=\"Rejected\"),0),20),\"\")","v":""}]
[null,{"$f":"+IF(AND(ISBLANK(F723),ISBLANK(K723)),\"\",IF(AND(ISBLANK(F723),B722<>\"\"),B722,IF(COUNTIF($F$13:F722,F723)>0,B722,MAX($B$13:B722)+1)))","v":""},null,null,0,null,null,null,null,"Enter PC",null,"","",{"$f":"+IF(ISBLANK(K723),\"\",VLOOKUP(K723,'5.3 Schedule of Rates'!B:D,3,0))","v":""},null,"",null,"","",null,null,null,{"$f":"IFERROR(INDEX('1.2 Sub-Con Application'!$B$13:$U$1012,MATCH(1,('1.2 Sub-Con Application'!$B$13:$B$1012=B723)*('1.2 Sub-Con Application'!$U$13:$U$1012=\"Rejected\"),0),20),\"\")","v":""}]
[null,{"$f":"+IF(AND(ISBLANK(F724),ISBLANK(K724)),\"\",IF(AND(ISBLANK(F724),B723<>\"\"),B723,IF(COUNTIF($F$13:F723,F724)>0,B723,MAX($B$13:B723)+1)))","v":""},null,null,0,null,null,null,null,"Enter PC",null,"","",{"$f":"+IF(ISBLANK(K724),\"\",VLOOKUP(K724,'5.3 Schedule of Rates'!B:D,3,0))","v":""},null,"",null,"","",null,null,null,{"$f":"IFERROR(INDEX('1.2 Sub-Con Application'!$B$13:$U$1012,MATCH(1,('1.2 Sub-Con Application'!$B$13:$B$1012=B724)*('1.2 Sub-Con Application'!$U$13:$U$1012=\"Rejected\"),0),20),\"\")","v":""}]
[null,{"$f":"+IF(AND(ISBLANK(F725),ISBLANK(K725)),\"\",IF(AND(ISBLANK(F725),B724<>\"\"),B724,IF(COUNTIF($F$13:F724,F725)>0,B724,MAX($B$13:B724)+1)))","v":""},null,null,0,null,null,null,null,"Enter PC",null,"","",{"$f":"+IF(ISBLANK(K725),\"\",VLOOKUP(K725,'5.3 Schedule of Rates'!B:D,3,0))","v":""},null,"",null,"","",null,null,null,{"$f":"IFERROR(INDEX('1.2 Sub-Con Application'!$B$13:$U$1012,MATCH(1,('1.2 Sub-Con Application'!$B$13:$B$1012=B725)*('1.2 Sub-Con Application'!$U$13:$U$1012=\"Rejected\"),0),20),\"\")","v":""}]
[null,{"$f":"+IF(AND(ISBLANK(F726),ISBLANK(K726)),\"\",IF(AND(ISBLANK(F726),B725<>\"\"),B725,IF(COUNTIF($F$13:F725,F726)>0,B725,MAX($B$13:B725)+1)))","v":""},null,null,0,null,null,null,null,"Enter PC",null,"","",{"$f":"+IF(ISBLANK(K726),\"\",VLOOKUP(K726,'5.3 Schedule of Rates'!B:D,3,0))","v":""},null,"",null,"","",null,null,null,{"$f":"IFERROR(INDEX('1.2 Sub-Con Application'!$B$13:$U$1012,MATCH(1,('1.2 Sub-Con Application'!$B$13:$B$1012=B726)*('1.2 Sub-Con Application'!$U$13:$U$1012=\"Rejected\"),0),20),\"\")","v":""}]
[null,{"$f":"+IF(AND(ISBLANK(F727),ISBLANK(K727)),\"\",IF(AND(ISBLANK(F727),B726<>\"\"),B726,IF(COUNTIF($F$13:F726,F727)>0,B726,MAX($B$13:B726)+1)))","v":""},null,null,0,null,null,null,null,"Enter PC",null,"","",{"$f":"+IF(ISBLANK(K727),\"\",VLOOKUP(K727,'5.3 Schedule of Rates'!B:D,3,0))","v":""},null,"",null,"","",null,null,null,{"$f":"IFERROR(INDEX('1.2 Sub-Con Application'!$B$13:$U$1012,MATCH(1,('1.2 Sub-Con Application'!$B$13:$B$1012=B727)*('1.2 Sub-Con Application'!$U$13:$U$1012=\"Rejected\"),0),20),\"\")","v":""}]
[null,{"$f":"+IF(AND(ISBLANK(F728),ISBLANK(K728)),\"\",IF(AND(ISBLANK(F728),B727<>\"\"),B727,IF(COUNTIF($F$13:F727,F728)>0,B727,MAX($B$13:B727)+1)))","v":""},null,null,0,null,null,null,null,"Enter PC",null,"","",{"$f":"+IF(ISBLANK(K728),\"\",VLOOKUP(K728,'5.3 Schedule of Rates'!B:D,3,0))","v":""},null,"",null,"","",null,null,null,{"$f":"IFERROR(INDEX('1.2 Sub-Con Application'!$B$13:$U$1012,MATCH(1,('1.2 Sub-Con Application'!$B$13:$B$1012=B728)*('1.2 Sub-Con Application'!$U$13:$U$1012=\"Rejected\"),0),20),\"\")","v":""}]
[null,{"$f":"+IF(AND(ISBLANK(F729),ISBLANK(K729)),\"\",IF(AND(ISBLANK(F729),B728<>\"\"),B728,IF(COUNTIF($F$13:F728,F729)>0,B728,MAX($B$13:B728)+1)))","v":""},null,null,0,null,null,null,null,"Enter PC",null,"","",{"$f":"+IF(ISBLANK(K729),\"\",VLOOKUP(K729,'5.3 Schedule of Rates'!B:D,3,0))","v":""},null,"",null,"","",null,null,null,{"$f":"IFERROR(INDEX('1.2 Sub-Con Application'!$B$13:$U$1012,MATCH(1,('1.2 Sub-Con Application'!$B$13:$B$1012=B729)*('1.2 Sub-Con Application'!$U$13:$U$1012=\"Rejected\"),0),20),\"\")","v":""}]
[null,{"$f":"+IF(AND(ISBLANK(F730),ISBLANK(K730)),\"\",IF(AND(ISBLANK(F730),B729<>\"\"),B729,IF(COUNTIF($F$13:F729,F730)>0,B729,MAX($B$13:B729)+1)))","v":""},null,null,0,null,null,null,null,"Enter PC",null,"","",{"$f":"+IF(ISBLANK(K730),\"\",VLOOKUP(K730,'5.3 Schedule of Rates'!B:D,3,0))","v":""},null,"",null,"","",null,null,null,{"$f":"IFERROR(INDEX('1.2 Sub-Con Application'!$B$13:$U$1012,MATCH(1,('1.2 Sub-Con Application'!$B$13:$B$1012=B730)*('1.2 Sub-Con Application'!$U$13:$U$1012=\"Rejected\"),0),20),\"\")","v":""}]
[null,{"$f":"+IF(AND(ISBLANK(F731),ISBLANK(K731)),\"\",IF(AND(ISBLANK(F731),B730<>\"\"),B730,IF(COUNTIF($F$13:F730,F731)>0,B730,MAX($B$13:B730)+1)))","v":""},null,null,0,null,null,null,null,"Enter PC",null,"","",{"$f":"+IF(ISBLANK(K731),\"\",VLOOKUP(K731,'5.3 Schedule of Rates'!B:D,3,0))","v":""},null,"",null,"","",null,null,null,{"$f":"IFERROR(INDEX('1.2 Sub-Con Application'!$B$13:$U$1012,MATCH(1,('1.2 Sub-Con Application'!$B$13:$B$1012=B731)*('1.2 Sub-Con Application'!$U$13:$U$1012=\"Rejected\"),0),20),\"\")","v":""}]
[null,{"$f":"+IF(AND(ISBLANK(F732),ISBLANK(K732)),\"\",IF(AND(ISBLANK(F732),B731<>\"\"),B731,IF(COUNTIF($F$13:F731,F732)>0,B731,MAX($B$13:B731)+1)))","v":""},null,null,0,null,null,null,null,"Enter PC",null,"","",{"$f":"+IF(ISBLANK(K732),\"\",VLOOKUP(K732,'5.3 Schedule of Rates'!B:D,3,0))","v":""},null,"",null,"","",null,null,null,{"$f":"IFERROR(INDEX('1.2 Sub-Con Application'!$B$13:$U$1012,MATCH(1,('1.2 Sub-Con Application'!$B$13:$B$1012=B732)*('1.2 Sub-Con Application'!$U$13:$U$1012=\"Rejected\"),0),20),\"\")","v":""}]
[null,{"$f":"+IF(AND(ISBLANK(F733),ISBLANK(K733)),\"\",IF(AND(ISBLANK(F733),B732<>\"\"),B732,IF(COUNTIF($F$13:F732,F733)>0,B732,MAX($B$13:B732)+1)))","v":""},null,null,0,null,null,null,null,"Enter PC",null,"","",{"$f":"+IF(ISBLANK(K733),\"\",VLOOKUP(K733,'5.3 Schedule of Rates'!B:D,3,0))","v":""},null,"",null,"","",null,null,null,{"$f":"IFERROR(INDEX('1.2 Sub-Con Application'!$B$13:$U$1012,MATCH(1,('1.2 Sub-Con Application'!$B$13:$B$1012=B733)*('1.2 Sub-Con Application'!$U$13:$U$1012=\"Rejected\"),0),20),\"\")","v":""}]
[null,{"$f":"+IF(AND(ISBLANK(F734),ISBLANK(K734)),\"\",IF(AND(ISBLANK(F734),B733<>\"\"),B733,IF(COUNTIF($F$13:F733,F734)>0,B733,MAX($B$13:B733)+1)))","v":""},null,null,0,null,null,null,null,"Enter PC",null,"","",{"$f":"+IF(ISBLANK(K734),\"\",VLOOKUP(K734,'5.3 Schedule of Rates'!B:D,3,0))","v":""},null,"",null,"","",null,null,null,{"$f":"IFERROR(INDEX('1.2 Sub-Con Application'!$B$13:$U$1012,MATCH(1,('1.2 Sub-Con Application'!$B$13:$B$1012=B734)*('1.2 Sub-Con Application'!$U$13:$U$1012=\"Rejected\"),0),20),\"\")","v":""}]
[null,{"$f":"+IF(AND(ISBLANK(F735),ISBLANK(K735)),\"\",IF(AND(ISBLANK(F735),B734<>\"\"),B734,IF(COUNTIF($F$13:F734,F735)>0,B734,MAX($B$13:B734)+1)))","v":""},null,null,0,null,null,null,null,"Enter PC",null,"","",{"$f":"+IF(ISBLANK(K735),\"\",VLOOKUP(K735,'5.3 Schedule of Rates'!B:D,3,0))","v":""},null,"",null,"","",null,null,null,{"$f":"IFERROR(INDEX('1.2 Sub-Con Application'!$B$13:$U$1012,MATCH(1,('1.2 Sub-Con Application'!$B$13:$B$1012=B735)*('1.2 Sub-Con Application'!$U$13:$U$1012=\"Rejected\"),0),20),\"\")","v":""}]
[null,{"$f":"+IF(AND(ISBLANK(F736),ISBLANK(K736)),\"\",IF(AND(ISBLANK(F736),B735<>\"\"),B735,IF(COUNTIF($F$13:F735,F736)>0,B735,MAX($B$13:B735)+1)))","v":""},null,null,0,null,null,null,null,"Enter PC",null,"","",{"$f":"+IF(ISBLANK(K736),\"\",VLOOKUP(K736,'5.3 Schedule of Rates'!B:D,3,0))","v":""},null,"",null,"","",null,null,null,{"$f":"IFERROR(INDEX('1.2 Sub-Con Application'!$B$13:$U$1012,MATCH(1,('1.2 Sub-Con Application'!$B$13:$B$1012=B736)*('1.2 Sub-Con Application'!$U$13:$U$1012=\"Rejected\"),0),20),\"\")","v":""}]
[null,{"$f":"+IF(AND(ISBLANK(F737),ISBLANK(K737)),\"\",IF(AND(ISBLANK(F737),B736<>\"\"),B736,IF(COUNTIF($F$13:F736,F737)>0,B736,MAX($B$13:B736)+1)))","v":""},null,null,0,null,null,null,null,"Enter PC",null,"","",{"$f":"+IF(ISBLANK(K737),\"\",VLOOKUP(K737,'5.3 Schedule of Rates'!B:D,3,0))","v":""},null,"",null,"","",null,null,null,{"$f":"IFERROR(INDEX('1.2 Sub-Con Application'!$B$13:$U$1012,MATCH(1,('1.2 Sub-Con Application'!$B$13:$B$1012=B737)*('1.2 Sub-Con Application'!$U$13:$U$1012=\"Rejected\"),0),20),\"\")","v":""}]
[null,{"$f":"+IF(AND(ISBLANK(F738),ISBLANK(K738)),\"\",IF(AND(ISBLANK(F738),B737<>\"\"),B737,IF(COUNTIF($F$13:F737,F738)>0,B737,MAX($B$13:B737)+1)))","v":""},null,null,0,null,null,null,null,"Enter PC",null,"","",{"$f":"+IF(ISBLANK(K738),\"\",VLOOKUP(K738,'5.3 Schedule of Rates'!B:D,3,0))","v":""},null,"",null,"","",null,null,null,{"$f":"IFERROR(INDEX('1.2 Sub-Con Application'!$B$13:$U$1012,MATCH(1,('1.2 Sub-Con Application'!$B$13:$B$1012=B738)*('1.2 Sub-Con Application'!$U$13:$U$1012=\"Rejected\"),0),20),\"\")","v":""}]
[null,{"$f":"+IF(AND(ISBLANK(F739),ISBLANK(K739)),\"\",IF(AND(ISBLANK(F739),B738<>\"\"),B738,IF(COUNTIF($F$13:F738,F739)>0,B738,MAX($B$13:B738)+1)))","v":""},null,null,0,null,null,null,null,"Enter PC",null,"","",{"$f":"+IF(ISBLANK(K739),\"\",VLOOKUP(K739,'5.3 Schedule of Rates'!B:D,3,0))","v":""},null,"",null,"","",null,null,null,{"$f":"IFERROR(INDEX('1.2 Sub-Con Application'!$B$13:$U$1012,MATCH(1,('1.2 Sub-Con Application'!$B$13:$B$1012=B739)*('1.2 Sub-Con Application'!$U$13:$U$1012=\"Rejected\"),0),20),\"\")","v":""}]
[null,{"$f":"+IF(AND(ISBLANK(F740),ISBLANK(K740)),\"\",IF(AND(ISBLANK(F740),B739<>\"\"),B739,IF(COUNTIF($F$13:F739,F740)>0,B739,MAX($B$13:B739)+1)))","v":""},null,null,0,null,null,null,null,"Enter PC",null,"","",{"$f":"+IF(ISBLANK(K740),\"\",VLOOKUP(K740,'5.3 Schedule of Rates'!B:D,3,0))","v":""},null,"",null,"","",null,null,null,{"$f":"IFERROR(INDEX('1.2 Sub-Con Application'!$B$13:$U$1012,MATCH(1,('1.2 Sub-Con Application'!$B$13:$B$1012=B740)*('1.2 Sub-Con Application'!$U$13:$U$1012=\"Rejected\"),0),20),\"\")","v":""}]
[null,{"$f":"+IF(AND(ISBLANK(F741),ISBLANK(K741)),\"\",IF(AND(ISBLANK(F741),B740<>\"\"),B740,IF(COUNTIF($F$13:F740,F741)>0,B740,MAX($B$13:B740)+1)))","v":""},null,null,0,null,null,null,null,"Enter PC",null,"","",{"$f":"+IF(ISBLANK(K741),\"\",VLOOKUP(K741,'5.3 Schedule of Rates'!B:D,3,0))","v":""},null,"",null,"","",null,null,null,{"$f":"IFERROR(INDEX('1.2 Sub-Con Application'!$B$13:$U$1012,MATCH(1,('1.2 Sub-Con Application'!$B$13:$B$1012=B741)*('1.2 Sub-Con Application'!$U$13:$U$1012=\"Rejected\"),0),20),\"\")","v":""}]
[null,{"$f":"+IF(AND(ISBLANK(F742),ISBLANK(K742)),\"\",IF(AND(ISBLANK(F742),B741<>\"\"),B741,IF(COUNTIF($F$13:F741,F742)>0,B741,MAX($B$13:B741)+1)))","v":""},null,null,0,null,null,null,null,"Enter PC",null,"","",{"$f":"+IF(ISBLANK(K742),\"\",VLOOKUP(K742,'5.3 Schedule of Rates'!B:D,3,0))","v":""},null,"",null,"","",null,null,null,{"$f":"IFERROR(INDEX('1.2 Sub-Con Application'!$B$13:$U$1012,MATCH(1,('1.2 Sub-Con Application'!$B$13:$B$1012=B742)*('1.2 Sub-Con Application'!$U$13:$U$1012=\"Rejected\"),0),20),\"\")","v":""}]
[null,{"$f":"+IF(AND(ISBLANK(F743),ISBLANK(K743)),\"\",IF(AND(ISBLANK(F743),B742<>\"\"),B742,IF(COUNTIF($F$13:F742,F743)>0,B742,MAX($B$13:B742)+1)))","v":""},null,null,0,null,null,null,null,"Enter PC",null,"","",{"$f":"+IF(ISBLANK(K743),\"\",VLOOKUP(K743,'5.3 Schedule of Rates'!B:D,3,0))","v":""},null,"",null,"","",null,null,null,{"$f":"IFERROR(INDEX('1.2 Sub-Con Application'!$B$13:$U$1012,MATCH(1,('1.2 Sub-Con Application'!$B$13:$B$1012=B743)*('1.2 Sub-Con Application'!$U$13:$U$1012=\"Rejected\"),0),20),\"\")","v":""}]
[null,{"$f":"+IF(AND(ISBLANK(F744),ISBLANK(K744)),\"\",IF(AND(ISBLANK(F744),B743<>\"\"),B743,IF(COUNTIF($F$13:F743,F744)>0,B743,MAX($B$13:B743)+1)))","v":""},null,null,0,null,null,null,null,"Enter PC",null,"","",{"$f":"+IF(ISBLANK(K744),\"\",VLOOKUP(K744,'5.3 Schedule of Rates'!B:D,3,0))","v":""},null,"",null,"","",null,null,null,{"$f":"IFERROR(INDEX('1.2 Sub-Con Application'!$B$13:$U$1012,MATCH(1,('1.2 Sub-Con Application'!$B$13:$B$1012=B744)*('1.2 Sub-Con Application'!$U$13:$U$1012=\"Rejected\"),0),20),\"\")","v":""}]
[null,{"$f":"+IF(AND(ISBLANK(F745),ISBLANK(K745)),\"\",IF(AND(ISBLANK(F745),B744<>\"\"),B744,IF(COUNTIF($F$13:F744,F745)>0,B744,MAX($B$13:B744)+1)))","v":""},null,null,0,null,null,null,null,"Enter PC",null,"","",{"$f":"+IF(ISBLANK(K745),\"\",VLOOKUP(K745,'5.3 Schedule of Rates'!B:D,3,0))","v":""},null,"",null,"","",null,null,null,{"$f":"IFERROR(INDEX('1.2 Sub-Con Application'!$B$13:$U$1012,MATCH(1,('1.2 Sub-Con Application'!$B$13:$B$1012=B745)*('1.2 Sub-Con Application'!$U$13:$U$1012=\"Rejected\"),0),20),\"\")","v":""}]
[null,{"$f":"+IF(AND(ISBLANK(F746),ISBLANK(K746)),\"\",IF(AND(ISBLANK(F746),B745<>\"\"),B745,IF(COUNTIF($F$13:F745,F746)>0,B745,MAX($B$13:B745)+1)))","v":""},null,null,0,null,null,null,null,"Enter PC",null,"","",{"$f":"+IF(ISBLANK(K746),\"\",VLOOKUP(K746,'5.3 Schedule of Rates'!B:D,3,0))","v":""},null,"",null,"","",null,null,null,{"$f":"IFERROR(INDEX('1.2 Sub-Con Application'!$B$13:$U$1012,MATCH(1,('1.2 Sub-Con Application'!$B$13:$B$1012=B746)*('1.2 Sub-Con Application'!$U$13:$U$1012=\"Rejected\"),0),20),\"\")","v":""}]
[null,{"$f":"+IF(AND(ISBLANK(F747),ISBLANK(K747)),\"\",IF(AND(ISBLANK(F747),B746<>\"\"),B746,IF(COUNTIF($F$13:F746,F747)>0,B746,MAX($B$13:B746)+1)))","v":""},null,null,0,null,null,null,null,"Enter PC",null,"","",{"$f":"+IF(ISBLANK(K747),\"\",VLOOKUP(K747,'5.3 Schedule of Rates'!B:D,3,0))","v":""},null,"",null,"","",null,null,null,{"$f":"IFERROR(INDEX('1.2 Sub-Con Application'!$B$13:$U$1012,MATCH(1,('1.2 Sub-Con Application'!$B$13:$B$1012=B747)*('1.2 Sub-Con Application'!$U$13:$U$1012=\"Rejected\"),0),20),\"\")","v":""}]
[null,{"$f":"+IF(AND(ISBLANK(F748),ISBLANK(K748)),\"\",IF(AND(ISBLANK(F748),B747<>\"\"),B747,IF(COUNTIF($F$13:F747,F748)>0,B747,MAX($B$13:B747)+1)))","v":""},null,null,0,null,null,null,null,"Enter PC",null,"","",{"$f":"+IF(ISBLANK(K748),\"\",VLOOKUP(K748,'5.3 Schedule of Rates'!B:D,3,0))","v":""},null,"",null,"","",null,null,null,{"$f":"IFERROR(INDEX('1.2 Sub-Con Application'!$B$13:$U$1012,MATCH(1,('1.2 Sub-Con Application'!$B$13:$B$1012=B748)*('1.2 Sub-Con Application'!$U$13:$U$1012=\"Rejected\"),0),20),\"\")","v":""}]
[null,{"$f":"+IF(AND(ISBLANK(F749),ISBLANK(K749)),\"\",IF(AND(ISBLANK(F749),B748<>\"\"),B748,IF(COUNTIF($F$13:F748,F749)>0,B748,MAX($B$13:B748)+1)))","v":""},null,null,0,null,null,null,null,"Enter PC",null,"","",{"$f":"+IF(ISBLANK(K749),\"\",VLOOKUP(K749,'5.3 Schedule of Rates'!B:D,3,0))","v":""},null,"",null,"","",null,null,null,{"$f":"IFERROR(INDEX('1.2 Sub-Con Application'!$B$13:$U$1012,MATCH(1,('1.2 Sub-Con Application'!$B$13:$B$1012=B749)*('1.2 Sub-Con Application'!$U$13:$U$1012=\"Rejected\"),0),20),\"\")","v":""}]
[null,{"$f":"+IF(AND(ISBLANK(F750),ISBLANK(K750)),\"\",IF(AND(ISBLANK(F750),B749<>\"\"),B749,IF(COUNTIF($F$13:F749,F750)>0,B749,MAX($B$13:B749)+1)))","v":""},null,null,0,null,null,null,null,"Enter PC",null,"","",{"$f":"+IF(ISBLANK(K750),\"\",VLOOKUP(K750,'5.3 Schedule of Rates'!B:D,3,0))","v":""},null,"",null,"","",null,null,null,{"$f":"IFERROR(INDEX('1.2 Sub-Con Application'!$B$13:$U$1012,MATCH(1,('1.2 Sub-Con Application'!$B$13:$B$1012=B750)*('1.2 Sub-Con Application'!$U$13:$U$1012=\"Rejected\"),0),20),\"\")","v":""}]
[null,{"$f":"+IF(AND(ISBLANK(F751),ISBLANK(K751)),\"\",IF(AND(ISBLANK(F751),B750<>\"\"),B750,IF(COUNTIF($F$13:F750,F751)>0,B750,MAX($B$13:B750)+1)))","v":""},null,null,0,null,null,null,null,"Enter PC",null,"","",{"$f":"+IF(ISBLANK(K751),\"\",VLOOKUP(K751,'5.3 Schedule of Rates'!B:D,3,0))","v":""},null,"",null,"","",null,null,null,{"$f":"IFERROR(INDEX('1.2 Sub-Con Application'!$B$13:$U$1012,MATCH(1,('1.2 Sub-Con Application'!$B$13:$B$1012=B751)*('1.2 Sub-Con Application'!$U$13:$U$1012=\"Rejected\"),0),20),\"\")","v":""}]
[null,{"$f":"+IF(AND(ISBLANK(F752),ISBLANK(K752)),\"\",IF(AND(ISBLANK(F752),B751<>\"\"),B751,IF(COUNTIF($F$13:F751,F752)>0,B751,MAX($B$13:B751)+1)))","v":""},null,null,0,null,null,null,null,"Enter PC",null,"","",{"$f":"+IF(ISBLANK(K752),\"\",VLOOKUP(K752,'5.3 Schedule of Rates'!B:D,3,0))","v":""},null,"",null,"","",null,null,null,{"$f":"IFERROR(INDEX('1.2 Sub-Con Application'!$B$13:$U$1012,MATCH(1,('1.2 Sub-Con Application'!$B$13:$B$1012=B752)*('1.2 Sub-Con Application'!$U$13:$U$1012=\"Rejected\"),0),20),\"\")","v":""}]
[null,{"$f":"+IF(AND(ISBLANK(F753),ISBLANK(K753)),\"\",IF(AND(ISBLANK(F753),B752<>\"\"),B752,IF(COUNTIF($F$13:F752,F753)>0,B752,MAX($B$13:B752)+1)))","v":""},null,null,0,null,null,null,null,"Enter PC",null,"","",{"$f":"+IF(ISBLANK(K753),\"\",VLOOKUP(K753,'5.3 Schedule of Rates'!B:D,3,0))","v":""},null,"",null,"","",null,null,null,{"$f":"IFERROR(INDEX('1.2 Sub-Con Application'!$B$13:$U$1012,MATCH(1,('1.2 Sub-Con Application'!$B$13:$B$1012=B753)*('1.2 Sub-Con Application'!$U$13:$U$1012=\"Rejected\"),0),20),\"\")","v":""}]
[null,{"$f":"+IF(AND(ISBLANK(F754),ISBLANK(K754)),\"\",IF(AND(ISBLANK(F754),B753<>\"\"),B753,IF(COUNTIF($F$13:F753,F754)>0,B753,MAX($B$13:B753)+1)))","v":""},null,null,0,null,null,null,null,"Enter PC",null,"","",{"$f":"+IF(ISBLANK(K754),\"\",VLOOKUP(K754,'5.3 Schedule of Rates'!B:D,3,0))","v":""},null,"",null,"","",null,null,null,{"$f":"IFERROR(INDEX('1.2 Sub-Con Application'!$B$13:$U$1012,MATCH(1,('1.2 Sub-Con Application'!$B$13:$B$1012=B754)*('1.2 Sub-Con Application'!$U$13:$U$1012=\"Rejected\"),0),20),\"\")","v":""}]
[null,{"$f":"+IF(AND(ISBLANK(F755),ISBLANK(K755)),\"\",IF(AND(ISBLANK(F755),B754<>\"\"),B754,IF(COUNTIF($F$13:F754,F755)>0,B754,MAX($B$13:B754)+1)))","v":""},null,null,0,null,null,null,null,"Enter PC",null,"","",{"$f":"+IF(ISBLANK(K755),\"\",VLOOKUP(K755,'5.3 Schedule of Rates'!B:D,3,0))","v":""},null,"",null,"","",null,null,null,{"$f":"IFERROR(INDEX('1.2 Sub-Con Application'!$B$13:$U$1012,MATCH(1,('1.2 Sub-Con Application'!$B$13:$B$1012=B755)*('1.2 Sub-Con Application'!$U$13:$U$1012=\"Rejected\"),0),20),\"\")","v":""}]
[null,{"$f":"+IF(AND(ISBLANK(F756),ISBLANK(K756)),\"\",IF(AND(ISBLANK(F756),B755<>\"\"),B755,IF(COUNTIF($F$13:F755,F756)>0,B755,MAX($B$13:B755)+1)))","v":""},null,null,0,null,null,null,null,"Enter PC",null,"","",{"$f":"+IF(ISBLANK(K756),\"\",VLOOKUP(K756,'5.3 Schedule of Rates'!B:D,3,0))","v":""},null,"",null,"","",null,null,null,{"$f":"IFERROR(INDEX('1.2 Sub-Con Application'!$B$13:$U$1012,MATCH(1,('1.2 Sub-Con Application'!$B$13:$B$1012=B756)*('1.2 Sub-Con Application'!$U$13:$U$1012=\"Rejected\"),0),20),\"\")","v":""}]
[null,{"$f":"+IF(AND(ISBLANK(F757),ISBLANK(K757)),\"\",IF(AND(ISBLANK(F757),B756<>\"\"),B756,IF(COUNTIF($F$13:F756,F757)>0,B756,MAX($B$13:B756)+1)))","v":""},null,null,0,null,null,null,null,"Enter PC",null,"","",{"$f":"+IF(ISBLANK(K757),\"\",VLOOKUP(K757,'5.3 Schedule of Rates'!B:D,3,0))","v":""},null,"",null,"","",null,null,null,{"$f":"IFERROR(INDEX('1.2 Sub-Con Application'!$B$13:$U$1012,MATCH(1,('1.2 Sub-Con Application'!$B$13:$B$1012=B757)*('1.2 Sub-Con Application'!$U$13:$U$1012=\"Rejected\"),0),20),\"\")","v":""}]
[null,{"$f":"+IF(AND(ISBLANK(F758),ISBLANK(K758)),\"\",IF(AND(ISBLANK(F758),B757<>\"\"),B757,IF(COUNTIF($F$13:F757,F758)>0,B757,MAX($B$13:B757)+1)))","v":""},null,null,0,null,null,null,null,"Enter PC",null,"","",{"$f":"+IF(ISBLANK(K758),\"\",VLOOKUP(K758,'5.3 Schedule of Rates'!B:D,3,0))","v":""},null,"",null,"","",null,null,null,{"$f":"IFERROR(INDEX('1.2 Sub-Con Application'!$B$13:$U$1012,MATCH(1,('1.2 Sub-Con Application'!$B$13:$B$1012=B758)*('1.2 Sub-Con Application'!$U$13:$U$1012=\"Rejected\"),0),20),\"\")","v":""}]
[null,{"$f":"+IF(AND(ISBLANK(F759),ISBLANK(K759)),\"\",IF(AND(ISBLANK(F759),B758<>\"\"),B758,IF(COUNTIF($F$13:F758,F759)>0,B758,MAX($B$13:B758)+1)))","v":""},null,null,0,null,null,null,null,"Enter PC",null,"","",{"$f":"+IF(ISBLANK(K759),\"\",VLOOKUP(K759,'5.3 Schedule of Rates'!B:D,3,0))","v":""},null,"",null,"","",null,null,null,{"$f":"IFERROR(INDEX('1.2 Sub-Con Application'!$B$13:$U$1012,MATCH(1,('1.2 Sub-Con Application'!$B$13:$B$1012=B759)*('1.2 Sub-Con Application'!$U$13:$U$1012=\"Rejected\"),0),20),\"\")","v":""}]
[null,{"$f":"+IF(AND(ISBLANK(F760),ISBLANK(K760)),\"\",IF(AND(ISBLANK(F760),B759<>\"\"),B759,IF(COUNTIF($F$13:F759,F760)>0,B759,MAX($B$13:B759)+1)))","v":""},null,null,0,null,null,null,null,"Enter PC",null,"","",{"$f":"+IF(ISBLANK(K760),\"\",VLOOKUP(K760,'5.3 Schedule of Rates'!B:D,3,0))","v":""},null,"",null,"","",null,null,null,{"$f":"IFERROR(INDEX('1.2 Sub-Con Application'!$B$13:$U$1012,MATCH(1,('1.2 Sub-Con Application'!$B$13:$B$1012=B760)*('1.2 Sub-Con Application'!$U$13:$U$1012=\"Rejected\"),0),20),\"\")","v":""}]
[null,{"$f":"+IF(AND(ISBLANK(F761),ISBLANK(K761)),\"\",IF(AND(ISBLANK(F761),B760<>\"\"),B760,IF(COUNTIF($F$13:F760,F761)>0,B760,MAX($B$13:B760)+1)))","v":""},null,null,0,null,null,null,null,"Enter PC",null,"","",{"$f":"+IF(ISBLANK(K761),\"\",VLOOKUP(K761,'5.3 Schedule of Rates'!B:D,3,0))","v":""},null,"",null,"","",null,null,null,{"$f":"IFERROR(INDEX('1.2 Sub-Con Application'!$B$13:$U$1012,MATCH(1,('1.2 Sub-Con Application'!$B$13:$B$1012=B761)*('1.2 Sub-Con Application'!$U$13:$U$1012=\"Rejected\"),0),20),\"\")","v":""}]
[null,{"$f":"+IF(AND(ISBLANK(F762),ISBLANK(K762)),\"\",IF(AND(ISBLANK(F762),B761<>\"\"),B761,IF(COUNTIF($F$13:F761,F762)>0,B761,MAX($B$13:B761)+1)))","v":""},null,null,0,null,null,null,null,"Enter PC",null,"","",{"$f":"+IF(ISBLANK(K762),\"\",VLOOKUP(K762,'5.3 Schedule of Rates'!B:D,3,0))","v":""},null,"",null,"","",null,null,null,{"$f":"IFERROR(INDEX('1.2 Sub-Con Application'!$B$13:$U$1012,MATCH(1,('1.2 Sub-Con Application'!$B$13:$B$1012=B762)*('1.2 Sub-Con Application'!$U$13:$U$1012=\"Rejected\"),0),20),\"\")","v":""}]
[null,{"$f":"+IF(AND(ISBLANK(F763),ISBLANK(K763)),\"\",IF(AND(ISBLANK(F763),B762<>\"\"),B762,IF(COUNTIF($F$13:F762,F763)>0,B762,MAX($B$13:B762)+1)))","v":""},null,null,0,null,null,null,null,"Enter PC",null,"","",{"$f":"+IF(ISBLANK(K763),\"\",VLOOKUP(K763,'5.3 Schedule of Rates'!B:D,3,0))","v":""},null,"",null,"","",null,null,null,{"$f":"IFERROR(INDEX('1.2 Sub-Con Application'!$B$13:$U$1012,MATCH(1,('1.2 Sub-Con Application'!$B$13:$B$1012=B763)*('1.2 Sub-Con Application'!$U$13:$U$1012=\"Rejected\"),0),20),\"\")","v":""}]
[null,{"$f":"+IF(AND(ISBLANK(F764),ISBLANK(K764)),\"\",IF(AND(ISBLANK(F764),B763<>\"\"),B763,IF(COUNTIF($F$13:F763,F764)>0,B763,MAX($B$13:B763)+1)))","v":""},null,null,0,null,null,null,null,"Enter PC",null,"","",{"$f":"+IF(ISBLANK(K764),\"\",VLOOKUP(K764,'5.3 Schedule of Rates'!B:D,3,0))","v":""},null,"",null,"","",null,null,null,{"$f":"IFERROR(INDEX('1.2 Sub-Con Application'!$B$13:$U$1012,MATCH(1,('1.2 Sub-Con Application'!$B$13:$B$1012=B764)*('1.2 Sub-Con Application'!$U$13:$U$1012=\"Rejected\"),0),20),\"\")","v":""}]
[null,{"$f":"+IF(AND(ISBLANK(F765),ISBLANK(K765)),\"\",IF(AND(ISBLANK(F765),B764<>\"\"),B764,IF(COUNTIF($F$13:F764,F765)>0,B764,MAX($B$13:B764)+1)))","v":""},null,null,0,null,null,null,null,"Enter PC",null,"","",{"$f":"+IF(ISBLANK(K765),\"\",VLOOKUP(K765,'5.3 Schedule of Rates'!B:D,3,0))","v":""},null,"",null,"","",null,null,null,{"$f":"IFERROR(INDEX('1.2 Sub-Con Application'!$B$13:$U$1012,MATCH(1,('1.2 Sub-Con Application'!$B$13:$B$1012=B765)*('1.2 Sub-Con Application'!$U$13:$U$1012=\"Rejected\"),0),20),\"\")","v":""}]
[null,{"$f":"+IF(AND(ISBLANK(F766),ISBLANK(K766)),\"\",IF(AND(ISBLANK(F766),B765<>\"\"),B765,IF(COUNTIF($F$13:F765,F766)>0,B765,MAX($B$13:B765)+1)))","v":""},null,null,0,null,null,null,null,"Enter PC",null,"","",{"$f":"+IF(ISBLANK(K766),\"\",VLOOKUP(K766,'5.3 Schedule of Rates'!B:D,3,0))","v":""},null,"",null,"","",null,null,null,{"$f":"IFERROR(INDEX('1.2 Sub-Con Application'!$B$13:$U$1012,MATCH(1,('1.2 Sub-Con Application'!$B$13:$B$1012=B766)*('1.2 Sub-Con Application'!$U$13:$U$1012=\"Rejected\"),0),20),\"\")","v":""}]
[null,{"$f":"+IF(AND(ISBLANK(F767),ISBLANK(K767)),\"\",IF(AND(ISBLANK(F767),B766<>\"\"),B766,IF(COUNTIF($F$13:F766,F767)>0,B766,MAX($B$13:B766)+1)))","v":""},null,null,{"$f":"NETWORKDAYS(C767,D767)","v":0},null,null,null,null,"Enter PC",null,"","",{"$f":"+IF(ISBLANK(K767),\"\",VLOOKUP(K767,'5.3 Schedule of Rates'!B:D,3,0))","v":""},null,"",null,"",{"$f":"IF(ISERROR(SUM(P767-R767)),\"\",SUM(P767-R767))","v":""},null,null,null,{"$f":"IFERROR(INDEX('1.2 Sub-Con Application'!$B$13:$U$1012,MATCH(1,('1.2 Sub-Con Application'!$B$13:$B$1012=B767)*('1.2 Sub-Con Application'!$U$13:$U$1012=\"Rejected\"),0),20),\"\")","v":""}]
[null,{"$f":"+IF(AND(ISBLANK(F768),ISBLANK(K768)),\"\",IF(AND(ISBLANK(F768),B767<>\"\"),B767,IF(COUNTIF($F$13:F767,F768)>0,B767,MAX($B$13:B767)+1)))","v":""},null,null,0,null,null,null,null,"Enter PC",null,"","",{"$f":"+IF(ISBLANK(K768),\"\",VLOOKUP(K768,'5.3 Schedule of Rates'!B:D,3,0))","v":""},null,"",null,"","",null,null,null,{"$f":"IFERROR(INDEX('1.2 Sub-Con Application'!$B$13:$U$1012,MATCH(1,('1.2 Sub-Con Application'!$B$13:$B$1012=B768)*('1.2 Sub-Con Application'!$U$13:$U$1012=\"Rejected\"),0),20),\"\")","v":""}]
[null,{"$f":"+IF(AND(ISBLANK(F769),ISBLANK(K769)),\"\",IF(AND(ISBLANK(F769),B768<>\"\"),B768,IF(COUNTIF($F$13:F768,F769)>0,B768,MAX($B$13:B768)+1)))","v":""},null,null,0,null,null,null,null,"Enter PC",null,"","",{"$f":"+IF(ISBLANK(K769),\"\",VLOOKUP(K769,'5.3 Schedule of Rates'!B:D,3,0))","v":""},null,"",null,"","",null,null,null,{"$f":"IFERROR(INDEX('1.2 Sub-Con Application'!$B$13:$U$1012,MATCH(1,('1.2 Sub-Con Application'!$B$13:$B$1012=B769)*('1.2 Sub-Con Application'!$U$13:$U$1012=\"Rejected\"),0),20),\"\")","v":""}]
[null,{"$f":"+IF(AND(ISBLANK(F770),ISBLANK(K770)),\"\",IF(AND(ISBLANK(F770),B769<>\"\"),B769,IF(COUNTIF($F$13:F769,F770)>0,B769,MAX($B$13:B769)+1)))","v":""},null,null,0,null,null,null,null,"Enter PC",null,"","",{"$f":"+IF(ISBLANK(K770),\"\",VLOOKUP(K770,'5.3 Schedule of Rates'!B:D,3,0))","v":""},null,"",null,"","",null,null,null,{"$f":"IFERROR(INDEX('1.2 Sub-Con Application'!$B$13:$U$1012,MATCH(1,('1.2 Sub-Con Application'!$B$13:$B$1012=B770)*('1.2 Sub-Con Application'!$U$13:$U$1012=\"Rejected\"),0),20),\"\")","v":""}]
[null,{"$f":"+IF(AND(ISBLANK(F771),ISBLANK(K771)),\"\",IF(AND(ISBLANK(F771),B770<>\"\"),B770,IF(COUNTIF($F$13:F770,F771)>0,B770,MAX($B$13:B770)+1)))","v":""},null,null,0,null,null,null,null,"Enter PC",null,"","",{"$f":"+IF(ISBLANK(K771),\"\",VLOOKUP(K771,'5.3 Schedule of Rates'!B:D,3,0))","v":""},null,"",null,"","",null,null,null,{"$f":"IFERROR(INDEX('1.2 Sub-Con Application'!$B$13:$U$1012,MATCH(1,('1.2 Sub-Con Application'!$B$13:$B$1012=B771)*('1.2 Sub-Con Application'!$U$13:$U$1012=\"Rejected\"),0),20),\"\")","v":""}]
[null,{"$f":"+IF(AND(ISBLANK(F772),ISBLANK(K772)),\"\",IF(AND(ISBLANK(F772),B771<>\"\"),B771,IF(COUNTIF($F$13:F771,F772)>0,B771,MAX($B$13:B771)+1)))","v":""},null,null,0,null,null,null,null,"Enter PC",null,"","",{"$f":"+IF(ISBLANK(K772),\"\",VLOOKUP(K772,'5.3 Schedule of Rates'!B:D,3,0))","v":""},null,"",null,"","",null,null,null,{"$f":"IFERROR(INDEX('1.2 Sub-Con Application'!$B$13:$U$1012,MATCH(1,('1.2 Sub-Con Application'!$B$13:$B$1012=B772)*('1.2 Sub-Con Application'!$U$13:$U$1012=\"Rejected\"),0),20),\"\")","v":""}]
[null,{"$f":"+IF(AND(ISBLANK(F773),ISBLANK(K773)),\"\",IF(AND(ISBLANK(F773),B772<>\"\"),B772,IF(COUNTIF($F$13:F772,F773)>0,B772,MAX($B$13:B772)+1)))","v":""},null,null,0,null,null,null,null,"Enter PC",null,"","",{"$f":"+IF(ISBLANK(K773),\"\",VLOOKUP(K773,'5.3 Schedule of Rates'!B:D,3,0))","v":""},null,"",null,"","",null,null,null,{"$f":"IFERROR(INDEX('1.2 Sub-Con Application'!$B$13:$U$1012,MATCH(1,('1.2 Sub-Con Application'!$B$13:$B$1012=B773)*('1.2 Sub-Con Application'!$U$13:$U$1012=\"Rejected\"),0),20),\"\")","v":""}]
[null,{"$f":"+IF(AND(ISBLANK(F774),ISBLANK(K774)),\"\",IF(AND(ISBLANK(F774),B773<>\"\"),B773,IF(COUNTIF($F$13:F773,F774)>0,B773,MAX($B$13:B773)+1)))","v":""},null,null,0,null,null,null,null,"Enter PC",null,"","",{"$f":"+IF(ISBLANK(K774),\"\",VLOOKUP(K774,'5.3 Schedule of Rates'!B:D,3,0))","v":""},null,"",null,"","",null,null,null,{"$f":"IFERROR(INDEX('1.2 Sub-Con Application'!$B$13:$U$1012,MATCH(1,('1.2 Sub-Con Application'!$B$13:$B$1012=B774)*('1.2 Sub-Con Application'!$U$13:$U$1012=\"Rejected\"),0),20),\"\")","v":""}]
[null,{"$f":"+IF(AND(ISBLANK(F775),ISBLANK(K775)),\"\",IF(AND(ISBLANK(F775),B774<>\"\"),B774,IF(COUNTIF($F$13:F774,F775)>0,B774,MAX($B$13:B774)+1)))","v":""},null,null,0,null,null,null,null,"Enter PC",null,"","",{"$f":"+IF(ISBLANK(K775),\"\",VLOOKUP(K775,'5.3 Schedule of Rates'!B:D,3,0))","v":""},null,"",null,"","",null,null,null,{"$f":"IFERROR(INDEX('1.2 Sub-Con Application'!$B$13:$U$1012,MATCH(1,('1.2 Sub-Con Application'!$B$13:$B$1012=B775)*('1.2 Sub-Con Application'!$U$13:$U$1012=\"Rejected\"),0),20),\"\")","v":""}]
[null,{"$f":"+IF(AND(ISBLANK(F776),ISBLANK(K776)),\"\",IF(AND(ISBLANK(F776),B775<>\"\"),B775,IF(COUNTIF($F$13:F775,F776)>0,B775,MAX($B$13:B775)+1)))","v":""},null,null,0,null,null,null,null,"Enter PC",null,"","",{"$f":"+IF(ISBLANK(K776),\"\",VLOOKUP(K776,'5.3 Schedule of Rates'!B:D,3,0))","v":""},null,"",null,"","",null,null,null,{"$f":"IFERROR(INDEX('1.2 Sub-Con Application'!$B$13:$U$1012,MATCH(1,('1.2 Sub-Con Application'!$B$13:$B$1012=B776)*('1.2 Sub-Con Application'!$U$13:$U$1012=\"Rejected\"),0),20),\"\")","v":""}]
[null,{"$f":"+IF(AND(ISBLANK(F777),ISBLANK(K777)),\"\",IF(AND(ISBLANK(F777),B776<>\"\"),B776,IF(COUNTIF($F$13:F776,F777)>0,B776,MAX($B$13:B776)+1)))","v":""},null,null,0,null,null,null,null,"Enter PC",null,"","",{"$f":"+IF(ISBLANK(K777),\"\",VLOOKUP(K777,'5.3 Schedule of Rates'!B:D,3,0))","v":""},null,"",null,"","",null,null,null,{"$f":"IFERROR(INDEX('1.2 Sub-Con Application'!$B$13:$U$1012,MATCH(1,('1.2 Sub-Con Application'!$B$13:$B$1012=B777)*('1.2 Sub-Con Application'!$U$13:$U$1012=\"Rejected\"),0),20),\"\")","v":""}]
[null,{"$f":"+IF(AND(ISBLANK(F778),ISBLANK(K778)),\"\",IF(AND(ISBLANK(F778),B777<>\"\"),B777,IF(COUNTIF($F$13:F777,F778)>0,B777,MAX($B$13:B777)+1)))","v":""},null,null,0,null,null,null,null,"Enter PC",null,"","",{"$f":"+IF(ISBLANK(K778),\"\",VLOOKUP(K778,'5.3 Schedule of Rates'!B:D,3,0))","v":""},null,"",null,"","",null,null,null,{"$f":"IFERROR(INDEX('1.2 Sub-Con Application'!$B$13:$U$1012,MATCH(1,('1.2 Sub-Con Application'!$B$13:$B$1012=B778)*('1.2 Sub-Con Application'!$U$13:$U$1012=\"Rejected\"),0),20),\"\")","v":""}]
[null,{"$f":"+IF(AND(ISBLANK(F779),ISBLANK(K779)),\"\",IF(AND(ISBLANK(F779),B778<>\"\"),B778,IF(COUNTIF($F$13:F778,F779)>0,B778,MAX($B$13:B778)+1)))","v":""},null,null,0,null,null,null,null,"Enter PC",null,"","",{"$f":"+IF(ISBLANK(K779),\"\",VLOOKUP(K779,'5.3 Schedule of Rates'!B:D,3,0))","v":""},null,"",null,"","",null,null,null,{"$f":"IFERROR(INDEX('1.2 Sub-Con Application'!$B$13:$U$1012,MATCH(1,('1.2 Sub-Con Application'!$B$13:$B$1012=B779)*('1.2 Sub-Con Application'!$U$13:$U$1012=\"Rejected\"),0),20),\"\")","v":""}]
[null,{"$f":"+IF(AND(ISBLANK(F780),ISBLANK(K780)),\"\",IF(AND(ISBLANK(F780),B779<>\"\"),B779,IF(COUNTIF($F$13:F779,F780)>0,B779,MAX($B$13:B779)+1)))","v":""},null,null,0,null,null,null,null,"Enter PC",null,"","",{"$f":"+IF(ISBLANK(K780),\"\",VLOOKUP(K780,'5.3 Schedule of Rates'!B:D,3,0))","v":""},null,"",null,"","",null,null,null,{"$f":"IFERROR(INDEX('1.2 Sub-Con Application'!$B$13:$U$1012,MATCH(1,('1.2 Sub-Con Application'!$B$13:$B$1012=B780)*('1.2 Sub-Con Application'!$U$13:$U$1012=\"Rejected\"),0),20),\"\")","v":""}]
[null,{"$f":"+IF(AND(ISBLANK(F781),ISBLANK(K781)),\"\",IF(AND(ISBLANK(F781),B780<>\"\"),B780,IF(COUNTIF($F$13:F780,F781)>0,B780,MAX($B$13:B780)+1)))","v":""},null,null,0,null,null,null,null,{"$f":"IFERROR(IF(I781=\"\",\"Enter PC\",VLOOKUP(IF(LEN(I781)=6,LEFT(I781,2),IF(LEN(I781)=7,LEFT(I781,3),LEFT(I781,4))),table_pcRegion,2,FALSE)=work_Region),\"INVALID\")","v":"Enter PC"},null,{"$f":"+IF(ISBLANK(K781),\"\",VLOOKUP(K781,table_SoR,2,0))","v":""},{"$f":"+IF(ISBLANK(K781),\"\",INDEX(table_subconSoR,MATCH(L781,row_SoR,0),MATCH($H$4,col_SoR,0)))","v":""},{"$f":"+IF(ISBLANK(K781),\"\",VLOOKUP(K781,'5.3 Schedule of Rates'!B:D,3,0))","v":""},null,{"$f":"+IF(ISBLANK($O781),\"\",ROUND(SUM(SUM(VLOOKUP($K781,table_SoR,6,0)*(1+$M781))*O781),2))","v":""},null,{"$f":"+IF(ISBLANK($O781),\"\",ROUND(IF(Q781>0,Q781,SUM(SUM(VLOOKUP($K781,table_SoR,7,0)*(1+$M781))*O781)),2))","v":""},"",null,null,null,{"$f":"IFERROR(INDEX('1.2 Sub-Con Application'!$B$13:$U$1012,MATCH(1,('1.2 Sub-Con Application'!$B$13:$B$1012=B781)*('1.2 Sub-Con Application'!$U$13:$U$1012=\"Rejected\"),0),20),\"\")","v":""}]
[null,{"$f":"+IF(AND(ISBLANK(F782),ISBLANK(K782)),\"\",IF(AND(ISBLANK(F782),B781<>\"\"),B781,IF(COUNTIF($F$13:F781,F782)>0,B781,MAX($B$13:B781)+1)))","v":""},null,null,0,null,null,null,null,"Enter PC",null,"","",{"$f":"+IF(ISBLANK(K782),\"\",VLOOKUP(K782,'5.3 Schedule of Rates'!B:D,3,0))","v":""},null,"",null,"","",null,null,null,{"$f":"IFERROR(INDEX('1.2 Sub-Con Application'!$B$13:$U$1012,MATCH(1,('1.2 Sub-Con Application'!$B$13:$B$1012=B782)*('1.2 Sub-Con Application'!$U$13:$U$1012=\"Rejected\"),0),20),\"\")","v":""}]
[null,{"$f":"+IF(AND(ISBLANK(F783),ISBLANK(K783)),\"\",IF(AND(ISBLANK(F783),B782<>\"\"),B782,IF(COUNTIF($F$13:F782,F783)>0,B782,MAX($B$13:B782)+1)))","v":""},null,null,0,null,null,null,null,"Enter PC",null,"","",{"$f":"+IF(ISBLANK(K783),\"\",VLOOKUP(K783,'5.3 Schedule of Rates'!B:D,3,0))","v":""},null,"",null,"","",null,null,null,{"$f":"IFERROR(INDEX('1.2 Sub-Con Application'!$B$13:$U$1012,MATCH(1,('1.2 Sub-Con Application'!$B$13:$B$1012=B783)*('1.2 Sub-Con Application'!$U$13:$U$1012=\"Rejected\"),0),20),\"\")","v":""}]
[null,{"$f":"+IF(AND(ISBLANK(F784),ISBLANK(K784)),\"\",IF(AND(ISBLANK(F784),B783<>\"\"),B783,IF(COUNTIF($F$13:F783,F784)>0,B783,MAX($B$13:B783)+1)))","v":""},null,null,0,null,null,null,null,"Enter PC",null,"","",{"$f":"+IF(ISBLANK(K784),\"\",VLOOKUP(K784,'5.3 Schedule of Rates'!B:D,3,0))","v":""},null,"",null,"","",null,null,null,{"$f":"IFERROR(INDEX('1.2 Sub-Con Application'!$B$13:$U$1012,MATCH(1,('1.2 Sub-Con Application'!$B$13:$B$1012=B784)*('1.2 Sub-Con Application'!$U$13:$U$1012=\"Rejected\"),0),20),\"\")","v":""}]
[null,{"$f":"+IF(AND(ISBLANK(F785),ISBLANK(K785)),\"\",IF(AND(ISBLANK(F785),B784<>\"\"),B784,IF(COUNTIF($F$13:F784,F785)>0,B784,MAX($B$13:B784)+1)))","v":""},null,null,0,null,null,null,null,"Enter PC",null,"","",{"$f":"+IF(ISBLANK(K785),\"\",VLOOKUP(K785,'5.3 Schedule of Rates'!B:D,3,0))","v":""},null,"",null,"","",null,null,null,{"$f":"IFERROR(INDEX('1.2 Sub-Con Application'!$B$13:$U$1012,MATCH(1,('1.2 Sub-Con Application'!$B$13:$B$1012=B785)*('1.2 Sub-Con Application'!$U$13:$U$1012=\"Rejected\"),0),20),\"\")","v":""}]
[null,{"$f":"+IF(AND(ISBLANK(F786),ISBLANK(K786)),\"\",IF(AND(ISBLANK(F786),B785<>\"\"),B785,IF(COUNTIF($F$13:F785,F786)>0,B785,MAX($B$13:B785)+1)))","v":""},null,null,0,null,null,null,null,"Enter PC",null,"","",{"$f":"+IF(ISBLANK(K786),\"\",VLOOKUP(K786,'5.3 Schedule of Rates'!B:D,3,0))","v":""},null,"",null,"","",null,null,null,{"$f":"IFERROR(INDEX('1.2 Sub-Con Application'!$B$13:$U$1012,MATCH(1,('1.2 Sub-Con Application'!$B$13:$B$1012=B786)*('1.2 Sub-Con Application'!$U$13:$U$1012=\"Rejected\"),0),20),\"\")","v":""}]
[null,{"$f":"+IF(AND(ISBLANK(F787),ISBLANK(K787)),\"\",IF(AND(ISBLANK(F787),B786<>\"\"),B786,IF(COUNTIF($F$13:F786,F787)>0,B786,MAX($B$13:B786)+1)))","v":""},null,null,0,null,null,null,null,"Enter PC",null,"","",{"$f":"+IF(ISBLANK(K787),\"\",VLOOKUP(K787,'5.3 Schedule of Rates'!B:D,3,0))","v":""},null,"",null,"","",null,null,null,{"$f":"IFERROR(INDEX('1.2 Sub-Con Application'!$B$13:$U$1012,MATCH(1,('1.2 Sub-Con Application'!$B$13:$B$1012=B787)*('1.2 Sub-Con Application'!$U$13:$U$1012=\"Rejected\"),0),20),\"\")","v":""}]
[null,{"$f":"+IF(AND(ISBLANK(F788),ISBLANK(K788)),\"\",IF(AND(ISBLANK(F788),B787<>\"\"),B787,IF(COUNTIF($F$13:F787,F788)>0,B787,MAX($B$13:B787)+1)))","v":""},null,null,0,null,null,null,null,"Enter PC",null,"","",{"$f":"+IF(ISBLANK(K788),\"\",VLOOKUP(K788,'5.3 Schedule of Rates'!B:D,3,0))","v":""},null,"",null,"","",null,null,null,{"$f":"IFERROR(INDEX('1.2 Sub-Con Application'!$B$13:$U$1012,MATCH(1,('1.2 Sub-Con Application'!$B$13:$B$1012=B788)*('1.2 Sub-Con Application'!$U$13:$U$1012=\"Rejected\"),0),20),\"\")","v":""}]
[null,{"$f":"+IF(AND(ISBLANK(F789),ISBLANK(K789)),\"\",IF(AND(ISBLANK(F789),B788<>\"\"),B788,IF(COUNTIF($F$13:F788,F789)>0,B788,MAX($B$13:B788)+1)))","v":""},null,null,0,null,null,null,null,"Enter PC",null,"","",{"$f":"+IF(ISBLANK(K789),\"\",VLOOKUP(K789,'5.3 Schedule of Rates'!B:D,3,0))","v":""},null,"",null,"","",null,null,null,{"$f":"IFERROR(INDEX('1.2 Sub-Con Application'!$B$13:$U$1012,MATCH(1,('1.2 Sub-Con Application'!$B$13:$B$1012=B789)*('1.2 Sub-Con Application'!$U$13:$U$1012=\"Rejected\"),0),20),\"\")","v":""}]
[null,{"$f":"+IF(AND(ISBLANK(F790),ISBLANK(K790)),\"\",IF(AND(ISBLANK(F790),B789<>\"\"),B789,IF(COUNTIF($F$13:F789,F790)>0,B789,MAX($B$13:B789)+1)))","v":""},null,null,0,null,null,null,null,"Enter PC",null,"","",{"$f":"+IF(ISBLANK(K790),\"\",VLOOKUP(K790,'5.3 Schedule of Rates'!B:D,3,0))","v":""},null,"",null,"","",null,null,null,{"$f":"IFERROR(INDEX('1.2 Sub-Con Application'!$B$13:$U$1012,MATCH(1,('1.2 Sub-Con Application'!$B$13:$B$1012=B790)*('1.2 Sub-Con Application'!$U$13:$U$1012=\"Rejected\"),0),20),\"\")","v":""}]
[null,{"$f":"+IF(AND(ISBLANK(F791),ISBLANK(K791)),\"\",IF(AND(ISBLANK(F791),B790<>\"\"),B790,IF(COUNTIF($F$13:F790,F791)>0,B790,MAX($B$13:B790)+1)))","v":""},null,null,0,null,null,null,null,"Enter PC",null,"","",{"$f":"+IF(ISBLANK(K791),\"\",VLOOKUP(K791,'5.3 Schedule of Rates'!B:D,3,0))","v":""},null,"",null,"","",null,null,null,{"$f":"IFERROR(INDEX('1.2 Sub-Con Application'!$B$13:$U$1012,MATCH(1,('1.2 Sub-Con Application'!$B$13:$B$1012=B791)*('1.2 Sub-Con Application'!$U$13:$U$1012=\"Rejected\"),0),20),\"\")","v":""}]
[null,{"$f":"+IF(AND(ISBLANK(F792),ISBLANK(K792)),\"\",IF(AND(ISBLANK(F792),B791<>\"\"),B791,IF(COUNTIF($F$13:F791,F792)>0,B791,MAX($B$13:B791)+1)))","v":""},null,null,0,null,null,null,null,"Enter PC",null,"","",{"$f":"+IF(ISBLANK(K792),\"\",VLOOKUP(K792,'5.3 Schedule of Rates'!B:D,3,0))","v":""},null,"",null,"","",null,null,null,{"$f":"IFERROR(INDEX('1.2 Sub-Con Application'!$B$13:$U$1012,MATCH(1,('1.2 Sub-Con Application'!$B$13:$B$1012=B792)*('1.2 Sub-Con Application'!$U$13:$U$1012=\"Rejected\"),0),20),\"\")","v":""}]
[null,{"$f":"+IF(AND(ISBLANK(F793),ISBLANK(K793)),\"\",IF(AND(ISBLANK(F793),B792<>\"\"),B792,IF(COUNTIF($F$13:F792,F793)>0,B792,MAX($B$13:B792)+1)))","v":""},null,null,0,null,null,null,null,"Enter PC",null,"","",{"$f":"+IF(ISBLANK(K793),\"\",VLOOKUP(K793,'5.3 Schedule of Rates'!B:D,3,0))","v":""},null,"",null,"","",null,null,null,{"$f":"IFERROR(INDEX('1.2 Sub-Con Application'!$B$13:$U$1012,MATCH(1,('1.2 Sub-Con Application'!$B$13:$B$1012=B793)*('1.2 Sub-Con Application'!$U$13:$U$1012=\"Rejected\"),0),20),\"\")","v":""}]
[null,{"$f":"+IF(AND(ISBLANK(F794),ISBLANK(K794)),\"\",IF(AND(ISBLANK(F794),B793<>\"\"),B793,IF(COUNTIF($F$13:F793,F794)>0,B793,MAX($B$13:B793)+1)))","v":""},null,null,0,null,null,null,null,"Enter PC",null,"","",{"$f":"+IF(ISBLANK(K794),\"\",VLOOKUP(K794,'5.3 Schedule of Rates'!B:D,3,0))","v":""},null,"",null,"","",null,null,null,{"$f":"IFERROR(INDEX('1.2 Sub-Con Application'!$B$13:$U$1012,MATCH(1,('1.2 Sub-Con Application'!$B$13:$B$1012=B794)*('1.2 Sub-Con Application'!$U$13:$U$1012=\"Rejected\"),0),20),\"\")","v":""}]
[null,{"$f":"+IF(AND(ISBLANK(F795),ISBLANK(K795)),\"\",IF(AND(ISBLANK(F795),B794<>\"\"),B794,IF(COUNTIF($F$13:F794,F795)>0,B794,MAX($B$13:B794)+1)))","v":""},null,null,0,null,null,null,null,"Enter PC",null,"","",{"$f":"+IF(ISBLANK(K795),\"\",VLOOKUP(K795,'5.3 Schedule of Rates'!B:D,3,0))","v":""},null,"",null,"","",null,null,null,{"$f":"IFERROR(INDEX('1.2 Sub-Con Application'!$B$13:$U$1012,MATCH(1,('1.2 Sub-Con Application'!$B$13:$B$1012=B795)*('1.2 Sub-Con Application'!$U$13:$U$1012=\"Rejected\"),0),20),\"\")","v":""}]
[null,{"$f":"+IF(AND(ISBLANK(F796),ISBLANK(K796)),\"\",IF(AND(ISBLANK(F796),B795<>\"\"),B795,IF(COUNTIF($F$13:F795,F796)>0,B795,MAX($B$13:B795)+1)))","v":""},null,null,0,null,null,null,null,"Enter PC",null,"","",{"$f":"+IF(ISBLANK(K796),\"\",VLOOKUP(K796,'5.3 Schedule of Rates'!B:D,3,0))","v":""},null,"",null,"","",null,null,null,{"$f":"IFERROR(INDEX('1.2 Sub-Con Application'!$B$13:$U$1012,MATCH(1,('1.2 Sub-Con Application'!$B$13:$B$1012=B796)*('1.2 Sub-Con Application'!$U$13:$U$1012=\"Rejected\"),0),20),\"\")","v":""}]
[null,{"$f":"+IF(AND(ISBLANK(F797),ISBLANK(K797)),\"\",IF(AND(ISBLANK(F797),B796<>\"\"),B796,IF(COUNTIF($F$13:F796,F797)>0,B796,MAX($B$13:B796)+1)))","v":""},null,null,0,null,null,null,null,"Enter PC",null,"","",{"$f":"+IF(ISBLANK(K797),\"\",VLOOKUP(K797,'5.3 Schedule of Rates'!B:D,3,0))","v":""},null,"",null,"","",null,null,null,{"$f":"IFERROR(INDEX('1.2 Sub-Con Application'!$B$13:$U$1012,MATCH(1,('1.2 Sub-Con Application'!$B$13:$B$1012=B797)*('1.2 Sub-Con Application'!$U$13:$U$1012=\"Rejected\"),0),20),\"\")","v":""}]
[null,{"$f":"+IF(AND(ISBLANK(F798),ISBLANK(K798)),\"\",IF(AND(ISBLANK(F798),B797<>\"\"),B797,IF(COUNTIF($F$13:F797,F798)>0,B797,MAX($B$13:B797)+1)))","v":""},null,null,0,null,null,null,null,"Enter PC",null,"","",{"$f":"+IF(ISBLANK(K798),\"\",VLOOKUP(K798,'5.3 Schedule of Rates'!B:D,3,0))","v":""},null,"",null,"","",null,null,null,{"$f":"IFERROR(INDEX('1.2 Sub-Con Application'!$B$13:$U$1012,MATCH(1,('1.2 Sub-Con Application'!$B$13:$B$1012=B798)*('1.2 Sub-Con Application'!$U$13:$U$1012=\"Rejected\"),0),20),\"\")","v":""}]
[null,{"$f":"+IF(AND(ISBLANK(F799),ISBLANK(K799)),\"\",IF(AND(ISBLANK(F799),B798<>\"\"),B798,IF(COUNTIF($F$13:F798,F799)>0,B798,MAX($B$13:B798)+1)))","v":""},null,null,0,null,null,null,null,"Enter PC",null,"","",{"$f":"+IF(ISBLANK(K799),\"\",VLOOKUP(K799,'5.3 Schedule of Rates'!B:D,3,0))","v":""},null,"",null,"","",null,null,null,{"$f":"IFERROR(INDEX('1.2 Sub-Con Application'!$B$13:$U$1012,MATCH(1,('1.2 Sub-Con Application'!$B$13:$B$1012=B799)*('1.2 Sub-Con Application'!$U$13:$U$1012=\"Rejected\"),0),20),\"\")","v":""}]
[null,{"$f":"+IF(AND(ISBLANK(F800),ISBLANK(K800)),\"\",IF(AND(ISBLANK(F800),B799<>\"\"),B799,IF(COUNTIF($F$13:F799,F800)>0,B799,MAX($B$13:B799)+1)))","v":""},null,null,0,null,null,null,null,"Enter PC",null,"","",{"$f":"+IF(ISBLANK(K800),\"\",VLOOKUP(K800,'5.3 Schedule of Rates'!B:D,3,0))","v":""},null,"",null,"","",null,null,null,{"$f":"IFERROR(INDEX('1.2 Sub-Con Application'!$B$13:$U$1012,MATCH(1,('1.2 Sub-Con Application'!$B$13:$B$1012=B800)*('1.2 Sub-Con Application'!$U$13:$U$1012=\"Rejected\"),0),20),\"\")","v":""}]
[null,{"$f":"+IF(AND(ISBLANK(F801),ISBLANK(K801)),\"\",IF(AND(ISBLANK(F801),B800<>\"\"),B800,IF(COUNTIF($F$13:F800,F801)>0,B800,MAX($B$13:B800)+1)))","v":""},null,null,0,null,null,null,null,"Enter PC",null,"","",{"$f":"+IF(ISBLANK(K801),\"\",VLOOKUP(K801,'5.3 Schedule of Rates'!B:D,3,0))","v":""},null,"",null,"","",null,null,null,{"$f":"IFERROR(INDEX('1.2 Sub-Con Application'!$B$13:$U$1012,MATCH(1,('1.2 Sub-Con Application'!$B$13:$B$1012=B801)*('1.2 Sub-Con Application'!$U$13:$U$1012=\"Rejected\"),0),20),\"\")","v":""}]
[null,{"$f":"+IF(AND(ISBLANK(F802),ISBLANK(K802)),\"\",IF(AND(ISBLANK(F802),B801<>\"\"),B801,IF(COUNTIF($F$13:F801,F802)>0,B801,MAX($B$13:B801)+1)))","v":""},null,null,0,null,null,null,null,"Enter PC",null,"","",{"$f":"+IF(ISBLANK(K802),\"\",VLOOKUP(K802,'5.3 Schedule of Rates'!B:D,3,0))","v":""},null,"",null,"","",null,null,null,{"$f":"IFERROR(INDEX('1.2 Sub-Con Application'!$B$13:$U$1012,MATCH(1,('1.2 Sub-Con Application'!$B$13:$B$1012=B802)*('1.2 Sub-Con Application'!$U$13:$U$1012=\"Rejected\"),0),20),\"\")","v":""}]
[null,{"$f":"+IF(AND(ISBLANK(F803),ISBLANK(K803)),\"\",IF(AND(ISBLANK(F803),B802<>\"\"),B802,IF(COUNTIF($F$13:F802,F803)>0,B802,MAX($B$13:B802)+1)))","v":""},null,null,0,null,null,null,null,"Enter PC",null,"","",{"$f":"+IF(ISBLANK(K803),\"\",VLOOKUP(K803,'5.3 Schedule of Rates'!B:D,3,0))","v":""},null,"",null,"","",null,null,null,{"$f":"IFERROR(INDEX('1.2 Sub-Con Application'!$B$13:$U$1012,MATCH(1,('1.2 Sub-Con Application'!$B$13:$B$1012=B803)*('1.2 Sub-Con Application'!$U$13:$U$1012=\"Rejected\"),0),20),\"\")","v":""}]
[null,{"$f":"+IF(AND(ISBLANK(F804),ISBLANK(K804)),\"\",IF(AND(ISBLANK(F804),B803<>\"\"),B803,IF(COUNTIF($F$13:F803,F804)>0,B803,MAX($B$13:B803)+1)))","v":""},null,null,0,null,null,null,null,"Enter PC",null,"","",{"$f":"+IF(ISBLANK(K804),\"\",VLOOKUP(K804,'5.3 Schedule of Rates'!B:D,3,0))","v":""},null,"",null,"","",null,null,null,{"$f":"IFERROR(INDEX('1.2 Sub-Con Application'!$B$13:$U$1012,MATCH(1,('1.2 Sub-Con Application'!$B$13:$B$1012=B804)*('1.2 Sub-Con Application'!$U$13:$U$1012=\"Rejected\"),0),20),\"\")","v":""}]
[null,{"$f":"+IF(AND(ISBLANK(F805),ISBLANK(K805)),\"\",IF(AND(ISBLANK(F805),B804<>\"\"),B804,IF(COUNTIF($F$13:F804,F805)>0,B804,MAX($B$13:B804)+1)))","v":""},null,null,0,null,null,null,null,"Enter PC",null,"","",{"$f":"+IF(ISBLANK(K805),\"\",VLOOKUP(K805,'5.3 Schedule of Rates'!B:D,3,0))","v":""},null,"",null,"","",null,null,null,{"$f":"IFERROR(INDEX('1.2 Sub-Con Application'!$B$13:$U$1012,MATCH(1,('1.2 Sub-Con Application'!$B$13:$B$1012=B805)*('1.2 Sub-Con Application'!$U$13:$U$1012=\"Rejected\"),0),20),\"\")","v":""}]
[null,{"$f":"+IF(AND(ISBLANK(F806),ISBLANK(K806)),\"\",IF(AND(ISBLANK(F806),B805<>\"\"),B805,IF(COUNTIF($F$13:F805,F806)>0,B805,MAX($B$13:B805)+1)))","v":""},null,null,0,null,null,null,null,"Enter PC",null,"","",{"$f":"+IF(ISBLANK(K806),\"\",VLOOKUP(K806,'5.3 Schedule of Rates'!B:D,3,0))","v":""},null,"",null,"","",null,null,null,{"$f":"IFERROR(INDEX('1.2 Sub-Con Application'!$B$13:$U$1012,MATCH(1,('1.2 Sub-Con Application'!$B$13:$B$1012=B806)*('1.2 Sub-Con Application'!$U$13:$U$1012=\"Rejected\"),0),20),\"\")","v":""}]
[null,{"$f":"+IF(AND(ISBLANK(F807),ISBLANK(K807)),\"\",IF(AND(ISBLANK(F807),B806<>\"\"),B806,IF(COUNTIF($F$13:F806,F807)>0,B806,MAX($B$13:B806)+1)))","v":""},null,null,0,null,null,null,null,"Enter PC",null,"","",{"$f":"+IF(ISBLANK(K807),\"\",VLOOKUP(K807,'5.3 Schedule of Rates'!B:D,3,0))","v":""},null,"",null,"","",null,null,null,{"$f":"IFERROR(INDEX('1.2 Sub-Con Application'!$B$13:$U$1012,MATCH(1,('1.2 Sub-Con Application'!$B$13:$B$1012=B807)*('1.2 Sub-Con Application'!$U$13:$U$1012=\"Rejected\"),0),20),\"\")","v":""}]
[null,{"$f":"+IF(AND(ISBLANK(F808),ISBLANK(K808)),\"\",IF(AND(ISBLANK(F808),B807<>\"\"),B807,IF(COUNTIF($F$13:F807,F808)>0,B807,MAX($B$13:B807)+1)))","v":""},null,null,0,null,null,null,null,"Enter PC",null,"","",{"$f":"+IF(ISBLANK(K808),\"\",VLOOKUP(K808,'5.3 Schedule of Rates'!B:D,3,0))","v":""},null,"",null,"","",null,null,null,{"$f":"IFERROR(INDEX('1.2 Sub-Con Application'!$B$13:$U$1012,MATCH(1,('1.2 Sub-Con Application'!$B$13:$B$1012=B808)*('1.2 Sub-Con Application'!$U$13:$U$1012=\"Rejected\"),0),20),\"\")","v":""}]
[null,{"$f":"+IF(AND(ISBLANK(F809),ISBLANK(K809)),\"\",IF(AND(ISBLANK(F809),B808<>\"\"),B808,IF(COUNTIF($F$13:F808,F809)>0,B808,MAX($B$13:B808)+1)))","v":""},null,null,0,null,null,null,null,"Enter PC",null,"","",{"$f":"+IF(ISBLANK(K809),\"\",VLOOKUP(K809,'5.3 Schedule of Rates'!B:D,3,0))","v":""},null,"",null,"","",null,null,null,{"$f":"IFERROR(INDEX('1.2 Sub-Con Application'!$B$13:$U$1012,MATCH(1,('1.2 Sub-Con Application'!$B$13:$B$1012=B809)*('1.2 Sub-Con Application'!$U$13:$U$1012=\"Rejected\"),0),20),\"\")","v":""}]
[null,{"$f":"+IF(AND(ISBLANK(F810),ISBLANK(K810)),\"\",IF(AND(ISBLANK(F810),B809<>\"\"),B809,IF(COUNTIF($F$13:F809,F810)>0,B809,MAX($B$13:B809)+1)))","v":""},null,null,0,null,null,null,null,"Enter PC",null,"","",{"$f":"+IF(ISBLANK(K810),\"\",VLOOKUP(K810,'5.3 Schedule of Rates'!B:D,3,0))","v":""},null,"",null,"","",null,null,null,{"$f":"IFERROR(INDEX('1.2 Sub-Con Application'!$B$13:$U$1012,MATCH(1,('1.2 Sub-Con Application'!$B$13:$B$1012=B810)*('1.2 Sub-Con Application'!$U$13:$U$1012=\"Rejected\"),0),20),\"\")","v":""}]
[null,{"$f":"+IF(AND(ISBLANK(F811),ISBLANK(K811)),\"\",IF(AND(ISBLANK(F811),B810<>\"\"),B810,IF(COUNTIF($F$13:F810,F811)>0,B810,MAX($B$13:B810)+1)))","v":""},null,null,0,null,null,null,null,"Enter PC",null,"","",{"$f":"+IF(ISBLANK(K811),\"\",VLOOKUP(K811,'5.3 Schedule of Rates'!B:D,3,0))","v":""},null,"",null,"","",null,null,null,{"$f":"IFERROR(INDEX('1.2 Sub-Con Application'!$B$13:$U$1012,MATCH(1,('1.2 Sub-Con Application'!$B$13:$B$1012=B811)*('1.2 Sub-Con Application'!$U$13:$U$1012=\"Rejected\"),0),20),\"\")","v":""}]
[null,{"$f":"+IF(AND(ISBLANK(F812),ISBLANK(K812)),\"\",IF(AND(ISBLANK(F812),B811<>\"\"),B811,IF(COUNTIF($F$13:F811,F812)>0,B811,MAX($B$13:B811)+1)))","v":""},null,null,0,null,null,null,null,"Enter PC",null,"","",{"$f":"+IF(ISBLANK(K812),\"\",VLOOKUP(K812,'5.3 Schedule of Rates'!B:D,3,0))","v":""},null,"",null,"","",null,null,null,{"$f":"IFERROR(INDEX('1.2 Sub-Con Application'!$B$13:$U$1012,MATCH(1,('1.2 Sub-Con Application'!$B$13:$B$1012=B812)*('1.2 Sub-Con Application'!$U$13:$U$1012=\"Rejected\"),0),20),\"\")","v":""}]
[null,{"$f":"+IF(AND(ISBLANK(F813),ISBLANK(K813)),\"\",IF(AND(ISBLANK(F813),B812<>\"\"),B812,IF(COUNTIF($F$13:F812,F813)>0,B812,MAX($B$13:B812)+1)))","v":""},null,null,0,null,null,null,null,"Enter PC",null,"","",{"$f":"+IF(ISBLANK(K813),\"\",VLOOKUP(K813,'5.3 Schedule of Rates'!B:D,3,0))","v":""},null,"",null,"","",null,null,null,{"$f":"IFERROR(INDEX('1.2 Sub-Con Application'!$B$13:$U$1012,MATCH(1,('1.2 Sub-Con Application'!$B$13:$B$1012=B813)*('1.2 Sub-Con Application'!$U$13:$U$1012=\"Rejected\"),0),20),\"\")","v":""}]
[null,{"$f":"+IF(AND(ISBLANK(F814),ISBLANK(K814)),\"\",IF(AND(ISBLANK(F814),B813<>\"\"),B813,IF(COUNTIF($F$13:F813,F814)>0,B813,MAX($B$13:B813)+1)))","v":""},null,null,0,null,null,null,null,"Enter PC",null,"","",{"$f":"+IF(ISBLANK(K814),\"\",VLOOKUP(K814,'5.3 Schedule of Rates'!B:D,3,0))","v":""},null,"",null,"","",null,null,null,{"$f":"IFERROR(INDEX('1.2 Sub-Con Application'!$B$13:$U$1012,MATCH(1,('1.2 Sub-Con Application'!$B$13:$B$1012=B814)*('1.2 Sub-Con Application'!$U$13:$U$1012=\"Rejected\"),0),20),\"\")","v":""}]
[null,{"$f":"+IF(AND(ISBLANK(F815),ISBLANK(K815)),\"\",IF(AND(ISBLANK(F815),B814<>\"\"),B814,IF(COUNTIF($F$13:F814,F815)>0,B814,MAX($B$13:B814)+1)))","v":""},null,null,0,null,null,null,null,"Enter PC",null,"","",{"$f":"+IF(ISBLANK(K815),\"\",VLOOKUP(K815,'5.3 Schedule of Rates'!B:D,3,0))","v":""},null,"",null,"","",null,null,null,{"$f":"IFERROR(INDEX('1.2 Sub-Con Application'!$B$13:$U$1012,MATCH(1,('1.2 Sub-Con Application'!$B$13:$B$1012=B815)*('1.2 Sub-Con Application'!$U$13:$U$1012=\"Rejected\"),0),20),\"\")","v":""}]
[null,{"$f":"+IF(AND(ISBLANK(F816),ISBLANK(K816)),\"\",IF(AND(ISBLANK(F816),B815<>\"\"),B815,IF(COUNTIF($F$13:F815,F816)>0,B815,MAX($B$13:B815)+1)))","v":""},null,null,0,null,null,null,null,"Enter PC",null,"","",{"$f":"+IF(ISBLANK(K816),\"\",VLOOKUP(K816,'5.3 Schedule of Rates'!B:D,3,0))","v":""},null,"",null,"","",null,null,null,{"$f":"IFERROR(INDEX('1.2 Sub-Con Application'!$B$13:$U$1012,MATCH(1,('1.2 Sub-Con Application'!$B$13:$B$1012=B816)*('1.2 Sub-Con Application'!$U$13:$U$1012=\"Rejected\"),0),20),\"\")","v":""}]
[null,{"$f":"+IF(AND(ISBLANK(F817),ISBLANK(K817)),\"\",IF(AND(ISBLANK(F817),B816<>\"\"),B816,IF(COUNTIF($F$13:F816,F817)>0,B816,MAX($B$13:B816)+1)))","v":""},null,null,0,null,null,null,null,"Enter PC",null,"","",{"$f":"+IF(ISBLANK(K817),\"\",VLOOKUP(K817,'5.3 Schedule of Rates'!B:D,3,0))","v":""},null,"",null,"","",null,null,null,{"$f":"IFERROR(INDEX('1.2 Sub-Con Application'!$B$13:$U$1012,MATCH(1,('1.2 Sub-Con Application'!$B$13:$B$1012=B817)*('1.2 Sub-Con Application'!$U$13:$U$1012=\"Rejected\"),0),20),\"\")","v":""}]
[null,{"$f":"+IF(AND(ISBLANK(F818),ISBLANK(K818)),\"\",IF(AND(ISBLANK(F818),B817<>\"\"),B817,IF(COUNTIF($F$13:F817,F818)>0,B817,MAX($B$13:B817)+1)))","v":""},null,null,0,null,null,null,null,"Enter PC",null,"","",{"$f":"+IF(ISBLANK(K818),\"\",VLOOKUP(K818,'5.3 Schedule of Rates'!B:D,3,0))","v":""},null,"",null,"","",null,null,null,{"$f":"IFERROR(INDEX('1.2 Sub-Con Application'!$B$13:$U$1012,MATCH(1,('1.2 Sub-Con Application'!$B$13:$B$1012=B818)*('1.2 Sub-Con Application'!$U$13:$U$1012=\"Rejected\"),0),20),\"\")","v":""}]
[null,{"$f":"+IF(AND(ISBLANK(F819),ISBLANK(K819)),\"\",IF(AND(ISBLANK(F819),B818<>\"\"),B818,IF(COUNTIF($F$13:F818,F819)>0,B818,MAX($B$13:B818)+1)))","v":""},null,null,0,null,null,null,null,"Enter PC",null,"","",{"$f":"+IF(ISBLANK(K819),\"\",VLOOKUP(K819,'5.3 Schedule of Rates'!B:D,3,0))","v":""},null,"",null,"","",null,null,null,{"$f":"IFERROR(INDEX('1.2 Sub-Con Application'!$B$13:$U$1012,MATCH(1,('1.2 Sub-Con Application'!$B$13:$B$1012=B819)*('1.2 Sub-Con Application'!$U$13:$U$1012=\"Rejected\"),0),20),\"\")","v":""}]
[null,{"$f":"+IF(AND(ISBLANK(F820),ISBLANK(K820)),\"\",IF(AND(ISBLANK(F820),B819<>\"\"),B819,IF(COUNTIF($F$13:F819,F820)>0,B819,MAX($B$13:B819)+1)))","v":""},null,null,0,null,null,null,null,"Enter PC",null,"","",{"$f":"+IF(ISBLANK(K820),\"\",VLOOKUP(K820,'5.3 Schedule of Rates'!B:D,3,0))","v":""},null,"",null,"","",null,null,null,{"$f":"IFERROR(INDEX('1.2 Sub-Con Application'!$B$13:$U$1012,MATCH(1,('1.2 Sub-Con Application'!$B$13:$B$1012=B820)*('1.2 Sub-Con Application'!$U$13:$U$1012=\"Rejected\"),0),20),\"\")","v":""}]
[null,{"$f":"+IF(AND(ISBLANK(F821),ISBLANK(K821)),\"\",IF(AND(ISBLANK(F821),B820<>\"\"),B820,IF(COUNTIF($F$13:F820,F821)>0,B820,MAX($B$13:B820)+1)))","v":""},null,null,0,null,null,null,null,"Enter PC",null,"","",{"$f":"+IF(ISBLANK(K821),\"\",VLOOKUP(K821,'5.3 Schedule of Rates'!B:D,3,0))","v":""},null,"",null,"","",null,null,null,{"$f":"IFERROR(INDEX('1.2 Sub-Con Application'!$B$13:$U$1012,MATCH(1,('1.2 Sub-Con Application'!$B$13:$B$1012=B821)*('1.2 Sub-Con Application'!$U$13:$U$1012=\"Rejected\"),0),20),\"\")","v":""}]
[null,{"$f":"+IF(AND(ISBLANK(F822),ISBLANK(K822)),\"\",IF(AND(ISBLANK(F822),B821<>\"\"),B821,IF(COUNTIF($F$13:F821,F822)>0,B821,MAX($B$13:B821)+1)))","v":""},null,null,0,null,null,null,null,"Enter PC",null,"","",{"$f":"+IF(ISBLANK(K822),\"\",VLOOKUP(K822,'5.3 Schedule of Rates'!B:D,3,0))","v":""},null,"",null,"","",null,null,null,{"$f":"IFERROR(INDEX('1.2 Sub-Con Application'!$B$13:$U$1012,MATCH(1,('1.2 Sub-Con Application'!$B$13:$B$1012=B822)*('1.2 Sub-Con Application'!$U$13:$U$1012=\"Rejected\"),0),20),\"\")","v":""}]
[null,{"$f":"+IF(AND(ISBLANK(F823),ISBLANK(K823)),\"\",IF(AND(ISBLANK(F823),B822<>\"\"),B822,IF(COUNTIF($F$13:F822,F823)>0,B822,MAX($B$13:B822)+1)))","v":""},null,null,0,null,null,null,null,"Enter PC",null,"","",{"$f":"+IF(ISBLANK(K823),\"\",VLOOKUP(K823,'5.3 Schedule of Rates'!B:D,3,0))","v":""},null,"",null,"","",null,null,null,{"$f":"IFERROR(INDEX('1.2 Sub-Con Application'!$B$13:$U$1012,MATCH(1,('1.2 Sub-Con Application'!$B$13:$B$1012=B823)*('1.2 Sub-Con Application'!$U$13:$U$1012=\"Rejected\"),0),20),\"\")","v":""}]
[null,{"$f":"+IF(AND(ISBLANK(F824),ISBLANK(K824)),\"\",IF(AND(ISBLANK(F824),B823<>\"\"),B823,IF(COUNTIF($F$13:F823,F824)>0,B823,MAX($B$13:B823)+1)))","v":""},null,null,0,null,null,null,null,"Enter PC",null,"","",{"$f":"+IF(ISBLANK(K824),\"\",VLOOKUP(K824,'5.3 Schedule of Rates'!B:D,3,0))","v":""},null,"",null,"","",null,null,null,{"$f":"IFERROR(INDEX('1.2 Sub-Con Application'!$B$13:$U$1012,MATCH(1,('1.2 Sub-Con Application'!$B$13:$B$1012=B824)*('1.2 Sub-Con Application'!$U$13:$U$1012=\"Rejected\"),0),20),\"\")","v":""}]
[null,{"$f":"+IF(AND(ISBLANK(F825),ISBLANK(K825)),\"\",IF(AND(ISBLANK(F825),B824<>\"\"),B824,IF(COUNTIF($F$13:F824,F825)>0,B824,MAX($B$13:B824)+1)))","v":""},null,null,0,null,null,null,null,"Enter PC",null,"","",{"$f":"+IF(ISBLANK(K825),\"\",VLOOKUP(K825,'5.3 Schedule of Rates'!B:D,3,0))","v":""},null,"",null,"","",null,null,null,{"$f":"IFERROR(INDEX('1.2 Sub-Con Application'!$B$13:$U$1012,MATCH(1,('1.2 Sub-Con Application'!$B$13:$B$1012=B825)*('1.2 Sub-Con Application'!$U$13:$U$1012=\"Rejected\"),0),20),\"\")","v":""}]
[null,{"$f":"+IF(AND(ISBLANK(F826),ISBLANK(K826)),\"\",IF(AND(ISBLANK(F826),B825<>\"\"),B825,IF(COUNTIF($F$13:F825,F826)>0,B825,MAX($B$13:B825)+1)))","v":""},null,null,0,null,null,null,null,"Enter PC",null,"","",{"$f":"+IF(ISBLANK(K826),\"\",VLOOKUP(K826,'5.3 Schedule of Rates'!B:D,3,0))","v":""},null,"",null,"","",null,null,null,{"$f":"IFERROR(INDEX('1.2 Sub-Con Application'!$B$13:$U$1012,MATCH(1,('1.2 Sub-Con Application'!$B$13:$B$1012=B826)*('1.2 Sub-Con Application'!$U$13:$U$1012=\"Rejected\"),0),20),\"\")","v":""}]
[null,{"$f":"+IF(AND(ISBLANK(F827),ISBLANK(K827)),\"\",IF(AND(ISBLANK(F827),B826<>\"\"),B826,IF(COUNTIF($F$13:F826,F827)>0,B826,MAX($B$13:B826)+1)))","v":""},null,null,0,null,null,null,null,"Enter PC",null,"","",{"$f":"+IF(ISBLANK(K827),\"\",VLOOKUP(K827,'5.3 Schedule of Rates'!B:D,3,0))","v":""},null,"",null,"","",null,null,null,{"$f":"IFERROR(INDEX('1.2 Sub-Con Application'!$B$13:$U$1012,MATCH(1,('1.2 Sub-Con Application'!$B$13:$B$1012=B827)*('1.2 Sub-Con Application'!$U$13:$U$1012=\"Rejected\"),0),20),\"\")","v":""}]
[null,{"$f":"+IF(AND(ISBLANK(F828),ISBLANK(K828)),\"\",IF(AND(ISBLANK(F828),B827<>\"\"),B827,IF(COUNTIF($F$13:F827,F828)>0,B827,MAX($B$13:B827)+1)))","v":""},null,null,0,null,null,null,null,"Enter PC",null,"","",{"$f":"+IF(ISBLANK(K828),\"\",VLOOKUP(K828,'5.3 Schedule of Rates'!B:D,3,0))","v":""},null,"",null,"","",null,null,null,{"$f":"IFERROR(INDEX('1.2 Sub-Con Application'!$B$13:$U$1012,MATCH(1,('1.2 Sub-Con Application'!$B$13:$B$1012=B828)*('1.2 Sub-Con Application'!$U$13:$U$1012=\"Rejected\"),0),20),\"\")","v":""}]
[null,{"$f":"+IF(AND(ISBLANK(F829),ISBLANK(K829)),\"\",IF(AND(ISBLANK(F829),B828<>\"\"),B828,IF(COUNTIF($F$13:F828,F829)>0,B828,MAX($B$13:B828)+1)))","v":""},null,null,0,null,null,null,null,"Enter PC",null,"","",{"$f":"+IF(ISBLANK(K829),\"\",VLOOKUP(K829,'5.3 Schedule of Rates'!B:D,3,0))","v":""},null,"",null,"","",null,null,null,{"$f":"IFERROR(INDEX('1.2 Sub-Con Application'!$B$13:$U$1012,MATCH(1,('1.2 Sub-Con Application'!$B$13:$B$1012=B829)*('1.2 Sub-Con Application'!$U$13:$U$1012=\"Rejected\"),0),20),\"\")","v":""}]
[null,{"$f":"+IF(AND(ISBLANK(F830),ISBLANK(K830)),\"\",IF(AND(ISBLANK(F830),B829<>\"\"),B829,IF(COUNTIF($F$13:F829,F830)>0,B829,MAX($B$13:B829)+1)))","v":""},null,null,0,null,null,null,null,"Enter PC",null,"","",{"$f":"+IF(ISBLANK(K830),\"\",VLOOKUP(K830,'5.3 Schedule of Rates'!B:D,3,0))","v":""},null,"",null,"","",null,null,null,{"$f":"IFERROR(INDEX('1.2 Sub-Con Application'!$B$13:$U$1012,MATCH(1,('1.2 Sub-Con Application'!$B$13:$B$1012=B830)*('1.2 Sub-Con Application'!$U$13:$U$1012=\"Rejected\"),0),20),\"\")","v":""}]
[null,{"$f":"+IF(AND(ISBLANK(F831),ISBLANK(K831)),\"\",IF(AND(ISBLANK(F831),B830<>\"\"),B830,IF(COUNTIF($F$13:F830,F831)>0,B830,MAX($B$13:B830)+1)))","v":""},null,null,{"$f":"NETWORKDAYS(C831,D831)","v":0},null,null,null,null,"Enter PC",null,"","",{"$f":"+IF(ISBLANK(K831),\"\",VLOOKUP(K831,'5.3 Schedule of Rates'!B:D,3,0))","v":""},null,"",null,"",{"$f":"IF(ISERROR(SUM(P831-R831)),\"\",SUM(P831-R831))","v":""},null,null,null,{"$f":"IFERROR(INDEX('1.2 Sub-Con Application'!$B$13:$U$1012,MATCH(1,('1.2 Sub-Con Application'!$B$13:$B$1012=B831)*('1.2 Sub-Con Application'!$U$13:$U$1012=\"Rejected\"),0),20),\"\")","v":""}]
[null,{"$f":"+IF(AND(ISBLANK(F832),ISBLANK(K832)),\"\",IF(AND(ISBLANK(F832),B831<>\"\"),B831,IF(COUNTIF($F$13:F831,F832)>0,B831,MAX($B$13:B831)+1)))","v":""},null,null,0,null,null,null,null,"Enter PC",null,"","",{"$f":"+IF(ISBLANK(K832),\"\",VLOOKUP(K832,'5.3 Schedule of Rates'!B:D,3,0))","v":""},null,"",null,"","",null,null,null,{"$f":"IFERROR(INDEX('1.2 Sub-Con Application'!$B$13:$U$1012,MATCH(1,('1.2 Sub-Con Application'!$B$13:$B$1012=B832)*('1.2 Sub-Con Application'!$U$13:$U$1012=\"Rejected\"),0),20),\"\")","v":""}]
[null,{"$f":"+IF(AND(ISBLANK(F833),ISBLANK(K833)),\"\",IF(AND(ISBLANK(F833),B832<>\"\"),B832,IF(COUNTIF($F$13:F832,F833)>0,B832,MAX($B$13:B832)+1)))","v":""},null,null,0,null,null,null,null,"Enter PC",null,"","",{"$f":"+IF(ISBLANK(K833),\"\",VLOOKUP(K833,'5.3 Schedule of Rates'!B:D,3,0))","v":""},null,"",null,"","",null,null,null,{"$f":"IFERROR(INDEX('1.2 Sub-Con Application'!$B$13:$U$1012,MATCH(1,('1.2 Sub-Con Application'!$B$13:$B$1012=B833)*('1.2 Sub-Con Application'!$U$13:$U$1012=\"Rejected\"),0),20),\"\")","v":""}]
[null,{"$f":"+IF(AND(ISBLANK(F834),ISBLANK(K834)),\"\",IF(AND(ISBLANK(F834),B833<>\"\"),B833,IF(COUNTIF($F$13:F833,F834)>0,B833,MAX($B$13:B833)+1)))","v":""},null,null,0,null,null,null,null,"Enter PC",null,"","",{"$f":"+IF(ISBLANK(K834),\"\",VLOOKUP(K834,'5.3 Schedule of Rates'!B:D,3,0))","v":""},null,"",null,"","",null,null,null,{"$f":"IFERROR(INDEX('1.2 Sub-Con Application'!$B$13:$U$1012,MATCH(1,('1.2 Sub-Con Application'!$B$13:$B$1012=B834)*('1.2 Sub-Con Application'!$U$13:$U$1012=\"Rejected\"),0),20),\"\")","v":""}]
[null,{"$f":"+IF(AND(ISBLANK(F835),ISBLANK(K835)),\"\",IF(AND(ISBLANK(F835),B834<>\"\"),B834,IF(COUNTIF($F$13:F834,F835)>0,B834,MAX($B$13:B834)+1)))","v":""},null,null,0,null,null,null,null,"Enter PC",null,"","",{"$f":"+IF(ISBLANK(K835),\"\",VLOOKUP(K835,'5.3 Schedule of Rates'!B:D,3,0))","v":""},null,"",null,"","",null,null,null,{"$f":"IFERROR(INDEX('1.2 Sub-Con Application'!$B$13:$U$1012,MATCH(1,('1.2 Sub-Con Application'!$B$13:$B$1012=B835)*('1.2 Sub-Con Application'!$U$13:$U$1012=\"Rejected\"),0),20),\"\")","v":""}]
[null,{"$f":"+IF(AND(ISBLANK(F836),ISBLANK(K836)),\"\",IF(AND(ISBLANK(F836),B835<>\"\"),B835,IF(COUNTIF($F$13:F835,F836)>0,B835,MAX($B$13:B835)+1)))","v":""},null,null,0,null,null,null,null,"Enter PC",null,"","",{"$f":"+IF(ISBLANK(K836),\"\",VLOOKUP(K836,'5.3 Schedule of Rates'!B:D,3,0))","v":""},null,"",null,"","",null,null,null,{"$f":"IFERROR(INDEX('1.2 Sub-Con Application'!$B$13:$U$1012,MATCH(1,('1.2 Sub-Con Application'!$B$13:$B$1012=B836)*('1.2 Sub-Con Application'!$U$13:$U$1012=\"Rejected\"),0),20),\"\")","v":""}]
[null,{"$f":"+IF(AND(ISBLANK(F837),ISBLANK(K837)),\"\",IF(AND(ISBLANK(F837),B836<>\"\"),B836,IF(COUNTIF($F$13:F836,F837)>0,B836,MAX($B$13:B836)+1)))","v":""},null,null,0,null,null,null,null,"Enter PC",null,"","",{"$f":"+IF(ISBLANK(K837),\"\",VLOOKUP(K837,'5.3 Schedule of Rates'!B:D,3,0))","v":""},null,"",null,"","",null,null,null,{"$f":"IFERROR(INDEX('1.2 Sub-Con Application'!$B$13:$U$1012,MATCH(1,('1.2 Sub-Con Application'!$B$13:$B$1012=B837)*('1.2 Sub-Con Application'!$U$13:$U$1012=\"Rejected\"),0),20),\"\")","v":""}]
[null,{"$f":"+IF(AND(ISBLANK(F838),ISBLANK(K838)),\"\",IF(AND(ISBLANK(F838),B837<>\"\"),B837,IF(COUNTIF($F$13:F837,F838)>0,B837,MAX($B$13:B837)+1)))","v":""},null,null,0,null,null,null,null,"Enter PC",null,"","",{"$f":"+IF(ISBLANK(K838),\"\",VLOOKUP(K838,'5.3 Schedule of Rates'!B:D,3,0))","v":""},null,"",null,"","",null,null,null,{"$f":"IFERROR(INDEX('1.2 Sub-Con Application'!$B$13:$U$1012,MATCH(1,('1.2 Sub-Con Application'!$B$13:$B$1012=B838)*('1.2 Sub-Con Application'!$U$13:$U$1012=\"Rejected\"),0),20),\"\")","v":""}]
[null,{"$f":"+IF(AND(ISBLANK(F839),ISBLANK(K839)),\"\",IF(AND(ISBLANK(F839),B838<>\"\"),B838,IF(COUNTIF($F$13:F838,F839)>0,B838,MAX($B$13:B838)+1)))","v":""},null,null,0,null,null,null,null,"Enter PC",null,"","",{"$f":"+IF(ISBLANK(K839),\"\",VLOOKUP(K839,'5.3 Schedule of Rates'!B:D,3,0))","v":""},null,"",null,"","",null,null,null,{"$f":"IFERROR(INDEX('1.2 Sub-Con Application'!$B$13:$U$1012,MATCH(1,('1.2 Sub-Con Application'!$B$13:$B$1012=B839)*('1.2 Sub-Con Application'!$U$13:$U$1012=\"Rejected\"),0),20),\"\")","v":""}]
[null,{"$f":"+IF(AND(ISBLANK(F840),ISBLANK(K840)),\"\",IF(AND(ISBLANK(F840),B839<>\"\"),B839,IF(COUNTIF($F$13:F839,F840)>0,B839,MAX($B$13:B839)+1)))","v":""},null,null,0,null,null,null,null,"Enter PC",null,"","",{"$f":"+IF(ISBLANK(K840),\"\",VLOOKUP(K840,'5.3 Schedule of Rates'!B:D,3,0))","v":""},null,"",null,"","",null,null,null,{"$f":"IFERROR(INDEX('1.2 Sub-Con Application'!$B$13:$U$1012,MATCH(1,('1.2 Sub-Con Application'!$B$13:$B$1012=B840)*('1.2 Sub-Con Application'!$U$13:$U$1012=\"Rejected\"),0),20),\"\")","v":""}]
[null,{"$f":"+IF(AND(ISBLANK(F841),ISBLANK(K841)),\"\",IF(AND(ISBLANK(F841),B840<>\"\"),B840,IF(COUNTIF($F$13:F840,F841)>0,B840,MAX($B$13:B840)+1)))","v":""},null,null,0,null,null,null,null,"Enter PC",null,"","",{"$f":"+IF(ISBLANK(K841),\"\",VLOOKUP(K841,'5.3 Schedule of Rates'!B:D,3,0))","v":""},null,"",null,"","",null,null,null,{"$f":"IFERROR(INDEX('1.2 Sub-Con Application'!$B$13:$U$1012,MATCH(1,('1.2 Sub-Con Application'!$B$13:$B$1012=B841)*('1.2 Sub-Con Application'!$U$13:$U$1012=\"Rejected\"),0),20),\"\")","v":""}]
[null,{"$f":"+IF(AND(ISBLANK(F842),ISBLANK(K842)),\"\",IF(AND(ISBLANK(F842),B841<>\"\"),B841,IF(COUNTIF($F$13:F841,F842)>0,B841,MAX($B$13:B841)+1)))","v":""},null,null,0,null,null,null,null,"Enter PC",null,"","",{"$f":"+IF(ISBLANK(K842),\"\",VLOOKUP(K842,'5.3 Schedule of Rates'!B:D,3,0))","v":""},null,"",null,"","",null,null,null,{"$f":"IFERROR(INDEX('1.2 Sub-Con Application'!$B$13:$U$1012,MATCH(1,('1.2 Sub-Con Application'!$B$13:$B$1012=B842)*('1.2 Sub-Con Application'!$U$13:$U$1012=\"Rejected\"),0),20),\"\")","v":""}]
[null,{"$f":"+IF(AND(ISBLANK(F843),ISBLANK(K843)),\"\",IF(AND(ISBLANK(F843),B842<>\"\"),B842,IF(COUNTIF($F$13:F842,F843)>0,B842,MAX($B$13:B842)+1)))","v":""},null,null,0,null,null,null,null,"Enter PC",null,"","",{"$f":"+IF(ISBLANK(K843),\"\",VLOOKUP(K843,'5.3 Schedule of Rates'!B:D,3,0))","v":""},null,"",null,"","",null,null,null,{"$f":"IFERROR(INDEX('1.2 Sub-Con Application'!$B$13:$U$1012,MATCH(1,('1.2 Sub-Con Application'!$B$13:$B$1012=B843)*('1.2 Sub-Con Application'!$U$13:$U$1012=\"Rejected\"),0),20),\"\")","v":""}]
[null,{"$f":"+IF(AND(ISBLANK(F844),ISBLANK(K844)),\"\",IF(AND(ISBLANK(F844),B843<>\"\"),B843,IF(COUNTIF($F$13:F843,F844)>0,B843,MAX($B$13:B843)+1)))","v":""},null,null,0,null,null,null,null,"Enter PC",null,"","",{"$f":"+IF(ISBLANK(K844),\"\",VLOOKUP(K844,'5.3 Schedule of Rates'!B:D,3,0))","v":""},null,"",null,"","",null,null,null,{"$f":"IFERROR(INDEX('1.2 Sub-Con Application'!$B$13:$U$1012,MATCH(1,('1.2 Sub-Con Application'!$B$13:$B$1012=B844)*('1.2 Sub-Con Application'!$U$13:$U$1012=\"Rejected\"),0),20),\"\")","v":""}]
[null,{"$f":"+IF(AND(ISBLANK(F845),ISBLANK(K845)),\"\",IF(AND(ISBLANK(F845),B844<>\"\"),B844,IF(COUNTIF($F$13:F844,F845)>0,B844,MAX($B$13:B844)+1)))","v":""},null,null,0,null,null,null,null,{"$f":"IFERROR(IF(I845=\"\",\"Enter PC\",VLOOKUP(IF(LEN(I845)=6,LEFT(I845,2),IF(LEN(I845)=7,LEFT(I845,3),LEFT(I845,4))),table_pcRegion,2,FALSE)=work_Region),\"INVALID\")","v":"Enter PC"},null,{"$f":"+IF(ISBLANK(K845),\"\",VLOOKUP(K845,table_SoR,2,0))","v":""},{"$f":"+IF(ISBLANK(K845),\"\",INDEX(table_subconSoR,MATCH(L845,row_SoR,0),MATCH($H$4,col_SoR,0)))","v":""},{"$f":"+IF(ISBLANK(K845),\"\",VLOOKUP(K845,'5.3 Schedule of Rates'!B:D,3,0))","v":""},null,{"$f":"+IF(ISBLANK($O845),\"\",ROUND(SUM(SUM(VLOOKUP($K845,table_SoR,6,0)*(1+$M845))*O845),2))","v":""},null,{"$f":"+IF(ISBLANK($O845),\"\",ROUND(IF(Q845>0,Q845,SUM(SUM(VLOOKUP($K845,table_SoR,7,0)*(1+$M845))*O845)),2))","v":""},"",null,null,null,{"$f":"IFERROR(INDEX('1.2 Sub-Con Application'!$B$13:$U$1012,MATCH(1,('1.2 Sub-Con Application'!$B$13:$B$1012=B845)*('1.2 Sub-Con Application'!$U$13:$U$1012=\"Rejected\"),0),20),\"\")","v":""}]
[null,{"$f":"+IF(AND(ISBLANK(F846),ISBLANK(K846)),\"\",IF(AND(ISBLANK(F846),B845<>\"\"),B845,IF(COUNTIF($F$13:F845,F846)>0,B845,MAX($B$13:B845)+1)))","v":""},null,null,0,null,null,null,null,"Enter PC",null,"","",{"$f":"+IF(ISBLANK(K846),\"\",VLOOKUP(K846,'5.3 Schedule of Rates'!B:D,3,0))","v":""},null,"",null,"","",null,null,null,{"$f":"IFERROR(INDEX('1.2 Sub-Con Application'!$B$13:$U$1012,MATCH(1,('1.2 Sub-Con Application'!$B$13:$B$1012=B846)*('1.2 Sub-Con Application'!$U$13:$U$1012=\"Rejected\"),0),20),\"\")","v":""}]
[null,{"$f":"+IF(AND(ISBLANK(F847),ISBLANK(K847)),\"\",IF(AND(ISBLANK(F847),B846<>\"\"),B846,IF(COUNTIF($F$13:F846,F847)>0,B846,MAX($B$13:B846)+1)))","v":""},null,null,0,null,null,null,null,"Enter PC",null,"","",{"$f":"+IF(ISBLANK(K847),\"\",VLOOKUP(K847,'5.3 Schedule of Rates'!B:D,3,0))","v":""},null,"",null,"","",null,null,null,{"$f":"IFERROR(INDEX('1.2 Sub-Con Application'!$B$13:$U$1012,MATCH(1,('1.2 Sub-Con Application'!$B$13:$B$1012=B847)*('1.2 Sub-Con Application'!$U$13:$U$1012=\"Rejected\"),0),20),\"\")","v":""}]
[null,{"$f":"+IF(AND(ISBLANK(F848),ISBLANK(K848)),\"\",IF(AND(ISBLANK(F848),B847<>\"\"),B847,IF(COUNTIF($F$13:F847,F848)>0,B847,MAX($B$13:B847)+1)))","v":""},null,null,0,null,null,null,null,"Enter PC",null,"","",{"$f":"+IF(ISBLANK(K848),\"\",VLOOKUP(K848,'5.3 Schedule of Rates'!B:D,3,0))","v":""},null,"",null,"","",null,null,null,{"$f":"IFERROR(INDEX('1.2 Sub-Con Application'!$B$13:$U$1012,MATCH(1,('1.2 Sub-Con Application'!$B$13:$B$1012=B848)*('1.2 Sub-Con Application'!$U$13:$U$1012=\"Rejected\"),0),20),\"\")","v":""}]
[null,{"$f":"+IF(AND(ISBLANK(F849),ISBLANK(K849)),\"\",IF(AND(ISBLANK(F849),B848<>\"\"),B848,IF(COUNTIF($F$13:F848,F849)>0,B848,MAX($B$13:B848)+1)))","v":""},null,null,0,null,null,null,null,"Enter PC",null,"","",{"$f":"+IF(ISBLANK(K849),\"\",VLOOKUP(K849,'5.3 Schedule of Rates'!B:D,3,0))","v":""},null,"",null,"","",null,null,null,{"$f":"IFERROR(INDEX('1.2 Sub-Con Application'!$B$13:$U$1012,MATCH(1,('1.2 Sub-Con Application'!$B$13:$B$1012=B849)*('1.2 Sub-Con Application'!$U$13:$U$1012=\"Rejected\"),0),20),\"\")","v":""}]
[null,{"$f":"+IF(AND(ISBLANK(F850),ISBLANK(K850)),\"\",IF(AND(ISBLANK(F850),B849<>\"\"),B849,IF(COUNTIF($F$13:F849,F850)>0,B849,MAX($B$13:B849)+1)))","v":""},null,null,0,null,null,null,null,"Enter PC",null,"","",{"$f":"+IF(ISBLANK(K850),\"\",VLOOKUP(K850,'5.3 Schedule of Rates'!B:D,3,0))","v":""},null,"",null,"","",null,null,null,{"$f":"IFERROR(INDEX('1.2 Sub-Con Application'!$B$13:$U$1012,MATCH(1,('1.2 Sub-Con Application'!$B$13:$B$1012=B850)*('1.2 Sub-Con Application'!$U$13:$U$1012=\"Rejected\"),0),20),\"\")","v":""}]
[null,{"$f":"+IF(AND(ISBLANK(F851),ISBLANK(K851)),\"\",IF(AND(ISBLANK(F851),B850<>\"\"),B850,IF(COUNTIF($F$13:F850,F851)>0,B850,MAX($B$13:B850)+1)))","v":""},null,null,0,null,null,null,null,"Enter PC",null,"","",{"$f":"+IF(ISBLANK(K851),\"\",VLOOKUP(K851,'5.3 Schedule of Rates'!B:D,3,0))","v":""},null,"",null,"","",null,null,null,{"$f":"IFERROR(INDEX('1.2 Sub-Con Application'!$B$13:$U$1012,MATCH(1,('1.2 Sub-Con Application'!$B$13:$B$1012=B851)*('1.2 Sub-Con Application'!$U$13:$U$1012=\"Rejected\"),0),20),\"\")","v":""}]
[null,{"$f":"+IF(AND(ISBLANK(F852),ISBLANK(K852)),\"\",IF(AND(ISBLANK(F852),B851<>\"\"),B851,IF(COUNTIF($F$13:F851,F852)>0,B851,MAX($B$13:B851)+1)))","v":""},null,null,0,null,null,null,null,"Enter PC",null,"","",{"$f":"+IF(ISBLANK(K852),\"\",VLOOKUP(K852,'5.3 Schedule of Rates'!B:D,3,0))","v":""},null,"",null,"","",null,null,null,{"$f":"IFERROR(INDEX('1.2 Sub-Con Application'!$B$13:$U$1012,MATCH(1,('1.2 Sub-Con Application'!$B$13:$B$1012=B852)*('1.2 Sub-Con Application'!$U$13:$U$1012=\"Rejected\"),0),20),\"\")","v":""}]
[null,{"$f":"+IF(AND(ISBLANK(F853),ISBLANK(K853)),\"\",IF(AND(ISBLANK(F853),B852<>\"\"),B852,IF(COUNTIF($F$13:F852,F853)>0,B852,MAX($B$13:B852)+1)))","v":""},null,null,0,null,null,null,null,"Enter PC",null,"","",{"$f":"+IF(ISBLANK(K853),\"\",VLOOKUP(K853,'5.3 Schedule of Rates'!B:D,3,0))","v":""},null,"",null,"","",null,null,null,{"$f":"IFERROR(INDEX('1.2 Sub-Con Application'!$B$13:$U$1012,MATCH(1,('1.2 Sub-Con Application'!$B$13:$B$1012=B853)*('1.2 Sub-Con Application'!$U$13:$U$1012=\"Rejected\"),0),20),\"\")","v":""}]
[null,{"$f":"+IF(AND(ISBLANK(F854),ISBLANK(K854)),\"\",IF(AND(ISBLANK(F854),B853<>\"\"),B853,IF(COUNTIF($F$13:F853,F854)>0,B853,MAX($B$13:B853)+1)))","v":""},null,null,0,null,null,null,null,"Enter PC",null,"","",{"$f":"+IF(ISBLANK(K854),\"\",VLOOKUP(K854,'5.3 Schedule of Rates'!B:D,3,0))","v":""},null,"",null,"","",null,null,null,{"$f":"IFERROR(INDEX('1.2 Sub-Con Application'!$B$13:$U$1012,MATCH(1,('1.2 Sub-Con Application'!$B$13:$B$1012=B854)*('1.2 Sub-Con Application'!$U$13:$U$1012=\"Rejected\"),0),20),\"\")","v":""}]
[null,{"$f":"+IF(AND(ISBLANK(F855),ISBLANK(K855)),\"\",IF(AND(ISBLANK(F855),B854<>\"\"),B854,IF(COUNTIF($F$13:F854,F855)>0,B854,MAX($B$13:B854)+1)))","v":""},null,null,0,null,null,null,null,"Enter PC",null,"","",{"$f":"+IF(ISBLANK(K855),\"\",VLOOKUP(K855,'5.3 Schedule of Rates'!B:D,3,0))","v":""},null,"",null,"","",null,null,null,{"$f":"IFERROR(INDEX('1.2 Sub-Con Application'!$B$13:$U$1012,MATCH(1,('1.2 Sub-Con Application'!$B$13:$B$1012=B855)*('1.2 Sub-Con Application'!$U$13:$U$1012=\"Rejected\"),0),20),\"\")","v":""}]
[null,{"$f":"+IF(AND(ISBLANK(F856),ISBLANK(K856)),\"\",IF(AND(ISBLANK(F856),B855<>\"\"),B855,IF(COUNTIF($F$13:F855,F856)>0,B855,MAX($B$13:B855)+1)))","v":""},null,null,0,null,null,null,null,"Enter PC",null,"","",{"$f":"+IF(ISBLANK(K856),\"\",VLOOKUP(K856,'5.3 Schedule of Rates'!B:D,3,0))","v":""},null,"",null,"","",null,null,null,{"$f":"IFERROR(INDEX('1.2 Sub-Con Application'!$B$13:$U$1012,MATCH(1,('1.2 Sub-Con Application'!$B$13:$B$1012=B856)*('1.2 Sub-Con Application'!$U$13:$U$1012=\"Rejected\"),0),20),\"\")","v":""}]
[null,{"$f":"+IF(AND(ISBLANK(F857),ISBLANK(K857)),\"\",IF(AND(ISBLANK(F857),B856<>\"\"),B856,IF(COUNTIF($F$13:F856,F857)>0,B856,MAX($B$13:B856)+1)))","v":""},null,null,0,null,null,null,null,"Enter PC",null,"","",{"$f":"+IF(ISBLANK(K857),\"\",VLOOKUP(K857,'5.3 Schedule of Rates'!B:D,3,0))","v":""},null,"",null,"","",null,null,null,{"$f":"IFERROR(INDEX('1.2 Sub-Con Application'!$B$13:$U$1012,MATCH(1,('1.2 Sub-Con Application'!$B$13:$B$1012=B857)*('1.2 Sub-Con Application'!$U$13:$U$1012=\"Rejected\"),0),20),\"\")","v":""}]
[null,{"$f":"+IF(AND(ISBLANK(F858),ISBLANK(K858)),\"\",IF(AND(ISBLANK(F858),B857<>\"\"),B857,IF(COUNTIF($F$13:F857,F858)>0,B857,MAX($B$13:B857)+1)))","v":""},null,null,0,null,null,null,null,"Enter PC",null,"","",{"$f":"+IF(ISBLANK(K858),\"\",VLOOKUP(K858,'5.3 Schedule of Rates'!B:D,3,0))","v":""},null,"",null,"","",null,null,null,{"$f":"IFERROR(INDEX('1.2 Sub-Con Application'!$B$13:$U$1012,MATCH(1,('1.2 Sub-Con Application'!$B$13:$B$1012=B858)*('1.2 Sub-Con Application'!$U$13:$U$1012=\"Rejected\"),0),20),\"\")","v":""}]
[null,{"$f":"+IF(AND(ISBLANK(F859),ISBLANK(K859)),\"\",IF(AND(ISBLANK(F859),B858<>\"\"),B858,IF(COUNTIF($F$13:F858,F859)>0,B858,MAX($B$13:B858)+1)))","v":""},null,null,0,null,null,null,null,"Enter PC",null,"","",{"$f":"+IF(ISBLANK(K859),\"\",VLOOKUP(K859,'5.3 Schedule of Rates'!B:D,3,0))","v":""},null,"",null,"","",null,null,null,{"$f":"IFERROR(INDEX('1.2 Sub-Con Application'!$B$13:$U$1012,MATCH(1,('1.2 Sub-Con Application'!$B$13:$B$1012=B859)*('1.2 Sub-Con Application'!$U$13:$U$1012=\"Rejected\"),0),20),\"\")","v":""}]
[null,{"$f":"+IF(AND(ISBLANK(F860),ISBLANK(K860)),\"\",IF(AND(ISBLANK(F860),B859<>\"\"),B859,IF(COUNTIF($F$13:F859,F860)>0,B859,MAX($B$13:B859)+1)))","v":""},null,null,0,null,null,null,null,"Enter PC",null,"","",{"$f":"+IF(ISBLANK(K860),\"\",VLOOKUP(K860,'5.3 Schedule of Rates'!B:D,3,0))","v":""},null,"",null,"","",null,null,null,{"$f":"IFERROR(INDEX('1.2 Sub-Con Application'!$B$13:$U$1012,MATCH(1,('1.2 Sub-Con Application'!$B$13:$B$1012=B860)*('1.2 Sub-Con Application'!$U$13:$U$1012=\"Rejected\"),0),20),\"\")","v":""}]
[null,{"$f":"+IF(AND(ISBLANK(F861),ISBLANK(K861)),\"\",IF(AND(ISBLANK(F861),B860<>\"\"),B860,IF(COUNTIF($F$13:F860,F861)>0,B860,MAX($B$13:B860)+1)))","v":""},null,null,0,null,null,null,null,"Enter PC",null,"","",{"$f":"+IF(ISBLANK(K861),\"\",VLOOKUP(K861,'5.3 Schedule of Rates'!B:D,3,0))","v":""},null,"",null,"","",null,null,null,{"$f":"IFERROR(INDEX('1.2 Sub-Con Application'!$B$13:$U$1012,MATCH(1,('1.2 Sub-Con Application'!$B$13:$B$1012=B861)*('1.2 Sub-Con Application'!$U$13:$U$1012=\"Rejected\"),0),20),\"\")","v":""}]
[null,{"$f":"+IF(AND(ISBLANK(F862),ISBLANK(K862)),\"\",IF(AND(ISBLANK(F862),B861<>\"\"),B861,IF(COUNTIF($F$13:F861,F862)>0,B861,MAX($B$13:B861)+1)))","v":""},null,null,0,null,null,null,null,"Enter PC",null,"","",{"$f":"+IF(ISBLANK(K862),\"\",VLOOKUP(K862,'5.3 Schedule of Rates'!B:D,3,0))","v":""},null,"",null,"","",null,null,null,{"$f":"IFERROR(INDEX('1.2 Sub-Con Application'!$B$13:$U$1012,MATCH(1,('1.2 Sub-Con Application'!$B$13:$B$1012=B862)*('1.2 Sub-Con Application'!$U$13:$U$1012=\"Rejected\"),0),20),\"\")","v":""}]
[null,{"$f":"+IF(AND(ISBLANK(F863),ISBLANK(K863)),\"\",IF(AND(ISBLANK(F863),B862<>\"\"),B862,IF(COUNTIF($F$13:F862,F863)>0,B862,MAX($B$13:B862)+1)))","v":""},null,null,0,null,null,null,null,"Enter PC",null,"","",{"$f":"+IF(ISBLANK(K863),\"\",VLOOKUP(K863,'5.3 Schedule of Rates'!B:D,3,0))","v":""},null,"",null,"","",null,null,null,{"$f":"IFERROR(INDEX('1.2 Sub-Con Application'!$B$13:$U$1012,MATCH(1,('1.2 Sub-Con Application'!$B$13:$B$1012=B863)*('1.2 Sub-Con Application'!$U$13:$U$1012=\"Rejected\"),0),20),\"\")","v":""}]
[null,{"$f":"+IF(AND(ISBLANK(F864),ISBLANK(K864)),\"\",IF(AND(ISBLANK(F864),B863<>\"\"),B863,IF(COUNTIF($F$13:F863,F864)>0,B863,MAX($B$13:B863)+1)))","v":""},null,null,0,null,null,null,null,"Enter PC",null,"","",{"$f":"+IF(ISBLANK(K864),\"\",VLOOKUP(K864,'5.3 Schedule of Rates'!B:D,3,0))","v":""},null,"",null,"","",null,null,null,{"$f":"IFERROR(INDEX('1.2 Sub-Con Application'!$B$13:$U$1012,MATCH(1,('1.2 Sub-Con Application'!$B$13:$B$1012=B864)*('1.2 Sub-Con Application'!$U$13:$U$1012=\"Rejected\"),0),20),\"\")","v":""}]
[null,{"$f":"+IF(AND(ISBLANK(F865),ISBLANK(K865)),\"\",IF(AND(ISBLANK(F865),B864<>\"\"),B864,IF(COUNTIF($F$13:F864,F865)>0,B864,MAX($B$13:B864)+1)))","v":""},null,null,0,null,null,null,null,"Enter PC",null,"","",{"$f":"+IF(ISBLANK(K865),\"\",VLOOKUP(K865,'5.3 Schedule of Rates'!B:D,3,0))","v":""},null,"",null,"","",null,null,null,{"$f":"IFERROR(INDEX('1.2 Sub-Con Application'!$B$13:$U$1012,MATCH(1,('1.2 Sub-Con Application'!$B$13:$B$1012=B865)*('1.2 Sub-Con Application'!$U$13:$U$1012=\"Rejected\"),0),20),\"\")","v":""}]
[null,{"$f":"+IF(AND(ISBLANK(F866),ISBLANK(K866)),\"\",IF(AND(ISBLANK(F866),B865<>\"\"),B865,IF(COUNTIF($F$13:F865,F866)>0,B865,MAX($B$13:B865)+1)))","v":""},null,null,0,null,null,null,null,"Enter PC",null,"","",{"$f":"+IF(ISBLANK(K866),\"\",VLOOKUP(K866,'5.3 Schedule of Rates'!B:D,3,0))","v":""},null,"",null,"","",null,null,null,{"$f":"IFERROR(INDEX('1.2 Sub-Con Application'!$B$13:$U$1012,MATCH(1,('1.2 Sub-Con Application'!$B$13:$B$1012=B866)*('1.2 Sub-Con Application'!$U$13:$U$1012=\"Rejected\"),0),20),\"\")","v":""}]
[null,{"$f":"+IF(AND(ISBLANK(F867),ISBLANK(K867)),\"\",IF(AND(ISBLANK(F867),B866<>\"\"),B866,IF(COUNTIF($F$13:F866,F867)>0,B866,MAX($B$13:B866)+1)))","v":""},null,null,0,null,null,null,null,"Enter PC",null,"","",{"$f":"+IF(ISBLANK(K867),\"\",VLOOKUP(K867,'5.3 Schedule of Rates'!B:D,3,0))","v":""},null,"",null,"","",null,null,null,{"$f":"IFERROR(INDEX('1.2 Sub-Con Application'!$B$13:$U$1012,MATCH(1,('1.2 Sub-Con Application'!$B$13:$B$1012=B867)*('1.2 Sub-Con Application'!$U$13:$U$1012=\"Rejected\"),0),20),\"\")","v":""}]
[null,{"$f":"+IF(AND(ISBLANK(F868),ISBLANK(K868)),\"\",IF(AND(ISBLANK(F868),B867<>\"\"),B867,IF(COUNTIF($F$13:F867,F868)>0,B867,MAX($B$13:B867)+1)))","v":""},null,null,0,null,null,null,null,"Enter PC",null,"","",{"$f":"+IF(ISBLANK(K868),\"\",VLOOKUP(K868,'5.3 Schedule of Rates'!B:D,3,0))","v":""},null,"",null,"","",null,null,null,{"$f":"IFERROR(INDEX('1.2 Sub-Con Application'!$B$13:$U$1012,MATCH(1,('1.2 Sub-Con Application'!$B$13:$B$1012=B868)*('1.2 Sub-Con Application'!$U$13:$U$1012=\"Rejected\"),0),20),\"\")","v":""}]
[null,{"$f":"+IF(AND(ISBLANK(F869),ISBLANK(K869)),\"\",IF(AND(ISBLANK(F869),B868<>\"\"),B868,IF(COUNTIF($F$13:F868,F869)>0,B868,MAX($B$13:B868)+1)))","v":""},null,null,0,null,null,null,null,"Enter PC",null,"","",{"$f":"+IF(ISBLANK(K869),\"\",VLOOKUP(K869,'5.3 Schedule of Rates'!B:D,3,0))","v":""},null,"",null,"","",null,null,null,{"$f":"IFERROR(INDEX('1.2 Sub-Con Application'!$B$13:$U$1012,MATCH(1,('1.2 Sub-Con Application'!$B$13:$B$1012=B869)*('1.2 Sub-Con Application'!$U$13:$U$1012=\"Rejected\"),0),20),\"\")","v":""}]
[null,{"$f":"+IF(AND(ISBLANK(F870),ISBLANK(K870)),\"\",IF(AND(ISBLANK(F870),B869<>\"\"),B869,IF(COUNTIF($F$13:F869,F870)>0,B869,MAX($B$13:B869)+1)))","v":""},null,null,0,null,null,null,null,"Enter PC",null,"","",{"$f":"+IF(ISBLANK(K870),\"\",VLOOKUP(K870,'5.3 Schedule of Rates'!B:D,3,0))","v":""},null,"",null,"","",null,null,null,{"$f":"IFERROR(INDEX('1.2 Sub-Con Application'!$B$13:$U$1012,MATCH(1,('1.2 Sub-Con Application'!$B$13:$B$1012=B870)*('1.2 Sub-Con Application'!$U$13:$U$1012=\"Rejected\"),0),20),\"\")","v":""}]
[null,{"$f":"+IF(AND(ISBLANK(F871),ISBLANK(K871)),\"\",IF(AND(ISBLANK(F871),B870<>\"\"),B870,IF(COUNTIF($F$13:F870,F871)>0,B870,MAX($B$13:B870)+1)))","v":""},null,null,0,null,null,null,null,"Enter PC",null,"","",{"$f":"+IF(ISBLANK(K871),\"\",VLOOKUP(K871,'5.3 Schedule of Rates'!B:D,3,0))","v":""},null,"",null,"","",null,null,null,{"$f":"IFERROR(INDEX('1.2 Sub-Con Application'!$B$13:$U$1012,MATCH(1,('1.2 Sub-Con Application'!$B$13:$B$1012=B871)*('1.2 Sub-Con Application'!$U$13:$U$1012=\"Rejected\"),0),20),\"\")","v":""}]
[null,{"$f":"+IF(AND(ISBLANK(F872),ISBLANK(K872)),\"\",IF(AND(ISBLANK(F872),B871<>\"\"),B871,IF(COUNTIF($F$13:F871,F872)>0,B871,MAX($B$13:B871)+1)))","v":""},null,null,0,null,null,null,null,"Enter PC",null,"","",{"$f":"+IF(ISBLANK(K872),\"\",VLOOKUP(K872,'5.3 Schedule of Rates'!B:D,3,0))","v":""},null,"",null,"","",null,null,null,{"$f":"IFERROR(INDEX('1.2 Sub-Con Application'!$B$13:$U$1012,MATCH(1,('1.2 Sub-Con Application'!$B$13:$B$1012=B872)*('1.2 Sub-Con Application'!$U$13:$U$1012=\"Rejected\"),0),20),\"\")","v":""}]
[null,{"$f":"+IF(AND(ISBLANK(F873),ISBLANK(K873)),\"\",IF(AND(ISBLANK(F873),B872<>\"\"),B872,IF(COUNTIF($F$13:F872,F873)>0,B872,MAX($B$13:B872)+1)))","v":""},null,null,0,null,null,null,null,"Enter PC",null,"","",{"$f":"+IF(ISBLANK(K873),\"\",VLOOKUP(K873,'5.3 Schedule of Rates'!B:D,3,0))","v":""},null,"",null,"","",null,null,null,{"$f":"IFERROR(INDEX('1.2 Sub-Con Application'!$B$13:$U$1012,MATCH(1,('1.2 Sub-Con Application'!$B$13:$B$1012=B873)*('1.2 Sub-Con Application'!$U$13:$U$1012=\"Rejected\"),0),20),\"\")","v":""}]
[null,{"$f":"+IF(AND(ISBLANK(F874),ISBLANK(K874)),\"\",IF(AND(ISBLANK(F874),B873<>\"\"),B873,IF(COUNTIF($F$13:F873,F874)>0,B873,MAX($B$13:B873)+1)))","v":""},null,null,0,null,null,null,null,"Enter PC",null,"","",{"$f":"+IF(ISBLANK(K874),\"\",VLOOKUP(K874,'5.3 Schedule of Rates'!B:D,3,0))","v":""},null,"",null,"","",null,null,null,{"$f":"IFERROR(INDEX('1.2 Sub-Con Application'!$B$13:$U$1012,MATCH(1,('1.2 Sub-Con Application'!$B$13:$B$1012=B874)*('1.2 Sub-Con Application'!$U$13:$U$1012=\"Rejected\"),0),20),\"\")","v":""}]
[null,{"$f":"+IF(AND(ISBLANK(F875),ISBLANK(K875)),\"\",IF(AND(ISBLANK(F875),B874<>\"\"),B874,IF(COUNTIF($F$13:F874,F875)>0,B874,MAX($B$13:B874)+1)))","v":""},null,null,0,null,null,null,null,"Enter PC",null,"","",{"$f":"+IF(ISBLANK(K875),\"\",VLOOKUP(K875,'5.3 Schedule of Rates'!B:D,3,0))","v":""},null,"",null,"","",null,null,null,{"$f":"IFERROR(INDEX('1.2 Sub-Con Application'!$B$13:$U$1012,MATCH(1,('1.2 Sub-Con Application'!$B$13:$B$1012=B875)*('1.2 Sub-Con Application'!$U$13:$U$1012=\"Rejected\"),0),20),\"\")","v":""}]
[null,{"$f":"+IF(AND(ISBLANK(F876),ISBLANK(K876)),\"\",IF(AND(ISBLANK(F876),B875<>\"\"),B875,IF(COUNTIF($F$13:F875,F876)>0,B875,MAX($B$13:B875)+1)))","v":""},null,null,0,null,null,null,null,"Enter PC",null,"","",{"$f":"+IF(ISBLANK(K876),\"\",VLOOKUP(K876,'5.3 Schedule of Rates'!B:D,3,0))","v":""},null,"",null,"","",null,null,null,{"$f":"IFERROR(INDEX('1.2 Sub-Con Application'!$B$13:$U$1012,MATCH(1,('1.2 Sub-Con Application'!$B$13:$B$1012=B876)*('1.2 Sub-Con Application'!$U$13:$U$1012=\"Rejected\"),0),20),\"\")","v":""}]
[null,{"$f":"+IF(AND(ISBLANK(F877),ISBLANK(K877)),\"\",IF(AND(ISBLANK(F877),B876<>\"\"),B876,IF(COUNTIF($F$13:F876,F877)>0,B876,MAX($B$13:B876)+1)))","v":""},null,null,0,null,null,null,null,"Enter PC",null,"","",{"$f":"+IF(ISBLANK(K877),\"\",VLOOKUP(K877,'5.3 Schedule of Rates'!B:D,3,0))","v":""},null,"",null,"","",null,null,null,{"$f":"IFERROR(INDEX('1.2 Sub-Con Application'!$B$13:$U$1012,MATCH(1,('1.2 Sub-Con Application'!$B$13:$B$1012=B877)*('1.2 Sub-Con Application'!$U$13:$U$1012=\"Rejected\"),0),20),\"\")","v":""}]
[null,{"$f":"+IF(AND(ISBLANK(F878),ISBLANK(K878)),\"\",IF(AND(ISBLANK(F878),B877<>\"\"),B877,IF(COUNTIF($F$13:F877,F878)>0,B877,MAX($B$13:B877)+1)))","v":""},null,null,0,null,null,null,null,"Enter PC",null,"","",{"$f":"+IF(ISBLANK(K878),\"\",VLOOKUP(K878,'5.3 Schedule of Rates'!B:D,3,0))","v":""},null,"",null,"","",null,null,null,{"$f":"IFERROR(INDEX('1.2 Sub-Con Application'!$B$13:$U$1012,MATCH(1,('1.2 Sub-Con Application'!$B$13:$B$1012=B878)*('1.2 Sub-Con Application'!$U$13:$U$1012=\"Rejected\"),0),20),\"\")","v":""}]
[null,{"$f":"+IF(AND(ISBLANK(F879),ISBLANK(K879)),\"\",IF(AND(ISBLANK(F879),B878<>\"\"),B878,IF(COUNTIF($F$13:F878,F879)>0,B878,MAX($B$13:B878)+1)))","v":""},null,null,0,null,null,null,null,"Enter PC",null,"","",{"$f":"+IF(ISBLANK(K879),\"\",VLOOKUP(K879,'5.3 Schedule of Rates'!B:D,3,0))","v":""},null,"",null,"","",null,null,null,{"$f":"IFERROR(INDEX('1.2 Sub-Con Application'!$B$13:$U$1012,MATCH(1,('1.2 Sub-Con Application'!$B$13:$B$1012=B879)*('1.2 Sub-Con Application'!$U$13:$U$1012=\"Rejected\"),0),20),\"\")","v":""}]
[null,{"$f":"+IF(AND(ISBLANK(F880),ISBLANK(K880)),\"\",IF(AND(ISBLANK(F880),B879<>\"\"),B879,IF(COUNTIF($F$13:F879,F880)>0,B879,MAX($B$13:B879)+1)))","v":""},null,null,0,null,null,null,null,"Enter PC",null,"","",{"$f":"+IF(ISBLANK(K880),\"\",VLOOKUP(K880,'5.3 Schedule of Rates'!B:D,3,0))","v":""},null,"",null,"","",null,null,null,{"$f":"IFERROR(INDEX('1.2 Sub-Con Application'!$B$13:$U$1012,MATCH(1,('1.2 Sub-Con Application'!$B$13:$B$1012=B880)*('1.2 Sub-Con Application'!$U$13:$U$1012=\"Rejected\"),0),20),\"\")","v":""}]
[null,{"$f":"+IF(AND(ISBLANK(F881),ISBLANK(K881)),\"\",IF(AND(ISBLANK(F881),B880<>\"\"),B880,IF(COUNTIF($F$13:F880,F881)>0,B880,MAX($B$13:B880)+1)))","v":""},null,null,0,null,null,null,null,"Enter PC",null,"","",{"$f":"+IF(ISBLANK(K881),\"\",VLOOKUP(K881,'5.3 Schedule of Rates'!B:D,3,0))","v":""},null,"",null,"","",null,null,null,{"$f":"IFERROR(INDEX('1.2 Sub-Con Application'!$B$13:$U$1012,MATCH(1,('1.2 Sub-Con Application'!$B$13:$B$1012=B881)*('1.2 Sub-Con Application'!$U$13:$U$1012=\"Rejected\"),0),20),\"\")","v":""}]
[null,{"$f":"+IF(AND(ISBLANK(F882),ISBLANK(K882)),\"\",IF(AND(ISBLANK(F882),B881<>\"\"),B881,IF(COUNTIF($F$13:F881,F882)>0,B881,MAX($B$13:B881)+1)))","v":""},null,null,0,null,null,null,null,"Enter PC",null,"","",{"$f":"+IF(ISBLANK(K882),\"\",VLOOKUP(K882,'5.3 Schedule of Rates'!B:D,3,0))","v":""},null,"",null,"","",null,null,null,{"$f":"IFERROR(INDEX('1.2 Sub-Con Application'!$B$13:$U$1012,MATCH(1,('1.2 Sub-Con Application'!$B$13:$B$1012=B882)*('1.2 Sub-Con Application'!$U$13:$U$1012=\"Rejected\"),0),20),\"\")","v":""}]
[null,{"$f":"+IF(AND(ISBLANK(F883),ISBLANK(K883)),\"\",IF(AND(ISBLANK(F883),B882<>\"\"),B882,IF(COUNTIF($F$13:F882,F883)>0,B882,MAX($B$13:B882)+1)))","v":""},null,null,0,null,null,null,null,"Enter PC",null,"","",{"$f":"+IF(ISBLANK(K883),\"\",VLOOKUP(K883,'5.3 Schedule of Rates'!B:D,3,0))","v":""},null,"",null,"","",null,null,null,{"$f":"IFERROR(INDEX('1.2 Sub-Con Application'!$B$13:$U$1012,MATCH(1,('1.2 Sub-Con Application'!$B$13:$B$1012=B883)*('1.2 Sub-Con Application'!$U$13:$U$1012=\"Rejected\"),0),20),\"\")","v":""}]
[null,{"$f":"+IF(AND(ISBLANK(F884),ISBLANK(K884)),\"\",IF(AND(ISBLANK(F884),B883<>\"\"),B883,IF(COUNTIF($F$13:F883,F884)>0,B883,MAX($B$13:B883)+1)))","v":""},null,null,0,null,null,null,null,"Enter PC",null,"","",{"$f":"+IF(ISBLANK(K884),\"\",VLOOKUP(K884,'5.3 Schedule of Rates'!B:D,3,0))","v":""},null,"",null,"","",null,null,null,{"$f":"IFERROR(INDEX('1.2 Sub-Con Application'!$B$13:$U$1012,MATCH(1,('1.2 Sub-Con Application'!$B$13:$B$1012=B884)*('1.2 Sub-Con Application'!$U$13:$U$1012=\"Rejected\"),0),20),\"\")","v":""}]
[null,{"$f":"+IF(AND(ISBLANK(F885),ISBLANK(K885)),\"\",IF(AND(ISBLANK(F885),B884<>\"\"),B884,IF(COUNTIF($F$13:F884,F885)>0,B884,MAX($B$13:B884)+1)))","v":""},null,null,0,null,null,null,null,"Enter PC",null,"","",{"$f":"+IF(ISBLANK(K885),\"\",VLOOKUP(K885,'5.3 Schedule of Rates'!B:D,3,0))","v":""},null,"",null,"","",null,null,null,{"$f":"IFERROR(INDEX('1.2 Sub-Con Application'!$B$13:$U$1012,MATCH(1,('1.2 Sub-Con Application'!$B$13:$B$1012=B885)*('1.2 Sub-Con Application'!$U$13:$U$1012=\"Rejected\"),0),20),\"\")","v":""}]
[null,{"$f":"+IF(AND(ISBLANK(F886),ISBLANK(K886)),\"\",IF(AND(ISBLANK(F886),B885<>\"\"),B885,IF(COUNTIF($F$13:F885,F886)>0,B885,MAX($B$13:B885)+1)))","v":""},null,null,0,null,null,null,null,"Enter PC",null,"","",{"$f":"+IF(ISBLANK(K886),\"\",VLOOKUP(K886,'5.3 Schedule of Rates'!B:D,3,0))","v":""},null,"",null,"","",null,null,null,{"$f":"IFERROR(INDEX('1.2 Sub-Con Application'!$B$13:$U$1012,MATCH(1,('1.2 Sub-Con Application'!$B$13:$B$1012=B886)*('1.2 Sub-Con Application'!$U$13:$U$1012=\"Rejected\"),0),20),\"\")","v":""}]
[null,{"$f":"+IF(AND(ISBLANK(F887),ISBLANK(K887)),\"\",IF(AND(ISBLANK(F887),B886<>\"\"),B886,IF(COUNTIF($F$13:F886,F887)>0,B886,MAX($B$13:B886)+1)))","v":""},null,null,0,null,null,null,null,"Enter PC",null,"","",{"$f":"+IF(ISBLANK(K887),\"\",VLOOKUP(K887,'5.3 Schedule of Rates'!B:D,3,0))","v":""},null,"",null,"","",null,null,null,{"$f":"IFERROR(INDEX('1.2 Sub-Con Application'!$B$13:$U$1012,MATCH(1,('1.2 Sub-Con Application'!$B$13:$B$1012=B887)*('1.2 Sub-Con Application'!$U$13:$U$1012=\"Rejected\"),0),20),\"\")","v":""}]
[null,{"$f":"+IF(AND(ISBLANK(F888),ISBLANK(K888)),\"\",IF(AND(ISBLANK(F888),B887<>\"\"),B887,IF(COUNTIF($F$13:F887,F888)>0,B887,MAX($B$13:B887)+1)))","v":""},null,null,0,null,null,null,null,"Enter PC",null,"","",{"$f":"+IF(ISBLANK(K888),\"\",VLOOKUP(K888,'5.3 Schedule of Rates'!B:D,3,0))","v":""},null,"",null,"","",null,null,null,{"$f":"IFERROR(INDEX('1.2 Sub-Con Application'!$B$13:$U$1012,MATCH(1,('1.2 Sub-Con Application'!$B$13:$B$1012=B888)*('1.2 Sub-Con Application'!$U$13:$U$1012=\"Rejected\"),0),20),\"\")","v":""}]
[null,{"$f":"+IF(AND(ISBLANK(F889),ISBLANK(K889)),\"\",IF(AND(ISBLANK(F889),B888<>\"\"),B888,IF(COUNTIF($F$13:F888,F889)>0,B888,MAX($B$13:B888)+1)))","v":""},null,null,0,null,null,null,null,"Enter PC",null,"","",{"$f":"+IF(ISBLANK(K889),\"\",VLOOKUP(K889,'5.3 Schedule of Rates'!B:D,3,0))","v":""},null,"",null,"","",null,null,null,{"$f":"IFERROR(INDEX('1.2 Sub-Con Application'!$B$13:$U$1012,MATCH(1,('1.2 Sub-Con Application'!$B$13:$B$1012=B889)*('1.2 Sub-Con Application'!$U$13:$U$1012=\"Rejected\"),0),20),\"\")","v":""}]
[null,{"$f":"+IF(AND(ISBLANK(F890),ISBLANK(K890)),\"\",IF(AND(ISBLANK(F890),B889<>\"\"),B889,IF(COUNTIF($F$13:F889,F890)>0,B889,MAX($B$13:B889)+1)))","v":""},null,null,0,null,null,null,null,"Enter PC",null,"","",{"$f":"+IF(ISBLANK(K890),\"\",VLOOKUP(K890,'5.3 Schedule of Rates'!B:D,3,0))","v":""},null,"",null,"","",null,null,null,{"$f":"IFERROR(INDEX('1.2 Sub-Con Application'!$B$13:$U$1012,MATCH(1,('1.2 Sub-Con Application'!$B$13:$B$1012=B890)*('1.2 Sub-Con Application'!$U$13:$U$1012=\"Rejected\"),0),20),\"\")","v":""}]
[null,{"$f":"+IF(AND(ISBLANK(F891),ISBLANK(K891)),\"\",IF(AND(ISBLANK(F891),B890<>\"\"),B890,IF(COUNTIF($F$13:F890,F891)>0,B890,MAX($B$13:B890)+1)))","v":""},null,null,0,null,null,null,null,"Enter PC",null,"","",{"$f":"+IF(ISBLANK(K891),\"\",VLOOKUP(K891,'5.3 Schedule of Rates'!B:D,3,0))","v":""},null,"",null,"","",null,null,null,{"$f":"IFERROR(INDEX('1.2 Sub-Con Application'!$B$13:$U$1012,MATCH(1,('1.2 Sub-Con Application'!$B$13:$B$1012=B891)*('1.2 Sub-Con Application'!$U$13:$U$1012=\"Rejected\"),0),20),\"\")","v":""}]
[null,{"$f":"+IF(AND(ISBLANK(F892),ISBLANK(K892)),\"\",IF(AND(ISBLANK(F892),B891<>\"\"),B891,IF(COUNTIF($F$13:F891,F892)>0,B891,MAX($B$13:B891)+1)))","v":""},null,null,0,null,null,null,null,"Enter PC",null,"","",{"$f":"+IF(ISBLANK(K892),\"\",VLOOKUP(K892,'5.3 Schedule of Rates'!B:D,3,0))","v":""},null,"",null,"","",null,null,null,{"$f":"IFERROR(INDEX('1.2 Sub-Con Application'!$B$13:$U$1012,MATCH(1,('1.2 Sub-Con Application'!$B$13:$B$1012=B892)*('1.2 Sub-Con Application'!$U$13:$U$1012=\"Rejected\"),0),20),\"\")","v":""}]
[null,{"$f":"+IF(AND(ISBLANK(F893),ISBLANK(K893)),\"\",IF(AND(ISBLANK(F893),B892<>\"\"),B892,IF(COUNTIF($F$13:F892,F893)>0,B892,MAX($B$13:B892)+1)))","v":""},null,null,0,null,null,null,null,"Enter PC",null,"","",{"$f":"+IF(ISBLANK(K893),\"\",VLOOKUP(K893,'5.3 Schedule of Rates'!B:D,3,0))","v":""},null,"",null,"","",null,null,null,{"$f":"IFERROR(INDEX('1.2 Sub-Con Application'!$B$13:$U$1012,MATCH(1,('1.2 Sub-Con Application'!$B$13:$B$1012=B893)*('1.2 Sub-Con Application'!$U$13:$U$1012=\"Rejected\"),0),20),\"\")","v":""}]
[null,{"$f":"+IF(AND(ISBLANK(F894),ISBLANK(K894)),\"\",IF(AND(ISBLANK(F894),B893<>\"\"),B893,IF(COUNTIF($F$13:F893,F894)>0,B893,MAX($B$13:B893)+1)))","v":""},null,null,0,null,null,null,null,"Enter PC",null,"","",{"$f":"+IF(ISBLANK(K894),\"\",VLOOKUP(K894,'5.3 Schedule of Rates'!B:D,3,0))","v":""},null,"",null,"","",null,null,null,{"$f":"IFERROR(INDEX('1.2 Sub-Con Application'!$B$13:$U$1012,MATCH(1,('1.2 Sub-Con Application'!$B$13:$B$1012=B894)*('1.2 Sub-Con Application'!$U$13:$U$1012=\"Rejected\"),0),20),\"\")","v":""}]
[null,{"$f":"+IF(AND(ISBLANK(F895),ISBLANK(K895)),\"\",IF(AND(ISBLANK(F895),B894<>\"\"),B894,IF(COUNTIF($F$13:F894,F895)>0,B894,MAX($B$13:B894)+1)))","v":""},null,null,{"$f":"NETWORKDAYS(C895,D895)","v":0},null,null,null,null,"Enter PC",null,"","",{"$f":"+IF(ISBLANK(K895),\"\",VLOOKUP(K895,'5.3 Schedule of Rates'!B:D,3,0))","v":""},null,"",null,"",{"$f":"IF(ISERROR(SUM(P895-R895)),\"\",SUM(P895-R895))","v":""},null,null,null,{"$f":"IFERROR(INDEX('1.2 Sub-Con Application'!$B$13:$U$1012,MATCH(1,('1.2 Sub-Con Application'!$B$13:$B$1012=B895)*('1.2 Sub-Con Application'!$U$13:$U$1012=\"Rejected\"),0),20),\"\")","v":""}]
[null,{"$f":"+IF(AND(ISBLANK(F896),ISBLANK(K896)),\"\",IF(AND(ISBLANK(F896),B895<>\"\"),B895,IF(COUNTIF($F$13:F895,F896)>0,B895,MAX($B$13:B895)+1)))","v":""},null,null,0,null,null,null,null,"Enter PC",null,"","",{"$f":"+IF(ISBLANK(K896),\"\",VLOOKUP(K896,'5.3 Schedule of Rates'!B:D,3,0))","v":""},null,"",null,"","",null,null,null,{"$f":"IFERROR(INDEX('1.2 Sub-Con Application'!$B$13:$U$1012,MATCH(1,('1.2 Sub-Con Application'!$B$13:$B$1012=B896)*('1.2 Sub-Con Application'!$U$13:$U$1012=\"Rejected\"),0),20),\"\")","v":""}]
[null,{"$f":"+IF(AND(ISBLANK(F897),ISBLANK(K897)),\"\",IF(AND(ISBLANK(F897),B896<>\"\"),B896,IF(COUNTIF($F$13:F896,F897)>0,B896,MAX($B$13:B896)+1)))","v":""},null,null,0,null,null,null,null,"Enter PC",null,"","",{"$f":"+IF(ISBLANK(K897),\"\",VLOOKUP(K897,'5.3 Schedule of Rates'!B:D,3,0))","v":""},null,"",null,"","",null,null,null,{"$f":"IFERROR(INDEX('1.2 Sub-Con Application'!$B$13:$U$1012,MATCH(1,('1.2 Sub-Con Application'!$B$13:$B$1012=B897)*('1.2 Sub-Con Application'!$U$13:$U$1012=\"Rejected\"),0),20),\"\")","v":""}]
[null,{"$f":"+IF(AND(ISBLANK(F898),ISBLANK(K898)),\"\",IF(AND(ISBLANK(F898),B897<>\"\"),B897,IF(COUNTIF($F$13:F897,F898)>0,B897,MAX($B$13:B897)+1)))","v":""},null,null,0,null,null,null,null,"Enter PC",null,"","",{"$f":"+IF(ISBLANK(K898),\"\",VLOOKUP(K898,'5.3 Schedule of Rates'!B:D,3,0))","v":""},null,"",null,"","",null,null,null,{"$f":"IFERROR(INDEX('1.2 Sub-Con Application'!$B$13:$U$1012,MATCH(1,('1.2 Sub-Con Application'!$B$13:$B$1012=B898)*('1.2 Sub-Con Application'!$U$13:$U$1012=\"Rejected\"),0),20),\"\")","v":""}]
[null,{"$f":"+IF(AND(ISBLANK(F899),ISBLANK(K899)),\"\",IF(AND(ISBLANK(F899),B898<>\"\"),B898,IF(COUNTIF($F$13:F898,F899)>0,B898,MAX($B$13:B898)+1)))","v":""},null,null,0,null,null,null,null,"Enter PC",null,"","",{"$f":"+IF(ISBLANK(K899),\"\",VLOOKUP(K899,'5.3 Schedule of Rates'!B:D,3,0))","v":""},null,"",null,"","",null,null,null,{"$f":"IFERROR(INDEX('1.2 Sub-Con Application'!$B$13:$U$1012,MATCH(1,('1.2 Sub-Con Application'!$B$13:$B$1012=B899)*('1.2 Sub-Con Application'!$U$13:$U$1012=\"Rejected\"),0),20),\"\")","v":""}]
[null,{"$f":"+IF(AND(ISBLANK(F900),ISBLANK(K900)),\"\",IF(AND(ISBLANK(F900),B899<>\"\"),B899,IF(COUNTIF($F$13:F899,F900)>0,B899,MAX($B$13:B899)+1)))","v":""},null,null,0,null,null,null,null,"Enter PC",null,"","",{"$f":"+IF(ISBLANK(K900),\"\",VLOOKUP(K900,'5.3 Schedule of Rates'!B:D,3,0))","v":""},null,"",null,"","",null,null,null,{"$f":"IFERROR(INDEX('1.2 Sub-Con Application'!$B$13:$U$1012,MATCH(1,('1.2 Sub-Con Application'!$B$13:$B$1012=B900)*('1.2 Sub-Con Application'!$U$13:$U$1012=\"Rejected\"),0),20),\"\")","v":""}]
[null,{"$f":"+IF(AND(ISBLANK(F901),ISBLANK(K901)),\"\",IF(AND(ISBLANK(F901),B900<>\"\"),B900,IF(COUNTIF($F$13:F900,F901)>0,B900,MAX($B$13:B900)+1)))","v":""},null,null,0,null,null,null,null,"Enter PC",null,"","",{"$f":"+IF(ISBLANK(K901),\"\",VLOOKUP(K901,'5.3 Schedule of Rates'!B:D,3,0))","v":""},null,"",null,"","",null,null,null,{"$f":"IFERROR(INDEX('1.2 Sub-Con Application'!$B$13:$U$1012,MATCH(1,('1.2 Sub-Con Application'!$B$13:$B$1012=B901)*('1.2 Sub-Con Application'!$U$13:$U$1012=\"Rejected\"),0),20),\"\")","v":""}]
[null,{"$f":"+IF(AND(ISBLANK(F902),ISBLANK(K902)),\"\",IF(AND(ISBLANK(F902),B901<>\"\"),B901,IF(COUNTIF($F$13:F901,F902)>0,B901,MAX($B$13:B901)+1)))","v":""},null,null,0,null,null,null,null,"Enter PC",null,"","",{"$f":"+IF(ISBLANK(K902),\"\",VLOOKUP(K902,'5.3 Schedule of Rates'!B:D,3,0))","v":""},null,"",null,"","",null,null,null,{"$f":"IFERROR(INDEX('1.2 Sub-Con Application'!$B$13:$U$1012,MATCH(1,('1.2 Sub-Con Application'!$B$13:$B$1012=B902)*('1.2 Sub-Con Application'!$U$13:$U$1012=\"Rejected\"),0),20),\"\")","v":""}]
[null,{"$f":"+IF(AND(ISBLANK(F903),ISBLANK(K903)),\"\",IF(AND(ISBLANK(F903),B902<>\"\"),B902,IF(COUNTIF($F$13:F902,F903)>0,B902,MAX($B$13:B902)+1)))","v":""},null,null,0,null,null,null,null,"Enter PC",null,"","",{"$f":"+IF(ISBLANK(K903),\"\",VLOOKUP(K903,'5.3 Schedule of Rates'!B:D,3,0))","v":""},null,"",null,"","",null,null,null,{"$f":"IFERROR(INDEX('1.2 Sub-Con Application'!$B$13:$U$1012,MATCH(1,('1.2 Sub-Con Application'!$B$13:$B$1012=B903)*('1.2 Sub-Con Application'!$U$13:$U$1012=\"Rejected\"),0),20),\"\")","v":""}]
[null,{"$f":"+IF(AND(ISBLANK(F904),ISBLANK(K904)),\"\",IF(AND(ISBLANK(F904),B903<>\"\"),B903,IF(COUNTIF($F$13:F903,F904)>0,B903,MAX($B$13:B903)+1)))","v":""},null,null,0,null,null,null,null,"Enter PC",null,"","",{"$f":"+IF(ISBLANK(K904),\"\",VLOOKUP(K904,'5.3 Schedule of Rates'!B:D,3,0))","v":""},null,"",null,"","",null,null,null,{"$f":"IFERROR(INDEX('1.2 Sub-Con Application'!$B$13:$U$1012,MATCH(1,('1.2 Sub-Con Application'!$B$13:$B$1012=B904)*('1.2 Sub-Con Application'!$U$13:$U$1012=\"Rejected\"),0),20),\"\")","v":""}]
[null,{"$f":"+IF(AND(ISBLANK(F905),ISBLANK(K905)),\"\",IF(AND(ISBLANK(F905),B904<>\"\"),B904,IF(COUNTIF($F$13:F904,F905)>0,B904,MAX($B$13:B904)+1)))","v":""},null,null,0,null,null,null,null,"Enter PC",null,"","",{"$f":"+IF(ISBLANK(K905),\"\",VLOOKUP(K905,'5.3 Schedule of Rates'!B:D,3,0))","v":""},null,"",null,"","",null,null,null,{"$f":"IFERROR(INDEX('1.2 Sub-Con Application'!$B$13:$U$1012,MATCH(1,('1.2 Sub-Con Application'!$B$13:$B$1012=B905)*('1.2 Sub-Con Application'!$U$13:$U$1012=\"Rejected\"),0),20),\"\")","v":""}]
[null,{"$f":"+IF(AND(ISBLANK(F906),ISBLANK(K906)),\"\",IF(AND(ISBLANK(F906),B905<>\"\"),B905,IF(COUNTIF($F$13:F905,F906)>0,B905,MAX($B$13:B905)+1)))","v":""},null,null,0,null,null,null,null,"Enter PC",null,"","",{"$f":"+IF(ISBLANK(K906),\"\",VLOOKUP(K906,'5.3 Schedule of Rates'!B:D,3,0))","v":""},null,"",null,"","",null,null,null,{"$f":"IFERROR(INDEX('1.2 Sub-Con Application'!$B$13:$U$1012,MATCH(1,('1.2 Sub-Con Application'!$B$13:$B$1012=B906)*('1.2 Sub-Con Application'!$U$13:$U$1012=\"Rejected\"),0),20),\"\")","v":""}]
[null,{"$f":"+IF(AND(ISBLANK(F907),ISBLANK(K907)),\"\",IF(AND(ISBLANK(F907),B906<>\"\"),B906,IF(COUNTIF($F$13:F906,F907)>0,B906,MAX($B$13:B906)+1)))","v":""},null,null,0,null,null,null,null,"Enter PC",null,"","",{"$f":"+IF(ISBLANK(K907),\"\",VLOOKUP(K907,'5.3 Schedule of Rates'!B:D,3,0))","v":""},null,"",null,"","",null,null,null,{"$f":"IFERROR(INDEX('1.2 Sub-Con Application'!$B$13:$U$1012,MATCH(1,('1.2 Sub-Con Application'!$B$13:$B$1012=B907)*('1.2 Sub-Con Application'!$U$13:$U$1012=\"Rejected\"),0),20),\"\")","v":""}]
[null,{"$f":"+IF(AND(ISBLANK(F908),ISBLANK(K908)),\"\",IF(AND(ISBLANK(F908),B907<>\"\"),B907,IF(COUNTIF($F$13:F907,F908)>0,B907,MAX($B$13:B907)+1)))","v":""},null,null,0,null,null,null,null,"Enter PC",null,"","",{"$f":"+IF(ISBLANK(K908),\"\",VLOOKUP(K908,'5.3 Schedule of Rates'!B:D,3,0))","v":""},null,"",null,"","",null,null,null,{"$f":"IFERROR(INDEX('1.2 Sub-Con Application'!$B$13:$U$1012,MATCH(1,('1.2 Sub-Con Application'!$B$13:$B$1012=B908)*('1.2 Sub-Con Application'!$U$13:$U$1012=\"Rejected\"),0),20),\"\")","v":""}]
[null,{"$f":"+IF(AND(ISBLANK(F909),ISBLANK(K909)),\"\",IF(AND(ISBLANK(F909),B908<>\"\"),B908,IF(COUNTIF($F$13:F908,F909)>0,B908,MAX($B$13:B908)+1)))","v":""},null,null,0,null,null,null,null,{"$f":"IFERROR(IF(I909=\"\",\"Enter PC\",VLOOKUP(IF(LEN(I909)=6,LEFT(I909,2),IF(LEN(I909)=7,LEFT(I909,3),LEFT(I909,4))),table_pcRegion,2,FALSE)=work_Region),\"INVALID\")","v":"Enter PC"},null,{"$f":"+IF(ISBLANK(K909),\"\",VLOOKUP(K909,table_SoR,2,0))","v":""},{"$f":"+IF(ISBLANK(K909),\"\",INDEX(table_subconSoR,MATCH(L909,row_SoR,0),MATCH($H$4,col_SoR,0)))","v":""},{"$f":"+IF(ISBLANK(K909),\"\",VLOOKUP(K909,'5.3 Schedule of Rates'!B:D,3,0))","v":""},null,{"$f":"+IF(ISBLANK($O909),\"\",ROUND(SUM(SUM(VLOOKUP($K909,table_SoR,6,0)*(1+$M909))*O909),2))","v":""},null,{"$f":"+IF(ISBLANK($O909),\"\",ROUND(IF(Q909>0,Q909,SUM(SUM(VLOOKUP($K909,table_SoR,7,0)*(1+$M909))*O909)),2))","v":""},"",null,null,null,{"$f":"IFERROR(INDEX('1.2 Sub-Con Application'!$B$13:$U$1012,MATCH(1,('1.2 Sub-Con Application'!$B$13:$B$1012=B909)*('1.2 Sub-Con Application'!$U$13:$U$1012=\"Rejected\"),0),20),\"\")","v":""}]
[null,{"$f":"+IF(AND(ISBLANK(F910),ISBLANK(K910)),\"\",IF(AND(ISBLANK(F910),B909<>\"\"),B909,IF(COUNTIF($F$13:F909,F910)>0,B909,MAX($B$13:B909)+1)))","v":""},null,null,0,null,null,null,null,"Enter PC",null,"","",{"$f":"+IF(ISBLANK(K910),\"\",VLOOKUP(K910,'5.3 Schedule of Rates'!B:D,3,0))","v":""},null,"",null,"","",null,null,null,{"$f":"IFERROR(INDEX('1.2 Sub-Con Application'!$B$13:$U$1012,MATCH(1,('1.2 Sub-Con Application'!$B$13:$B$1012=B910)*('1.2 Sub-Con Application'!$U$13:$U$1012=\"Rejected\"),0),20),\"\")","v":""}]
[null,{"$f":"+IF(AND(ISBLANK(F911),ISBLANK(K911)),\"\",IF(AND(ISBLANK(F911),B910<>\"\"),B910,IF(COUNTIF($F$13:F910,F911)>0,B910,MAX($B$13:B910)+1)))","v":""},null,null,0,null,null,null,null,"Enter PC",null,"","",{"$f":"+IF(ISBLANK(K911),\"\",VLOOKUP(K911,'5.3 Schedule of Rates'!B:D,3,0))","v":""},null,"",null,"","",null,null,null,{"$f":"IFERROR(INDEX('1.2 Sub-Con Application'!$B$13:$U$1012,MATCH(1,('1.2 Sub-Con Application'!$B$13:$B$1012=B911)*('1.2 Sub-Con Application'!$U$13:$U$1012=\"Rejected\"),0),20),\"\")","v":""}]
[null,{"$f":"+IF(AND(ISBLANK(F912),ISBLANK(K912)),\"\",IF(AND(ISBLANK(F912),B911<>\"\"),B911,IF(COUNTIF($F$13:F911,F912)>0,B911,MAX($B$13:B911)+1)))","v":""},null,null,0,null,null,null,null,"Enter PC",null,"","",{"$f":"+IF(ISBLANK(K912),\"\",VLOOKUP(K912,'5.3 Schedule of Rates'!B:D,3,0))","v":""},null,"",null,"","",null,null,null,{"$f":"IFERROR(INDEX('1.2 Sub-Con Application'!$B$13:$U$1012,MATCH(1,('1.2 Sub-Con Application'!$B$13:$B$1012=B912)*('1.2 Sub-Con Application'!$U$13:$U$1012=\"Rejected\"),0),20),\"\")","v":""}]
[null,{"$f":"+IF(AND(ISBLANK(F913),ISBLANK(K913)),\"\",IF(AND(ISBLANK(F913),B912<>\"\"),B912,IF(COUNTIF($F$13:F912,F913)>0,B912,MAX($B$13:B912)+1)))","v":""},null,null,0,null,null,null,null,"Enter PC",null,"","",{"$f":"+IF(ISBLANK(K913),\"\",VLOOKUP(K913,'5.3 Schedule of Rates'!B:D,3,0))","v":""},null,"",null,"","",null,null,null,{"$f":"IFERROR(INDEX('1.2 Sub-Con Application'!$B$13:$U$1012,MATCH(1,('1.2 Sub-Con Application'!$B$13:$B$1012=B913)*('1.2 Sub-Con Application'!$U$13:$U$1012=\"Rejected\"),0),20),\"\")","v":""}]
[null,{"$f":"+IF(AND(ISBLANK(F914),ISBLANK(K914)),\"\",IF(AND(ISBLANK(F914),B913<>\"\"),B913,IF(COUNTIF($F$13:F913,F914)>0,B913,MAX($B$13:B913)+1)))","v":""},null,null,0,null,null,null,null,"Enter PC",null,"","",{"$f":"+IF(ISBLANK(K914),\"\",VLOOKUP(K914,'5.3 Schedule of Rates'!B:D,3,0))","v":""},null,"",null,"","",null,null,null,{"$f":"IFERROR(INDEX('1.2 Sub-Con Application'!$B$13:$U$1012,MATCH(1,('1.2 Sub-Con Application'!$B$13:$B$1012=B914)*('1.2 Sub-Con Application'!$U$13:$U$1012=\"Rejected\"),0),20),\"\")","v":""}]
[null,{"$f":"+IF(AND(ISBLANK(F915),ISBLANK(K915)),\"\",IF(AND(ISBLANK(F915),B914<>\"\"),B914,IF(COUNTIF($F$13:F914,F915)>0,B914,MAX($B$13:B914)+1)))","v":""},null,null,0,null,null,null,null,"Enter PC",null,"","",{"$f":"+IF(ISBLANK(K915),\"\",VLOOKUP(K915,'5.3 Schedule of Rates'!B:D,3,0))","v":""},null,"",null,"","",null,null,null,{"$f":"IFERROR(INDEX('1.2 Sub-Con Application'!$B$13:$U$1012,MATCH(1,('1.2 Sub-Con Application'!$B$13:$B$1012=B915)*('1.2 Sub-Con Application'!$U$13:$U$1012=\"Rejected\"),0),20),\"\")","v":""}]
[null,{"$f":"+IF(AND(ISBLANK(F916),ISBLANK(K916)),\"\",IF(AND(ISBLANK(F916),B915<>\"\"),B915,IF(COUNTIF($F$13:F915,F916)>0,B915,MAX($B$13:B915)+1)))","v":""},null,null,0,null,null,null,null,"Enter PC",null,"","",{"$f":"+IF(ISBLANK(K916),\"\",VLOOKUP(K916,'5.3 Schedule of Rates'!B:D,3,0))","v":""},null,"",null,"","",null,null,null,{"$f":"IFERROR(INDEX('1.2 Sub-Con Application'!$B$13:$U$1012,MATCH(1,('1.2 Sub-Con Application'!$B$13:$B$1012=B916)*('1.2 Sub-Con Application'!$U$13:$U$1012=\"Rejected\"),0),20),\"\")","v":""}]
[null,{"$f":"+IF(AND(ISBLANK(F917),ISBLANK(K917)),\"\",IF(AND(ISBLANK(F917),B916<>\"\"),B916,IF(COUNTIF($F$13:F916,F917)>0,B916,MAX($B$13:B916)+1)))","v":""},null,null,0,null,null,null,null,"Enter PC",null,"","",{"$f":"+IF(ISBLANK(K917),\"\",VLOOKUP(K917,'5.3 Schedule of Rates'!B:D,3,0))","v":""},null,"",null,"","",null,null,null,{"$f":"IFERROR(INDEX('1.2 Sub-Con Application'!$B$13:$U$1012,MATCH(1,('1.2 Sub-Con Application'!$B$13:$B$1012=B917)*('1.2 Sub-Con Application'!$U$13:$U$1012=\"Rejected\"),0),20),\"\")","v":""}]
[null,{"$f":"+IF(AND(ISBLANK(F918),ISBLANK(K918)),\"\",IF(AND(ISBLANK(F918),B917<>\"\"),B917,IF(COUNTIF($F$13:F917,F918)>0,B917,MAX($B$13:B917)+1)))","v":""},null,null,0,null,null,null,null,"Enter PC",null,"","",{"$f":"+IF(ISBLANK(K918),\"\",VLOOKUP(K918,'5.3 Schedule of Rates'!B:D,3,0))","v":""},null,"",null,"","",null,null,null,{"$f":"IFERROR(INDEX('1.2 Sub-Con Application'!$B$13:$U$1012,MATCH(1,('1.2 Sub-Con Application'!$B$13:$B$1012=B918)*('1.2 Sub-Con Application'!$U$13:$U$1012=\"Rejected\"),0),20),\"\")","v":""}]
[null,{"$f":"+IF(AND(ISBLANK(F919),ISBLANK(K919)),\"\",IF(AND(ISBLANK(F919),B918<>\"\"),B918,IF(COUNTIF($F$13:F918,F919)>0,B918,MAX($B$13:B918)+1)))","v":""},null,null,0,null,null,null,null,"Enter PC",null,"","",{"$f":"+IF(ISBLANK(K919),\"\",VLOOKUP(K919,'5.3 Schedule of Rates'!B:D,3,0))","v":""},null,"",null,"","",null,null,null,{"$f":"IFERROR(INDEX('1.2 Sub-Con Application'!$B$13:$U$1012,MATCH(1,('1.2 Sub-Con Application'!$B$13:$B$1012=B919)*('1.2 Sub-Con Application'!$U$13:$U$1012=\"Rejected\"),0),20),\"\")","v":""}]
[null,{"$f":"+IF(AND(ISBLANK(F920),ISBLANK(K920)),\"\",IF(AND(ISBLANK(F920),B919<>\"\"),B919,IF(COUNTIF($F$13:F919,F920)>0,B919,MAX($B$13:B919)+1)))","v":""},null,null,0,null,null,null,null,"Enter PC",null,"","",{"$f":"+IF(ISBLANK(K920),\"\",VLOOKUP(K920,'5.3 Schedule of Rates'!B:D,3,0))","v":""},null,"",null,"","",null,null,null,{"$f":"IFERROR(INDEX('1.2 Sub-Con Application'!$B$13:$U$1012,MATCH(1,('1.2 Sub-Con Application'!$B$13:$B$1012=B920)*('1.2 Sub-Con Application'!$U$13:$U$1012=\"Rejected\"),0),20),\"\")","v":""}]
[null,{"$f":"+IF(AND(ISBLANK(F921),ISBLANK(K921)),\"\",IF(AND(ISBLANK(F921),B920<>\"\"),B920,IF(COUNTIF($F$13:F920,F921)>0,B920,MAX($B$13:B920)+1)))","v":""},null,null,0,null,null,null,null,"Enter PC",null,"","",{"$f":"+IF(ISBLANK(K921),\"\",VLOOKUP(K921,'5.3 Schedule of Rates'!B:D,3,0))","v":""},null,"",null,"","",null,null,null,{"$f":"IFERROR(INDEX('1.2 Sub-Con Application'!$B$13:$U$1012,MATCH(1,('1.2 Sub-Con Application'!$B$13:$B$1012=B921)*('1.2 Sub-Con Application'!$U$13:$U$1012=\"Rejected\"),0),20),\"\")","v":""}]
[null,{"$f":"+IF(AND(ISBLANK(F922),ISBLANK(K922)),\"\",IF(AND(ISBLANK(F922),B921<>\"\"),B921,IF(COUNTIF($F$13:F921,F922)>0,B921,MAX($B$13:B921)+1)))","v":""},null,null,0,null,null,null,null,"Enter PC",null,"","",{"$f":"+IF(ISBLANK(K922),\"\",VLOOKUP(K922,'5.3 Schedule of Rates'!B:D,3,0))","v":""},null,"",null,"","",null,null,null,{"$f":"IFERROR(INDEX('1.2 Sub-Con Application'!$B$13:$U$1012,MATCH(1,('1.2 Sub-Con Application'!$B$13:$B$1012=B922)*('1.2 Sub-Con Application'!$U$13:$U$1012=\"Rejected\"),0),20),\"\")","v":""}]
[null,{"$f":"+IF(AND(ISBLANK(F923),ISBLANK(K923)),\"\",IF(AND(ISBLANK(F923),B922<>\"\"),B922,IF(COUNTIF($F$13:F922,F923)>0,B922,MAX($B$13:B922)+1)))","v":""},null,null,0,null,null,null,null,"Enter PC",null,"","",{"$f":"+IF(ISBLANK(K923),\"\",VLOOKUP(K923,'5.3 Schedule of Rates'!B:D,3,0))","v":""},null,"",null,"","",null,null,null,{"$f":"IFERROR(INDEX('1.2 Sub-Con Application'!$B$13:$U$1012,MATCH(1,('1.2 Sub-Con Application'!$B$13:$B$1012=B923)*('1.2 Sub-Con Application'!$U$13:$U$1012=\"Rejected\"),0),20),\"\")","v":""}]
[null,{"$f":"+IF(AND(ISBLANK(F924),ISBLANK(K924)),\"\",IF(AND(ISBLANK(F924),B923<>\"\"),B923,IF(COUNTIF($F$13:F923,F924)>0,B923,MAX($B$13:B923)+1)))","v":""},null,null,0,null,null,null,null,"Enter PC",null,"","",{"$f":"+IF(ISBLANK(K924),\"\",VLOOKUP(K924,'5.3 Schedule of Rates'!B:D,3,0))","v":""},null,"",null,"","",null,null,null,{"$f":"IFERROR(INDEX('1.2 Sub-Con Application'!$B$13:$U$1012,MATCH(1,('1.2 Sub-Con Application'!$B$13:$B$1012=B924)*('1.2 Sub-Con Application'!$U$13:$U$1012=\"Rejected\"),0),20),\"\")","v":""}]
[null,{"$f":"+IF(AND(ISBLANK(F925),ISBLANK(K925)),\"\",IF(AND(ISBLANK(F925),B924<>\"\"),B924,IF(COUNTIF($F$13:F924,F925)>0,B924,MAX($B$13:B924)+1)))","v":""},null,null,0,null,null,null,null,"Enter PC",null,"","",{"$f":"+IF(ISBLANK(K925),\"\",VLOOKUP(K925,'5.3 Schedule of Rates'!B:D,3,0))","v":""},null,"",null,"","",null,null,null,{"$f":"IFERROR(INDEX('1.2 Sub-Con Application'!$B$13:$U$1012,MATCH(1,('1.2 Sub-Con Application'!$B$13:$B$1012=B925)*('1.2 Sub-Con Application'!$U$13:$U$1012=\"Rejected\"),0),20),\"\")","v":""}]
[null,{"$f":"+IF(AND(ISBLANK(F926),ISBLANK(K926)),\"\",IF(AND(ISBLANK(F926),B925<>\"\"),B925,IF(COUNTIF($F$13:F925,F926)>0,B925,MAX($B$13:B925)+1)))","v":""},null,null,0,null,null,null,null,"Enter PC",null,"","",{"$f":"+IF(ISBLANK(K926),\"\",VLOOKUP(K926,'5.3 Schedule of Rates'!B:D,3,0))","v":""},null,"",null,"","",null,null,null,{"$f":"IFERROR(INDEX('1.2 Sub-Con Application'!$B$13:$U$1012,MATCH(1,('1.2 Sub-Con Application'!$B$13:$B$1012=B926)*('1.2 Sub-Con Application'!$U$13:$U$1012=\"Rejected\"),0),20),\"\")","v":""}]
[null,{"$f":"+IF(AND(ISBLANK(F927),ISBLANK(K927)),\"\",IF(AND(ISBLANK(F927),B926<>\"\"),B926,IF(COUNTIF($F$13:F926,F927)>0,B926,MAX($B$13:B926)+1)))","v":""},null,null,0,null,null,null,null,"Enter PC",null,"","",{"$f":"+IF(ISBLANK(K927),\"\",VLOOKUP(K927,'5.3 Schedule of Rates'!B:D,3,0))","v":""},null,"",null,"","",null,null,null,{"$f":"IFERROR(INDEX('1.2 Sub-Con Application'!$B$13:$U$1012,MATCH(1,('1.2 Sub-Con Application'!$B$13:$B$1012=B927)*('1.2 Sub-Con Application'!$U$13:$U$1012=\"Rejected\"),0),20),\"\")","v":""}]
[null,{"$f":"+IF(AND(ISBLANK(F928),ISBLANK(K928)),\"\",IF(AND(ISBLANK(F928),B927<>\"\"),B927,IF(COUNTIF($F$13:F927,F928)>0,B927,MAX($B$13:B927)+1)))","v":""},null,null,0,null,null,null,null,"Enter PC",null,"","",{"$f":"+IF(ISBLANK(K928),\"\",VLOOKUP(K928,'5.3 Schedule of Rates'!B:D,3,0))","v":""},null,"",null,"","",null,null,null,{"$f":"IFERROR(INDEX('1.2 Sub-Con Application'!$B$13:$U$1012,MATCH(1,('1.2 Sub-Con Application'!$B$13:$B$1012=B928)*('1.2 Sub-Con Application'!$U$13:$U$1012=\"Rejected\"),0),20),\"\")","v":""}]
[null,{"$f":"+IF(AND(ISBLANK(F929),ISBLANK(K929)),\"\",IF(AND(ISBLANK(F929),B928<>\"\"),B928,IF(COUNTIF($F$13:F928,F929)>0,B928,MAX($B$13:B928)+1)))","v":""},null,null,0,null,null,null,null,"Enter PC",null,"","",{"$f":"+IF(ISBLANK(K929),\"\",VLOOKUP(K929,'5.3 Schedule of Rates'!B:D,3,0))","v":""},null,"",null,"","",null,null,null,{"$f":"IFERROR(INDEX('1.2 Sub-Con Application'!$B$13:$U$1012,MATCH(1,('1.2 Sub-Con Application'!$B$13:$B$1012=B929)*('1.2 Sub-Con Application'!$U$13:$U$1012=\"Rejected\"),0),20),\"\")","v":""}]
[null,{"$f":"+IF(AND(ISBLANK(F930),ISBLANK(K930)),\"\",IF(AND(ISBLANK(F930),B929<>\"\"),B929,IF(COUNTIF($F$13:F929,F930)>0,B929,MAX($B$13:B929)+1)))","v":""},null,null,0,null,null,null,null,"Enter PC",null,"","",{"$f":"+IF(ISBLANK(K930),\"\",VLOOKUP(K930,'5.3 Schedule of Rates'!B:D,3,0))","v":""},null,"",null,"","",null,null,null,{"$f":"IFERROR(INDEX('1.2 Sub-Con Application'!$B$13:$U$1012,MATCH(1,('1.2 Sub-Con Application'!$B$13:$B$1012=B930)*('1.2 Sub-Con Application'!$U$13:$U$1012=\"Rejected\"),0),20),\"\")","v":""}]
[null,{"$f":"+IF(AND(ISBLANK(F931),ISBLANK(K931)),\"\",IF(AND(ISBLANK(F931),B930<>\"\"),B930,IF(COUNTIF($F$13:F930,F931)>0,B930,MAX($B$13:B930)+1)))","v":""},null,null,0,null,null,null,null,"Enter PC",null,"","",{"$f":"+IF(ISBLANK(K931),\"\",VLOOKUP(K931,'5.3 Schedule of Rates'!B:D,3,0))","v":""},null,"",null,"","",null,null,null,{"$f":"IFERROR(INDEX('1.2 Sub-Con Application'!$B$13:$U$1012,MATCH(1,('1.2 Sub-Con Application'!$B$13:$B$1012=B931)*('1.2 Sub-Con Application'!$U$13:$U$1012=\"Rejected\"),0),20),\"\")","v":""}]
[null,{"$f":"+IF(AND(ISBLANK(F932),ISBLANK(K932)),\"\",IF(AND(ISBLANK(F932),B931<>\"\"),B931,IF(COUNTIF($F$13:F931,F932)>0,B931,MAX($B$13:B931)+1)))","v":""},null,null,0,null,null,null,null,"Enter PC",null,"","",{"$f":"+IF(ISBLANK(K932),\"\",VLOOKUP(K932,'5.3 Schedule of Rates'!B:D,3,0))","v":""},null,"",null,"","",null,null,null,{"$f":"IFERROR(INDEX('1.2 Sub-Con Application'!$B$13:$U$1012,MATCH(1,('1.2 Sub-Con Application'!$B$13:$B$1012=B932)*('1.2 Sub-Con Application'!$U$13:$U$1012=\"Rejected\"),0),20),\"\")","v":""}]
[null,{"$f":"+IF(AND(ISBLANK(F933),ISBLANK(K933)),\"\",IF(AND(ISBLANK(F933),B932<>\"\"),B932,IF(COUNTIF($F$13:F932,F933)>0,B932,MAX($B$13:B932)+1)))","v":""},null,null,0,null,null,null,null,"Enter PC",null,"","",{"$f":"+IF(ISBLANK(K933),\"\",VLOOKUP(K933,'5.3 Schedule of Rates'!B:D,3,0))","v":""},null,"",null,"","",null,null,null,{"$f":"IFERROR(INDEX('1.2 Sub-Con Application'!$B$13:$U$1012,MATCH(1,('1.2 Sub-Con Application'!$B$13:$B$1012=B933)*('1.2 Sub-Con Application'!$U$13:$U$1012=\"Rejected\"),0),20),\"\")","v":""}]
[null,{"$f":"+IF(AND(ISBLANK(F934),ISBLANK(K934)),\"\",IF(AND(ISBLANK(F934),B933<>\"\"),B933,IF(COUNTIF($F$13:F933,F934)>0,B933,MAX($B$13:B933)+1)))","v":""},null,null,0,null,null,null,null,"Enter PC",null,"","",{"$f":"+IF(ISBLANK(K934),\"\",VLOOKUP(K934,'5.3 Schedule of Rates'!B:D,3,0))","v":""},null,"",null,"","",null,null,null,{"$f":"IFERROR(INDEX('1.2 Sub-Con Application'!$B$13:$U$1012,MATCH(1,('1.2 Sub-Con Application'!$B$13:$B$1012=B934)*('1.2 Sub-Con Application'!$U$13:$U$1012=\"Rejected\"),0),20),\"\")","v":""}]
[null,{"$f":"+IF(AND(ISBLANK(F935),ISBLANK(K935)),\"\",IF(AND(ISBLANK(F935),B934<>\"\"),B934,IF(COUNTIF($F$13:F934,F935)>0,B934,MAX($B$13:B934)+1)))","v":""},null,null,0,null,null,null,null,"Enter PC",null,"","",{"$f":"+IF(ISBLANK(K935),\"\",VLOOKUP(K935,'5.3 Schedule of Rates'!B:D,3,0))","v":""},null,"",null,"","",null,null,null,{"$f":"IFERROR(INDEX('1.2 Sub-Con Application'!$B$13:$U$1012,MATCH(1,('1.2 Sub-Con Application'!$B$13:$B$1012=B935)*('1.2 Sub-Con Application'!$U$13:$U$1012=\"Rejected\"),0),20),\"\")","v":""}]
[null,{"$f":"+IF(AND(ISBLANK(F936),ISBLANK(K936)),\"\",IF(AND(ISBLANK(F936),B935<>\"\"),B935,IF(COUNTIF($F$13:F935,F936)>0,B935,MAX($B$13:B935)+1)))","v":""},null,null,0,null,null,null,null,"Enter PC",null,"","",{"$f":"+IF(ISBLANK(K936),\"\",VLOOKUP(K936,'5.3 Schedule of Rates'!B:D,3,0))","v":""},null,"",null,"","",null,null,null,{"$f":"IFERROR(INDEX('1.2 Sub-Con Application'!$B$13:$U$1012,MATCH(1,('1.2 Sub-Con Application'!$B$13:$B$1012=B936)*('1.2 Sub-Con Application'!$U$13:$U$1012=\"Rejected\"),0),20),\"\")","v":""}]
[null,{"$f":"+IF(AND(ISBLANK(F937),ISBLANK(K937)),\"\",IF(AND(ISBLANK(F937),B936<>\"\"),B936,IF(COUNTIF($F$13:F936,F937)>0,B936,MAX($B$13:B936)+1)))","v":""},null,null,0,null,null,null,null,"Enter PC",null,"","",{"$f":"+IF(ISBLANK(K937),\"\",VLOOKUP(K937,'5.3 Schedule of Rates'!B:D,3,0))","v":""},null,"",null,"","",null,null,null,{"$f":"IFERROR(INDEX('1.2 Sub-Con Application'!$B$13:$U$1012,MATCH(1,('1.2 Sub-Con Application'!$B$13:$B$1012=B937)*('1.2 Sub-Con Application'!$U$13:$U$1012=\"Rejected\"),0),20),\"\")","v":""}]
[null,{"$f":"+IF(AND(ISBLANK(F938),ISBLANK(K938)),\"\",IF(AND(ISBLANK(F938),B937<>\"\"),B937,IF(COUNTIF($F$13:F937,F938)>0,B937,MAX($B$13:B937)+1)))","v":""},null,null,0,null,null,null,null,"Enter PC",null,"","",{"$f":"+IF(ISBLANK(K938),\"\",VLOOKUP(K938,'5.3 Schedule of Rates'!B:D,3,0))","v":""},null,"",null,"","",null,null,null,{"$f":"IFERROR(INDEX('1.2 Sub-Con Application'!$B$13:$U$1012,MATCH(1,('1.2 Sub-Con Application'!$B$13:$B$1012=B938)*('1.2 Sub-Con Application'!$U$13:$U$1012=\"Rejected\"),0),20),\"\")","v":""}]
[null,{"$f":"+IF(AND(ISBLANK(F939),ISBLANK(K939)),\"\",IF(AND(ISBLANK(F939),B938<>\"\"),B938,IF(COUNTIF($F$13:F938,F939)>0,B938,MAX($B$13:B938)+1)))","v":""},null,null,0,null,null,null,null,"Enter PC",null,"","",{"$f":"+IF(ISBLANK(K939),\"\",VLOOKUP(K939,'5.3 Schedule of Rates'!B:D,3,0))","v":""},null,"",null,"","",null,null,null,{"$f":"IFERROR(INDEX('1.2 Sub-Con Application'!$B$13:$U$1012,MATCH(1,('1.2 Sub-Con Application'!$B$13:$B$1012=B939)*('1.2 Sub-Con Application'!$U$13:$U$1012=\"Rejected\"),0),20),\"\")","v":""}]
[null,{"$f":"+IF(AND(ISBLANK(F940),ISBLANK(K940)),\"\",IF(AND(ISBLANK(F940),B939<>\"\"),B939,IF(COUNTIF($F$13:F939,F940)>0,B939,MAX($B$13:B939)+1)))","v":""},null,null,0,null,null,null,null,"Enter PC",null,"","",{"$f":"+IF(ISBLANK(K940),\"\",VLOOKUP(K940,'5.3 Schedule of Rates'!B:D,3,0))","v":""},null,"",null,"","",null,null,null,{"$f":"IFERROR(INDEX('1.2 Sub-Con Application'!$B$13:$U$1012,MATCH(1,('1.2 Sub-Con Application'!$B$13:$B$1012=B940)*('1.2 Sub-Con Application'!$U$13:$U$1012=\"Rejected\"),0),20),\"\")","v":""}]
[null,{"$f":"+IF(AND(ISBLANK(F941),ISBLANK(K941)),\"\",IF(AND(ISBLANK(F941),B940<>\"\"),B940,IF(COUNTIF($F$13:F940,F941)>0,B940,MAX($B$13:B940)+1)))","v":""},null,null,0,null,null,null,null,"Enter PC",null,"","",{"$f":"+IF(ISBLANK(K941),\"\",VLOOKUP(K941,'5.3 Schedule of Rates'!B:D,3,0))","v":""},null,"",null,"","",null,null,null,{"$f":"IFERROR(INDEX('1.2 Sub-Con Application'!$B$13:$U$1012,MATCH(1,('1.2 Sub-Con Application'!$B$13:$B$1012=B941)*('1.2 Sub-Con Application'!$U$13:$U$1012=\"Rejected\"),0),20),\"\")","v":""}]
[null,{"$f":"+IF(AND(ISBLANK(F942),ISBLANK(K942)),\"\",IF(AND(ISBLANK(F942),B941<>\"\"),B941,IF(COUNTIF($F$13:F941,F942)>0,B941,MAX($B$13:B941)+1)))","v":""},null,null,0,null,null,null,null,"Enter PC",null,"","",{"$f":"+IF(ISBLANK(K942),\"\",VLOOKUP(K942,'5.3 Schedule of Rates'!B:D,3,0))","v":""},null,"",null,"","",null,null,null,{"$f":"IFERROR(INDEX('1.2 Sub-Con Application'!$B$13:$U$1012,MATCH(1,('1.2 Sub-Con Application'!$B$13:$B$1012=B942)*('1.2 Sub-Con Application'!$U$13:$U$1012=\"Rejected\"),0),20),\"\")","v":""}]
[null,{"$f":"+IF(AND(ISBLANK(F943),ISBLANK(K943)),\"\",IF(AND(ISBLANK(F943),B942<>\"\"),B942,IF(COUNTIF($F$13:F942,F943)>0,B942,MAX($B$13:B942)+1)))","v":""},null,null,0,null,null,null,null,"Enter PC",null,"","",{"$f":"+IF(ISBLANK(K943),\"\",VLOOKUP(K943,'5.3 Schedule of Rates'!B:D,3,0))","v":""},null,"",null,"","",null,null,null,{"$f":"IFERROR(INDEX('1.2 Sub-Con Application'!$B$13:$U$1012,MATCH(1,('1.2 Sub-Con Application'!$B$13:$B$1012=B943)*('1.2 Sub-Con Application'!$U$13:$U$1012=\"Rejected\"),0),20),\"\")","v":""}]
[null,{"$f":"+IF(AND(ISBLANK(F944),ISBLANK(K944)),\"\",IF(AND(ISBLANK(F944),B943<>\"\"),B943,IF(COUNTIF($F$13:F943,F944)>0,B943,MAX($B$13:B943)+1)))","v":""},null,null,0,null,null,null,null,"Enter PC",null,"","",{"$f":"+IF(ISBLANK(K944),\"\",VLOOKUP(K944,'5.3 Schedule of Rates'!B:D,3,0))","v":""},null,"",null,"","",null,null,null,{"$f":"IFERROR(INDEX('1.2 Sub-Con Application'!$B$13:$U$1012,MATCH(1,('1.2 Sub-Con Application'!$B$13:$B$1012=B944)*('1.2 Sub-Con Application'!$U$13:$U$1012=\"Rejected\"),0),20),\"\")","v":""}]
[null,{"$f":"+IF(AND(ISBLANK(F945),ISBLANK(K945)),\"\",IF(AND(ISBLANK(F945),B944<>\"\"),B944,IF(COUNTIF($F$13:F944,F945)>0,B944,MAX($B$13:B944)+1)))","v":""},null,null,0,null,null,null,null,"Enter PC",null,"","",{"$f":"+IF(ISBLANK(K945),\"\",VLOOKUP(K945,'5.3 Schedule of Rates'!B:D,3,0))","v":""},null,"",null,"","",null,null,null,{"$f":"IFERROR(INDEX('1.2 Sub-Con Application'!$B$13:$U$1012,MATCH(1,('1.2 Sub-Con Application'!$B$13:$B$1012=B945)*('1.2 Sub-Con Application'!$U$13:$U$1012=\"Rejected\"),0),20),\"\")","v":""}]
[null,{"$f":"+IF(AND(ISBLANK(F946),ISBLANK(K946)),\"\",IF(AND(ISBLANK(F946),B945<>\"\"),B945,IF(COUNTIF($F$13:F945,F946)>0,B945,MAX($B$13:B945)+1)))","v":""},null,null,0,null,null,null,null,"Enter PC",null,"","",{"$f":"+IF(ISBLANK(K946),\"\",VLOOKUP(K946,'5.3 Schedule of Rates'!B:D,3,0))","v":""},null,"",null,"","",null,null,null,{"$f":"IFERROR(INDEX('1.2 Sub-Con Application'!$B$13:$U$1012,MATCH(1,('1.2 Sub-Con Application'!$B$13:$B$1012=B946)*('1.2 Sub-Con Application'!$U$13:$U$1012=\"Rejected\"),0),20),\"\")","v":""}]
[null,{"$f":"+IF(AND(ISBLANK(F947),ISBLANK(K947)),\"\",IF(AND(ISBLANK(F947),B946<>\"\"),B946,IF(COUNTIF($F$13:F946,F947)>0,B946,MAX($B$13:B946)+1)))","v":""},null,null,0,null,null,null,null,"Enter PC",null,"","",{"$f":"+IF(ISBLANK(K947),\"\",VLOOKUP(K947,'5.3 Schedule of Rates'!B:D,3,0))","v":""},null,"",null,"","",null,null,null,{"$f":"IFERROR(INDEX('1.2 Sub-Con Application'!$B$13:$U$1012,MATCH(1,('1.2 Sub-Con Application'!$B$13:$B$1012=B947)*('1.2 Sub-Con Application'!$U$13:$U$1012=\"Rejected\"),0),20),\"\")","v":""}]
[null,{"$f":"+IF(AND(ISBLANK(F948),ISBLANK(K948)),\"\",IF(AND(ISBLANK(F948),B947<>\"\"),B947,IF(COUNTIF($F$13:F947,F948)>0,B947,MAX($B$13:B947)+1)))","v":""},null,null,0,null,null,null,null,"Enter PC",null,"","",{"$f":"+IF(ISBLANK(K948),\"\",VLOOKUP(K948,'5.3 Schedule of Rates'!B:D,3,0))","v":""},null,"",null,"","",null,null,null,{"$f":"IFERROR(INDEX('1.2 Sub-Con Application'!$B$13:$U$1012,MATCH(1,('1.2 Sub-Con Application'!$B$13:$B$1012=B948)*('1.2 Sub-Con Application'!$U$13:$U$1012=\"Rejected\"),0),20),\"\")","v":""}]
[null,{"$f":"+IF(AND(ISBLANK(F949),ISBLANK(K949)),\"\",IF(AND(ISBLANK(F949),B948<>\"\"),B948,IF(COUNTIF($F$13:F948,F949)>0,B948,MAX($B$13:B948)+1)))","v":""},null,null,0,null,null,null,null,"Enter PC",null,"","",{"$f":"+IF(ISBLANK(K949),\"\",VLOOKUP(K949,'5.3 Schedule of Rates'!B:D,3,0))","v":""},null,"",null,"","",null,null,null,{"$f":"IFERROR(INDEX('1.2 Sub-Con Application'!$B$13:$U$1012,MATCH(1,('1.2 Sub-Con Application'!$B$13:$B$1012=B949)*('1.2 Sub-Con Application'!$U$13:$U$1012=\"Rejected\"),0),20),\"\")","v":""}]
[null,{"$f":"+IF(AND(ISBLANK(F950),ISBLANK(K950)),\"\",IF(AND(ISBLANK(F950),B949<>\"\"),B949,IF(COUNTIF($F$13:F949,F950)>0,B949,MAX($B$13:B949)+1)))","v":""},null,null,0,null,null,null,null,"Enter PC",null,"","",{"$f":"+IF(ISBLANK(K950),\"\",VLOOKUP(K950,'5.3 Schedule of Rates'!B:D,3,0))","v":""},null,"",null,"","",null,null,null,{"$f":"IFERROR(INDEX('1.2 Sub-Con Application'!$B$13:$U$1012,MATCH(1,('1.2 Sub-Con Application'!$B$13:$B$1012=B950)*('1.2 Sub-Con Application'!$U$13:$U$1012=\"Rejected\"),0),20),\"\")","v":""}]
[null,{"$f":"+IF(AND(ISBLANK(F951),ISBLANK(K951)),\"\",IF(AND(ISBLANK(F951),B950<>\"\"),B950,IF(COUNTIF($F$13:F950,F951)>0,B950,MAX($B$13:B950)+1)))","v":""},null,null,0,null,null,null,null,"Enter PC",null,"","",{"$f":"+IF(ISBLANK(K951),\"\",VLOOKUP(K951,'5.3 Schedule of Rates'!B:D,3,0))","v":""},null,"",null,"","",null,null,null,{"$f":"IFERROR(INDEX('1.2 Sub-Con Application'!$B$13:$U$1012,MATCH(1,('1.2 Sub-Con Application'!$B$13:$B$1012=B951)*('1.2 Sub-Con Application'!$U$13:$U$1012=\"Rejected\"),0),20),\"\")","v":""}]
[null,{"$f":"+IF(AND(ISBLANK(F952),ISBLANK(K952)),\"\",IF(AND(ISBLANK(F952),B951<>\"\"),B951,IF(COUNTIF($F$13:F951,F952)>0,B951,MAX($B$13:B951)+1)))","v":""},null,null,0,null,null,null,null,"Enter PC",null,"","",{"$f":"+IF(ISBLANK(K952),\"\",VLOOKUP(K952,'5.3 Schedule of Rates'!B:D,3,0))","v":""},null,"",null,"","",null,null,null,{"$f":"IFERROR(INDEX('1.2 Sub-Con Application'!$B$13:$U$1012,MATCH(1,('1.2 Sub-Con Application'!$B$13:$B$1012=B952)*('1.2 Sub-Con Application'!$U$13:$U$1012=\"Rejected\"),0),20),\"\")","v":""}]
[null,{"$f":"+IF(AND(ISBLANK(F953),ISBLANK(K953)),\"\",IF(AND(ISBLANK(F953),B952<>\"\"),B952,IF(COUNTIF($F$13:F952,F953)>0,B952,MAX($B$13:B952)+1)))","v":""},null,null,0,null,null,null,null,"Enter PC",null,"","",{"$f":"+IF(ISBLANK(K953),\"\",VLOOKUP(K953,'5.3 Schedule of Rates'!B:D,3,0))","v":""},null,"",null,"","",null,null,null,{"$f":"IFERROR(INDEX('1.2 Sub-Con Application'!$B$13:$U$1012,MATCH(1,('1.2 Sub-Con Application'!$B$13:$B$1012=B953)*('1.2 Sub-Con Application'!$U$13:$U$1012=\"Rejected\"),0),20),\"\")","v":""}]
[null,{"$f":"+IF(AND(ISBLANK(F954),ISBLANK(K954)),\"\",IF(AND(ISBLANK(F954),B953<>\"\"),B953,IF(COUNTIF($F$13:F953,F954)>0,B953,MAX($B$13:B953)+1)))","v":""},null,null,0,null,null,null,null,"Enter PC",null,"","",{"$f":"+IF(ISBLANK(K954),\"\",VLOOKUP(K954,'5.3 Schedule of Rates'!B:D,3,0))","v":""},null,"",null,"","",null,null,null,{"$f":"IFERROR(INDEX('1.2 Sub-Con Application'!$B$13:$U$1012,MATCH(1,('1.2 Sub-Con Application'!$B$13:$B$1012=B954)*('1.2 Sub-Con Application'!$U$13:$U$1012=\"Rejected\"),0),20),\"\")","v":""}]
[null,{"$f":"+IF(AND(ISBLANK(F955),ISBLANK(K955)),\"\",IF(AND(ISBLANK(F955),B954<>\"\"),B954,IF(COUNTIF($F$13:F954,F955)>0,B954,MAX($B$13:B954)+1)))","v":""},null,null,0,null,null,null,null,"Enter PC",null,"","",{"$f":"+IF(ISBLANK(K955),\"\",VLOOKUP(K955,'5.3 Schedule of Rates'!B:D,3,0))","v":""},null,"",null,"","",null,null,null,{"$f":"IFERROR(INDEX('1.2 Sub-Con Application'!$B$13:$U$1012,MATCH(1,('1.2 Sub-Con Application'!$B$13:$B$1012=B955)*('1.2 Sub-Con Application'!$U$13:$U$1012=\"Rejected\"),0),20),\"\")","v":""}]
[null,{"$f":"+IF(AND(ISBLANK(F956),ISBLANK(K956)),\"\",IF(AND(ISBLANK(F956),B955<>\"\"),B955,IF(COUNTIF($F$13:F955,F956)>0,B955,MAX($B$13:B955)+1)))","v":""},null,null,0,null,null,null,null,"Enter PC",null,"","",{"$f":"+IF(ISBLANK(K956),\"\",VLOOKUP(K956,'5.3 Schedule of Rates'!B:D,3,0))","v":""},null,"",null,"","",null,null,null,{"$f":"IFERROR(INDEX('1.2 Sub-Con Application'!$B$13:$U$1012,MATCH(1,('1.2 Sub-Con Application'!$B$13:$B$1012=B956)*('1.2 Sub-Con Application'!$U$13:$U$1012=\"Rejected\"),0),20),\"\")","v":""}]
[null,{"$f":"+IF(AND(ISBLANK(F957),ISBLANK(K957)),\"\",IF(AND(ISBLANK(F957),B956<>\"\"),B956,IF(COUNTIF($F$13:F956,F957)>0,B956,MAX($B$13:B956)+1)))","v":""},null,null,0,null,null,null,null,"Enter PC",null,"","",{"$f":"+IF(ISBLANK(K957),\"\",VLOOKUP(K957,'5.3 Schedule of Rates'!B:D,3,0))","v":""},null,"",null,"","",null,null,null,{"$f":"IFERROR(INDEX('1.2 Sub-Con Application'!$B$13:$U$1012,MATCH(1,('1.2 Sub-Con Application'!$B$13:$B$1012=B957)*('1.2 Sub-Con Application'!$U$13:$U$1012=\"Rejected\"),0),20),\"\")","v":""}]
[null,{"$f":"+IF(AND(ISBLANK(F958),ISBLANK(K958)),\"\",IF(AND(ISBLANK(F958),B957<>\"\"),B957,IF(COUNTIF($F$13:F957,F958)>0,B957,MAX($B$13:B957)+1)))","v":""},null,null,0,null,null,null,null,"Enter PC",null,"","",{"$f":"+IF(ISBLANK(K958),\"\",VLOOKUP(K958,'5.3 Schedule of Rates'!B:D,3,0))","v":""},null,"",null,"","",null,null,null,{"$f":"IFERROR(INDEX('1.2 Sub-Con Application'!$B$13:$U$1012,MATCH(1,('1.2 Sub-Con Application'!$B$13:$B$1012=B958)*('1.2 Sub-Con Application'!$U$13:$U$1012=\"Rejected\"),0),20),\"\")","v":""}]
[null,{"$f":"+IF(AND(ISBLANK(F959),ISBLANK(K959)),\"\",IF(AND(ISBLANK(F959),B958<>\"\"),B958,IF(COUNTIF($F$13:F958,F959)>0,B958,MAX($B$13:B958)+1)))","v":""},null,null,{"$f":"NETWORKDAYS(C959,D959)","v":0},null,null,null,null,"Enter PC",null,"","",{"$f":"+IF(ISBLANK(K959),\"\",VLOOKUP(K959,'5.3 Schedule of Rates'!B:D,3,0))","v":""},null,"",null,"",{"$f":"IF(ISERROR(SUM(P959-R959)),\"\",SUM(P959-R959))","v":""},null,null,null,{"$f":"IFERROR(INDEX('1.2 Sub-Con Application'!$B$13:$U$1012,MATCH(1,('1.2 Sub-Con Application'!$B$13:$B$1012=B959)*('1.2 Sub-Con Application'!$U$13:$U$1012=\"Rejected\"),0),20),\"\")","v":""}]
[null,{"$f":"+IF(AND(ISBLANK(F960),ISBLANK(K960)),\"\",IF(AND(ISBLANK(F960),B959<>\"\"),B959,IF(COUNTIF($F$13:F959,F960)>0,B959,MAX($B$13:B959)+1)))","v":""},null,null,0,null,null,null,null,"Enter PC",null,"","",{"$f":"+IF(ISBLANK(K960),\"\",VLOOKUP(K960,'5.3 Schedule of Rates'!B:D,3,0))","v":""},null,"",null,"","",null,null,null,{"$f":"IFERROR(INDEX('1.2 Sub-Con Application'!$B$13:$U$1012,MATCH(1,('1.2 Sub-Con Application'!$B$13:$B$1012=B960)*('1.2 Sub-Con Application'!$U$13:$U$1012=\"Rejected\"),0),20),\"\")","v":""}]
[null,{"$f":"+IF(AND(ISBLANK(F961),ISBLANK(K961)),\"\",IF(AND(ISBLANK(F961),B960<>\"\"),B960,IF(COUNTIF($F$13:F960,F961)>0,B960,MAX($B$13:B960)+1)))","v":""},null,null,0,null,null,null,null,"Enter PC",null,"","",{"$f":"+IF(ISBLANK(K961),\"\",VLOOKUP(K961,'5.3 Schedule of Rates'!B:D,3,0))","v":""},null,"",null,"","",null,null,null,{"$f":"IFERROR(INDEX('1.2 Sub-Con Application'!$B$13:$U$1012,MATCH(1,('1.2 Sub-Con Application'!$B$13:$B$1012=B961)*('1.2 Sub-Con Application'!$U$13:$U$1012=\"Rejected\"),0),20),\"\")","v":""}]
[null,{"$f":"+IF(AND(ISBLANK(F962),ISBLANK(K962)),\"\",IF(AND(ISBLANK(F962),B961<>\"\"),B961,IF(COUNTIF($F$13:F961,F962)>0,B961,MAX($B$13:B961)+1)))","v":""},null,null,0,null,null,null,null,"Enter PC",null,"","",{"$f":"+IF(ISBLANK(K962),\"\",VLOOKUP(K962,'5.3 Schedule of Rates'!B:D,3,0))","v":""},null,"",null,"","",null,null,null,{"$f":"IFERROR(INDEX('1.2 Sub-Con Application'!$B$13:$U$1012,MATCH(1,('1.2 Sub-Con Application'!$B$13:$B$1012=B962)*('1.2 Sub-Con Application'!$U$13:$U$1012=\"Rejected\"),0),20),\"\")","v":""}]
[null,{"$f":"+IF(AND(ISBLANK(F963),ISBLANK(K963)),\"\",IF(AND(ISBLANK(F963),B962<>\"\"),B962,IF(COUNTIF($F$13:F962,F963)>0,B962,MAX($B$13:B962)+1)))","v":""},null,null,0,null,null,null,null,"Enter PC",null,"","",{"$f":"+IF(ISBLANK(K963),\"\",VLOOKUP(K963,'5.3 Schedule of Rates'!B:D,3,0))","v":""},null,"",null,"","",null,null,null,{"$f":"IFERROR(INDEX('1.2 Sub-Con Application'!$B$13:$U$1012,MATCH(1,('1.2 Sub-Con Application'!$B$13:$B$1012=B963)*('1.2 Sub-Con Application'!$U$13:$U$1012=\"Rejected\"),0),20),\"\")","v":""}]
[null,{"$f":"+IF(AND(ISBLANK(F964),ISBLANK(K964)),\"\",IF(AND(ISBLANK(F964),B963<>\"\"),B963,IF(COUNTIF($F$13:F963,F964)>0,B963,MAX($B$13:B963)+1)))","v":""},null,null,0,null,null,null,null,"Enter PC",null,"","",{"$f":"+IF(ISBLANK(K964),\"\",VLOOKUP(K964,'5.3 Schedule of Rates'!B:D,3,0))","v":""},null,"",null,"","",null,null,null,{"$f":"IFERROR(INDEX('1.2 Sub-Con Application'!$B$13:$U$1012,MATCH(1,('1.2 Sub-Con Application'!$B$13:$B$1012=B964)*('1.2 Sub-Con Application'!$U$13:$U$1012=\"Rejected\"),0),20),\"\")","v":""}]
[null,{"$f":"+IF(AND(ISBLANK(F965),ISBLANK(K965)),\"\",IF(AND(ISBLANK(F965),B964<>\"\"),B964,IF(COUNTIF($F$13:F964,F965)>0,B964,MAX($B$13:B964)+1)))","v":""},null,null,0,null,null,null,null,"Enter PC",null,"","",{"$f":"+IF(ISBLANK(K965),\"\",VLOOKUP(K965,'5.3 Schedule of Rates'!B:D,3,0))","v":""},null,"",null,"","",null,null,null,{"$f":"IFERROR(INDEX('1.2 Sub-Con Application'!$B$13:$U$1012,MATCH(1,('1.2 Sub-Con Application'!$B$13:$B$1012=B965)*('1.2 Sub-Con Application'!$U$13:$U$1012=\"Rejected\"),0),20),\"\")","v":""}]
[null,{"$f":"+IF(AND(ISBLANK(F966),ISBLANK(K966)),\"\",IF(AND(ISBLANK(F966),B965<>\"\"),B965,IF(COUNTIF($F$13:F965,F966)>0,B965,MAX($B$13:B965)+1)))","v":""},null,null,0,null,null,null,null,"Enter PC",null,"","",{"$f":"+IF(ISBLANK(K966),\"\",VLOOKUP(K966,'5.3 Schedule of Rates'!B:D,3,0))","v":""},null,"",null,"","",null,null,null,{"$f":"IFERROR(INDEX('1.2 Sub-Con Application'!$B$13:$U$1012,MATCH(1,('1.2 Sub-Con Application'!$B$13:$B$1012=B966)*('1.2 Sub-Con Application'!$U$13:$U$1012=\"Rejected\"),0),20),\"\")","v":""}]
[null,{"$f":"+IF(AND(ISBLANK(F967),ISBLANK(K967)),\"\",IF(AND(ISBLANK(F967),B966<>\"\"),B966,IF(COUNTIF($F$13:F966,F967)>0,B966,MAX($B$13:B966)+1)))","v":""},null,null,0,null,null,null,null,"Enter PC",null,"","",{"$f":"+IF(ISBLANK(K967),\"\",VLOOKUP(K967,'5.3 Schedule of Rates'!B:D,3,0))","v":""},null,"",null,"","",null,null,null,{"$f":"IFERROR(INDEX('1.2 Sub-Con Application'!$B$13:$U$1012,MATCH(1,('1.2 Sub-Con Application'!$B$13:$B$1012=B967)*('1.2 Sub-Con Application'!$U$13:$U$1012=\"Rejected\"),0),20),\"\")","v":""}]
[null,{"$f":"+IF(AND(ISBLANK(F968),ISBLANK(K968)),\"\",IF(AND(ISBLANK(F968),B967<>\"\"),B967,IF(COUNTIF($F$13:F967,F968)>0,B967,MAX($B$13:B967)+1)))","v":""},null,null,0,null,null,null,null,"Enter PC",null,"","",{"$f":"+IF(ISBLANK(K968),\"\",VLOOKUP(K968,'5.3 Schedule of Rates'!B:D,3,0))","v":""},null,"",null,"","",null,null,null,{"$f":"IFERROR(INDEX('1.2 Sub-Con Application'!$B$13:$U$1012,MATCH(1,('1.2 Sub-Con Application'!$B$13:$B$1012=B968)*('1.2 Sub-Con Application'!$U$13:$U$1012=\"Rejected\"),0),20),\"\")","v":""}]
[null,{"$f":"+IF(AND(ISBLANK(F969),ISBLANK(K969)),\"\",IF(AND(ISBLANK(F969),B968<>\"\"),B968,IF(COUNTIF($F$13:F968,F969)>0,B968,MAX($B$13:B968)+1)))","v":""},null,null,0,null,null,null,null,"Enter PC",null,"","",{"$f":"+IF(ISBLANK(K969),\"\",VLOOKUP(K969,'5.3 Schedule of Rates'!B:D,3,0))","v":""},null,"",null,"","",null,null,null,{"$f":"IFERROR(INDEX('1.2 Sub-Con Application'!$B$13:$U$1012,MATCH(1,('1.2 Sub-Con Application'!$B$13:$B$1012=B969)*('1.2 Sub-Con Application'!$U$13:$U$1012=\"Rejected\"),0),20),\"\")","v":""}]
[null,{"$f":"+IF(AND(ISBLANK(F970),ISBLANK(K970)),\"\",IF(AND(ISBLANK(F970),B969<>\"\"),B969,IF(COUNTIF($F$13:F969,F970)>0,B969,MAX($B$13:B969)+1)))","v":""},null,null,0,null,null,null,null,"Enter PC",null,"","",{"$f":"+IF(ISBLANK(K970),\"\",VLOOKUP(K970,'5.3 Schedule of Rates'!B:D,3,0))","v":""},null,"",null,"","",null,null,null,{"$f":"IFERROR(INDEX('1.2 Sub-Con Application'!$B$13:$U$1012,MATCH(1,('1.2 Sub-Con Application'!$B$13:$B$1012=B970)*('1.2 Sub-Con Application'!$U$13:$U$1012=\"Rejected\"),0),20),\"\")","v":""}]
[null,{"$f":"+IF(AND(ISBLANK(F971),ISBLANK(K971)),\"\",IF(AND(ISBLANK(F971),B970<>\"\"),B970,IF(COUNTIF($F$13:F970,F971)>0,B970,MAX($B$13:B970)+1)))","v":""},null,null,0,null,null,null,null,"Enter PC",null,"","",{"$f":"+IF(ISBLANK(K971),\"\",VLOOKUP(K971,'5.3 Schedule of Rates'!B:D,3,0))","v":""},null,"",null,"","",null,null,null,{"$f":"IFERROR(INDEX('1.2 Sub-Con Application'!$B$13:$U$1012,MATCH(1,('1.2 Sub-Con Application'!$B$13:$B$1012=B971)*('1.2 Sub-Con Application'!$U$13:$U$1012=\"Rejected\"),0),20),\"\")","v":""}]
[null,{"$f":"+IF(AND(ISBLANK(F972),ISBLANK(K972)),\"\",IF(AND(ISBLANK(F972),B971<>\"\"),B971,IF(COUNTIF($F$13:F971,F972)>0,B971,MAX($B$13:B971)+1)))","v":""},null,null,0,null,null,null,null,"Enter PC",null,"","",{"$f":"+IF(ISBLANK(K972),\"\",VLOOKUP(K972,'5.3 Schedule of Rates'!B:D,3,0))","v":""},null,"",null,"","",null,null,null,{"$f":"IFERROR(INDEX('1.2 Sub-Con Application'!$B$13:$U$1012,MATCH(1,('1.2 Sub-Con Application'!$B$13:$B$1012=B972)*('1.2 Sub-Con Application'!$U$13:$U$1012=\"Rejected\"),0),20),\"\")","v":""}]
[null,{"$f":"+IF(AND(ISBLANK(F973),ISBLANK(K973)),\"\",IF(AND(ISBLANK(F973),B972<>\"\"),B972,IF(COUNTIF($F$13:F972,F973)>0,B972,MAX($B$13:B972)+1)))","v":""},null,null,0,null,null,null,null,{"$f":"IFERROR(IF(I973=\"\",\"Enter PC\",VLOOKUP(IF(LEN(I973)=6,LEFT(I973,2),IF(LEN(I973)=7,LEFT(I973,3),LEFT(I973,4))),table_pcRegion,2,FALSE)=work_Region),\"INVALID\")","v":"Enter PC"},null,{"$f":"+IF(ISBLANK(K973),\"\",VLOOKUP(K973,table_SoR,2,0))","v":""},{"$f":"+IF(ISBLANK(K973),\"\",INDEX(table_subconSoR,MATCH(L973,row_SoR,0),MATCH($H$4,col_SoR,0)))","v":""},{"$f":"+IF(ISBLANK(K973),\"\",VLOOKUP(K973,'5.3 Schedule of Rates'!B:D,3,0))","v":""},null,{"$f":"+IF(ISBLANK($O973),\"\",ROUND(SUM(SUM(VLOOKUP($K973,table_SoR,6,0)*(1+$M973))*O973),2))","v":""},null,{"$f":"+IF(ISBLANK($O973),\"\",ROUND(IF(Q973>0,Q973,SUM(SUM(VLOOKUP($K973,table_SoR,7,0)*(1+$M973))*O973)),2))","v":""},"",null,null,null,{"$f":"IFERROR(INDEX('1.2 Sub-Con Application'!$B$13:$U$1012,MATCH(1,('1.2 Sub-Con Application'!$B$13:$B$1012=B973)*('1.2 Sub-Con Application'!$U$13:$U$1012=\"Rejected\"),0),20),\"\")","v":""}]
[null,{"$f":"+IF(AND(ISBLANK(F974),ISBLANK(K974)),\"\",IF(AND(ISBLANK(F974),B973<>\"\"),B973,IF(COUNTIF($F$13:F973,F974)>0,B973,MAX($B$13:B973)+1)))","v":""},null,null,0,null,null,null,null,"Enter PC",null,"","",{"$f":"+IF(ISBLANK(K974),\"\",VLOOKUP(K974,'5.3 Schedule of Rates'!B:D,3,0))","v":""},null,"",null,"","",null,null,null,{"$f":"IFERROR(INDEX('1.2 Sub-Con Application'!$B$13:$U$1012,MATCH(1,('1.2 Sub-Con Application'!$B$13:$B$1012=B974)*('1.2 Sub-Con Application'!$U$13:$U$1012=\"Rejected\"),0),20),\"\")","v":""}]
[null,{"$f":"+IF(AND(ISBLANK(F975),ISBLANK(K975)),\"\",IF(AND(ISBLANK(F975),B974<>\"\"),B974,IF(COUNTIF($F$13:F974,F975)>0,B974,MAX($B$13:B974)+1)))","v":""},null,null,0,null,null,null,null,"Enter PC",null,"","",{"$f":"+IF(ISBLANK(K975),\"\",VLOOKUP(K975,'5.3 Schedule of Rates'!B:D,3,0))","v":""},null,"",null,"","",null,null,null,{"$f":"IFERROR(INDEX('1.2 Sub-Con Application'!$B$13:$U$1012,MATCH(1,('1.2 Sub-Con Application'!$B$13:$B$1012=B975)*('1.2 Sub-Con Application'!$U$13:$U$1012=\"Rejected\"),0),20),\"\")","v":""}]
[null,{"$f":"+IF(AND(ISBLANK(F976),ISBLANK(K976)),\"\",IF(AND(ISBLANK(F976),B975<>\"\"),B975,IF(COUNTIF($F$13:F975,F976)>0,B975,MAX($B$13:B975)+1)))","v":""},null,null,0,null,null,null,null,"Enter PC",null,"","",{"$f":"+IF(ISBLANK(K976),\"\",VLOOKUP(K976,'5.3 Schedule of Rates'!B:D,3,0))","v":""},null,"",null,"","",null,null,null,{"$f":"IFERROR(INDEX('1.2 Sub-Con Application'!$B$13:$U$1012,MATCH(1,('1.2 Sub-Con Application'!$B$13:$B$1012=B976)*('1.2 Sub-Con Application'!$U$13:$U$1012=\"Rejected\"),0),20),\"\")","v":""}]
[null,{"$f":"+IF(AND(ISBLANK(F977),ISBLANK(K977)),\"\",IF(AND(ISBLANK(F977),B976<>\"\"),B976,IF(COUNTIF($F$13:F976,F977)>0,B976,MAX($B$13:B976)+1)))","v":""},null,null,0,null,null,null,null,"Enter PC",null,"","",{"$f":"+IF(ISBLANK(K977),\"\",VLOOKUP(K977,'5.3 Schedule of Rates'!B:D,3,0))","v":""},null,"",null,"","",null,null,null,{"$f":"IFERROR(INDEX('1.2 Sub-Con Application'!$B$13:$U$1012,MATCH(1,('1.2 Sub-Con Application'!$B$13:$B$1012=B977)*('1.2 Sub-Con Application'!$U$13:$U$1012=\"Rejected\"),0),20),\"\")","v":""}]
[null,{"$f":"+IF(AND(ISBLANK(F978),ISBLANK(K978)),\"\",IF(AND(ISBLANK(F978),B977<>\"\"),B977,IF(COUNTIF($F$13:F977,F978)>0,B977,MAX($B$13:B977)+1)))","v":""},null,null,0,null,null,null,null,"Enter PC",null,"","",{"$f":"+IF(ISBLANK(K978),\"\",VLOOKUP(K978,'5.3 Schedule of Rates'!B:D,3,0))","v":""},null,"",null,"","",null,null,null,{"$f":"IFERROR(INDEX('1.2 Sub-Con Application'!$B$13:$U$1012,MATCH(1,('1.2 Sub-Con Application'!$B$13:$B$1012=B978)*('1.2 Sub-Con Application'!$U$13:$U$1012=\"Rejected\"),0),20),\"\")","v":""}]
[null,{"$f":"+IF(AND(ISBLANK(F979),ISBLANK(K979)),\"\",IF(AND(ISBLANK(F979),B978<>\"\"),B978,IF(COUNTIF($F$13:F978,F979)>0,B978,MAX($B$13:B978)+1)))","v":""},null,null,0,null,null,null,null,"Enter PC",null,"","",{"$f":"+IF(ISBLANK(K979),\"\",VLOOKUP(K979,'5.3 Schedule of Rates'!B:D,3,0))","v":""},null,"",null,"","",null,null,null,{"$f":"IFERROR(INDEX('1.2 Sub-Con Application'!$B$13:$U$1012,MATCH(1,('1.2 Sub-Con Application'!$B$13:$B$1012=B979)*('1.2 Sub-Con Application'!$U$13:$U$1012=\"Rejected\"),0),20),\"\")","v":""}]
[null,{"$f":"+IF(AND(ISBLANK(F980),ISBLANK(K980)),\"\",IF(AND(ISBLANK(F980),B979<>\"\"),B979,IF(COUNTIF($F$13:F979,F980)>0,B979,MAX($B$13:B979)+1)))","v":""},null,null,0,null,null,null,null,"Enter PC",null,"","",{"$f":"+IF(ISBLANK(K980),\"\",VLOOKUP(K980,'5.3 Schedule of Rates'!B:D,3,0))","v":""},null,"",null,"","",null,null,null,{"$f":"IFERROR(INDEX('1.2 Sub-Con Application'!$B$13:$U$1012,MATCH(1,('1.2 Sub-Con Application'!$B$13:$B$1012=B980)*('1.2 Sub-Con Application'!$U$13:$U$1012=\"Rejected\"),0),20),\"\")","v":""}]
[null,{"$f":"+IF(AND(ISBLANK(F981),ISBLANK(K981)),\"\",IF(AND(ISBLANK(F981),B980<>\"\"),B980,IF(COUNTIF($F$13:F980,F981)>0,B980,MAX($B$13:B980)+1)))","v":""},null,null,0,null,null,null,null,"Enter PC",null,"","",{"$f":"+IF(ISBLANK(K981),\"\",VLOOKUP(K981,'5.3 Schedule of Rates'!B:D,3,0))","v":""},null,"",null,"","",null,null,null,{"$f":"IFERROR(INDEX('1.2 Sub-Con Application'!$B$13:$U$1012,MATCH(1,('1.2 Sub-Con Application'!$B$13:$B$1012=B981)*('1.2 Sub-Con Application'!$U$13:$U$1012=\"Rejected\"),0),20),\"\")","v":""}]
[null,{"$f":"+IF(AND(ISBLANK(F982),ISBLANK(K982)),\"\",IF(AND(ISBLANK(F982),B981<>\"\"),B981,IF(COUNTIF($F$13:F981,F982)>0,B981,MAX($B$13:B981)+1)))","v":""},null,null,0,null,null,null,null,"Enter PC",null,"","",{"$f":"+IF(ISBLANK(K982),\"\",VLOOKUP(K982,'5.3 Schedule of Rates'!B:D,3,0))","v":""},null,"",null,"","",null,null,null,{"$f":"IFERROR(INDEX('1.2 Sub-Con Application'!$B$13:$U$1012,MATCH(1,('1.2 Sub-Con Application'!$B$13:$B$1012=B982)*('1.2 Sub-Con Application'!$U$13:$U$1012=\"Rejected\"),0),20),\"\")","v":""}]
[null,{"$f":"+IF(AND(ISBLANK(F983),ISBLANK(K983)),\"\",IF(AND(ISBLANK(F983),B982<>\"\"),B982,IF(COUNTIF($F$13:F982,F983)>0,B982,MAX($B$13:B982)+1)))","v":""},null,null,0,null,null,null,null,"Enter PC",null,"","",{"$f":"+IF(ISBLANK(K983),\"\",VLOOKUP(K983,'5.3 Schedule of Rates'!B:D,3,0))","v":""},null,"",null,"","",null,null,null,{"$f":"IFERROR(INDEX('1.2 Sub-Con Application'!$B$13:$U$1012,MATCH(1,('1.2 Sub-Con Application'!$B$13:$B$1012=B983)*('1.2 Sub-Con Application'!$U$13:$U$1012=\"Rejected\"),0),20),\"\")","v":""}]
[null,{"$f":"+IF(AND(ISBLANK(F984),ISBLANK(K984)),\"\",IF(AND(ISBLANK(F984),B983<>\"\"),B983,IF(COUNTIF($F$13:F983,F984)>0,B983,MAX($B$13:B983)+1)))","v":""},null,null,0,null,null,null,null,"Enter PC",null,"","",{"$f":"+IF(ISBLANK(K984),\"\",VLOOKUP(K984,'5.3 Schedule of Rates'!B:D,3,0))","v":""},null,"",null,"","",null,null,null,{"$f":"IFERROR(INDEX('1.2 Sub-Con Application'!$B$13:$U$1012,MATCH(1,('1.2 Sub-Con Application'!$B$13:$B$1012=B984)*('1.2 Sub-Con Application'!$U$13:$U$1012=\"Rejected\"),0),20),\"\")","v":""}]
[null,{"$f":"+IF(AND(ISBLANK(F985),ISBLANK(K985)),\"\",IF(AND(ISBLANK(F985),B984<>\"\"),B984,IF(COUNTIF($F$13:F984,F985)>0,B984,MAX($B$13:B984)+1)))","v":""},null,null,0,null,null,null,null,"Enter PC",null,"","",{"$f":"+IF(ISBLANK(K985),\"\",VLOOKUP(K985,'5.3 Schedule of Rates'!B:D,3,0))","v":""},null,"",null,"","",null,null,null,{"$f":"IFERROR(INDEX('1.2 Sub-Con Application'!$B$13:$U$1012,MATCH(1,('1.2 Sub-Con Application'!$B$13:$B$1012=B985)*('1.2 Sub-Con Application'!$U$13:$U$1012=\"Rejected\"),0),20),\"\")","v":""}]
[null,{"$f":"+IF(AND(ISBLANK(F986),ISBLANK(K986)),\"\",IF(AND(ISBLANK(F986),B985<>\"\"),B985,IF(COUNTIF($F$13:F985,F986)>0,B985,MAX($B$13:B985)+1)))","v":""},null,null,0,null,null,null,null,"Enter PC",null,"","",{"$f":"+IF(ISBLANK(K986),\"\",VLOOKUP(K986,'5.3 Schedule of Rates'!B:D,3,0))","v":""},null,"",null,"","",null,null,null,{"$f":"IFERROR(INDEX('1.2 Sub-Con Application'!$B$13:$U$1012,MATCH(1,('1.2 Sub-Con Application'!$B$13:$B$1012=B986)*('1.2 Sub-Con Application'!$U$13:$U$1012=\"Rejected\"),0),20),\"\")","v":""}]
[null,{"$f":"+IF(AND(ISBLANK(F987),ISBLANK(K987)),\"\",IF(AND(ISBLANK(F987),B986<>\"\"),B986,IF(COUNTIF($F$13:F986,F987)>0,B986,MAX($B$13:B986)+1)))","v":""},null,null,0,null,null,null,null,"Enter PC",null,"","",{"$f":"+IF(ISBLANK(K987),\"\",VLOOKUP(K987,'5.3 Schedule of Rates'!B:D,3,0))","v":""},null,"",null,"","",null,null,null,{"$f":"IFERROR(INDEX('1.2 Sub-Con Application'!$B$13:$U$1012,MATCH(1,('1.2 Sub-Con Application'!$B$13:$B$1012=B987)*('1.2 Sub-Con Application'!$U$13:$U$1012=\"Rejected\"),0),20),\"\")","v":""}]
[null,{"$f":"+IF(AND(ISBLANK(F988),ISBLANK(K988)),\"\",IF(AND(ISBLANK(F988),B987<>\"\"),B987,IF(COUNTIF($F$13:F987,F988)>0,B987,MAX($B$13:B987)+1)))","v":""},null,null,0,null,null,null,null,"Enter PC",null,"","",{"$f":"+IF(ISBLANK(K988),\"\",VLOOKUP(K988,'5.3 Schedule of Rates'!B:D,3,0))","v":""},null,"",null,"","",null,null,null,{"$f":"IFERROR(INDEX('1.2 Sub-Con Application'!$B$13:$U$1012,MATCH(1,('1.2 Sub-Con Application'!$B$13:$B$1012=B988)*('1.2 Sub-Con Application'!$U$13:$U$1012=\"Rejected\"),0),20),\"\")","v":""}]
[null,{"$f":"+IF(AND(ISBLANK(F989),ISBLANK(K989)),\"\",IF(AND(ISBLANK(F989),B988<>\"\"),B988,IF(COUNTIF($F$13:F988,F989)>0,B988,MAX($B$13:B988)+1)))","v":""},null,null,0,null,null,null,null,"Enter PC",null,"","",{"$f":"+IF(ISBLANK(K989),\"\",VLOOKUP(K989,'5.3 Schedule of Rates'!B:D,3,0))","v":""},null,"",null,"","",null,null,null,{"$f":"IFERROR(INDEX('1.2 Sub-Con Application'!$B$13:$U$1012,MATCH(1,('1.2 Sub-Con Application'!$B$13:$B$1012=B989)*('1.2 Sub-Con Application'!$U$13:$U$1012=\"Rejected\"),0),20),\"\")","v":""}]
[null,{"$f":"+IF(AND(ISBLANK(F990),ISBLANK(K990)),\"\",IF(AND(ISBLANK(F990),B989<>\"\"),B989,IF(COUNTIF($F$13:F989,F990)>0,B989,MAX($B$13:B989)+1)))","v":""},null,null,0,null,null,null,null,"Enter PC",null,"","",{"$f":"+IF(ISBLANK(K990),\"\",VLOOKUP(K990,'5.3 Schedule of Rates'!B:D,3,0))","v":""},null,"",null,"","",null,null,null,{"$f":"IFERROR(INDEX('1.2 Sub-Con Application'!$B$13:$U$1012,MATCH(1,('1.2 Sub-Con Application'!$B$13:$B$1012=B990)*('1.2 Sub-Con Application'!$U$13:$U$1012=\"Rejected\"),0),20),\"\")","v":""}]
[null,{"$f":"+IF(AND(ISBLANK(F991),ISBLANK(K991)),\"\",IF(AND(ISBLANK(F991),B990<>\"\"),B990,IF(COUNTIF($F$13:F990,F991)>0,B990,MAX($B$13:B990)+1)))","v":""},null,null,0,null,null,null,null,"Enter PC",null,"","",{"$f":"+IF(ISBLANK(K991),\"\",VLOOKUP(K991,'5.3 Schedule of Rates'!B:D,3,0))","v":""},null,"",null,"","",null,null,null,{"$f":"IFERROR(INDEX('1.2 Sub-Con Application'!$B$13:$U$1012,MATCH(1,('1.2 Sub-Con Application'!$B$13:$B$1012=B991)*('1.2 Sub-Con Application'!$U$13:$U$1012=\"Rejected\"),0),20),\"\")","v":""}]
[null,{"$f":"+IF(AND(ISBLANK(F992),ISBLANK(K992)),\"\",IF(AND(ISBLANK(F992),B991<>\"\"),B991,IF(COUNTIF($F$13:F991,F992)>0,B991,MAX($B$13:B991)+1)))","v":""},null,null,0,null,null,null,null,"Enter PC",null,"","",{"$f":"+IF(ISBLANK(K992),\"\",VLOOKUP(K992,'5.3 Schedule of Rates'!B:D,3,0))","v":""},null,"",null,"","",null,null,null,{"$f":"IFERROR(INDEX('1.2 Sub-Con Application'!$B$13:$U$1012,MATCH(1,('1.2 Sub-Con Application'!$B$13:$B$1012=B992)*('1.2 Sub-Con Application'!$U$13:$U$1012=\"Rejected\"),0),20),\"\")","v":""}]
[null,{"$f":"+IF(AND(ISBLANK(F993),ISBLANK(K993)),\"\",IF(AND(ISBLANK(F993),B992<>\"\"),B992,IF(COUNTIF($F$13:F992,F993)>0,B992,MAX($B$13:B992)+1)))","v":""},null,null,0,null,null,null,null,"Enter PC",null,"","",{"$f":"+IF(ISBLANK(K993),\"\",VLOOKUP(K993,'5.3 Schedule of Rates'!B:D,3,0))","v":""},null,"",null,"","",null,null,null,{"$f":"IFERROR(INDEX('1.2 Sub-Con Application'!$B$13:$U$1012,MATCH(1,('1.2 Sub-Con Application'!$B$13:$B$1012=B993)*('1.2 Sub-Con Application'!$U$13:$U$1012=\"Rejected\"),0),20),\"\")","v":""}]
[null,{"$f":"+IF(AND(ISBLANK(F994),ISBLANK(K994)),\"\",IF(AND(ISBLANK(F994),B993<>\"\"),B993,IF(COUNTIF($F$13:F993,F994)>0,B993,MAX($B$13:B993)+1)))","v":""},null,null,0,null,null,null,null,"Enter PC",null,"","",{"$f":"+IF(ISBLANK(K994),\"\",VLOOKUP(K994,'5.3 Schedule of Rates'!B:D,3,0))","v":""},null,"",null,"","",null,null,null,{"$f":"IFERROR(INDEX('1.2 Sub-Con Application'!$B$13:$U$1012,MATCH(1,('1.2 Sub-Con Application'!$B$13:$B$1012=B994)*('1.2 Sub-Con Application'!$U$13:$U$1012=\"Rejected\"),0),20),\"\")","v":""}]
[null,{"$f":"+IF(AND(ISBLANK(F995),ISBLANK(K995)),\"\",IF(AND(ISBLANK(F995),B994<>\"\"),B994,IF(COUNTIF($F$13:F994,F995)>0,B994,MAX($B$13:B994)+1)))","v":""},null,null,0,null,null,null,null,"Enter PC",null,"","",{"$f":"+IF(ISBLANK(K995),\"\",VLOOKUP(K995,'5.3 Schedule of Rates'!B:D,3,0))","v":""},null,"",null,"","",null,null,null,{"$f":"IFERROR(INDEX('1.2 Sub-Con Application'!$B$13:$U$1012,MATCH(1,('1.2 Sub-Con Application'!$B$13:$B$1012=B995)*('1.2 Sub-Con Application'!$U$13:$U$1012=\"Rejected\"),0),20),\"\")","v":""}]
[null,{"$f":"+IF(AND(ISBLANK(F996),ISBLANK(K996)),\"\",IF(AND(ISBLANK(F996),B995<>\"\"),B995,IF(COUNTIF($F$13:F995,F996)>0,B995,MAX($B$13:B995)+1)))","v":""},null,null,0,null,null,null,null,"Enter PC",null,"","",{"$f":"+IF(ISBLANK(K996),\"\",VLOOKUP(K996,'5.3 Schedule of Rates'!B:D,3,0))","v":""},null,"",null,"","",null,null,null,{"$f":"IFERROR(INDEX('1.2 Sub-Con Application'!$B$13:$U$1012,MATCH(1,('1.2 Sub-Con Application'!$B$13:$B$1012=B996)*('1.2 Sub-Con Application'!$U$13:$U$1012=\"Rejected\"),0),20),\"\")","v":""}]
[null,{"$f":"+IF(AND(ISBLANK(F997),ISBLANK(K997)),\"\",IF(AND(ISBLANK(F997),B996<>\"\"),B996,IF(COUNTIF($F$13:F996,F997)>0,B996,MAX($B$13:B996)+1)))","v":""},null,null,0,null,null,null,null,"Enter PC",null,"","",{"$f":"+IF(ISBLANK(K997),\"\",VLOOKUP(K997,'5.3 Schedule of Rates'!B:D,3,0))","v":""},null,"",null,"","",null,null,null,{"$f":"IFERROR(INDEX('1.2 Sub-Con Application'!$B$13:$U$1012,MATCH(1,('1.2 Sub-Con Application'!$B$13:$B$1012=B997)*('1.2 Sub-Con Application'!$U$13:$U$1012=\"Rejected\"),0),20),\"\")","v":""}]
[null,{"$f":"+IF(AND(ISBLANK(F998),ISBLANK(K998)),\"\",IF(AND(ISBLANK(F998),B997<>\"\"),B997,IF(COUNTIF($F$13:F997,F998)>0,B997,MAX($B$13:B997)+1)))","v":""},null,null,0,null,null,null,null,"Enter PC",null,"","",{"$f":"+IF(ISBLANK(K998),\"\",VLOOKUP(K998,'5.3 Schedule of Rates'!B:D,3,0))","v":""},null,"",null,"","",null,null,null,{"$f":"IFERROR(INDEX('1.2 Sub-Con Application'!$B$13:$U$1012,MATCH(1,('1.2 Sub-Con Application'!$B$13:$B$1012=B998)*('1.2 Sub-Con Application'!$U$13:$U$1012=\"Rejected\"),0),20),\"\")","v":""}]
[null,{"$f":"+IF(AND(ISBLANK(F999),ISBLANK(K999)),\"\",IF(AND(ISBLANK(F999),B998<>\"\"),B998,IF(COUNTIF($F$13:F998,F999)>0,B998,MAX($B$13:B998)+1)))","v":""},null,null,0,null,null,null,null,"Enter PC",null,"","",{"$f":"+IF(ISBLANK(K999),\"\",VLOOKUP(K999,'5.3 Schedule of Rates'!B:D,3,0))","v":""},null,"",null,"","",null,null,null,{"$f":"IFERROR(INDEX('1.2 Sub-Con Application'!$B$13:$U$1012,MATCH(1,('1.2 Sub-Con Application'!$B$13:$B$1012=B999)*('1.2 Sub-Con Application'!$U$13:$U$1012=\"Rejected\"),0),20),\"\")","v":""}]
[null,{"$f":"+IF(AND(ISBLANK(F1000),ISBLANK(K1000)),\"\",IF(AND(ISBLANK(F1000),B999<>\"\"),B999,IF(COUNTIF($F$13:F999,F1000)>0,B999,MAX($B$13:B999)+1)))","v":""},null,null,0,null,null,null,null,"Enter PC",null,"","",{"$f":"+IF(ISBLANK(K1000),\"\",VLOOKUP(K1000,'5.3 Schedule of Rates'!B:D,3,0))","v":""},null,"",null,"","",null,null,null,{"$f":"IFERROR(INDEX('1.2 Sub-Con Application'!$B$13:$U$1012,MATCH(1,('1.2 Sub-Con Application'!$B$13:$B$1012=B1000)*('1.2 Sub-Con Application'!$U$13:$U$1012=\"Rejected\"),0),20),\"\")","v":""}]
[null,{"$f":"+IF(AND(ISBLANK(F1001),ISBLANK(K1001)),\"\",IF(AND(ISBLANK(F1001),B1000<>\"\"),B1000,IF(COUNTIF($F$13:F1000,F1001)>0,B1000,MAX($B$13:B1000)+1)))","v":""},null,null,0,null,null,null,null,"Enter PC",null,"","",{"$f":"+IF(ISBLANK(K1001),\"\",VLOOKUP(K1001,'5.3 Schedule of Rates'!B:D,3,0))","v":""},null,"",null,"","",null,null,null,{"$f":"IFERROR(INDEX('1.2 Sub-Con Application'!$B$13:$U$1012,MATCH(1,('1.2 Sub-Con Application'!$B$13:$B$1012=B1001)*('1.2 Sub-Con Application'!$U$13:$U$1012=\"Rejected\"),0),20),\"\")","v":""}]
[null,{"$f":"+IF(AND(ISBLANK(F1002),ISBLANK(K1002)),\"\",IF(AND(ISBLANK(F1002),B1001<>\"\"),B1001,IF(COUNTIF($F$13:F1001,F1002)>0,B1001,MAX($B$13:B1001)+1)))","v":""},null,null,0,null,null,null,null,"Enter PC",null,"","",{"$f":"+IF(ISBLANK(K1002),\"\",VLOOKUP(K1002,'5.3 Schedule of Rates'!B:D,3,0))","v":""},null,"",null,"","",null,null,null,{"$f":"IFERROR(INDEX('1.2 Sub-Con Application'!$B$13:$U$1012,MATCH(1,('1.2 Sub-Con Application'!$B$13:$B$1012=B1002)*('1.2 Sub-Con Application'!$U$13:$U$1012=\"Rejected\"),0),20),\"\")","v":""}]
[null,{"$f":"+IF(AND(ISBLANK(F1003),ISBLANK(K1003)),\"\",IF(AND(ISBLANK(F1003),B1002<>\"\"),B1002,IF(COUNTIF($F$13:F1002,F1003)>0,B1002,MAX($B$13:B1002)+1)))","v":""},null,null,0,null,null,null,null,"Enter PC",null,"","",{"$f":"+IF(ISBLANK(K1003),\"\",VLOOKUP(K1003,'5.3 Schedule of Rates'!B:D,3,0))","v":""},null,"",null,"","",null,null,null,{"$f":"IFERROR(INDEX('1.2 Sub-Con Application'!$B$13:$U$1012,MATCH(1,('1.2 Sub-Con Application'!$B$13:$B$1012=B1003)*('1.2 Sub-Con Application'!$U$13:$U$1012=\"Rejected\"),0),20),\"\")","v":""}]
[null,{"$f":"+IF(AND(ISBLANK(F1004),ISBLANK(K1004)),\"\",IF(AND(ISBLANK(F1004),B1003<>\"\"),B1003,IF(COUNTIF($F$13:F1003,F1004)>0,B1003,MAX($B$13:B1003)+1)))","v":""},null,null,0,null,null,null,null,"Enter PC",null,"","",{"$f":"+IF(ISBLANK(K1004),\"\",VLOOKUP(K1004,'5.3 Schedule of Rates'!B:D,3,0))","v":""},null,"",null,"","",null,null,null,{"$f":"IFERROR(INDEX('1.2 Sub-Con Application'!$B$13:$U$1012,MATCH(1,('1.2 Sub-Con Application'!$B$13:$B$1012=B1004)*('1.2 Sub-Con Application'!$U$13:$U$1012=\"Rejected\"),0),20),\"\")","v":""}]
[null,{"$f":"+IF(AND(ISBLANK(F1005),ISBLANK(K1005)),\"\",IF(AND(ISBLANK(F1005),B1004<>\"\"),B1004,IF(COUNTIF($F$13:F1004,F1005)>0,B1004,MAX($B$13:B1004)+1)))","v":""},null,null,0,null,null,null,null,"Enter PC",null,"","",{"$f":"+IF(ISBLANK(K1005),\"\",VLOOKUP(K1005,'5.3 Schedule of Rates'!B:D,3,0))","v":""},null,"",null,"","",null,null,null,{"$f":"IFERROR(INDEX('1.2 Sub-Con Application'!$B$13:$U$1012,MATCH(1,('1.2 Sub-Con Application'!$B$13:$B$1012=B1005)*('1.2 Sub-Con Application'!$U$13:$U$1012=\"Rejected\"),0),20),\"\")","v":""}]
[null,{"$f":"+IF(AND(ISBLANK(F1006),ISBLANK(K1006)),\"\",IF(AND(ISBLANK(F1006),B1005<>\"\"),B1005,IF(COUNTIF($F$13:F1005,F1006)>0,B1005,MAX($B$13:B1005)+1)))","v":""},null,null,0,null,null,null,null,"Enter PC",null,"","",{"$f":"+IF(ISBLANK(K1006),\"\",VLOOKUP(K1006,'5.3 Schedule of Rates'!B:D,3,0))","v":""},null,"",null,"","",null,null,null,{"$f":"IFERROR(INDEX('1.2 Sub-Con Application'!$B$13:$U$1012,MATCH(1,('1.2 Sub-Con Application'!$B$13:$B$1012=B1006)*('1.2 Sub-Con Application'!$U$13:$U$1012=\"Rejected\"),0),20),\"\")","v":""}]
[null,{"$f":"+IF(AND(ISBLANK(F1007),ISBLANK(K1007)),\"\",IF(AND(ISBLANK(F1007),B1006<>\"\"),B1006,IF(COUNTIF($F$13:F1006,F1007)>0,B1006,MAX($B$13:B1006)+1)))","v":""},null,null,0,null,null,null,null,"Enter PC",null,"","",{"$f":"+IF(ISBLANK(K1007),\"\",VLOOKUP(K1007,'5.3 Schedule of Rates'!B:D,3,0))","v":""},null,"",null,"","",null,null,null,{"$f":"IFERROR(INDEX('1.2 Sub-Con Application'!$B$13:$U$1012,MATCH(1,('1.2 Sub-Con Application'!$B$13:$B$1012=B1007)*('1.2 Sub-Con Application'!$U$13:$U$1012=\"Rejected\"),0),20),\"\")","v":""}]
[null,{"$f":"+IF(AND(ISBLANK(F1008),ISBLANK(K1008)),\"\",IF(AND(ISBLANK(F1008),B1007<>\"\"),B1007,IF(COUNTIF($F$13:F1007,F1008)>0,B1007,MAX($B$13:B1007)+1)))","v":""},null,null,0,null,null,null,null,"Enter PC",null,"","",{"$f":"+IF(ISBLANK(K1008),\"\",VLOOKUP(K1008,'5.3 Schedule of Rates'!B:D,3,0))","v":""},null,"",null,"","",null,null,null,{"$f":"IFERROR(INDEX('1.2 Sub-Con Application'!$B$13:$U$1012,MATCH(1,('1.2 Sub-Con Application'!$B$13:$B$1012=B1008)*('1.2 Sub-Con Application'!$U$13:$U$1012=\"Rejected\"),0),20),\"\")","v":""}]
[null,{"$f":"+IF(AND(ISBLANK(F1009),ISBLANK(K1009)),\"\",IF(AND(ISBLANK(F1009),B1008<>\"\"),B1008,IF(COUNTIF($F$13:F1008,F1009)>0,B1008,MAX($B$13:B1008)+1)))","v":""},null,null,0,null,null,null,null,"Enter PC",null,"","",{"$f":"+IF(ISBLANK(K1009),\"\",VLOOKUP(K1009,'5.3 Schedule of Rates'!B:D,3,0))","v":""},null,"",null,"","",null,null,null,{"$f":"IFERROR(INDEX('1.2 Sub-Con Application'!$B$13:$U$1012,MATCH(1,('1.2 Sub-Con Application'!$B$13:$B$1012=B1009)*('1.2 Sub-Con Application'!$U$13:$U$1012=\"Rejected\"),0),20),\"\")","v":""}]
[null,{"$f":"+IF(AND(ISBLANK(F1010),ISBLANK(K1010)),\"\",IF(AND(ISBLANK(F1010),B1009<>\"\"),B1009,IF(COUNTIF($F$13:F1009,F1010)>0,B1009,MAX($B$13:B1009)+1)))","v":""},null,null,0,null,null,null,null,"Enter PC",null,"","",{"$f":"+IF(ISBLANK(K1010),\"\",VLOOKUP(K1010,'5.3 Schedule of Rates'!B:D,3,0))","v":""},null,"",null,"","",null,null,null,{"$f":"IFERROR(INDEX('1.2 Sub-Con Application'!$B$13:$U$1012,MATCH(1,('1.2 Sub-Con Application'!$B$13:$B$1012=B1010)*('1.2 Sub-Con Application'!$U$13:$U$1012=\"Rejected\"),0),20),\"\")","v":""}]
[null,{"$f":"+IF(AND(ISBLANK(F1011),ISBLANK(K1011)),\"\",IF(AND(ISBLANK(F1011),B1010<>\"\"),B1010,IF(COUNTIF($F$13:F1010,F1011)>0,B1010,MAX($B$13:B1010)+1)))","v":""},null,null,0,null,null,null,null,"Enter PC",null,"","",{"$f":"+IF(ISBLANK(K1011),\"\",VLOOKUP(K1011,'5.3 Schedule of Rates'!B:D,3,0))","v":""},null,"",null,"","",null,null,null,{"$f":"IFERROR(INDEX('1.2 Sub-Con Application'!$B$13:$U$1012,MATCH(1,('1.2 Sub-Con Application'!$B$13:$B$1012=B1011)*('1.2 Sub-Con Application'!$U$13:$U$1012=\"Rejected\"),0),20),\"\")","v":""}]
[null,{"$f":"+IF(AND(ISBLANK(F1012),ISBLANK(K1012)),\"\",IF(AND(ISBLANK(F1012),B1011<>\"\"),B1011,IF(COUNTIF($F$13:F1011,F1012)>0,B1011,MAX($B$13:B1011)+1)))","v":""},null,null,{"$f":"NETWORKDAYS(C1012,D1012)","v":0},null,null,null,null,"Enter PC",null,"","",{"$f":"+IF(ISBLANK(K1012),\"\",VLOOKUP(K1012,'5.3 Schedule of Rates'!B:D,3,0))","v":""},null,"",null,"",{"$f":"IF(ISERROR(SUM(P1012-R1012)),\"\",SUM(P1012-R1012))","v":""},null,null,null,{"$f":"IFERROR(INDEX('1.2 Sub-Con Application'!$B$13:$U$1012,MATCH(1,('1.2 Sub-Con Application'!$B$13:$B$1012=B1012)*('1.2 Sub-Con Application'!$U$13:$U$1012=\"Rejected\"),0),20),\"\")","v":""}]

{"sheet":"1.3 Invioce Template (Example)","index":3,"n_rows":56,"n_cols":6,"rows_kept":56,"cut":false,"hidden":true,"merged":[[56,4,56,5],[54,4,54,5],[52,4,52,5],[53,4,53,5],[19,4,19,5],[48,4,48,5],[49,4,49,5],[50,4,50,5],[51,4,51,5],[47,4,47,5],[33,2,33,4],[32,2,32,4],[21,4,21,5],[24,1,24,2],[55,4,55,5],[51,1,51,2],[3,1,3,2],[6,1,6,2],[8,1,8,2],[9,1,9,2],[3,4,3,5],[10,1,10,2],[11,1,11,2],[30,2,30,4],[19,1,19,2],[15,1,15,2],[26,4,26,5],[24,4,24,5],[26,1,26,2],[12,1,12,2],[22,4,22,5],[13,1,13,2],[22,1,22,2],[21,1,21,2]]}
[]
[null,{"$f":"IFERROR(MID(CELL(\"filename\",A2),FIND(\"]\",CELL(\"filename\",A2))+1,LEN(CELL(\"filename\",A2))-FIND(\"]\",CELL(\"filename\",A2))),\"Please Save\")","v":"1.3 Invioce Template (Example)"}]
[]
[null,"INVOICE",null,null,"Enter Company Logo Here"]
[]
[]
[null,{"$f":"'5.1 Administrator'!D7","v":"Bath Property Maintenance"},null,null,"Invoice Date:"]
[]
[null,"Enter Address",null,null,"Invoice Number:"]
[]
[null,null,null,null,"Customer Account:"]
[]
[null,null,null,null,"Account number:",{"$f":"sc_Account","v":402688}]
[]
[]
[null,null,null,null,"Order Number:","See Attached Cert"]
[]
[null,"VAT Reg. No.:",null,null,"Company Reg. No.:","Enter Your No. Here!"]
[]
[null,"Invoice Address:",null,null,"Region / Work Type"]
[]
[null,null,null,null,{"$f":"work_Region","v":"South West"}]
[]
[null,null,null,null,{"$f":"work_Type","v":"Empty Homes"}]
[]
[null,null,null,null,{"$f":"work_regionEmail","v":"SWCommercial@guinness .org uk"}]
[]
[]
[]
[]
[null,"Cert No.","Description",null,null,"Total"]
[]
[]
[null,{"$f":"cert_Number","v":0},{"$f":"\"As per attached Payment Notice Number \"&B34&\", issued on \"&TEXT('2.2 Payment Notice (Detail)'!H10,\"DD/MM/YYYY\")&\", by \"&'2.2 Payment Notice (Detail)'!D6","v":"As per attached Payment Notice Number 0, issued on 00/01/1900, by "},null,null,{"$f":"'2.2 Payment Notice (Detail)'!K10","v":0}]
[]
[]
[]
[]
[null,"Materials split:",{"$f":"'2.2 Payment Notice (Detail)'!L10","v":0},null,"Total Net Amount:",{"$f":"SUM(F33:F35)","v":0}]
[null,"Labour split:",{"$f":"'2.2 Payment Notice (Detail)'!M10","v":0},null,"VAT Rate:",0.2]
[null,null,null,null,"VAT Amount:",{"$f":"ROUND(SUM(F39*F40),2)","v":0}]
[null,"CIS Deduction:",{"$f":"IFERROR(ROUND(C40*C45,2),0)","v":0}]
[null,null,null,null,{"$f":"B42","v":"CIS Deduction:"},{"$f":"C42","v":0}]
[null,"CIS Status:",{"$f":"cis_Status","v":"Gross Payment"}]
[null,"CIS Rate:",{"$f":"IFERROR(VLOOKUP(C44,'5.2 Lists'!$I$5:$J$8,2,FALSE),0)","v":0},null,"Invoice Total Amount:",{"$f":"SUM(F39,F41,-F43)","v":0}]
[]
[]
[]
[null,"Payment Term:",{"$f":"\"Strictly \"&payment_Terms&\" Days\"","v":"Strictly 32 Days"}]
[null,"Due Date:",{"$f":"SUM(F7,payment_Terms)","v":"1900-02-01"}]
[]
[null,"Bank Details",null,null,"Enter any other required details Here!"]
[]
[null,"Bank Name:"]
[null,"Sort Code:"]
[null,"Account Number:"]

{"sheet":"2.1 Internal Guidance","index":4,"n_rows":23,"n_cols":3,"rows_kept":23,"cut":false,"hidden":true,"merged":[]}
[]
[null,{"$f":"IFERROR(MID(CELL(\"filename\",A2),FIND(\"]\",CELL(\"filename\",A2))+1,LEN(CELL(\"filename\",A2))-FIND(\"]\",CELL(\"filename\",A2))),\"Please Save\")","v":"2.1 Internal Guidance"}]
[]
[]
[null,"General Information:","You will need to create a template for each Sub-Contractor, seperate Templates will need to be created for each Region and Work Type. \nE.g. separate applications for North East Repairs and South Central Repairs, North West Empty Homes and South Coast Empty Homes will need to be created by the RCT."]
[]
[null,"First Time Use:","The first time you use the Template to create a Sub-Contractor Template, you will need to open the Administrator tab, you will need to update and populate all required fields as well as an required \"Star Rates\" within the SoR tab itself to make sure the Sub-Con has access to all agreed rates. Once you have populated all required information; you will need to press the \"Get Ready\" button; this will prepare the Template for the first use by the Sub-Contractor for their first Application. "]
[]
[null,"Certificate Dates:","You have 24 days to review the Sub-Contractors Application and to issue a Payment Notice to the Sub-Contractor, so that they can issue an Invoice. If you fail to do this the full amount applied for will become due!"]
[]
[null,"Completed By:","This will update automatically"]
[null,"Contact Number:","Please enter a contact phone number for the person that has completed the Certificate; this will assist if the are questions or queries that need to be resolved quickly."]
[]
[null,"Notice Number:","This will update automatically"]
[null,"Notice Date:","This will update automatically"]
[]
[null,"Approve / \nReject:","You are required to check all the details for each order; ensuring that an order number and postcode have been provided against each SoR item being claimed. Before approving each SoR item, you will need to review all substantiation to ensure you are satisfied the Application Claim is a fair reflection of the works completed; your checks should include the reviewing of before and after photos. If there are any details that are incorrect or not valid then you should reject the SoR item (on the Application Tab); make sure you chose a valid reason from the drop down list, this will assist discussion with the Sub-Contractor when resolving. "]
[]
[null,"Summary Tab:","Once you have reviewed and updated the Application Tab with any rejections; this will automatically flow in to the Payment Notice (Detail) tab where everything will be summarised by Order Number. Once you are happy with both the Application Tab and Payment Notice (Detail) Tab, you are to move on to the Payment Notice Tab."]
[]
[null,"Payment Notice:","One you are happy with the Application; you will then be required to produce a Payment (or PayLess) Notice; from the Drop Down mean, select the relevant Notice type and then press the \"Create Notice\" button. This will  generate a PDF version of the Notice and Save a copy of the template in a prepared format so these can be emailed back to the Sub-Con ready for them to invoice agianst.\nIn the event that you required to issue a Pay Less Notice (this can only be done against the previous Payment Notice), you will need to UnProtect the workbook (from Admin Tab) so you can adjust the Application (i.e. reject something), this will then create a negative value within the Notice. Press \"Create Notice\" and this will again, produce a PDF version and save the workbook ready for issuing to the Sub-Con."]
[]
[null,"Upload File:","This is not currently used"]

{"sheet":"2.2 Payment Notice (Detail)","index":5,"n_rows":512,"n_cols":15,"rows_kept":512,"cut":false,"hidden":true,"merged":[[3,1,3,2],[4,1,4,2],[5,1,5,2],[6,1,6,2],[9,1,9,2],[8,1,8,2],[3,3,3,4],[9,3,9,4],[8,3,8,4],[6,3,6,4],[5,3,5,4],[4,3,4,4],[4,7,4,8],[3,7,3,8],[9,7,9,8],[8,7,8,8],[5,7,5,8]]}
[]
[null,{"$f":"IFERROR(MID(CELL(\"filename\",A2),FIND(\"]\",CELL(\"filename\",A2))+1,LEN(CELL(\"filename\",A2))-FIND(\"]\",CELL(\"filename\",A2))),\"Please Save\")","v":"2.2 Payment Notice (Detail)"}]
[]
[null,{"$f":"'5.1 Administrator'!B7","v":"Sub-Con Name:"},null,{"$f":"+'1.2 Sub-Con Application'!D4:E4","v":"Bath Property Maintenance"},null,null,{"$f":"'5.1 Administrator'!B17","v":"Work Type:"},{"$f":"IF(work_Type=\"\",\"TBC\",work_Type)","v":"Empty Homes"}]
[null,{"$f":"'5.1 Administrator'!B9","v":"Account No.:"},null,{"$f":"IF(sc_Account=\"\",\"TBC\",'1.2 Sub-Con Application'!D5:E5)","v":402688},null,null,"Region:",{"$f":"IF(work_Region=\"\",\"TBC\",work_Region)","v":"South West"},null,null,"Total Value","Total Materials","Total Labour",null,"CIS Tax Deduction"]
[null,"Generated By:",null,null,null,null,{"$f":"'5.1 Administrator'!B21","v":"Application Frequency:"},{"$f":"IF(app_Frequency=\"\",\"TBC\",app_Frequency)","v":"Monthly"},null,"Application Value:",{"$f":"'1.2 Sub-Con Application'!P6","v":0},{"$f":"'1.2 Sub-Con Application'!R6","v":0},{"$f":"'1.2 Sub-Con Application'!S6","v":0},{"$f":"K6=SUM(L6:M6)","v":true},{"$f":"IFERROR(SUM(M6*$I$7),0)","v":0}]
[null,"Contact No.:",null,"Please Enter",null,null,{"$f":"'5.1 Administrator'!B19","v":"CIS Status:"},{"$f":"IF(cis_Status=\"\",\"TBC\",cis_Status)","v":"Gross Payment"},{"$f":"IFERROR(VLOOKUP(H7,'5.2 Lists'!$I$4:$J$8,2,FALSE),\"\")","v":0}]
[]
[null,"Application No.:",null,{"$f":"IF(ISBLANK(app_Number),\"\",app_Number)","v":20},null,null,{"$f":"notice_Selection&\" Number:\"","v":"PLEASE SELECT Number:"},null,null,"Application Rejections Value:",{"$f":"-SUMIF(cert_Payless,\"Rejected\",cert_Total)","v":0},{"$f":"-SUMIF(cert_Payless,\"Rejected\",cert_MatTotal)","v":0},{"$f":"-SUMIF(cert_Payless,\"Rejected\",cert_LabTotal)","v":0},{"$f":"K9=SUM(L9:M9)","v":true},{"$f":"IFERROR(SUM(M9*$I$7),0)","v":0}]
[null,"Application Date:",null,{"$f":"IF(ISBLANK(app_Date),\"\",app_Date)","v":"2025-01-09"},null,null,{"$f":"notice_Selection&\" Date:\"","v":"PLEASE SELECT Date:"},null,null,{"$f":"notice_Selection&\" Value:\"","v":"PLEASE SELECT Value:"},{"$f":"SUM(K13:K512,K9)","v":0},{"$f":"SUM(L13:L512,L9)","v":0},{"$f":"SUM(M13:M512,M9)","v":0},{"$f":"K10=SUM(L10:M10)","v":true},0]
[]
[null,{"$f":"'1.2 Sub-Con Application'!B12","v":"Ref:"},{"$f":"'1.2 Sub-Con Application'!C12","v":"Date\nIssued:"},{"$f":"'1.2 Sub-Con Application'!D12","v":"Date\nCompleted:"},{"$f":"'1.2 Sub-Con Application'!E12","v":"Days to \nComplete:"},{"$f":"'1.2 Sub-Con Application'!F12","v":"Order Number:"},{"$f":"'1.2 Sub-Con Application'!G12","v":"Job \nNumber:"},{"$f":"'1.2 Sub-Con Application'!H12","v":"Address:"},{"$f":"'1.2 Sub-Con Application'!I12","v":"Full Post Code:"},{"$f":"'1.2 Sub-Con Application'!T12","v":"Comments / Additional Info"},{"$f":"'1.2 Sub-Con Application'!P12","v":"Total\nAmount:"},{"$f":"'1.2 Sub-Con Application'!R12","v":"Materials \nCost:"},{"$f":"'1.2 Sub-Con Application'!S12","v":"Labour \nCost:"},{"$f":"'1.2 Sub-Con Application'!U12","v":"Reject:"},{"$f":"'1.2 Sub-Con Application'!V12","v":"Reason for Rejection:"}]
[null,1,{"$f":"IFERROR(INDEX(table_subconApp,MATCH($B13,row_subconApp,0),MATCH(C$12,col_subconApp,0)),\"\")","v":""},"","","","","","",{"$f":"IFERROR(IF(ISBLANK(INDEX(table_subconApp,MATCH($B13,row_subconApp,0),MATCH(J$12,col_subconApp,0))),\"\",INDEX(table_subconApp,MATCH($B13,row_subconApp,0),MATCH(J$12,col_subconApp,0))),\"\")","v":""},{"$f":"IF(B13=\"\",\"\",SUMIF('1.2 Sub-Con Application'!$B$13:$B$1012,B13,'1.2 Sub-Con Application'!$P$13:$P$1012))","v":0},{"$f":"IF(B13=\"\",\"\",SUMIF('1.2 Sub-Con Application'!$B$13:$B$1012,B13,'1.2 Sub-Con Application'!$R$13:$R$1012))","v":0},{"$f":"IF(B13=\"\",\"\",SUMIF('1.2 Sub-Con Application'!$B$13:$B$1012,B13,'1.2 Sub-Con Application'!$S$13:$S$1012))","v":0},{"$f":"IFERROR(INDEX('1.2 Sub-Con Application'!$B$13:$U$1012,MATCH(1,('1.2 Sub-Con Application'!$B$13:$B$1012=B13)*('1.2 Sub-Con Application'!$U$13:$U$1012=\"Rejected\"),0),20),\"\")","v":""},{"$f":"IFERROR(INDEX('1.2 Sub-Con Application'!$B$13:$V$1012,MATCH(1,('1.2 Sub-Con Application'!$B$13:$B$1012=B13)*('1.2 Sub-Con Application'!$V$13:$V$1012<>\"\"),0),21),\"\")","v":""}]
[null,{"$f":"B13+1","v":2},"","","","","","","","",{"$f":"IF(B14=\"\",\"\",SUMIF('1.2 Sub-Con Application'!$B$13:$B$1012,B14,'1.2 Sub-Con Application'!$P$13:$P$1012))","v":0},{"$f":"IF(B14=\"\",\"\",SUMIF('1.2 Sub-Con Application'!$B$13:$B$1012,B14,'1.2 Sub-Con Application'!$R$13:$R$1012))","v":0},{"$f":"IF(B14=\"\",\"\",SUMIF('1.2 Sub-Con Application'!$B$13:$B$1012,B14,'1.2 Sub-Con Application'!$S$13:$S$1012))","v":0},{"$f":"IFERROR(INDEX('1.2 Sub-Con Application'!$B$13:$U$1012,MATCH(1,('1.2 Sub-Con Application'!$B$13:$B$1012=B14)*('1.2 Sub-Con Application'!$U$13:$U$1012=\"Rejected\"),0),20),\"\")","v":""},{"$f":"IFERROR(INDEX('1.2 Sub-Con Application'!$B$13:$V$1012,MATCH(1,('1.2 Sub-Con Application'!$B$13:$B$1012=B14)*('1.2 Sub-Con Application'!$V$13:$V$1012<>\"\"),0),21),\"\")","v":""}]
[null,{"$f":"B14+1","v":3},"","","","","","","","",{"$f":"IF(B15=\"\",\"\",SUMIF('1.2 Sub-Con Application'!$B$13:$B$1012,B15,'1.2 Sub-Con Application'!$P$13:$P$1012))","v":0},{"$f":"IF(B15=\"\",\"\",SUMIF('1.2 Sub-Con Application'!$B$13:$B$1012,B15,'1.2 Sub-Con Application'!$R$13:$R$1012))","v":0},{"$f":"IF(B15=\"\",\"\",SUMIF('1.2 Sub-Con Application'!$B$13:$B$1012,B15,'1.2 Sub-Con Application'!$S$13:$S$1012))","v":0},{"$f":"IFERROR(INDEX('1.2 Sub-Con Application'!$B$13:$U$1012,MATCH(1,('1.2 Sub-Con Application'!$B$13:$B$1012=B15)*('1.2 Sub-Con Application'!$U$13:$U$1012=\"Rejected\"),0),20),\"\")","v":""},{"$f":"IFERROR(INDEX('1.2 Sub-Con Application'!$B$13:$V$1012,MATCH(1,('1.2 Sub-Con Application'!$B$13:$B$1012=B15)*('1.2 Sub-Con Application'!$V$13:$V$1012<>\"\"),0),21),\"\")","v":""}]
[null,4,"","","","","","","","",{"$f":"IF(B16=\"\",\"\",SUMIF('1.2 Sub-Con Application'!$B$13:$B$1012,B16,'1.2 Sub-Con Application'!$P$13:$P$1012))","v":0},{"$f":"IF(B16=\"\",\"\",SUMIF('1.2 Sub-Con Application'!$B$13:$B$1012,B16,'1.2 Sub-Con Application'!$R$13:$R$1012))","v":0},{"$f":"IF(B16=\"\",\"\",SUMIF('1.2 Sub-Con Application'!$B$13:$B$1012,B16,'1.2 Sub-Con Application'!$S$13:$S$1012))","v":0},{"$f":"IFERROR(INDEX('1.2 Sub-Con Application'!$B$13:$U$1012,MATCH(1,('1.2 Sub-Con Application'!$B$13:$B$1012=B16)*('1.2 Sub-Con Application'!$U$13:$U$1012=\"Rejected\"),0),20),\"\")","v":""},{"$f":"IFERROR(INDEX('1.2 Sub-Con Application'!$B$13:$V$1012,MATCH(1,('1.2 Sub-Con Application'!$B$13:$B$1012=B16)*('1.2 Sub-Con Application'!$V$13:$V$1012<>\"\"),0),21),\"\")","v":""}]
[null,5,"","","","","","","","",{"$f":"IF(B17=\"\",\"\",SUMIF('1.2 Sub-Con Application'!$B$13:$B$1012,B17,'1.2 Sub-Con Application'!$P$13:$P$1012))","v":0},{"$f":"IF(B17=\"\",\"\",SUMIF('1.2 Sub-Con Application'!$B$13:$B$1012,B17,'1.2 Sub-Con Application'!$R$13:$R$1012))","v":0},{"$f":"IF(B17=\"\",\"\",SUMIF('1.2 Sub-Con Application'!$B$13:$B$1012,B17,'1.2 Sub-Con Application'!$S$13:$S$1012))","v":0},{"$f":"IFERROR(INDEX('1.2 Sub-Con Application'!$B$13:$U$1012,MATCH(1,('1.2 Sub-Con Application'!$B$13:$B$1012=B17)*('1.2 Sub-Con Application'!$U$13:$U$1012=\"Rejected\"),0),20),\"\")","v":""},{"$f":"IFERROR(INDEX('1.2 Sub-Con Application'!$B$13:$V$1012,MATCH(1,('1.2 Sub-Con Application'!$B$13:$B$1012=B17)*('1.2 Sub-Con Application'!$V$13:$V$1012<>\"\"),0),21),\"\")","v":""}]
[null,6,"","","","","","","","",{"$f":"IF(B18=\"\",\"\",SUMIF('1.2 Sub-Con Application'!$B$13:$B$1012,B18,'1.2 Sub-Con Application'!$P$13:$P$1012))","v":0},{"$f":"IF(B18=\"\",\"\",SUMIF('1.2 Sub-Con Application'!$B$13:$B$1012,B18,'1.2 Sub-Con Application'!$R$13:$R$1012))","v":0},{"$f":"IF(B18=\"\",\"\",SUMIF('1.2 Sub-Con Application'!$B$13:$B$1012,B18,'1.2 Sub-Con Application'!$S$13:$S$1012))","v":0},{"$f":"IFERROR(INDEX('1.2 Sub-Con Application'!$B$13:$U$1012,MATCH(1,('1.2 Sub-Con Application'!$B$13:$B$1012=B18)*('1.2 Sub-Con Application'!$U$13:$U$1012=\"Rejected\"),0),20),\"\")","v":""},{"$f":"IFERROR(INDEX('1.2 Sub-Con Application'!$B$13:$V$1012,MATCH(1,('1.2 Sub-Con Application'!$B$13:$B$1012=B18)*('1.2 Sub-Con Application'!$V$13:$V$1012<>\"\"),0),21),\"\")","v":""}]
[null,7,"","","","","","","","",{"$f":"IF(B19=\"\",\"\",SUMIF('1.2 Sub-Con Application'!$B$13:$B$1012,B19,'1.2 Sub-Con Application'!$P$13:$P$1012))","v":0},{"$f":"IF(B19=\"\",\"\",SUMIF('1.2 Sub-Con Application'!$B$13:$B$1012,B19,'1.2 Sub-Con Application'!$R$13:$R$1012))","v":0},{"$f":"IF(B19=\"\",\"\",SUMIF('1.2 Sub-Con Application'!$B$13:$B$1012,B19,'1.2 Sub-Con Application'!$S$13:$S$1012))","v":0},{"$f":"IFERROR(INDEX('1.2 Sub-Con Application'!$B$13:$U$1012,MATCH(1,('1.2 Sub-Con Application'!$B$13:$B$1012=B19)*('1.2 Sub-Con Application'!$U$13:$U$1012=\"Rejected\"),0),20),\"\")","v":""},{"$f":"IFERROR(INDEX('1.2 Sub-Con Application'!$B$13:$V$1012,MATCH(1,('1.2 Sub-Con Application'!$B$13:$B$1012=B19)*('1.2 Sub-Con Application'!$V$13:$V$1012<>\"\"),0),21),\"\")","v":""}]
[null,8,"","","","","","","","",{"$f":"IF(B20=\"\",\"\",SUMIF('1.2 Sub-Con Application'!$B$13:$B$1012,B20,'1.2 Sub-Con Application'!$P$13:$P$1012))","v":0},{"$f":"IF(B20=\"\",\"\",SUMIF('1.2 Sub-Con Application'!$B$13:$B$1012,B20,'1.2 Sub-Con Application'!$R$13:$R$1012))","v":0},{"$f":"IF(B20=\"\",\"\",SUMIF('1.2 Sub-Con Application'!$B$13:$B$1012,B20,'1.2 Sub-Con Application'!$S$13:$S$1012))","v":0},{"$f":"IFERROR(INDEX('1.2 Sub-Con Application'!$B$13:$U$1012,MATCH(1,('1.2 Sub-Con Application'!$B$13:$B$1012=B20)*('1.2 Sub-Con Application'!$U$13:$U$1012=\"Rejected\"),0),20),\"\")","v":""},{"$f":"IFERROR(INDEX('1.2 Sub-Con Application'!$B$13:$V$1012,MATCH(1,('1.2 Sub-Con Application'!$B$13:$B$1012=B20)*('1.2 Sub-Con Application'!$V$13:$V$1012<>\"\"),0),21),\"\")","v":""}]
[null,9,"","","","","","","","",{"$f":"IF(B21=\"\",\"\",SUMIF('1.2 Sub-Con Application'!$B$13:$B$1012,B21,'1.2 Sub-Con Application'!$P$13:$P$1012))","v":0},{"$f":"IF(B21=\"\",\"\",SUMIF('1.2 Sub-Con Application'!$B$13:$B$1012,B21,'1.2 Sub-Con Application'!$R$13:$R$1012))","v":0},{"$f":"IF(B21=\"\",\"\",SUMIF('1.2 Sub-Con Application'!$B$13:$B$1012,B21,'1.2 Sub-Con Application'!$S$13:$S$1012))","v":0},{"$f":"IFERROR(INDEX('1.2 Sub-Con Application'!$B$13:$U$1012,MATCH(1,('1.2 Sub-Con Application'!$B$13:$B$1012=B21)*('1.2 Sub-Con Application'!$U$13:$U$1012=\"Rejected\"),0),20),\"\")","v":""},{"$f":"IFERROR(INDEX('1.2 Sub-Con Application'!$B$13:$V$1012,MATCH(1,('1.2 Sub-Con Application'!$B$13:$B$1012=B21)*('1.2 Sub-Con Application'!$V$13:$V$1012<>\"\"),0),21),\"\")","v":""}]
[null,10,"","","","","","","","",{"$f":"IF(B22=\"\",\"\",SUMIF('1.2 Sub-Con Application'!$B$13:$B$1012,B22,'1.2 Sub-Con Application'!$P$13:$P$1012))","v":0},{"$f":"IF(B22=\"\",\"\",SUMIF('1.2 Sub-Con Application'!$B$13:$B$1012,B22,'1.2 Sub-Con Application'!$R$13:$R$1012))","v":0},{"$f":"IF(B22=\"\",\"\",SUMIF('1.2 Sub-Con Application'!$B$13:$B$1012,B22,'1.2 Sub-Con Application'!$S$13:$S$1012))","v":0},{"$f":"IFERROR(INDEX('1.2 Sub-Con Application'!$B$13:$U$1012,MATCH(1,('1.2 Sub-Con Application'!$B$13:$B$1012=B22)*('1.2 Sub-Con Application'!$U$13:$U$1012=\"Rejected\"),0),20),\"\")","v":""},{"$f":"IFERROR(INDEX('1.2 Sub-Con Application'!$B$13:$V$1012,MATCH(1,('1.2 Sub-Con Application'!$B$13:$B$1012=B22)*('1.2 Sub-Con Application'!$V$13:$V$1012<>\"\"),0),21),\"\")","v":""}]
[null,11,{"$f":"IFERROR(INDEX(table_subconApp,MATCH($B23,row_subconApp,0),MATCH(C$12,col_subconApp,0)),\"\")","v":""},"","","","","","","",{"$f":"IF(B23=\"\",\"\",SUMIF('1.2 Sub-Con Application'!$B$13:$B$1012,B23,'1.2 Sub-Con Application'!$P$13:$P$1012))","v":0},{"$f":"IF(B23=\"\",\"\",SUMIF('1.2 Sub-Con Application'!$B$13:$B$1012,B23,'1.2 Sub-Con Application'!$R$13:$R$1012))","v":0},{"$f":"IF(B23=\"\",\"\",SUMIF('1.2 Sub-Con Application'!$B$13:$B$1012,B23,'1.2 Sub-Con Application'!$S$13:$S$1012))","v":0},{"$f":"IFERROR(INDEX('1.2 Sub-Con Application'!$B$13:$U$1012,MATCH(1,('1.2 Sub-Con Application'!$B$13:$B$1012=B23)*('1.2 Sub-Con Application'!$U$13:$U$1012=\"Rejected\"),0),20),\"\")","v":""},{"$f":"IFERROR(INDEX('1.2 Sub-Con Application'!$B$13:$V$1012,MATCH(1,('1.2 Sub-Con Application'!$B$13:$B$1012=B23)*('1.2 Sub-Con Application'!$V$13:$V$1012<>\"\"),0),21),\"\")","v":""}]
[null,12,"","","","","","","","",{"$f":"IF(B24=\"\",\"\",SUMIF('1.2 Sub-Con Application'!$B$13:$B$1012,B24,'1.2 Sub-Con Application'!$P$13:$P$1012))","v":0},{"$f":"IF(B24=\"\",\"\",SUMIF('1.2 Sub-Con Application'!$B$13:$B$1012,B24,'1.2 Sub-Con Application'!$R$13:$R$1012))","v":0},{"$f":"IF(B24=\"\",\"\",SUMIF('1.2 Sub-Con Application'!$B$13:$B$1012,B24,'1.2 Sub-Con Application'!$S$13:$S$1012))","v":0},{"$f":"IFERROR(INDEX('1.2 Sub-Con Application'!$B$13:$U$1012,MATCH(1,('1.2 Sub-Con Application'!$B$13:$B$1012=B24)*('1.2 Sub-Con Application'!$U$13:$U$1012=\"Rejected\"),0),20),\"\")","v":""},{"$f":"IFERROR(INDEX('1.2 Sub-Con Application'!$B$13:$V$1012,MATCH(1,('1.2 Sub-Con Application'!$B$13:$B$1012=B24)*('1.2 Sub-Con Application'!$V$13:$V$1012<>\"\"),0),21),\"\")","v":""}]
[null,13,"","","","","","","","",{"$f":"IF(B25=\"\",\"\",SUMIF('1.2 Sub-Con Application'!$B$13:$B$1012,B25,'1.2 Sub-Con Application'!$P$13:$P$1012))","v":0},{"$f":"IF(B25=\"\",\"\",SUMIF('1.2 Sub-Con Application'!$B$13:$B$1012,B25,'1.2 Sub-Con Application'!$R$13:$R$1012))","v":0},{"$f":"IF(B25=\"\",\"\",SUMIF('1.2 Sub-Con Application'!$B$13:$B$1012,B25,'1.2 Sub-Con Application'!$S$13:$S$1012))","v":0},{"$f":"IFERROR(INDEX('1.2 Sub-Con Application'!$B$13:$U$1012,MATCH(1,('1.2 Sub-Con Application'!$B$13:$B$1012=B25)*('1.2 Sub-Con Application'!$U$13:$U$1012=\"Rejected\"),0),20),\"\")","v":""},{"$f":"IFERROR(INDEX('1.2 Sub-Con Application'!$B$13:$V$1012,MATCH(1,('1.2 Sub-Con Application'!$B$13:$B$1012=B25)*('1.2 Sub-Con Application'!$V$13:$V$1012<>\"\"),0),21),\"\")","v":""}]
[null,14,"","","","","","","","",{"$f":"IF(B26=\"\",\"\",SUMIF('1.2 Sub-Con Application'!$B$13:$B$1012,B26,'1.2 Sub-Con Application'!$P$13:$P$1012))","v":0},{"$f":"IF(B26=\"\",\"\",SUMIF('1.2 Sub-Con Application'!$B$13:$B$1012,B26,'1.2 Sub-Con Application'!$R$13:$R$1012))","v":0},{"$f":"IF(B26=\"\",\"\",SUMIF('1.2 Sub-Con Application'!$B$13:$B$1012,B26,'1.2 Sub-Con Application'!$S$13:$S$1012))","v":0},{"$f":"IFERROR(INDEX('1.2 Sub-Con Application'!$B$13:$U$1012,MATCH(1,('1.2 Sub-Con Application'!$B$13:$B$1012=B26)*('1.2 Sub-Con Application'!$U$13:$U$1012=\"Rejected\"),0),20),\"\")","v":""},{"$f":"IFERROR(INDEX('1.2 Sub-Con Application'!$B$13:$V$1012,MATCH(1,('1.2 Sub-Con Application'!$B$13:$B$1012=B26)*('1.2 Sub-Con Application'!$V$13:$V$1012<>\"\"),0),21),\"\")","v":""}]
[null,15,"","","","","","","","",{"$f":"IF(B27=\"\",\"\",SUMIF('1.2 Sub-Con Application'!$B$13:$B$1012,B27,'1.2 Sub-Con Application'!$P$13:$P$1012))","v":0},{"$f":"IF(B27=\"\",\"\",SUMIF('1.2 Sub-Con Application'!$B$13:$B$1012,B27,'1.2 Sub-Con Application'!$R$13:$R$1012))","v":0},{"$f":"IF(B27=\"\",\"\",SUMIF('1.2 Sub-Con Application'!$B$13:$B$1012,B27,'1.2 Sub-Con Application'!$S$13:$S$1012))","v":0},{"$f":"IFERROR(INDEX('1.2 Sub-Con Application'!$B$13:$U$1012,MATCH(1,('1.2 Sub-Con Application'!$B$13:$B$1012=B27)*('1.2 Sub-Con Application'!$U$13:$U$1012=\"Rejected\"),0),20),\"\")","v":""},{"$f":"IFERROR(INDEX('1.2 Sub-Con Application'!$B$13:$V$1012,MATCH(1,('1.2 Sub-Con Application'!$B$13:$B$1012=B27)*('1.2 Sub-Con Application'!$V$13:$V$1012<>\"\"),0),21),\"\")","v":""}]
[null,16,"","","","","","","","",{"$f":"IF(B28=\"\",\"\",SUMIF('1.2 Sub-Con Application'!$B$13:$B$1012,B28,'1.2 Sub-Con Application'!$P$13:$P$1012))","v":0},{"$f":"IF(B28=\"\",\"\",SUMIF('1.2 Sub-Con Application'!$B$13:$B$1012,B28,'1.2 Sub-Con Application'!$R$13:$R$1012))","v":0},{"$f":"IF(B28=\"\",\"\",SUMIF('1.2 Sub-Con Application'!$B$13:$B$1012,B28,'1.2 Sub-Con Application'!$S$13:$S$1012))","v":0},{"$f":"IFERROR(INDEX('1.2 Sub-Con Application'!$B$13:$U$1012,MATCH(1,('1.2 Sub-Con Application'!$B$13:$B$1012=B28)*('1.2 Sub-Con Application'!$U$13:$U$1012=\"Rejected\"),0),20),\"\")","v":""},{"$f":"IFERROR(INDEX('1.2 Sub-Con Application'!$B$13:$V$1012,MATCH(1,('1.2 Sub-Con Application'!$B$13:$B$1012=B28)*('1.2 Sub-Con Application'!$V$13:$V$1012<>\"\"),0),21),\"\")","v":""}]
[null,17,"","","","","","","","",{"$f":"IF(B29=\"\",\"\",SUMIF('1.2 Sub-Con Application'!$B$13:$B$1012,B29,'1.2 Sub-Con Application'!$P$13:$P$1012))","v":0},{"$f":"IF(B29=\"\",\"\",SUMIF('1.2 Sub-Con Application'!$B$13:$B$1012,B29,'1.2 Sub-Con Application'!$R$13:$R$1012))","v":0},{"$f":"IF(B29=\"\",\"\",SUMIF('1.2 Sub-Con Application'!$B$13:$B$1012,B29,'1.2 Sub-Con Application'!$S$13:$S$1012))","v":0},{"$f":"IFERROR(INDEX('1.2 Sub-Con Application'!$B$13:$U$1012,MATCH(1,('1.2 Sub-Con Application'!$B$13:$B$1012=B29)*('1.2 Sub-Con Application'!$U$13:$U$1012=\"Rejected\"),0),20),\"\")","v":""},{"$f":"IFERROR(INDEX('1.2 Sub-Con Application'!$B$13:$V$1012,MATCH(1,('1.2 Sub-Con Application'!$B$13:$B$1012=B29)*('1.2 Sub-Con Application'!$V$13:$V$1012<>\"\"),0),21),\"\")","v":""}]
[null,18,"","","","","","","","",{"$f":"IF(B30=\"\",\"\",SUMIF('1.2 Sub-Con Application'!$B$13:$B$1012,B30,'1.2 Sub-Con Application'!$P$13:$P$1012))","v":0},{"$f":"IF(B30=\"\",\"\",SUMIF('1.2 Sub-Con Application'!$B$13:$B$1012,B30,'1.2 Sub-Con Application'!$R$13:$R$1012))","v":0},{"$f":"IF(B30=\"\",\"\",SUMIF('1.2 Sub-Con Application'!$B$13:$B$1012,B30,'1.2 Sub-Con Application'!$S$13:$S$1012))","v":0},{"$f":"IFERROR(INDEX('1.2 Sub-Con Application'!$B$13:$U$1012,MATCH(1,('1.2 Sub-Con Application'!$B$13:$B$1012=B30)*('1.2 Sub-Con Application'!$U$13:$U$1012=\"Rejected\"),0),20),\"\")","v":""},{"$f":"IFERROR(INDEX('1.2 Sub-Con Application'!$B$13:$V$1012,MATCH(1,('1.2 Sub-Con Application'!$B$13:$B$1012=B30)*('1.2 Sub-Con Application'!$V$13:$V$1012<>\"\"),0),21),\"\")","v":""}]
[null,19,"","","","","","","","",{"$f":"IF(B31=\"\",\"\",SUMIF('1.2 Sub-Con Application'!$B$13:$B$1012,B31,'1.2 Sub-Con Application'!$P$13:$P$1012))","v":0},{"$f":"IF(B31=\"\",\"\",SUMIF('1.2 Sub-Con Application'!$B$13:$B$1012,B31,'1.2 Sub-Con Application'!$R$13:$R$1012))","v":0},{"$f":"IF(B31=\"\",\"\",SUMIF('1.2 Sub-Con Application'!$B$13:$B$1012,B31,'1.2 Sub-Con Application'!$S$13:$S$1012))","v":0},{"$f":"IFERROR(INDEX('1.2 Sub-Con Application'!$B$13:$U$1012,MATCH(1,('1.2 Sub-Con Application'!$B$13:$B$1012=B31)*('1.2 Sub-Con Application'!$U$13:$U$1012=\"Rejected\"),0),20),\"\")","v":""},{"$f":"IFERROR(INDEX('1.2 Sub-Con Application'!$B$13:$V$1012,MATCH(1,('1.2 Sub-Con Application'!$B$13:$B$1012=B31)*('1.2 Sub-Con Application'!$V$13:$V$1012<>\"\"),0),21),\"\")","v":""}]
[null,20,"","","","","","","","",{"$f":"IF(B32=\"\",\"\",SUMIF('1.2 Sub-Con Application'!$B$13:$B$1012,B32,'1.2 Sub-Con Application'!$P$13:$P$1012))","v":0},{"$f":"IF(B32=\"\",\"\",SUMIF('1.2 Sub-Con Application'!$B$13:$B$1012,B32,'1.2 Sub-Con Application'!$R$13:$R$1012))","v":0},{"$f":"IF(B32=\"\",\"\",SUMIF('1.2 Sub-Con Application'!$B$13:$B$1012,B32,'1.2 Sub-Con Application'!$S$13:$S$1012))","v":0},{"$f":"IFERROR(INDEX('1.2 Sub-Con Application'!$B$13:$U$1012,MATCH(1,('1.2 Sub-Con Application'!$B$13:$B$1012=B32)*('1.2 Sub-Con Application'!$U$13:$U$1012=\"Rejected\"),0),20),\"\")","v":""},{"$f":"IFERROR(INDEX('1.2 Sub-Con Application'!$B$13:$V$1012,MATCH(1,('1.2 Sub-Con Application'!$B$13:$B$1012=B32)*('1.2 Sub-Con Application'!$V$13:$V$1012<>\"\"),0),21),\"\")","v":""}]
[null,21,{"$f":"IFERROR(INDEX(table_subconApp,MATCH($B33,row_subconApp,0),MATCH(C$12,col_subconApp,0)),\"\")","v":""},"","","","","","","",{"$f":"IF(B33=\"\",\"\",SUMIF('1.2 Sub-Con Application'!$B$13:$B$1012,B33,'1.2 Sub-Con Application'!$P$13:$P$1012))","v":0},{"$f":"IF(B33=\"\",\"\",SUMIF('1.2 Sub-Con Application'!$B$13:$B$1012,B33,'1.2 Sub-Con Application'!$R$13:$R$1012))","v":0},{"$f":"IF(B33=\"\",\"\",SUMIF('1.2 Sub-Con Application'!$B$13:$B$1012,B33,'1.2 Sub-Con Application'!$S$13:$S$1012))","v":0},{"$f":"IFERROR(INDEX('1.2 Sub-Con Application'!$B$13:$U$1012,MATCH(1,('1.2 Sub-Con Application'!$B$13:$B$1012=B33)*('1.2 Sub-Con Application'!$U$13:$U$1012=\"Rejected\"),0),20),\"\")","v":""},{"$f":"IFERROR(INDEX('1.2 Sub-Con Application'!$B$13:$V$1012,MATCH(1,('1.2 Sub-Con Application'!$B$13:$B$1012=B33)*('1.2 Sub-Con Application'!$V$13:$V$1012<>\"\"),0),21),\"\")","v":""}]
[null,22,"","","","","","","","",{"$f":"IF(B34=\"\",\"\",SUMIF('1.2 Sub-Con Application'!$B$13:$B$1012,B34,'1.2 Sub-Con Application'!$P$13:$P$1012))","v":0},{"$f":"IF(B34=\"\",\"\",SUMIF('1.2 Sub-Con Application'!$B$13:$B$1012,B34,'1.2 Sub-Con Application'!$R$13:$R$1012))","v":0},{"$f":"IF(B34=\"\",\"\",SUMIF('1.2 Sub-Con Application'!$B$13:$B$1012,B34,'1.2 Sub-Con Application'!$S$13:$S$1012))","v":0},{"$f":"IFERROR(INDEX('1.2 Sub-Con Application'!$B$13:$U$1012,MATCH(1,('1.2 Sub-Con Application'!$B$13:$B$1012=B34)*('1.2 Sub-Con Application'!$U$13:$U$1012=\"Rejected\"),0),20),\"\")","v":""},{"$f":"IFERROR(INDEX('1.2 Sub-Con Application'!$B$13:$V$1012,MATCH(1,('1.2 Sub-Con Application'!$B$13:$B$1012=B34)*('1.2 Sub-Con Application'!$V$13:$V$1012<>\"\"),0),21),\"\")","v":""}]
[null,23,"","","","","","","","",{"$f":"IF(B35=\"\",\"\",SUMIF('1.2 Sub-Con Application'!$B$13:$B$1012,B35,'1.2 Sub-Con Application'!$P$13:$P$1012))","v":0},{"$f":"IF(B35=\"\",\"\",SUMIF('1.2 Sub-Con Application'!$B$13:$B$1012,B35,'1.2 Sub-Con Application'!$R$13:$R$1012))","v":0},{"$f":"IF(B35=\"\",\"\",SUMIF('1.2 Sub-Con Application'!$B$13:$B$1012,B35,'1.2 Sub-Con Application'!$S$13:$S$1012))","v":0},{"$f":"IFERROR(INDEX('1.2 Sub-Con Application'!$B$13:$U$1012,MATCH(1,('1.2 Sub-Con Application'!$B$13:$B$1012=B35)*('1.2 Sub-Con Application'!$U$13:$U$1012=\"Rejected\"),0),20),\"\")","v":""},{"$f":"IFERROR(INDEX('1.2 Sub-Con Application'!$B$13:$V$1012,MATCH(1,('1.2 Sub-Con Application'!$B$13:$B$1012=B35)*('1.2 Sub-Con Application'!$V$13:$V$1012<>\"\"),0),21),\"\")","v":""}]
[null,24,"","","","","","","","",{"$f":"IF(B36=\"\",\"\",SUMIF('1.2 Sub-Con Application'!$B$13:$B$1012,B36,'1.2 Sub-Con Application'!$P$13:$P$1012))","v":0},{"$f":"IF(B36=\"\",\"\",SUMIF('1.2 Sub-Con Application'!$B$13:$B$1012,B36,'1.2 Sub-Con Application'!$R$13:$R$1012))","v":0},{"$f":"IF(B36=\"\",\"\",SUMIF('1.2 Sub-Con Application'!$B$13:$B$1012,B36,'1.2 Sub-Con Application'!$S$13:$S$1012))","v":0},{"$f":"IFERROR(INDEX('1.2 Sub-Con Application'!$B$13:$U$1012,MATCH(1,('1.2 Sub-Con Application'!$B$13:$B$1012=B36)*('1.2 Sub-Con Application'!$U$13:$U$1012=\"Rejected\"),0),20),\"\")","v":""},{"$f":"IFERROR(INDEX('1.2 Sub-Con Application'!$B$13:$V$1012,MATCH(1,('1.2 Sub-Con Application'!$B$13:$B$1012=B36)*('1.2 Sub-Con Application'!$V$13:$V$1012<>\"\"),0),21),\"\")","v":""}]
[null,25,"","","","","","","","",{"$f":"IF(B37=\"\",\"\",SUMIF('1.2 Sub-Con Application'!$B$13:$B$1012,B37,'1.2 Sub-Con Application'!$P$13:$P$1012))","v":0},{"$f":"IF(B37=\"\",\"\",SUMIF('1.2 Sub-Con Application'!$B$13:$B$1012,B37,'1.2 Sub-Con Application'!$R$13:$R$1012))","v":0},{"$f":"IF(B37=\"\",\"\",SUMIF('1.2 Sub-Con Application'!$B$13:$B$1012,B37,'1.2 Sub-Con Application'!$S$13:$S$1012))","v":0},{"$f":"IFERROR(INDEX('1.2 Sub-Con Application'!$B$13:$U$1012,MATCH(1,('1.2 Sub-Con Application'!$B$13:$B$1012=B37)*('1.2 Sub-Con Application'!$U$13:$U$1012=\"Rejected\"),0),20),\"\")","v":""},{"$f":"IFERROR(INDEX('1.2 Sub-Con Application'!$B$13:$V$1012,MATCH(1,('1.2 Sub-Con Application'!$B$13:$B$1012=B37)*('1.2 Sub-Con Application'!$V$13:$V$1012<>\"\"),0),21),\"\")","v":""}]
[null,26,"","","","","","","","",{"$f":"IF(B38=\"\",\"\",SUMIF('1.2 Sub-Con Application'!$B$13:$B$1012,B38,'1.2 Sub-Con Application'!$P$13:$P$1012))","v":0},{"$f":"IF(B38=\"\",\"\",SUMIF('1.2 Sub-Con Application'!$B$13:$B$1012,B38,'1.2 Sub-Con Application'!$R$13:$R$1012))","v":0},{"$f":"IF(B38=\"\",\"\",SUMIF('1.2 Sub-Con Application'!$B$13:$B$1012,B38,'1.2 Sub-Con Application'!$S$13:$S$1012))","v":0},{"$f":"IFERROR(INDEX('1.2 Sub-Con Application'!$B$13:$U$1012,MATCH(1,('1.2 Sub-Con Application'!$B$13:$B$1012=B38)*('1.2 Sub-Con Application'!$U$13:$U$1012=\"Rejected\"),0),20),\"\")","v":""},{"$f":"IFERROR(INDEX('1.2 Sub-Con Application'!$B$13:$V$1012,MATCH(1,('1.2 Sub-Con Application'!$B$13:$B$1012=B38)*('1.2 Sub-Con Application'!$V$13:$V$1012<>\"\"),0),21),\"\")","v":""}]
[null,27,"","","","","","","","",{"$f":"IF(B39=\"\",\"\",SUMIF('1.2 Sub-Con Application'!$B$13:$B$1012,B39,'1.2 Sub-Con Application'!$P$13:$P$1012))","v":0},{"$f":"IF(B39=\"\",\"\",SUMIF('1.2 Sub-Con Application'!$B$13:$B$1012,B39,'1.2 Sub-Con Application'!$R$13:$R$1012))","v":0},{"$f":"IF(B39=\"\",\"\",SUMIF('1.2 Sub-Con Application'!$B$13:$B$1012,B39,'1.2 Sub-Con Application'!$S$13:$S$1012))","v":0},{"$f":"IFERROR(INDEX('1.2 Sub-Con Application'!$B$13:$U$1012,MATCH(1,('1.2 Sub-Con Application'!$B$13:$B$1012=B39)*('1.2 Sub-Con Application'!$U$13:$U$1012=\"Rejected\"),0),20),\"\")","v":""},{"$f":"IFERROR(INDEX('1.2 Sub-Con Application'!$B$13:$V$1012,MATCH(1,('1.2 Sub-Con Application'!$B$13:$B$1012=B39)*('1.2 Sub-Con Application'!$V$13:$V$1012<>\"\"),0),21),\"\")","v":""}]
[null,28,"","","","","","","","",{"$f":"IF(B40=\"\",\"\",SUMIF('1.2 Sub-Con Application'!$B$13:$B$1012,B40,'1.2 Sub-Con Application'!$P$13:$P$1012))","v":0},{"$f":"IF(B40=\"\",\"\",SUMIF('1.2 Sub-Con Application'!$B$13:$B$1012,B40,'1.2 Sub-Con Application'!$R$13:$R$1012))","v":0},{"$f":"IF(B40=\"\",\"\",SUMIF('1.2 Sub-Con Application'!$B$13:$B$1012,B40,'1.2 Sub-Con Application'!$S$13:$S$1012))","v":0},{"$f":"IFERROR(INDEX('1.2 Sub-Con Application'!$B$13:$U$1012,MATCH(1,('1.2 Sub-Con Application'!$B$13:$B$1012=B40)*('1.2 Sub-Con Application'!$U$13:$U$1012=\"Rejected\"),0),20),\"\")","v":""},{"$f":"IFERROR(INDEX('1.2 Sub-Con Application'!$B$13:$V$1012,MATCH(1,('1.2 Sub-Con Application'!$B$13:$B$1012=B40)*('1.2 Sub-Con Application'!$V$13:$V$1012<>\"\"),0),21),\"\")","v":""}]
[null,29,"","","","","","","","",{"$f":"IF(B41=\"\",\"\",SUMIF('1.2 Sub-Con Application'!$B$13:$B$1012,B41,'1.2 Sub-Con Application'!$P$13:$P$1012))","v":0},{"$f":"IF(B41=\"\",\"\",SUMIF('1.2 Sub-Con Application'!$B$13:$B$1012,B41,'1.2 Sub-Con Application'!$R$13:$R$1012))","v":0},{"$f":"IF(B41=\"\",\"\",SUMIF('1.2 Sub-Con Application'!$B$13:$B$1012,B41,'1.2 Sub-Con Application'!$S$13:$S$1012))","v":0},{"$f":"IFERROR(INDEX('1.2 Sub-Con Application'!$B$13:$U$1012,MATCH(1,('1.2 Sub-Con Application'!$B$13:$B$1012=B41)*('1.2 Sub-Con Application'!$U$13:$U$1012=\"Rejected\"),0),20),\"\")","v":""},{"$f":"IFERROR(INDEX('1.2 Sub-Con Application'!$B$13:$V$1012,MATCH(1,('1.2 Sub-Con Application'!$B$13:$B$1012=B41)*('1.2 Sub-Con Application'!$V$13:$V$1012<>\"\"),0),21),\"\")","v":""}]
[null,30,"","","","","","","","",{"$f":"IF(B42=\"\",\"\",SUMIF('1.2 Sub-Con Application'!$B$13:$B$1012,B42,'1.2 Sub-Con Application'!$P$13:$P$1012))","v":0},{"$f":"IF(B42=\"\",\"\",SUMIF('1.2 Sub-Con Application'!$B$13:$B$1012,B42,'1.2 Sub-Con Application'!$R$13:$R$1012))","v":0},{"$f":"IF(B42=\"\",\"\",SUMIF('1.2 Sub-Con Application'!$B$13:$B$1012,B42,'1.2 Sub-Con Application'!$S$13:$S$1012))","v":0},{"$f":"IFERROR(INDEX('1.2 Sub-Con Application'!$B$13:$U$1012,MATCH(1,('1.2 Sub-Con Application'!$B$13:$B$1012=B42)*('1.2 Sub-Con Application'!$U$13:$U$1012=\"Rejected\"),0),20),\"\")","v":""},{"$f":"IFERROR(INDEX('1.2 Sub-Con Application'!$B$13:$V$1012,MATCH(1,('1.2 Sub-Con Application'!$B$13:$B$1012=B42)*('1.2 Sub-Con Application'!$V$13:$V$1012<>\"\"),0),21),\"\")","v":""}]
[null,31,{"$f":"IFERROR(INDEX(table_subconApp,MATCH($B43,row_subconApp,0),MATCH(C$12,col_subconApp,0)),\"\")","v":""},"","","","","","","",{"$f":"IF(B43=\"\",\"\",SUMIF('1.2 Sub-Con Application'!$B$13:$B$1012,B43,'1.2 Sub-Con Application'!$P$13:$P$1012))","v":0},{"$f":"IF(B43=\"\",\"\",SUMIF('1.2 Sub-Con Application'!$B$13:$B$1012,B43,'1.2 Sub-Con Application'!$R$13:$R$1012))","v":0},{"$f":"IF(B43=\"\",\"\",SUMIF('1.2 Sub-Con Application'!$B$13:$B$1012,B43,'1.2 Sub-Con Application'!$S$13:$S$1012))","v":0},{"$f":"IFERROR(INDEX('1.2 Sub-Con Application'!$B$13:$U$1012,MATCH(1,('1.2 Sub-Con Application'!$B$13:$B$1012=B43)*('1.2 Sub-Con Application'!$U$13:$U$1012=\"Rejected\"),0),20),\"\")","v":""},{"$f":"IFERROR(INDEX('1.2 Sub-Con Application'!$B$13:$V$1012,MATCH(1,('1.2 Sub-Con Application'!$B$13:$B$1012=B43)*('1.2 Sub-Con Application'!$V$13:$V$1012<>\"\"),0),21),\"\")","v":""}]
[null,32,"","","","","","","","",{"$f":"IF(B44=\"\",\"\",SUMIF('1.2 Sub-Con Application'!$B$13:$B$1012,B44,'1.2 Sub-Con Application'!$P$13:$P$1012))","v":0},{"$f":"IF(B44=\"\",\"\",SUMIF('1.2 Sub-Con Application'!$B$13:$B$1012,B44,'1.2 Sub-Con Application'!$R$13:$R$1012))","v":0},{"$f":"IF(B44=\"\",\"\",SUMIF('1.2 Sub-Con Application'!$B$13:$B$1012,B44,'1.2 Sub-Con Application'!$S$13:$S$1012))","v":0},{"$f":"IFERROR(INDEX('1.2 Sub-Con Application'!$B$13:$U$1012,MATCH(1,('1.2 Sub-Con Application'!$B$13:$B$1012=B44)*('1.2 Sub-Con Application'!$U$13:$U$1012=\"Rejected\"),0),20),\"\")","v":""},{"$f":"IFERROR(INDEX('1.2 Sub-Con Application'!$B$13:$V$1012,MATCH(1,('1.2 Sub-Con Application'!$B$13:$B$1012=B44)*('1.2 Sub-Con Application'!$V$13:$V$1012<>\"\"),0),21),\"\")","v":""}]
[null,33,"","","","","","","","",{"$f":"IF(B45=\"\",\"\",SUMIF('1.2 Sub-Con Application'!$B$13:$B$1012,B45,'1.2 Sub-Con Application'!$P$13:$P$1012))","v":0},{"$f":"IF(B45=\"\",\"\",SUMIF('1.2 Sub-Con Application'!$B$13:$B$1012,B45,'1.2 Sub-Con Application'!$R$13:$R$1012))","v":0},{"$f":"IF(B45=\"\",\"\",SUMIF('1.2 Sub-Con Application'!$B$13:$B$1012,B45,'1.2 Sub-Con Application'!$S$13:$S$1012))","v":0},{"$f":"IFERROR(INDEX('1.2 Sub-Con Application'!$B$13:$U$1012,MATCH(1,('1.2 Sub-Con Application'!$B$13:$B$1012=B45)*('1.2 Sub-Con Application'!$U$13:$U$1012=\"Rejected\"),0),20),\"\")","v":""},{"$f":"IFERROR(INDEX('1.2 Sub-Con Application'!$B$13:$V$1012,MATCH(1,('1.2 Sub-Con Application'!$B$13:$B$1012=B45)*('1.2 Sub-Con Application'!$V$13:$V$1012<>\"\"),0),21),\"\")","v":""}]
[null,34,"","","","","","","","",{"$f":"IF(B46=\"\",\"\",SUMIF('1.2 Sub-Con Application'!$B$13:$B$1012,B46,'1.2 Sub-Con Application'!$P$13:$P$1012))","v":0},{"$f":"IF(B46=\"\",\"\",SUMIF('1.2 Sub-Con Application'!$B$13:$B$1012,B46,'1.2 Sub-Con Application'!$R$13:$R$1012))","v":0},{"$f":"IF(B46=\"\",\"\",SUMIF('1.2 Sub-Con Application'!$B$13:$B$1012,B46,'1.2 Sub-Con Application'!$S$13:$S$1012))","v":0},{"$f":"IFERROR(INDEX('1.2 Sub-Con Application'!$B$13:$U$1012,MATCH(1,('1.2 Sub-Con Application'!$B$13:$B$1012=B46)*('1.2 Sub-Con Application'!$U$13:$U$1012=\"Rejected\"),0),20),\"\")","v":""},{"$f":"IFERROR(INDEX('1.2 Sub-Con Application'!$B$13:$V$1012,MATCH(1,('1.2 Sub-Con Application'!$B$13:$B$1012=B46)*('1.2 Sub-Con Application'!$V$13:$V$1012<>\"\"),0),21),\"\")","v":""}]
[null,35,"","","","","","","","",{"$f":"IF(B47=\"\",\"\",SUMIF('1.2 Sub-Con Application'!$B$13:$B$1012,B47,'1.2 Sub-Con Application'!$P$13:$P$1012))","v":0},{"$f":"IF(B47=\"\",\"\",SUMIF('1.2 Sub-Con Application'!$B$13:$B$1012,B47,'1.2 Sub-Con Application'!$R$13:$R$1012))","v":0},{"$f":"IF(B47=\"\",\"\",SUMIF('1.2 Sub-Con Application'!$B$13:$B$1012,B47,'1.2 Sub-Con Application'!$S$13:$S$1012))","v":0},{"$f":"IFERROR(INDEX('1.2 Sub-Con Application'!$B$13:$U$1012,MATCH(1,('1.2 Sub-Con Application'!$B$13:$B$1012=B47)*('1.2 Sub-Con Application'!$U$13:$U$1012=\"Rejected\"),0),20),\"\")","v":""},{"$f":"IFERROR(INDEX('1.2 Sub-Con Application'!$B$13:$V$1012,MATCH(1,('1.2 Sub-Con Application'!$B$13:$B$1012=B47)*('1.2 Sub-Con Application'!$V$13:$V$1012<>\"\"),0),21),\"\")","v":""}]
[null,36,"","","","","","","","",{"$f":"IF(B48=\"\",\"\",SUMIF('1.2 Sub-Con Application'!$B$13:$B$1012,B48,'1.2 Sub-Con Application'!$P$13:$P$1012))","v":0},{"$f":"IF(B48=\"\",\"\",SUMIF('1.2 Sub-Con Application'!$B$13:$B$1012,B48,'1.2 Sub-Con Application'!$R$13:$R$1012))","v":0},{"$f":"IF(B48=\"\",\"\",SUMIF('1.2 Sub-Con Application'!$B$13:$B$1012,B48,'1.2 Sub-Con Application'!$S$13:$S$1012))","v":0},{"$f":"IFERROR(INDEX('1.2 Sub-Con Application'!$B$13:$U$1012,MATCH(1,('1.2 Sub-Con Application'!$B$13:$B$1012=B48)*('1.2 Sub-Con Application'!$U$13:$U$1012=\"Rejected\"),0),20),\"\")","v":""},{"$f":"IFERROR(INDEX('1.2 Sub-Con Application'!$B$13:$V$1012,MATCH(1,('1.2 Sub-Con Application'!$B$13:$B$1012=B48)*('1.2 Sub-Con Application'!$V$13:$V$1012<>\"\"),0),21),\"\")","v":""}]
[null,37,"","","","","","","","",{"$f":"IF(B49=\"\",\"\",SUMIF('1.2 Sub-Con Application'!$B$13:$B$1012,B49,'1.2 Sub-Con Application'!$P$13:$P$1012))","v":0},{"$f":"IF(B49=\"\",\"\",SUMIF('1.2 Sub-Con Application'!$B$13:$B$1012,B49,'1.2 Sub-Con Application'!$R$13:$R$1012))","v":0},{"$f":"IF(B49=\"\",\"\",SUMIF('1.2 Sub-Con Application'!$B$13:$B$1012,B49,'1.2 Sub-Con Application'!$S$13:$S$1012))","v":0},{"$f":"IFERROR(INDEX('1.2 Sub-Con Application'!$B$13:$U$1012,MATCH(1,('1.2 Sub-Con Application'!$B$13:$B$1012=B49)*('1.2 Sub-Con Application'!$U$13:$U$1012=\"Rejected\"),0),20),\"\")","v":""},{"$f":"IFERROR(INDEX('1.2 Sub-Con Application'!$B$13:$V$1012,MATCH(1,('1.2 Sub-Con Application'!$B$13:$B$1012=B49)*('1.2 Sub-Con Application'!$V$13:$V$1012<>\"\"),0),21),\"\")","v":""}]
[null,38,"","","","","","","","",{"$f":"IF(B50=\"\",\"\",SUMIF('1.2 Sub-Con Application'!$B$13:$B$1012,B50,'1.2 Sub-Con Application'!$P$13:$P$1012))","v":0},{"$f":"IF(B50=\"\",\"\",SUMIF('1.2 Sub-Con Application'!$B$13:$B$1012,B50,'1.2 Sub-Con Application'!$R$13:$R$1012))","v":0},{"$f":"IF(B50=\"\",\"\",SUMIF('1.2 Sub-Con Application'!$B$13:$B$1012,B50,'1.2 Sub-Con Application'!$S$13:$S$1012))","v":0},{"$f":"IFERROR(INDEX('1.2 Sub-Con Application'!$B$13:$U$1012,MATCH(1,('1.2 Sub-Con Application'!$B$13:$B$1012=B50)*('1.2 Sub-Con Application'!$U$13:$U$1012=\"Rejected\"),0),20),\"\")","v":""},{"$f":"IFERROR(INDEX('1.2 Sub-Con Application'!$B$13:$V$1012,MATCH(1,('1.2 Sub-Con Application'!$B$13:$B$1012=B50)*('1.2 Sub-Con Application'!$V$13:$V$1012<>\"\"),0),21),\"\")","v":""}]
[null,39,"","","","","","","","",{"$f":"IF(B51=\"\",\"\",SUMIF('1.2 Sub-Con Application'!$B$13:$B$1012,B51,'1.2 Sub-Con Application'!$P$13:$P$1012))","v":0},{"$f":"IF(B51=\"\",\"\",SUMIF('1.2 Sub-Con Application'!$B$13:$B$1012,B51,'1.2 Sub-Con Application'!$R$13:$R$1012))","v":0},{"$f":"IF(B51=\"\",\"\",SUMIF('1.2 Sub-Con Application'!$B$13:$B$1012,B51,'1.2 Sub-Con Application'!$S$13:$S$1012))","v":0},{"$f":"IFERROR(INDEX('1.2 Sub-Con Application'!$B$13:$U$1012,MATCH(1,('1.2 Sub-Con Application'!$B$13:$B$1012=B51)*('1.2 Sub-Con Application'!$U$13:$U$1012=\"Rejected\"),0),20),\"\")","v":""},{"$f":"IFERROR(INDEX('1.2 Sub-Con Application'!$B$13:$V$1012,MATCH(1,('1.2 Sub-Con Application'!$B$13:$B$1012=B51)*('1.2 Sub-Con Application'!$V$13:$V$1012<>\"\"),0),21),\"\")","v":""}]
[null,40,"","","","","","","","",{"$f":"IF(B52=\"\",\"\",SUMIF('1.2 Sub-Con Application'!$B$13:$B$1012,B52,'1.2 Sub-Con Application'!$P$13:$P$1012))","v":0},{"$f":"IF(B52=\"\",\"\",SUMIF('1.2 Sub-Con Application'!$B$13:$B$1012,B52,'1.2 Sub-Con Application'!$R$13:$R$1012))","v":0},{"$f":"IF(B52=\"\",\"\",SUMIF('1.2 Sub-Con Application'!$B$13:$B$1012,B52,'1.2 Sub-Con Application'!$S$13:$S$1012))","v":0},{"$f":"IFERROR(INDEX('1.2 Sub-Con Application'!$B$13:$U$1012,MATCH(1,('1.2 Sub-Con Application'!$B$13:$B$1012=B52)*('1.2 Sub-Con Application'!$U$13:$U$1012=\"Rejected\"),0),20),\"\")","v":""},{"$f":"IFERROR(INDEX('1.2 Sub-Con Application'!$B$13:$V$1012,MATCH(1,('1.2 Sub-Con Application'!$B$13:$B$1012=B52)*('1.2 Sub-Con Application'!$V$13:$V$1012<>\"\"),0),21),\"\")","v":""}]
[null,41,{"$f":"IFERROR(INDEX(table_subconApp,MATCH($B53,row_subconApp,0),MATCH(C$12,col_subconApp,0)),\"\")","v":""},"","","","","","","",{"$f":"IF(B53=\"\",\"\",SUMIF('1.2 Sub-Con Application'!$B$13:$B$1012,B53,'1.2 Sub-Con Application'!$P$13:$P$1012))","v":0},{"$f":"IF(B53=\"\",\"\",SUMIF('1.2 Sub-Con Application'!$B$13:$B$1012,B53,'1.2 Sub-Con Application'!$R$13:$R$1012))","v":0},{"$f":"IF(B53=\"\",\"\",SUMIF('1.2 Sub-Con Application'!$B$13:$B$1012,B53,'1.2 Sub-Con Application'!$S$13:$S$1012))","v":0},{"$f":"IFERROR(INDEX('1.2 Sub-Con Application'!$B$13:$U$1012,MATCH(1,('1.2 Sub-Con Application'!$B$13:$B$1012=B53)*('1.2 Sub-Con Application'!$U$13:$U$1012=\"Rejected\"),0),20),\"\")","v":""},{"$f":"IFERROR(INDEX('1.2 Sub-Con Application'!$B$13:$V$1012,MATCH(1,('1.2 Sub-Con Application'!$B$13:$B$1012=B53)*('1.2 Sub-Con Application'!$V$13:$V$1012<>\"\"),0),21),\"\")","v":""}]
[null,42,"","","","","","","","",{"$f":"IF(B54=\"\",\"\",SUMIF('1.2 Sub-Con Application'!$B$13:$B$1012,B54,'1.2 Sub-Con Application'!$P$13:$P$1012))","v":0},{"$f":"IF(B54=\"\",\"\",SUMIF('1.2 Sub-Con Application'!$B$13:$B$1012,B54,'1.2 Sub-Con Application'!$R$13:$R$1012))","v":0},{"$f":"IF(B54=\"\",\"\",SUMIF('1.2 Sub-Con Application'!$B$13:$B$1012,B54,'1.2 Sub-Con Application'!$S$13:$S$1012))","v":0},{"$f":"IFERROR(INDEX('1.2 Sub-Con Application'!$B$13:$U$1012,MATCH(1,('1.2 Sub-Con Application'!$B$13:$B$1012=B54)*('1.2 Sub-Con Application'!$U$13:$U$1012=\"Rejected\"),0),20),\"\")","v":""},{"$f":"IFERROR(INDEX('1.2 Sub-Con Application'!$B$13:$V$1012,MATCH(1,('1.2 Sub-Con Application'!$B$13:$B$1012=B54)*('1.2 Sub-Con Application'!$V$13:$V$1012<>\"\"),0),21),\"\")","v":""}]
[null,43,"","","","","","","","",{"$f":"IF(B55=\"\",\"\",SUMIF('1.2 Sub-Con Application'!$B$13:$B$1012,B55,'1.2 Sub-Con Application'!$P$13:$P$1012))","v":0},{"$f":"IF(B55=\"\",\"\",SUMIF('1.2 Sub-Con Application'!$B$13:$B$1012,B55,'1.2 Sub-Con Application'!$R$13:$R$1012))","v":0},{"$f":"IF(B55=\"\",\"\",SUMIF('1.2 Sub-Con Application'!$B$13:$B$1012,B55,'1.2 Sub-Con Application'!$S$13:$S$1012))","v":0},{"$f":"IFERROR(INDEX('1.2 Sub-Con Application'!$B$13:$U$1012,MATCH(1,('1.2 Sub-Con Application'!$B$13:$B$1012=B55)*('1.2 Sub-Con Application'!$U$13:$U$1012=\"Rejected\"),0),20),\"\")","v":""},{"$f":"IFERROR(INDEX('1.2 Sub-Con Application'!$B$13:$V$1012,MATCH(1,('1.2 Sub-Con Application'!$B$13:$B$1012=B55)*('1.2 Sub-Con Application'!$V$13:$V$1012<>\"\"),0),21),\"\")","v":""}]
[null,44,"","","","","","","","",{"$f":"IF(B56=\"\",\"\",SUMIF('1.2 Sub-Con Application'!$B$13:$B$1012,B56,'1.2 Sub-Con Application'!$P$13:$P$1012))","v":0},{"$f":"IF(B56=\"\",\"\",SUMIF('1.2 Sub-Con Application'!$B$13:$B$1012,B56,'1.2 Sub-Con Application'!$R$13:$R$1012))","v":0},{"$f":"IF(B56=\"\",\"\",SUMIF('1.2 Sub-Con Application'!$B$13:$B$1012,B56,'1.2 Sub-Con Application'!$S$13:$S$1012))","v":0},{"$f":"IFERROR(INDEX('1.2 Sub-Con Application'!$B$13:$U$1012,MATCH(1,('1.2 Sub-Con Application'!$B$13:$B$1012=B56)*('1.2 Sub-Con Application'!$U$13:$U$1012=\"Rejected\"),0),20),\"\")","v":""},{"$f":"IFERROR(INDEX('1.2 Sub-Con Application'!$B$13:$V$1012,MATCH(1,('1.2 Sub-Con Application'!$B$13:$B$1012=B56)*('1.2 Sub-Con Application'!$V$13:$V$1012<>\"\"),0),21),\"\")","v":""}]
[null,45,"","","","","","","","",{"$f":"IF(B57=\"\",\"\",SUMIF('1.2 Sub-Con Application'!$B$13:$B$1012,B57,'1.2 Sub-Con Application'!$P$13:$P$1012))","v":0},{"$f":"IF(B57=\"\",\"\",SUMIF('1.2 Sub-Con Application'!$B$13:$B$1012,B57,'1.2 Sub-Con Application'!$R$13:$R$1012))","v":0},{"$f":"IF(B57=\"\",\"\",SUMIF('1.2 Sub-Con Application'!$B$13:$B$1012,B57,'1.2 Sub-Con Application'!$S$13:$S$1012))","v":0},{"$f":"IFERROR(INDEX('1.2 Sub-Con Application'!$B$13:$U$1012,MATCH(1,('1.2 Sub-Con Application'!$B$13:$B$1012=B57)*('1.2 Sub-Con Application'!$U$13:$U$1012=\"Rejected\"),0),20),\"\")","v":""},{"$f":"IFERROR(INDEX('1.2 Sub-Con Application'!$B$13:$V$1012,MATCH(1,('1.2 Sub-Con Application'!$B$13:$B$1012=B57)*('1.2 Sub-Con Application'!$V$13:$V$1012<>\"\"),0),21),\"\")","v":""}]
[null,46,"","","","","","","","",{"$f":"IF(B58=\"\",\"\",SUMIF('1.2 Sub-Con Application'!$B$13:$B$1012,B58,'1.2 Sub-Con Application'!$P$13:$P$1012))","v":0},{"$f":"IF(B58=\"\",\"\",SUMIF('1.2 Sub-Con Application'!$B$13:$B$1012,B58,'1.2 Sub-Con Application'!$R$13:$R$1012))","v":0},{"$f":"IF(B58=\"\",\"\",SUMIF('1.2 Sub-Con Application'!$B$13:$B$1012,B58,'1.2 Sub-Con Application'!$S$13:$S$1012))","v":0},{"$f":"IFERROR(INDEX('1.2 Sub-Con Application'!$B$13:$U$1012,MATCH(1,('1.2 Sub-Con Application'!$B$13:$B$1012=B58)*('1.2 Sub-Con Application'!$U$13:$U$1012=\"Rejected\"),0),20),\"\")","v":""},{"$f":"IFERROR(INDEX('1.2 Sub-Con Application'!$B$13:$V$1012,MATCH(1,('1.2 Sub-Con Application'!$B$13:$B$1012=B58)*('1.2 Sub-Con Application'!$V$13:$V$1012<>\"\"),0),21),\"\")","v":""}]
[null,47,"","","","","","","","",{"$f":"IF(B59=\"\",\"\",SUMIF('1.2 Sub-Con Application'!$B$13:$B$1012,B59,'1.2 Sub-Con Application'!$P$13:$P$1012))","v":0},{"$f":"IF(B59=\"\",\"\",SUMIF('1.2 Sub-Con Application'!$B$13:$B$1012,B59,'1.2 Sub-Con Application'!$R$13:$R$1012))","v":0},{"$f":"IF(B59=\"\",\"\",SUMIF('1.2 Sub-Con Application'!$B$13:$B$1012,B59,'1.2 Sub-Con Application'!$S$13:$S$1012))","v":0},{"$f":"IFERROR(INDEX('1.2 Sub-Con Application'!$B$13:$U$1012,MATCH(1,('1.2 Sub-Con Application'!$B$13:$B$1012=B59)*('1.2 Sub-Con Application'!$U$13:$U$1012=\"Rejected\"),0),20),\"\")","v":""},{"$f":"IFERROR(INDEX('1.2 Sub-Con Application'!$B$13:$V$1012,MATCH(1,('1.2 Sub-Con Application'!$B$13:$B$1012=B59)*('1.2 Sub-Con Application'!$V$13:$V$1012<>\"\"),0),21),\"\")","v":""}]
[null,48,"","","","","","","","",{"$f":"IF(B60=\"\",\"\",SUMIF('1.2 Sub-Con Application'!$B$13:$B$1012,B60,'1.2 Sub-Con Application'!$P$13:$P$1012))","v":0},{"$f":"IF(B60=\"\",\"\",SUMIF('1.2 Sub-Con Application'!$B$13:$B$1012,B60,'1.2 Sub-Con Application'!$R$13:$R$1012))","v":0},{"$f":"IF(B60=\"\",\"\",SUMIF('1.2 Sub-Con Application'!$B$13:$B$1012,B60,'1.2 Sub-Con Application'!$S$13:$S$1012))","v":0},{"$f":"IFERROR(INDEX('1.2 Sub-Con Application'!$B$13:$U$1012,MATCH(1,('1.2 Sub-Con Application'!$B$13:$B$1012=B60)*('1.2 Sub-Con Application'!$U$13:$U$1012=\"Rejected\"),0),20),\"\")","v":""},{"$f":"IFERROR(INDEX('1.2 Sub-Con Application'!$B$13:$V$1012,MATCH(1,('1.2 Sub-Con Application'!$B$13:$B$1012=B60)*('1.2 Sub-Con Application'!$V$13:$V$1012<>\"\"),0),21),\"\")","v":""}]
[null,49,"","","","","","","","",{"$f":"IF(B61=\"\",\"\",SUMIF('1.2 Sub-Con Application'!$B$13:$B$1012,B61,'1.2 Sub-Con Application'!$P$13:$P$1012))","v":0},{"$f":"IF(B61=\"\",\"\",SUMIF('1.2 Sub-Con Application'!$B$13:$B$1012,B61,'1.2 Sub-Con Application'!$R$13:$R$1012))","v":0},{"$f":"IF(B61=\"\",\"\",SUMIF('1.2 Sub-Con Application'!$B$13:$B$1012,B61,'1.2 Sub-Con Application'!$S$13:$S$1012))","v":0},{"$f":"IFERROR(INDEX('1.2 Sub-Con Application'!$B$13:$U$1012,MATCH(1,('1.2 Sub-Con Application'!$B$13:$B$1012=B61)*('1.2 Sub-Con Application'!$U$13:$U$1012=\"Rejected\"),0),20),\"\")","v":""},{"$f":"IFERROR(INDEX('1.2 Sub-Con Application'!$B$13:$V$1012,MATCH(1,('1.2 Sub-Con Application'!$B$13:$B$1012=B61)*('1.2 Sub-Con Application'!$V$13:$V$1012<>\"\"),0),21),\"\")","v":""}]
[null,50,"","","","","","","","",{"$f":"IF(B62=\"\",\"\",SUMIF('1.2 Sub-Con Application'!$B$13:$B$1012,B62,'1.2 Sub-Con Application'!$P$13:$P$1012))","v":0},{"$f":"IF(B62=\"\",\"\",SUMIF('1.2 Sub-Con Application'!$B$13:$B$1012,B62,'1.2 Sub-Con Application'!$R$13:$R$1012))","v":0},{"$f":"IF(B62=\"\",\"\",SUMIF('1.2 Sub-Con Application'!$B$13:$B$1012,B62,'1.2 Sub-Con Application'!$S$13:$S$1012))","v":0},{"$f":"IFERROR(INDEX('1.2 Sub-Con Application'!$B$13:$U$1012,MATCH(1,('1.2 Sub-Con Application'!$B$13:$B$1012=B62)*('1.2 Sub-Con Application'!$U$13:$U$1012=\"Rejected\"),0),20),\"\")","v":""},{"$f":"IFERROR(INDEX('1.2 Sub-Con Application'!$B$13:$V$1012,MATCH(1,('1.2 Sub-Con Application'!$B$13:$B$1012=B62)*('1.2 Sub-Con Application'!$V$13:$V$1012<>\"\"),0),21),\"\")","v":""}]
[null,51,{"$f":"IFERROR(INDEX(table_subconApp,MATCH($B63,row_subconApp,0),MATCH(C$12,col_subconApp,0)),\"\")","v":""},"","","","","","","",{"$f":"IF(B63=\"\",\"\",SUMIF('1.2 Sub-Con Application'!$B$13:$B$1012,B63,'1.2 Sub-Con Application'!$P$13:$P$1012))","v":0},{"$f":"IF(B63=\"\",\"\",SUMIF('1.2 Sub-Con Application'!$B$13:$B$1012,B63,'1.2 Sub-Con Application'!$R$13:$R$1012))","v":0},{"$f":"IF(B63=\"\",\"\",SUMIF('1.2 Sub-Con Application'!$B$13:$B$1012,B63,'1.2 Sub-Con Application'!$S$13:$S$1012))","v":0},{"$f":"IFERROR(INDEX('1.2 Sub-Con Application'!$B$13:$U$1012,MATCH(1,('1.2 Sub-Con Application'!$B$13:$B$1012=B63)*('1.2 Sub-Con Application'!$U$13:$U$1012=\"Rejected\"),0),20),\"\")","v":""},{"$f":"IFERROR(INDEX('1.2 Sub-Con Application'!$B$13:$V$1012,MATCH(1,('1.2 Sub-Con Application'!$B$13:$B$1012=B63)*('1.2 Sub-Con Application'!$V$13:$V$1012<>\"\"),0),21),\"\")","v":""}]
[null,52,"","","","","","","","",{"$f":"IF(B64=\"\",\"\",SUMIF('1.2 Sub-Con Application'!$B$13:$B$1012,B64,'1.2 Sub-Con Application'!$P$13:$P$1012))","v":0},{"$f":"IF(B64=\"\",\"\",SUMIF('1.2 Sub-Con Application'!$B$13:$B$1012,B64,'1.2 Sub-Con Application'!$R$13:$R$1012))","v":0},{"$f":"IF(B64=\"\",\"\",SUMIF('1.2 Sub-Con Application'!$B$13:$B$1012,B64,'1.2 Sub-Con Application'!$S$13:$S$1012))","v":0},{"$f":"IFERROR(INDEX('1.2 Sub-Con Application'!$B$13:$U$1012,MATCH(1,('1.2 Sub-Con Application'!$B$13:$B$1012=B64)*('1.2 Sub-Con Application'!$U$13:$U$1012=\"Rejected\"),0),20),\"\")","v":""},{"$f":"IFERROR(INDEX('1.2 Sub-Con Application'!$B$13:$V$1012,MATCH(1,('1.2 Sub-Con Application'!$B$13:$B$1012=B64)*('1.2 Sub-Con Application'!$V$13:$V$1012<>\"\"),0),21),\"\")","v":""}]
[null,53,"","","","","","","","",{"$f":"IF(B65=\"\",\"\",SUMIF('1.2 Sub-Con Application'!$B$13:$B$1012,B65,'1.2 Sub-Con Application'!$P$13:$P$1012))","v":0},{"$f":"IF(B65=\"\",\"\",SUMIF('1.2 Sub-Con Application'!$B$13:$B$1012,B65,'1.2 Sub-Con Application'!$R$13:$R$1012))","v":0},{"$f":"IF(B65=\"\",\"\",SUMIF('1.2 Sub-Con Application'!$B$13:$B$1012,B65,'1.2 Sub-Con Application'!$S$13:$S$1012))","v":0},{"$f":"IFERROR(INDEX('1.2 Sub-Con Application'!$B$13:$U$1012,MATCH(1,('1.2 Sub-Con Application'!$B$13:$B$1012=B65)*('1.2 Sub-Con Application'!$U$13:$U$1012=\"Rejected\"),0),20),\"\")","v":""},{"$f":"IFERROR(INDEX('1.2 Sub-Con Application'!$B$13:$V$1012,MATCH(1,('1.2 Sub-Con Application'!$B$13:$B$1012=B65)*('1.2 Sub-Con Application'!$V$13:$V$1012<>\"\"),0),21),\"\")","v":""}]
[null,54,"","","","","","","","",{"$f":"IF(B66=\"\",\"\",SUMIF('1.2 Sub-Con Application'!$B$13:$B$1012,B66,'1.2 Sub-Con Application'!$P$13:$P$1012))","v":0},{"$f":"IF(B66=\"\",\"\",SUMIF('1.2 Sub-Con Application'!$B$13:$B$1012,B66,'1.2 Sub-Con Application'!$R$13:$R$1012))","v":0},{"$f":"IF(B66=\"\",\"\",SUMIF('1.2 Sub-Con Application'!$B$13:$B$1012,B66,'1.2 Sub-Con Application'!$S$13:$S$1012))","v":0},{"$f":"IFERROR(INDEX('1.2 Sub-Con Application'!$B$13:$U$1012,MATCH(1,('1.2 Sub-Con Application'!$B$13:$B$1012=B66)*('1.2 Sub-Con Application'!$U$13:$U$1012=\"Rejected\"),0),20),\"\")","v":""},{"$f":"IFERROR(INDEX('1.2 Sub-Con Application'!$B$13:$V$1012,MATCH(1,('1.2 Sub-Con Application'!$B$13:$B$1012=B66)*('1.2 Sub-Con Application'!$V$13:$V$1012<>\"\"),0),21),\"\")","v":""}]
[null,55,"","","","","","","","",{"$f":"IF(B67=\"\",\"\",SUMIF('1.2 Sub-Con Application'!$B$13:$B$1012,B67,'1.2 Sub-Con Application'!$P$13:$P$1012))","v":0},{"$f":"IF(B67=\"\",\"\",SUMIF('1.2 Sub-Con Application'!$B$13:$B$1012,B67,'1.2 Sub-Con Application'!$R$13:$R$1012))","v":0},{"$f":"IF(B67=\"\",\"\",SUMIF('1.2 Sub-Con Application'!$B$13:$B$1012,B67,'1.2 Sub-Con Application'!$S$13:$S$1012))","v":0},{"$f":"IFERROR(INDEX('1.2 Sub-Con Application'!$B$13:$U$1012,MATCH(1,('1.2 Sub-Con Application'!$B$13:$B$1012=B67)*('1.2 Sub-Con Application'!$U$13:$U$1012=\"Rejected\"),0),20),\"\")","v":""},{"$f":"IFERROR(INDEX('1.2 Sub-Con Application'!$B$13:$V$1012,MATCH(1,('1.2 Sub-Con Application'!$B$13:$B$1012=B67)*('1.2 Sub-Con Application'!$V$13:$V$1012<>\"\"),0),21),\"\")","v":""}]
[null,56,"","","","","","","","",{"$f":"IF(B68=\"\",\"\",SUMIF('1.2 Sub-Con Application'!$B$13:$B$1012,B68,'1.2 Sub-Con Application'!$P$13:$P$1012))","v":0},{"$f":"IF(B68=\"\",\"\",SUMIF('1.2 Sub-Con Application'!$B$13:$B$1012,B68,'1.2 Sub-Con Application'!$R$13:$R$1012))","v":0},{"$f":"IF(B68=\"\",\"\",SUMIF('1.2 Sub-Con Application'!$B$13:$B$1012,B68,'1.2 Sub-Con Application'!$S$13:$S$1012))","v":0},{"$f":"IFERROR(INDEX('1.2 Sub-Con Application'!$B$13:$U$1012,MATCH(1,('1.2 Sub-Con Application'!$B$13:$B$1012=B68)*('1.2 Sub-Con Application'!$U$13:$U$1012=\"Rejected\"),0),20),\"\")","v":""},{"$f":"IFERROR(INDEX('1.2 Sub-Con Application'!$B$13:$V$1012,MATCH(1,('1.2 Sub-Con Application'!$B$13:$B$1012=B68)*('1.2 Sub-Con Application'!$V$13:$V$1012<>\"\"),0),21),\"\")","v":""}]
[null,57,"","","","","","","","",{"$f":"IF(B69=\"\",\"\",SUMIF('1.2 Sub-Con Application'!$B$13:$B$1012,B69,'1.2 Sub-Con Application'!$P$13:$P$1012))","v":0},{"$f":"IF(B69=\"\",\"\",SUMIF('1.2 Sub-Con Application'!$B$13:$B$1012,B69,'1.2 Sub-Con Application'!$R$13:$R$1012))","v":0},{"$f":"IF(B69=\"\",\"\",SUMIF('1.2 Sub-Con Application'!$B$13:$B$1012,B69,'1.2 Sub-Con Application'!$S$13:$S$1012))","v":0},{"$f":"IFERROR(INDEX('1.2 Sub-Con Application'!$B$13:$U$1012,MATCH(1,('1.2 Sub-Con Application'!$B$13:$B$1012=B69)*('1.2 Sub-Con Application'!$U$13:$U$1012=\"Rejected\"),0),20),\"\")","v":""},{"$f":"IFERROR(INDEX('1.2 Sub-Con Application'!$B$13:$V$1012,MATCH(1,('1.2 Sub-Con Application'!$B$13:$B$1012=B69)*('1.2 Sub-Con Application'!$V$13:$V$1012<>\"\"),0),21),\"\")","v":""}]
[null,58,"","","","","","","","",{"$f":"IF(B70=\"\",\"\",SUMIF('1.2 Sub-Con Application'!$B$13:$B$1012,B70,'1.2 Sub-Con Application'!$P$13:$P$1012))","v":0},{"$f":"IF(B70=\"\",\"\",SUMIF('1.2 Sub-Con Application'!$B$13:$B$1012,B70,'1.2 Sub-Con Application'!$R$13:$R$1012))","v":0},{"$f":"IF(B70=\"\",\"\",SUMIF('1.2 Sub-Con Application'!$B$13:$B$1012,B70,'1.2 Sub-Con Application'!$S$13:$S$1012))","v":0},{"$f":"IFERROR(INDEX('1.2 Sub-Con Application'!$B$13:$U$1012,MATCH(1,('1.2 Sub-Con Application'!$B$13:$B$1012=B70)*('1.2 Sub-Con Application'!$U$13:$U$1012=\"Rejected\"),0),20),\"\")","v":""},{"$f":"IFERROR(INDEX('1.2 Sub-Con Application'!$B$13:$V$1012,MATCH(1,('1.2 Sub-Con Application'!$B$13:$B$1012=B70)*('1.2 Sub-Con Application'!$V$13:$V$1012<>\"\"),0),21),\"\")","v":""}]
[null,59,"","","","","","","","",{"$f":"IF(B71=\"\",\"\",SUMIF('1.2 Sub-Con Application'!$B$13:$B$1012,B71,'1.2 Sub-Con Application'!$P$13:$P$1012))","v":0},{"$f":"IF(B71=\"\",\"\",SUMIF('1.2 Sub-Con Application'!$B$13:$B$1012,B71,'1.2 Sub-Con Application'!$R$13:$R$1012))","v":0},{"$f":"IF(B71=\"\",\"\",SUMIF('1.2 Sub-Con Application'!$B$13:$B$1012,B71,'1.2 Sub-Con Application'!$S$13:$S$1012))","v":0},{"$f":"IFERROR(INDEX('1.2 Sub-Con Application'!$B$13:$U$1012,MATCH(1,('1.2 Sub-Con Application'!$B$13:$B$1012=B71)*('1.2 Sub-Con Application'!$U$13:$U$1012=\"Rejected\"),0),20),\"\")","v":""},{"$f":"IFERROR(INDEX('1.2 Sub-Con Application'!$B$13:$V$1012,MATCH(1,('1.2 Sub-Con Application'!$B$13:$B$1012=B71)*('1.2 Sub-Con Application'!$V$13:$V$1012<>\"\"),0),21),\"\")","v":""}]
[null,60,"","","","","","","","",{"$f":"IF(B72=\"\",\"\",SUMIF('1.2 Sub-Con Application'!$B$13:$B$1012,B72,'1.2 Sub-Con Application'!$P$13:$P$1012))","v":0},{"$f":"IF(B72=\"\",\"\",SUMIF('1.2 Sub-Con Application'!$B$13:$B$1012,B72,'1.2 Sub-Con Application'!$R$13:$R$1012))","v":0},{"$f":"IF(B72=\"\",\"\",SUMIF('1.2 Sub-Con Application'!$B$13:$B$1012,B72,'1.2 Sub-Con Application'!$S$13:$S$1012))","v":0},{"$f":"IFERROR(INDEX('1.2 Sub-Con Application'!$B$13:$U$1012,MATCH(1,('1.2 Sub-Con Application'!$B$13:$B$1012=B72)*('1.2 Sub-Con Application'!$U$13:$U$1012=\"Rejected\"),0),20),\"\")","v":""},{"$f":"IFERROR(INDEX('1.2 Sub-Con Application'!$B$13:$V$1012,MATCH(1,('1.2 Sub-Con Application'!$B$13:$B$1012=B72)*('1.2 Sub-Con Application'!$V$13:$V$1012<>\"\"),0),21),\"\")","v":""}]
[null,61,{"$f":"IFERROR(INDEX(table_subconApp,MATCH($B73,row_subconApp,0),MATCH(C$12,col_subconApp,0)),\"\")","v":""},"","","","","","","",{"$f":"IF(B73=\"\",\"\",SUMIF('1.2 Sub-Con Application'!$B$13:$B$1012,B73,'1.2 Sub-Con Application'!$P$13:$P$1012))","v":0},{"$f":"IF(B73=\"\",\"\",SUMIF('1.2 Sub-Con Application'!$B$13:$B$1012,B73,'1.2 Sub-Con Application'!$R$13:$R$1012))","v":0},{"$f":"IF(B73=\"\",\"\",SUMIF('1.2 Sub-Con Application'!$B$13:$B$1012,B73,'1.2 Sub-Con Application'!$S$13:$S$1012))","v":0},{"$f":"IFERROR(INDEX('1.2 Sub-Con Application'!$B$13:$U$1012,MATCH(1,('1.2 Sub-Con Application'!$B$13:$B$1012=B73)*('1.2 Sub-Con Application'!$U$13:$U$1012=\"Rejected\"),0),20),\"\")","v":""},{"$f":"IFERROR(INDEX('1.2 Sub-Con Application'!$B$13:$V$1012,MATCH(1,('1.2 Sub-Con Application'!$B$13:$B$1012=B73)*('1.2 Sub-Con Application'!$V$13:$V$1012<>\"\"),0),21),\"\")","v":""}]
[null,62,"","","","","","","","",{"$f":"IF(B74=\"\",\"\",SUMIF('1.2 Sub-Con Application'!$B$13:$B$1012,B74,'1.2 Sub-Con Application'!$P$13:$P$1012))","v":0},{"$f":"IF(B74=\"\",\"\",SUMIF('1.2 Sub-Con Application'!$B$13:$B$1012,B74,'1.2 Sub-Con Application'!$R$13:$R$1012))","v":0},{"$f":"IF(B74=\"\",\"\",SUMIF('1.2 Sub-Con Application'!$B$13:$B$1012,B74,'1.2 Sub-Con Application'!$S$13:$S$1012))","v":0},{"$f":"IFERROR(INDEX('1.2 Sub-Con Application'!$B$13:$U$1012,MATCH(1,('1.2 Sub-Con Application'!$B$13:$B$1012=B74)*('1.2 Sub-Con Application'!$U$13:$U$1012=\"Rejected\"),0),20),\"\")","v":""},{"$f":"IFERROR(INDEX('1.2 Sub-Con Application'!$B$13:$V$1012,MATCH(1,('1.2 Sub-Con Application'!$B$13:$B$1012=B74)*('1.2 Sub-Con Application'!$V$13:$V$1012<>\"\"),0),21),\"\")","v":""}]
[null,63,"","","","","","","","",{"$f":"IF(B75=\"\",\"\",SUMIF('1.2 Sub-Con Application'!$B$13:$B$1012,B75,'1.2 Sub-Con Application'!$P$13:$P$1012))","v":0},{"$f":"IF(B75=\"\",\"\",SUMIF('1.2 Sub-Con Application'!$B$13:$B$1012,B75,'1.2 Sub-Con Application'!$R$13:$R$1012))","v":0},{"$f":"IF(B75=\"\",\"\",SUMIF('1.2 Sub-Con Application'!$B$13:$B$1012,B75,'1.2 Sub-Con Application'!$S$13:$S$1012))","v":0},{"$f":"IFERROR(INDEX('1.2 Sub-Con Application'!$B$13:$U$1012,MATCH(1,('1.2 Sub-Con Application'!$B$13:$B$1012=B75)*('1.2 Sub-Con Application'!$U$13:$U$1012=\"Rejected\"),0),20),\"\")","v":""},{"$f":"IFERROR(INDEX('1.2 Sub-Con Application'!$B$13:$V$1012,MATCH(1,('1.2 Sub-Con Application'!$B$13:$B$1012=B75)*('1.2 Sub-Con Application'!$V$13:$V$1012<>\"\"),0),21),\"\")","v":""}]
[null,64,"","","","","","","","",{"$f":"IF(B76=\"\",\"\",SUMIF('1.2 Sub-Con Application'!$B$13:$B$1012,B76,'1.2 Sub-Con Application'!$P$13:$P$1012))","v":0},{"$f":"IF(B76=\"\",\"\",SUMIF('1.2 Sub-Con Application'!$B$13:$B$1012,B76,'1.2 Sub-Con Application'!$R$13:$R$1012))","v":0},{"$f":"IF(B76=\"\",\"\",SUMIF('1.2 Sub-Con Application'!$B$13:$B$1012,B76,'1.2 Sub-Con Application'!$S$13:$S$1012))","v":0},{"$f":"IFERROR(INDEX('1.2 Sub-Con Application'!$B$13:$U$1012,MATCH(1,('1.2 Sub-Con Application'!$B$13:$B$1012=B76)*('1.2 Sub-Con Application'!$U$13:$U$1012=\"Rejected\"),0),20),\"\")","v":""},{"$f":"IFERROR(INDEX('1.2 Sub-Con Application'!$B$13:$V$1012,MATCH(1,('1.2 Sub-Con Application'!$B$13:$B$1012=B76)*('1.2 Sub-Con Application'!$V$13:$V$1012<>\"\"),0),21),\"\")","v":""}]
[null,65,"","","","","","","",{"$f":"IFERROR(IF(ISBLANK(INDEX(table_subconApp,MATCH($B77,row_subconApp,0),MATCH(J$12,col_subconApp,0))),\"\",INDEX(table_subconApp,MATCH($B77,row_subconApp,0),MATCH(J$12,col_subconApp,0))),\"\")","v":""},{"$f":"IF(B77=\"\",\"\",SUMIF('1.2 Sub-Con Application'!$B$13:$B$1012,B77,'1.2 Sub-Con Application'!$P$13:$P$1012))","v":0},{"$f":"IF(B77=\"\",\"\",SUMIF('1.2 Sub-Con Application'!$B$13:$B$1012,B77,'1.2 Sub-Con Application'!$R$13:$R$1012))","v":0},{"$f":"IF(B77=\"\",\"\",SUMIF('1.2 Sub-Con Application'!$B$13:$B$1012,B77,'1.2 Sub-Con Application'!$S$13:$S$1012))","v":0},{"$f":"IFERROR(INDEX('1.2 Sub-Con Application'!$B$13:$U$1012,MATCH(1,('1.2 Sub-Con Application'!$B$13:$B$1012=B77)*('1.2 Sub-Con Application'!$U$13:$U$1012=\"Rejected\"),0),20),\"\")","v":""},{"$f":"IFERROR(INDEX('1.2 Sub-Con Application'!$B$13:$V$1012,MATCH(1,('1.2 Sub-Con Application'!$B$13:$B$1012=B77)*('1.2 Sub-Con Application'!$V$13:$V$1012<>\"\"),0),21),\"\")","v":""}]
[null,66,"","","","","","","","",{"$f":"IF(B78=\"\",\"\",SUMIF('1.2 Sub-Con Application'!$B$13:$B$1012,B78,'1.2 Sub-Con Application'!$P$13:$P$1012))","v":0},{"$f":"IF(B78=\"\",\"\",SUMIF('1.2 Sub-Con Application'!$B$13:$B$1012,B78,'1.2 Sub-Con Application'!$R$13:$R$1012))","v":0},{"$f":"IF(B78=\"\",\"\",SUMIF('1.2 Sub-Con Application'!$B$13:$B$1012,B78,'1.2 Sub-Con Application'!$S$13:$S$1012))","v":0},{"$f":"IFERROR(INDEX('1.2 Sub-Con Application'!$B$13:$U$1012,MATCH(1,('1.2 Sub-Con Application'!$B$13:$B$1012=B78)*('1.2 Sub-Con Application'!$U$13:$U$1012=\"Rejected\"),0),20),\"\")","v":""},{"$f":"IFERROR(INDEX('1.2 Sub-Con Application'!$B$13:$V$1012,MATCH(1,('1.2 Sub-Con Application'!$B$13:$B$1012=B78)*('1.2 Sub-Con Application'!$V$13:$V$1012<>\"\"),0),21),\"\")","v":""}]
[null,{"$f":"B78+1","v":67},"","","","","","","","",{"$f":"IF(B79=\"\",\"\",SUMIF('1.2 Sub-Con Application'!$B$13:$B$1012,B79,'1.2 Sub-Con Application'!$P$13:$P$1012))","v":0},{"$f":"IF(B79=\"\",\"\",SUMIF('1.2 Sub-Con Application'!$B$13:$B$1012,B79,'1.2 Sub-Con Application'!$R$13:$R$1012))","v":0},{"$f":"IF(B79=\"\",\"\",SUMIF('1.2 Sub-Con Application'!$B$13:$B$1012,B79,'1.2 Sub-Con Application'!$S$13:$S$1012))","v":0},{"$f":"IFERROR(INDEX('1.2 Sub-Con Application'!$B$13:$U$1012,MATCH(1,('1.2 Sub-Con Application'!$B$13:$B$1012=B79)*('1.2 Sub-Con Application'!$U$13:$U$1012=\"Rejected\"),0),20),\"\")","v":""},{"$f":"IFERROR(INDEX('1.2 Sub-Con Application'!$B$13:$V$1012,MATCH(1,('1.2 Sub-Con Application'!$B$13:$B$1012=B79)*('1.2 Sub-Con Application'!$V$13:$V$1012<>\"\"),0),21),\"\")","v":""}]
[null,68,"","","","","","","","",{"$f":"IF(B80=\"\",\"\",SUMIF('1.2 Sub-Con Application'!$B$13:$B$1012,B80,'1.2 Sub-Con Application'!$P$13:$P$1012))","v":0},{"$f":"IF(B80=\"\",\"\",SUMIF('1.2 Sub-Con Application'!$B$13:$B$1012,B80,'1.2 Sub-Con Application'!$R$13:$R$1012))","v":0},{"$f":"IF(B80=\"\",\"\",SUMIF('1.2 Sub-Con Application'!$B$13:$B$1012,B80,'1.2 Sub-Con Application'!$S$13:$S$1012))","v":0},{"$f":"IFERROR(INDEX('1.2 Sub-Con Application'!$B$13:$U$1012,MATCH(1,('1.2 Sub-Con Application'!$B$13:$B$1012=B80)*('1.2 Sub-Con Application'!$U$13:$U$1012=\"Rejected\"),0),20),\"\")","v":""},{"$f":"IFERROR(INDEX('1.2 Sub-Con Application'!$B$13:$V$1012,MATCH(1,('1.2 Sub-Con Application'!$B$13:$B$1012=B80)*('1.2 Sub-Con Application'!$V$13:$V$1012<>\"\"),0),21),\"\")","v":""}]
[null,69,"","","","","","","","",{"$f":"IF(B81=\"\",\"\",SUMIF('1.2 Sub-Con Application'!$B$13:$B$1012,B81,'1.2 Sub-Con Application'!$P$13:$P$1012))","v":0},{"$f":"IF(B81=\"\",\"\",SUMIF('1.2 Sub-Con Application'!$B$13:$B$1012,B81,'1.2 Sub-Con Application'!$R$13:$R$1012))","v":0},{"$f":"IF(B81=\"\",\"\",SUMIF('1.2 Sub-Con Application'!$B$13:$B$1012,B81,'1.2 Sub-Con Application'!$S$13:$S$1012))","v":0},{"$f":"IFERROR(INDEX('1.2 Sub-Con Application'!$B$13:$U$1012,MATCH(1,('1.2 Sub-Con Application'!$B$13:$B$1012=B81)*('1.2 Sub-Con Application'!$U$13:$U$1012=\"Rejected\"),0),20),\"\")","v":""},{"$f":"IFERROR(INDEX('1.2 Sub-Con Application'!$B$13:$V$1012,MATCH(1,('1.2 Sub-Con Application'!$B$13:$B$1012=B81)*('1.2 Sub-Con Application'!$V$13:$V$1012<>\"\"),0),21),\"\")","v":""}]
[null,70,"","","","","","","","",{"$f":"IF(B82=\"\",\"\",SUMIF('1.2 Sub-Con Application'!$B$13:$B$1012,B82,'1.2 Sub-Con Application'!$P$13:$P$1012))","v":0},{"$f":"IF(B82=\"\",\"\",SUMIF('1.2 Sub-Con Application'!$B$13:$B$1012,B82,'1.2 Sub-Con Application'!$R$13:$R$1012))","v":0},{"$f":"IF(B82=\"\",\"\",SUMIF('1.2 Sub-Con Application'!$B$13:$B$1012,B82,'1.2 Sub-Con Application'!$S$13:$S$1012))","v":0},{"$f":"IFERROR(INDEX('1.2 Sub-Con Application'!$B$13:$U$1012,MATCH(1,('1.2 Sub-Con Application'!$B$13:$B$1012=B82)*('1.2 Sub-Con Application'!$U$13:$U$1012=\"Rejected\"),0),20),\"\")","v":""},{"$f":"IFERROR(INDEX('1.2 Sub-Con Application'!$B$13:$V$1012,MATCH(1,('1.2 Sub-Con Application'!$B$13:$B$1012=B82)*('1.2 Sub-Con Application'!$V$13:$V$1012<>\"\"),0),21),\"\")","v":""}]
[null,71,{"$f":"IFERROR(INDEX(table_subconApp,MATCH($B83,row_subconApp,0),MATCH(C$12,col_subconApp,0)),\"\")","v":""},"","","","","","","",{"$f":"IF(B83=\"\",\"\",SUMIF('1.2 Sub-Con Application'!$B$13:$B$1012,B83,'1.2 Sub-Con Application'!$P$13:$P$1012))","v":0},{"$f":"IF(B83=\"\",\"\",SUMIF('1.2 Sub-Con Application'!$B$13:$B$1012,B83,'1.2 Sub-Con Application'!$R$13:$R$1012))","v":0},{"$f":"IF(B83=\"\",\"\",SUMIF('1.2 Sub-Con Application'!$B$13:$B$1012,B83,'1.2 Sub-Con Application'!$S$13:$S$1012))","v":0},{"$f":"IFERROR(INDEX('1.2 Sub-Con Application'!$B$13:$U$1012,MATCH(1,('1.2 Sub-Con Application'!$B$13:$B$1012=B83)*('1.2 Sub-Con Application'!$U$13:$U$1012=\"Rejected\"),0),20),\"\")","v":""},{"$f":"IFERROR(INDEX('1.2 Sub-Con Application'!$B$13:$V$1012,MATCH(1,('1.2 Sub-Con Application'!$B$13:$B$1012=B83)*('1.2 Sub-Con Application'!$V$13:$V$1012<>\"\"),0),21),\"\")","v":""}]
[null,72,"","","","","","","","",{"$f":"IF(B84=\"\",\"\",SUMIF('1.2 Sub-Con Application'!$B$13:$B$1012,B84,'1.2 Sub-Con Application'!$P$13:$P$1012))","v":0},{"$f":"IF(B84=\"\",\"\",SUMIF('1.2 Sub-Con Application'!$B$13:$B$1012,B84,'1.2 Sub-Con Application'!$R$13:$R$1012))","v":0},{"$f":"IF(B84=\"\",\"\",SUMIF('1.2 Sub-Con Application'!$B$13:$B$1012,B84,'1.2 Sub-Con Application'!$S$13:$S$1012))","v":0},{"$f":"IFERROR(INDEX('1.2 Sub-Con Application'!$B$13:$U$1012,MATCH(1,('1.2 Sub-Con Application'!$B$13:$B$1012=B84)*('1.2 Sub-Con Application'!$U$13:$U$1012=\"Rejected\"),0),20),\"\")","v":""},{"$f":"IFERROR(INDEX('1.2 Sub-Con Application'!$B$13:$V$1012,MATCH(1,('1.2 Sub-Con Application'!$B$13:$B$1012=B84)*('1.2 Sub-Con Application'!$V$13:$V$1012<>\"\"),0),21),\"\")","v":""}]
[null,73,"","","","","","","","",{"$f":"IF(B85=\"\",\"\",SUMIF('1.2 Sub-Con Application'!$B$13:$B$1012,B85,'1.2 Sub-Con Application'!$P$13:$P$1012))","v":0},{"$f":"IF(B85=\"\",\"\",SUMIF('1.2 Sub-Con Application'!$B$13:$B$1012,B85,'1.2 Sub-Con Application'!$R$13:$R$1012))","v":0},{"$f":"IF(B85=\"\",\"\",SUMIF('1.2 Sub-Con Application'!$B$13:$B$1012,B85,'1.2 Sub-Con Application'!$S$13:$S$1012))","v":0},{"$f":"IFERROR(INDEX('1.2 Sub-Con Application'!$B$13:$U$1012,MATCH(1,('1.2 Sub-Con Application'!$B$13:$B$1012=B85)*('1.2 Sub-Con Application'!$U$13:$U$1012=\"Rejected\"),0),20),\"\")","v":""},{"$f":"IFERROR(INDEX('1.2 Sub-Con Application'!$B$13:$V$1012,MATCH(1,('1.2 Sub-Con Application'!$B$13:$B$1012=B85)*('1.2 Sub-Con Application'!$V$13:$V$1012<>\"\"),0),21),\"\")","v":""}]
[null,74,"","","","","","","","",{"$f":"IF(B86=\"\",\"\",SUMIF('1.2 Sub-Con Application'!$B$13:$B$1012,B86,'1.2 Sub-Con Application'!$P$13:$P$1012))","v":0},{"$f":"IF(B86=\"\",\"\",SUMIF('1.2 Sub-Con Application'!$B$13:$B$1012,B86,'1.2 Sub-Con Application'!$R$13:$R$1012))","v":0},{"$f":"IF(B86=\"\",\"\",SUMIF('1.2 Sub-Con Application'!$B$13:$B$1012,B86,'1.2 Sub-Con Application'!$S$13:$S$1012))","v":0},{"$f":"IFERROR(INDEX('1.2 Sub-Con Application'!$B$13:$U$1012,MATCH(1,('1.2 Sub-Con Application'!$B$13:$B$1012=B86)*('1.2 Sub-Con Application'!$U$13:$U$1012=\"Rejected\"),0),20),\"\")","v":""},{"$f":"IFERROR(INDEX('1.2 Sub-Con Application'!$B$13:$V$1012,MATCH(1,('1.2 Sub-Con Application'!$B$13:$B$1012=B86)*('1.2 Sub-Con Application'!$V$13:$V$1012<>\"\"),0),21),\"\")","v":""}]
[null,75,"","","","","","","","",{"$f":"IF(B87=\"\",\"\",SUMIF('1.2 Sub-Con Application'!$B$13:$B$1012,B87,'1.2 Sub-Con Application'!$P$13:$P$1012))","v":0},{"$f":"IF(B87=\"\",\"\",SUMIF('1.2 Sub-Con Application'!$B$13:$B$1012,B87,'1.2 Sub-Con Application'!$R$13:$R$1012))","v":0},{"$f":"IF(B87=\"\",\"\",SUMIF('1.2 Sub-Con Application'!$B$13:$B$1012,B87,'1.2 Sub-Con Application'!$S$13:$S$1012))","v":0},{"$f":"IFERROR(INDEX('1.2 Sub-Con Application'!$B$13:$U$1012,MATCH(1,('1.2 Sub-Con Application'!$B$13:$B$1012=B87)*('1.2 Sub-Con Application'!$U$13:$U$1012=\"Rejected\"),0),20),\"\")","v":""},{"$f":"IFERROR(INDEX('1.2 Sub-Con Application'!$B$13:$V$1012,MATCH(1,('1.2 Sub-Con Application'!$B$13:$B$1012=B87)*('1.2 Sub-Con Application'!$V$13:$V$1012<>\"\"),0),21),\"\")","v":""}]
[null,76,"","","","","","","","",{"$f":"IF(B88=\"\",\"\",SUMIF('1.2 Sub-Con Application'!$B$13:$B$1012,B88,'1.2 Sub-Con Application'!$P$13:$P$1012))","v":0},{"$f":"IF(B88=\"\",\"\",SUMIF('1.2 Sub-Con Application'!$B$13:$B$1012,B88,'1.2 Sub-Con Application'!$R$13:$R$1012))","v":0},{"$f":"IF(B88=\"\",\"\",SUMIF('1.2 Sub-Con Application'!$B$13:$B$1012,B88,'1.2 Sub-Con Application'!$S$13:$S$1012))","v":0},{"$f":"IFERROR(INDEX('1.2 Sub-Con Application'!$B$13:$U$1012,MATCH(1,('1.2 Sub-Con Application'!$B$13:$B$1012=B88)*('1.2 Sub-Con Application'!$U$13:$U$1012=\"Rejected\"),0),20),\"\")","v":""},{"$f":"IFERROR(INDEX('1.2 Sub-Con Application'!$B$13:$V$1012,MATCH(1,('1.2 Sub-Con Application'!$B$13:$B$1012=B88)*('1.2 Sub-Con Application'!$V$13:$V$1012<>\"\"),0),21),\"\")","v":""}]
[null,77,"","","","","","","","",{"$f":"IF(B89=\"\",\"\",SUMIF('1.2 Sub-Con Application'!$B$13:$B$1012,B89,'1.2 Sub-Con Application'!$P$13:$P$1012))","v":0},{"$f":"IF(B89=\"\",\"\",SUMIF('1.2 Sub-Con Application'!$B$13:$B$1012,B89,'1.2 Sub-Con Application'!$R$13:$R$1012))","v":0},{"$f":"IF(B89=\"\",\"\",SUMIF('1.2 Sub-Con Application'!$B$13:$B$1012,B89,'1.2 Sub-Con Application'!$S$13:$S$1012))","v":0},{"$f":"IFERROR(INDEX('1.2 Sub-Con Application'!$B$13:$U$1012,MATCH(1,('1.2 Sub-Con Application'!$B$13:$B$1012=B89)*('1.2 Sub-Con Application'!$U$13:$U$1012=\"Rejected\"),0),20),\"\")","v":""},{"$f":"IFERROR(INDEX('1.2 Sub-Con Application'!$B$13:$V$1012,MATCH(1,('1.2 Sub-Con Application'!$B$13:$B$1012=B89)*('1.2 Sub-Con Application'!$V$13:$V$1012<>\"\"),0),21),\"\")","v":""}]
[null,78,"","","","","","","","",{"$f":"IF(B90=\"\",\"\",SUMIF('1.2 Sub-Con Application'!$B$13:$B$1012,B90,'1.2 Sub-Con Application'!$P$13:$P$1012))","v":0},{"$f":"IF(B90=\"\",\"\",SUMIF('1.2 Sub-Con Application'!$B$13:$B$1012,B90,'1.2 Sub-Con Application'!$R$13:$R$1012))","v":0},{"$f":"IF(B90=\"\",\"\",SUMIF('1.2 Sub-Con Application'!$B$13:$B$1012,B90,'1.2 Sub-Con Application'!$S$13:$S$1012))","v":0},{"$f":"IFERROR(INDEX('1.2 Sub-Con Application'!$B$13:$U$1012,MATCH(1,('1.2 Sub-Con Application'!$B$13:$B$1012=B90)*('1.2 Sub-Con Application'!$U$13:$U$1012=\"Rejected\"),0),20),\"\")","v":""},{"$f":"IFERROR(INDEX('1.2 Sub-Con Application'!$B$13:$V$1012,MATCH(1,('1.2 Sub-Con Application'!$B$13:$B$1012=B90)*('1.2 Sub-Con Application'!$V$13:$V$1012<>\"\"),0),21),\"\")","v":""}]
[null,79,"","","","","","","","",{"$f":"IF(B91=\"\",\"\",SUMIF('1.2 Sub-Con Application'!$B$13:$B$1012,B91,'1.2 Sub-Con Application'!$P$13:$P$1012))","v":0},{"$f":"IF(B91=\"\",\"\",SUMIF('1.2 Sub-Con Application'!$B$13:$B$1012,B91,'1.2 Sub-Con Application'!$R$13:$R$1012))","v":0},{"$f":"IF(B91=\"\",\"\",SUMIF('1.2 Sub-Con Application'!$B$13:$B$1012,B91,'1.2 Sub-Con Application'!$S$13:$S$1012))","v":0},{"$f":"IFERROR(INDEX('1.2 Sub-Con Application'!$B$13:$U$1012,MATCH(1,('1.2 Sub-Con Application'!$B$13:$B$1012=B91)*('1.2 Sub-Con Application'!$U$13:$U$1012=\"Rejected\"),0),20),\"\")","v":""},{"$f":"IFERROR(INDEX('1.2 Sub-Con Application'!$B$13:$V$1012,MATCH(1,('1.2 Sub-Con Application'!$B$13:$B$1012=B91)*('1.2 Sub-Con Application'!$V$13:$V$1012<>\"\"),0),21),\"\")","v":""}]
[null,80,"","","","","","","","",{"$f":"IF(B92=\"\",\"\",SUMIF('1.2 Sub-Con Application'!$B$13:$B$1012,B92,'1.2 Sub-Con Application'!$P$13:$P$1012))","v":0},{"$f":"IF(B92=\"\",\"\",SUMIF('1.2 Sub-Con Application'!$B$13:$B$1012,B92,'1.2 Sub-Con Application'!$R$13:$R$1012))","v":0},{"$f":"IF(B92=\"\",\"\",SUMIF('1.2 Sub-Con Application'!$B$13:$B$1012,B92,'1.2 Sub-Con Application'!$S$13:$S$1012))","v":0},{"$f":"IFERROR(INDEX('1.2 Sub-Con Application'!$B$13:$U$1012,MATCH(1,('1.2 Sub-Con Application'!$B$13:$B$1012=B92)*('1.2 Sub-Con Application'!$U$13:$U$1012=\"Rejected\"),0),20),\"\")","v":""},{"$f":"IFERROR(INDEX('1.2 Sub-Con Application'!$B$13:$V$1012,MATCH(1,('1.2 Sub-Con Application'!$B$13:$B$1012=B92)*('1.2 Sub-Con Application'!$V$13:$V$1012<>\"\"),0),21),\"\")","v":""}]
[null,81,{"$f":"IFERROR(INDEX(table_subconApp,MATCH($B93,row_subconApp,0),MATCH(C$12,col_subconApp,0)),\"\")","v":""},"","","","","","","",{"$f":"IF(B93=\"\",\"\",SUMIF('1.2 Sub-Con Application'!$B$13:$B$1012,B93,'1.2 Sub-Con Application'!$P$13:$P$1012))","v":0},{"$f":"IF(B93=\"\",\"\",SUMIF('1.2 Sub-Con Application'!$B$13:$B$1012,B93,'1.2 Sub-Con Application'!$R$13:$R$1012))","v":0},{"$f":"IF(B93=\"\",\"\",SUMIF('1.2 Sub-Con Application'!$B$13:$B$1012,B93,'1.2 Sub-Con Application'!$S$13:$S$1012))","v":0},{"$f":"IFERROR(INDEX('1.2 Sub-Con Application'!$B$13:$U$1012,MATCH(1,('1.2 Sub-Con Application'!$B$13:$B$1012=B93)*('1.2 Sub-Con Application'!$U$13:$U$1012=\"Rejected\"),0),20),\"\")","v":""},{"$f":"IFERROR(INDEX('1.2 Sub-Con Application'!$B$13:$V$1012,MATCH(1,('1.2 Sub-Con Application'!$B$13:$B$1012=B93)*('1.2 Sub-Con Application'!$V$13:$V$1012<>\"\"),0),21),\"\")","v":""}]
[null,82,"","","","","","","","",{"$f":"IF(B94=\"\",\"\",SUMIF('1.2 Sub-Con Application'!$B$13:$B$1012,B94,'1.2 Sub-Con Application'!$P$13:$P$1012))","v":0},{"$f":"IF(B94=\"\",\"\",SUMIF('1.2 Sub-Con Application'!$B$13:$B$1012,B94,'1.2 Sub-Con Application'!$R$13:$R$1012))","v":0},{"$f":"IF(B94=\"\",\"\",SUMIF('1.2 Sub-Con Application'!$B$13:$B$1012,B94,'1.2 Sub-Con Application'!$S$13:$S$1012))","v":0},{"$f":"IFERROR(INDEX('1.2 Sub-Con Application'!$B$13:$U$1012,MATCH(1,('1.2 Sub-Con Application'!$B$13:$B$1012=B94)*('1.2 Sub-Con Application'!$U$13:$U$1012=\"Rejected\"),0),20),\"\")","v":""},{"$f":"IFERROR(INDEX('1.2 Sub-Con Application'!$B$13:$V$1012,MATCH(1,('1.2 Sub-Con Application'!$B$13:$B$1012=B94)*('1.2 Sub-Con Application'!$V$13:$V$1012<>\"\"),0),21),\"\")","v":""}]
[null,83,"","","","","","","","",{"$f":"IF(B95=\"\",\"\",SUMIF('1.2 Sub-Con Application'!$B$13:$B$1012,B95,'1.2 Sub-Con Application'!$P$13:$P$1012))","v":0},{"$f":"IF(B95=\"\",\"\",SUMIF('1.2 Sub-Con Application'!$B$13:$B$1012,B95,'1.2 Sub-Con Application'!$R$13:$R$1012))","v":0},{"$f":"IF(B95=\"\",\"\",SUMIF('1.2 Sub-Con Application'!$B$13:$B$1012,B95,'1.2 Sub-Con Application'!$S$13:$S$1012))","v":0},{"$f":"IFERROR(INDEX('1.2 Sub-Con Application'!$B$13:$U$1012,MATCH(1,('1.2 Sub-Con Application'!$B$13:$B$1012=B95)*('1.2 Sub-Con Application'!$U$13:$U$1012=\"Rejected\"),0),20),\"\")","v":""},{"$f":"IFERROR(INDEX('1.2 Sub-Con Application'!$B$13:$V$1012,MATCH(1,('1.2 Sub-Con Application'!$B$13:$B$1012=B95)*('1.2 Sub-Con Application'!$V$13:$V$1012<>\"\"),0),21),\"\")","v":""}]
[null,84,"","","","","","","","",{"$f":"IF(B96=\"\",\"\",SUMIF('1.2 Sub-Con Application'!$B$13:$B$1012,B96,'1.2 Sub-Con Application'!$P$13:$P$1012))","v":0},{"$f":"IF(B96=\"\",\"\",SUMIF('1.2 Sub-Con Application'!$B$13:$B$1012,B96,'1.2 Sub-Con Application'!$R$13:$R$1012))","v":0},{"$f":"IF(B96=\"\",\"\",SUMIF('1.2 Sub-Con Application'!$B$13:$B$1012,B96,'1.2 Sub-Con Application'!$S$13:$S$1012))","v":0},{"$f":"IFERROR(INDEX('1.2 Sub-Con Application'!$B$13:$U$1012,MATCH(1,('1.2 Sub-Con Application'!$B$13:$B$1012=B96)*('1.2 Sub-Con Application'!$U$13:$U$1012=\"Rejected\"),0),20),\"\")","v":""},{"$f":"IFERROR(INDEX('1.2 Sub-Con Application'!$B$13:$V$1012,MATCH(1,('1.2 Sub-Con Application'!$B$13:$B$1012=B96)*('1.2 Sub-Con Application'!$V$13:$V$1012<>\"\"),0),21),\"\")","v":""}]
[null,85,"","","","","","","","",{"$f":"IF(B97=\"\",\"\",SUMIF('1.2 Sub-Con Application'!$B$13:$B$1012,B97,'1.2 Sub-Con Application'!$P$13:$P$1012))","v":0},{"$f":"IF(B97=\"\",\"\",SUMIF('1.2 Sub-Con Application'!$B$13:$B$1012,B97,'1.2 Sub-Con Application'!$R$13:$R$1012))","v":0},{"$f":"IF(B97=\"\",\"\",SUMIF('1.2 Sub-Con Application'!$B$13:$B$1012,B97,'1.2 Sub-Con Application'!$S$13:$S$1012))","v":0},{"$f":"IFERROR(INDEX('1.2 Sub-Con Application'!$B$13:$U$1012,MATCH(1,('1.2 Sub-Con Application'!$B$13:$B$1012=B97)*('1.2 Sub-Con Application'!$U$13:$U$1012=\"Rejected\"),0),20),\"\")","v":""},{"$f":"IFERROR(INDEX('1.2 Sub-Con Application'!$B$13:$V$1012,MATCH(1,('1.2 Sub-Con Application'!$B$13:$B$1012=B97)*('1.2 Sub-Con Application'!$V$13:$V$1012<>\"\"),0),21),\"\")","v":""}]
[null,86,"","","","","","","","",{"$f":"IF(B98=\"\",\"\",SUMIF('1.2 Sub-Con Application'!$B$13:$B$1012,B98,'1.2 Sub-Con Application'!$P$13:$P$1012))","v":0},{"$f":"IF(B98=\"\",\"\",SUMIF('1.2 Sub-Con Application'!$B$13:$B$1012,B98,'1.2 Sub-Con Application'!$R$13:$R$1012))","v":0},{"$f":"IF(B98=\"\",\"\",SUMIF('1.2 Sub-Con Application'!$B$13:$B$1012,B98,'1.2 Sub-Con Application'!$S$13:$S$1012))","v":0},{"$f":"IFERROR(INDEX('1.2 Sub-Con Application'!$B$13:$U$1012,MATCH(1,('1.2 Sub-Con Application'!$B$13:$B$1012=B98)*('1.2 Sub-Con Application'!$U$13:$U$1012=\"Rejected\"),0),20),\"\")","v":""},{"$f":"IFERROR(INDEX('1.2 Sub-Con Application'!$B$13:$V$1012,MATCH(1,('1.2 Sub-Con Application'!$B$13:$B$1012=B98)*('1.2 Sub-Con Application'!$V$13:$V$1012<>\"\"),0),21),\"\")","v":""}]
[null,87,"","","","","","","","",{"$f":"IF(B99=\"\",\"\",SUMIF('1.2 Sub-Con Application'!$B$13:$B$1012,B99,'1.2 Sub-Con Application'!$P$13:$P$1012))","v":0},{"$f":"IF(B99=\"\",\"\",SUMIF('1.2 Sub-Con Application'!$B$13:$B$1012,B99,'1.2 Sub-Con Application'!$R$13:$R$1012))","v":0},{"$f":"IF(B99=\"\",\"\",SUMIF('1.2 Sub-Con Application'!$B$13:$B$1012,B99,'1.2 Sub-Con Application'!$S$13:$S$1012))","v":0},{"$f":"IFERROR(INDEX('1.2 Sub-Con Application'!$B$13:$U$1012,MATCH(1,('1.2 Sub-Con Application'!$B$13:$B$1012=B99)*('1.2 Sub-Con Application'!$U$13:$U$1012=\"Rejected\"),0),20),\"\")","v":""},{"$f":"IFERROR(INDEX('1.2 Sub-Con Application'!$B$13:$V$1012,MATCH(1,('1.2 Sub-Con Application'!$B$13:$B$1012=B99)*('1.2 Sub-Con Application'!$V$13:$V$1012<>\"\"),0),21),\"\")","v":""}]
[null,88,"","","","","","","","",{"$f":"IF(B100=\"\",\"\",SUMIF('1.2 Sub-Con Application'!$B$13:$B$1012,B100,'1.2 Sub-Con Application'!$P$13:$P$1012))","v":0},{"$f":"IF(B100=\"\",\"\",SUMIF('1.2 Sub-Con Application'!$B$13:$B$1012,B100,'1.2 Sub-Con Application'!$R$13:$R$1012))","v":0},{"$f":"IF(B100=\"\",\"\",SUMIF('1.2 Sub-Con Application'!$B$13:$B$1012,B100,'1.2 Sub-Con Application'!$S$13:$S$1012))","v":0},{"$f":"IFERROR(INDEX('1.2 Sub-Con Application'!$B$13:$U$1012,MATCH(1,('1.2 Sub-Con Application'!$B$13:$B$1012=B100)*('1.2 Sub-Con Application'!$U$13:$U$1012=\"Rejected\"),0),20),\"\")","v":""},{"$f":"IFERROR(INDEX('1.2 Sub-Con Application'!$B$13:$V$1012,MATCH(1,('1.2 Sub-Con Application'!$B$13:$B$1012=B100)*('1.2 Sub-Con Application'!$V$13:$V$1012<>\"\"),0),21),\"\")","v":""}]
[null,89,"","","","","","","","",{"$f":"IF(B101=\"\",\"\",SUMIF('1.2 Sub-Con Application'!$B$13:$B$1012,B101,'1.2 Sub-Con Application'!$P$13:$P$1012))","v":0},{"$f":"IF(B101=\"\",\"\",SUMIF('1.2 Sub-Con Application'!$B$13:$B$1012,B101,'1.2 Sub-Con Application'!$R$13:$R$1012))","v":0},{"$f":"IF(B101=\"\",\"\",SUMIF('1.2 Sub-Con Application'!$B$13:$B$1012,B101,'1.2 Sub-Con Application'!$S$13:$S$1012))","v":0},{"$f":"IFERROR(INDEX('1.2 Sub-Con Application'!$B$13:$U$1012,MATCH(1,('1.2 Sub-Con Application'!$B$13:$B$1012=B101)*('1.2 Sub-Con Application'!$U$13:$U$1012=\"Rejected\"),0),20),\"\")","v":""},{"$f":"IFERROR(INDEX('1.2 Sub-Con Application'!$B$13:$V$1012,MATCH(1,('1.2 Sub-Con Application'!$B$13:$B$1012=B101)*('1.2 Sub-Con Application'!$V$13:$V$1012<>\"\"),0),21),\"\")","v":""}]
[null,90,"","","","","","","","",{"$f":"IF(B102=\"\",\"\",SUMIF('1.2 Sub-Con Application'!$B$13:$B$1012,B102,'1.2 Sub-Con Application'!$P$13:$P$1012))","v":0},{"$f":"IF(B102=\"\",\"\",SUMIF('1.2 Sub-Con Application'!$B$13:$B$1012,B102,'1.2 Sub-Con Application'!$R$13:$R$1012))","v":0},{"$f":"IF(B102=\"\",\"\",SUMIF('1.2 Sub-Con Application'!$B$13:$B$1012,B102,'1.2 Sub-Con Application'!$S$13:$S$1012))","v":0},{"$f":"IFERROR(INDEX('1.2 Sub-Con Application'!$B$13:$U$1012,MATCH(1,('1.2 Sub-Con Application'!$B$13:$B$1012=B102)*('1.2 Sub-Con Application'!$U$13:$U$1012=\"Rejected\"),0),20),\"\")","v":""},{"$f":"IFERROR(INDEX('1.2 Sub-Con Application'!$B$13:$V$1012,MATCH(1,('1.2 Sub-Con Application'!$B$13:$B$1012=B102)*('1.2 Sub-Con Application'!$V$13:$V$1012<>\"\"),0),21),\"\")","v":""}]
[null,91,{"$f":"IFERROR(INDEX(table_subconApp,MATCH($B103,row_subconApp,0),MATCH(C$12,col_subconApp,0)),\"\")","v":""},"","","","","","","",{"$f":"IF(B103=\"\",\"\",SUMIF('1.2 Sub-Con Application'!$B$13:$B$1012,B103,'1.2 Sub-Con Application'!$P$13:$P$1012))","v":0},{"$f":"IF(B103=\"\",\"\",SUMIF('1.2 Sub-Con Application'!$B$13:$B$1012,B103,'1.2 Sub-Con Application'!$R$13:$R$1012))","v":0},{"$f":"IF(B103=\"\",\"\",SUMIF('1.2 Sub-Con Application'!$B$13:$B$1012,B103,'1.2 Sub-Con Application'!$S$13:$S$1012))","v":0},{"$f":"IFERROR(INDEX('1.2 Sub-Con Application'!$B$13:$U$1012,MATCH(1,('1.2 Sub-Con Application'!$B$13:$B$1012=B103)*('1.2 Sub-Con Application'!$U$13:$U$1012=\"Rejected\"),0),20),\"\")","v":""},{"$f":"IFERROR(INDEX('1.2 Sub-Con Application'!$B$13:$V$1012,MATCH(1,('1.2 Sub-Con Application'!$B$13:$B$1012=B103)*('1.2 Sub-Con Application'!$V$13:$V$1012<>\"\"),0),21),\"\")","v":""}]
[null,92,"","","","","","","","",{"$f":"IF(B104=\"\",\"\",SUMIF('1.2 Sub-Con Application'!$B$13:$B$1012,B104,'1.2 Sub-Con Application'!$P$13:$P$1012))","v":0},{"$f":"IF(B104=\"\",\"\",SUMIF('1.2 Sub-Con Application'!$B$13:$B$1012,B104,'1.2 Sub-Con Application'!$R$13:$R$1012))","v":0},{"$f":"IF(B104=\"\",\"\",SUMIF('1.2 Sub-Con Application'!$B$13:$B$1012,B104,'1.2 Sub-Con Application'!$S$13:$S$1012))","v":0},{"$f":"IFERROR(INDEX('1.2 Sub-Con Application'!$B$13:$U$1012,MATCH(1,('1.2 Sub-Con Application'!$B$13:$B$1012=B104)*('1.2 Sub-Con Application'!$U$13:$U$1012=\"Rejected\"),0),20),\"\")","v":""},{"$f":"IFERROR(INDEX('1.2 Sub-Con Application'!$B$13:$V$1012,MATCH(1,('1.2 Sub-Con Application'!$B$13:$B$1012=B104)*('1.2 Sub-Con Application'!$V$13:$V$1012<>\"\"),0),21),\"\")","v":""}]
[null,93,"","","","","","","","",{"$f":"IF(B105=\"\",\"\",SUMIF('1.2 Sub-Con Application'!$B$13:$B$1012,B105,'1.2 Sub-Con Application'!$P$13:$P$1012))","v":0},{"$f":"IF(B105=\"\",\"\",SUMIF('1.2 Sub-Con Application'!$B$13:$B$1012,B105,'1.2 Sub-Con Application'!$R$13:$R$1012))","v":0},{"$f":"IF(B105=\"\",\"\",SUMIF('1.2 Sub-Con Application'!$B$13:$B$1012,B105,'1.2 Sub-Con Application'!$S$13:$S$1012))","v":0},{"$f":"IFERROR(INDEX('1.2 Sub-Con Application'!$B$13:$U$1012,MATCH(1,('1.2 Sub-Con Application'!$B$13:$B$1012=B105)*('1.2 Sub-Con Application'!$U$13:$U$1012=\"Rejected\"),0),20),\"\")","v":""},{"$f":"IFERROR(INDEX('1.2 Sub-Con Application'!$B$13:$V$1012,MATCH(1,('1.2 Sub-Con Application'!$B$13:$B$1012=B105)*('1.2 Sub-Con Application'!$V$13:$V$1012<>\"\"),0),21),\"\")","v":""}]
[null,94,"","","","","","","","",{"$f":"IF(B106=\"\",\"\",SUMIF('1.2 Sub-Con Application'!$B$13:$B$1012,B106,'1.2 Sub-Con Application'!$P$13:$P$1012))","v":0},{"$f":"IF(B106=\"\",\"\",SUMIF('1.2 Sub-Con Application'!$B$13:$B$1012,B106,'1.2 Sub-Con Application'!$R$13:$R$1012))","v":0},{"$f":"IF(B106=\"\",\"\",SUMIF('1.2 Sub-Con Application'!$B$13:$B$1012,B106,'1.2 Sub-Con Application'!$S$13:$S$1012))","v":0},{"$f":"IFERROR(INDEX('1.2 Sub-Con Application'!$B$13:$U$1012,MATCH(1,('1.2 Sub-Con Application'!$B$13:$B$1012=B106)*('1.2 Sub-Con Application'!$U$13:$U$1012=\"Rejected\"),0),20),\"\")","v":""},{"$f":"IFERROR(INDEX('1.2 Sub-Con Application'!$B$13:$V$1012,MATCH(1,('1.2 Sub-Con Application'!$B$13:$B$1012=B106)*('1.2 Sub-Con Application'!$V$13:$V$1012<>\"\"),0),21),\"\")","v":""}]
[null,95,"","","","","","","","",{"$f":"IF(B107=\"\",\"\",SUMIF('1.2 Sub-Con Application'!$B$13:$B$1012,B107,'1.2 Sub-Con Application'!$P$13:$P$1012))","v":0},{"$f":"IF(B107=\"\",\"\",SUMIF('1.2 Sub-Con Application'!$B$13:$B$1012,B107,'1.2 Sub-Con Application'!$R$13:$R$1012))","v":0},{"$f":"IF(B107=\"\",\"\",SUMIF('1.2 Sub-Con Application'!$B$13:$B$1012,B107,'1.2 Sub-Con Application'!$S$13:$S$1012))","v":0},{"$f":"IFERROR(INDEX('1.2 Sub-Con Application'!$B$13:$U$1012,MATCH(1,('1.2 Sub-Con Application'!$B$13:$B$1012=B107)*('1.2 Sub-Con Application'!$U$13:$U$1012=\"Rejected\"),0),20),\"\")","v":""},{"$f":"IFERROR(INDEX('1.2 Sub-Con Application'!$B$13:$V$1012,MATCH(1,('1.2 Sub-Con Application'!$B$13:$B$1012=B107)*('1.2 Sub-Con Application'!$V$13:$V$1012<>\"\"),0),21),\"\")","v":""}]
[null,96,"","","","","","","","",{"$f":"IF(B108=\"\",\"\",SUMIF('1.2 Sub-Con Application'!$B$13:$B$1012,B108,'1.2 Sub-Con Application'!$P$13:$P$1012))","v":0},{"$f":"IF(B108=\"\",\"\",SUMIF('1.2 Sub-Con Application'!$B$13:$B$1012,B108,'1.2 Sub-Con Application'!$R$13:$R$1012))","v":0},{"$f":"IF(B108=\"\",\"\",SUMIF('1.2 Sub-Con Application'!$B$13:$B$1012,B108,'1.2 Sub-Con Application'!$S$13:$S$1012))","v":0},{"$f":"IFERROR(INDEX('1.2 Sub-Con Application'!$B$13:$U$1012,MATCH(1,('1.2 Sub-Con Application'!$B$13:$B$1012=B108)*('1.2 Sub-Con Application'!$U$13:$U$1012=\"Rejected\"),0),20),\"\")","v":""},{"$f":"IFERROR(INDEX('1.2 Sub-Con Application'!$B$13:$V$1012,MATCH(1,('1.2 Sub-Con Application'!$B$13:$B$1012=B108)*('1.2 Sub-Con Application'!$V$13:$V$1012<>\"\"),0),21),\"\")","v":""}]
[null,97,"","","","","","","","",{"$f":"IF(B109=\"\",\"\",SUMIF('1.2 Sub-Con Application'!$B$13:$B$1012,B109,'1.2 Sub-Con Application'!$P$13:$P$1012))","v":0},{"$f":"IF(B109=\"\",\"\",SUMIF('1.2 Sub-Con Application'!$B$13:$B$1012,B109,'1.2 Sub-Con Application'!$R$13:$R$1012))","v":0},{"$f":"IF(B109=\"\",\"\",SUMIF('1.2 Sub-Con Application'!$B$13:$B$1012,B109,'1.2 Sub-Con Application'!$S$13:$S$1012))","v":0},{"$f":"IFERROR(INDEX('1.2 Sub-Con Application'!$B$13:$U$1012,MATCH(1,('1.2 Sub-Con Application'!$B$13:$B$1012=B109)*('1.2 Sub-Con Application'!$U$13:$U$1012=\"Rejected\"),0),20),\"\")","v":""},{"$f":"IFERROR(INDEX('1.2 Sub-Con Application'!$B$13:$V$1012,MATCH(1,('1.2 Sub-Con Application'!$B$13:$B$1012=B109)*('1.2 Sub-Con Application'!$V$13:$V$1012<>\"\"),0),21),\"\")","v":""}]
[null,98,"","","","","","","","",{"$f":"IF(B110=\"\",\"\",SUMIF('1.2 Sub-Con Application'!$B$13:$B$1012,B110,'1.2 Sub-Con Application'!$P$13:$P$1012))","v":0},{"$f":"IF(B110=\"\",\"\",SUMIF('1.2 Sub-Con Application'!$B$13:$B$1012,B110,'1.2 Sub-Con Application'!$R$13:$R$1012))","v":0},{"$f":"IF(B110=\"\",\"\",SUMIF('1.2 Sub-Con Application'!$B$13:$B$1012,B110,'1.2 Sub-Con Application'!$S$13:$S$1012))","v":0},{"$f":"IFERROR(INDEX('1.2 Sub-Con Application'!$B$13:$U$1012,MATCH(1,('1.2 Sub-Con Application'!$B$13:$B$1012=B110)*('1.2 Sub-Con Application'!$U$13:$U$1012=\"Rejected\"),0),20),\"\")","v":""},{"$f":"IFERROR(INDEX('1.2 Sub-Con Application'!$B$13:$V$1012,MATCH(1,('1.2 Sub-Con Application'!$B$13:$B$1012=B110)*('1.2 Sub-Con Application'!$V$13:$V$1012<>\"\"),0),21),\"\")","v":""}]
[null,99,"","","","","","","","",{"$f":"IF(B111=\"\",\"\",SUMIF('1.2 Sub-Con Application'!$B$13:$B$1012,B111,'1.2 Sub-Con Application'!$P$13:$P$1012))","v":0},{"$f":"IF(B111=\"\",\"\",SUMIF('1.2 Sub-Con Application'!$B$13:$B$1012,B111,'1.2 Sub-Con Application'!$R$13:$R$1012))","v":0},{"$f":"IF(B111=\"\",\"\",SUMIF('1.2 Sub-Con Application'!$B$13:$B$1012,B111,'1.2 Sub-Con Application'!$S$13:$S$1012))","v":0},{"$f":"IFERROR(INDEX('1.2 Sub-Con Application'!$B$13:$U$1012,MATCH(1,('1.2 Sub-Con Application'!$B$13:$B$1012=B111)*('1.2 Sub-Con Application'!$U$13:$U$1012=\"Rejected\"),0),20),\"\")","v":""},{"$f":"IFERROR(INDEX('1.2 Sub-Con Application'!$B$13:$V$1012,MATCH(1,('1.2 Sub-Con Application'!$B$13:$B$1012=B111)*('1.2 Sub-Con Application'!$V$13:$V$1012<>\"\"),0),21),\"\")","v":""}]
[null,100,"","","","","","","","",{"$f":"IF(B112=\"\",\"\",SUMIF('1.2 Sub-Con Application'!$B$13:$B$1012,B112,'1.2 Sub-Con Application'!$P$13:$P$1012))","v":0},{"$f":"IF(B112=\"\",\"\",SUMIF('1.2 Sub-Con Application'!$B$13:$B$1012,B112,'1.2 Sub-Con Application'!$R$13:$R$1012))","v":0},{"$f":"IF(B112=\"\",\"\",SUMIF('1.2 Sub-Con Application'!$B$13:$B$1012,B112,'1.2 Sub-Con Application'!$S$13:$S$1012))","v":0},{"$f":"IFERROR(INDEX('1.2 Sub-Con Application'!$B$13:$U$1012,MATCH(1,('1.2 Sub-Con Application'!$B$13:$B$1012=B112)*('1.2 Sub-Con Application'!$U$13:$U$1012=\"Rejected\"),0),20),\"\")","v":""},{"$f":"IFERROR(INDEX('1.2 Sub-Con Application'!$B$13:$V$1012,MATCH(1,('1.2 Sub-Con Application'!$B$13:$B$1012=B112)*('1.2 Sub-Con Application'!$V$13:$V$1012<>\"\"),0),21),\"\")","v":""}]
[null,101,{"$f":"IFERROR(INDEX(table_subconApp,MATCH($B113,row_subconApp,0),MATCH(C$12,col_subconApp,0)),\"\")","v":""},"","","","","","","",{"$f":"IF(B113=\"\",\"\",SUMIF('1.2 Sub-Con Application'!$B$13:$B$1012,B113,'1.2 Sub-Con Application'!$P$13:$P$1012))","v":0},{"$f":"IF(B113=\"\",\"\",SUMIF('1.2 Sub-Con Application'!$B$13:$B$1012,B113,'1.2 Sub-Con Application'!$R$13:$R$1012))","v":0},{"$f":"IF(B113=\"\",\"\",SUMIF('1.2 Sub-Con Application'!$B$13:$B$1012,B113,'1.2 Sub-Con Application'!$S$13:$S$1012))","v":0},{"$f":"IFERROR(INDEX('1.2 Sub-Con Application'!$B$13:$U$1012,MATCH(1,('1.2 Sub-Con Application'!$B$13:$B$1012=B113)*('1.2 Sub-Con Application'!$U$13:$U$1012=\"Rejected\"),0),20),\"\")","v":""},{"$f":"IFERROR(INDEX('1.2 Sub-Con Application'!$B$13:$V$1012,MATCH(1,('1.2 Sub-Con Application'!$B$13:$B$1012=B113)*('1.2 Sub-Con Application'!$V$13:$V$1012<>\"\"),0),21),\"\")","v":""}]
[null,102,"","","","","","","","",{"$f":"IF(B114=\"\",\"\",SUMIF('1.2 Sub-Con Application'!$B$13:$B$1012,B114,'1.2 Sub-Con Application'!$P$13:$P$1012))","v":0},{"$f":"IF(B114=\"\",\"\",SUMIF('1.2 Sub-Con Application'!$B$13:$B$1012,B114,'1.2 Sub-Con Application'!$R$13:$R$1012))","v":0},{"$f":"IF(B114=\"\",\"\",SUMIF('1.2 Sub-Con Application'!$B$13:$B$1012,B114,'1.2 Sub-Con Application'!$S$13:$S$1012))","v":0},{"$f":"IFERROR(INDEX('1.2 Sub-Con Application'!$B$13:$U$1012,MATCH(1,('1.2 Sub-Con Application'!$B$13:$B$1012=B114)*('1.2 Sub-Con Application'!$U$13:$U$1012=\"Rejected\"),0),20),\"\")","v":""},{"$f":"IFERROR(INDEX('1.2 Sub-Con Application'!$B$13:$V$1012,MATCH(1,('1.2 Sub-Con Application'!$B$13:$B$1012=B114)*('1.2 Sub-Con Application'!$V$13:$V$1012<>\"\"),0),21),\"\")","v":""}]
[null,103,"","","","","","","","",{"$f":"IF(B115=\"\",\"\",SUMIF('1.2 Sub-Con Application'!$B$13:$B$1012,B115,'1.2 Sub-Con Application'!$P$13:$P$1012))","v":0},{"$f":"IF(B115=\"\",\"\",SUMIF('1.2 Sub-Con Application'!$B$13:$B$1012,B115,'1.2 Sub-Con Application'!$R$13:$R$1012))","v":0},{"$f":"IF(B115=\"\",\"\",SUMIF('1.2 Sub-Con Application'!$B$13:$B$1012,B115,'1.2 Sub-Con Application'!$S$13:$S$1012))","v":0},{"$f":"IFERROR(INDEX('1.2 Sub-Con Application'!$B$13:$U$1012,MATCH(1,('1.2 Sub-Con Application'!$B$13:$B$1012=B115)*('1.2 Sub-Con Application'!$U$13:$U$1012=\"Rejected\"),0),20),\"\")","v":""},{"$f":"IFERROR(INDEX('1.2 Sub-Con Application'!$B$13:$V$1012,MATCH(1,('1.2 Sub-Con Application'!$B$13:$B$1012=B115)*('1.2 Sub-Con Application'!$V$13:$V$1012<>\"\"),0),21),\"\")","v":""}]
[null,104,"","","","","","","","",{"$f":"IF(B116=\"\",\"\",SUMIF('1.2 Sub-Con Application'!$B$13:$B$1012,B116,'1.2 Sub-Con Application'!$P$13:$P$1012))","v":0},{"$f":"IF(B116=\"\",\"\",SUMIF('1.2 Sub-Con Application'!$B$13:$B$1012,B116,'1.2 Sub-Con Application'!$R$13:$R$1012))","v":0},{"$f":"IF(B116=\"\",\"\",SUMIF('1.2 Sub-Con Application'!$B$13:$B$1012,B116,'1.2 Sub-Con Application'!$S$13:$S$1012))","v":0},{"$f":"IFERROR(INDEX('1.2 Sub-Con Application'!$B$13:$U$1012,MATCH(1,('1.2 Sub-Con Application'!$B$13:$B$1012=B116)*('1.2 Sub-Con Application'!$U$13:$U$1012=\"Rejected\"),0),20),\"\")","v":""},{"$f":"IFERROR(INDEX('1.2 Sub-Con Application'!$B$13:$V$1012,MATCH(1,('1.2 Sub-Con Application'!$B$13:$B$1012=B116)*('1.2 Sub-Con Application'!$V$13:$V$1012<>\"\"),0),21),\"\")","v":""}]
[null,105,"","","","","","","","",{"$f":"IF(B117=\"\",\"\",SUMIF('1.2 Sub-Con Application'!$B$13:$B$1012,B117,'1.2 Sub-Con Application'!$P$13:$P$1012))","v":0},{"$f":"IF(B117=\"\",\"\",SUMIF('1.2 Sub-Con Application'!$B$13:$B$1012,B117,'1.2 Sub-Con Application'!$R$13:$R$1012))","v":0},{"$f":"IF(B117=\"\",\"\",SUMIF('1.2 Sub-Con Application'!$B$13:$B$1012,B117,'1.2 Sub-Con Application'!$S$13:$S$1012))","v":0},{"$f":"IFERROR(INDEX('1.2 Sub-Con Application'!$B$13:$U$1012,MATCH(1,('1.2 Sub-Con Application'!$B$13:$B$1012=B117)*('1.2 Sub-Con Application'!$U$13:$U$1012=\"Rejected\"),0),20),\"\")","v":""},{"$f":"IFERROR(INDEX('1.2 Sub-Con Application'!$B$13:$V$1012,MATCH(1,('1.2 Sub-Con Application'!$B$13:$B$1012=B117)*('1.2 Sub-Con Application'!$V$13:$V$1012<>\"\"),0),21),\"\")","v":""}]
[null,106,"","","","","","","","",{"$f":"IF(B118=\"\",\"\",SUMIF('1.2 Sub-Con Application'!$B$13:$B$1012,B118,'1.2 Sub-Con Application'!$P$13:$P$1012))","v":0},{"$f":"IF(B118=\"\",\"\",SUMIF('1.2 Sub-Con Application'!$B$13:$B$1012,B118,'1.2 Sub-Con Application'!$R$13:$R$1012))","v":0},{"$f":"IF(B118=\"\",\"\",SUMIF('1.2 Sub-Con Application'!$B$13:$B$1012,B118,'1.2 Sub-Con Application'!$S$13:$S$1012))","v":0},{"$f":"IFERROR(INDEX('1.2 Sub-Con Application'!$B$13:$U$1012,MATCH(1,('1.2 Sub-Con Application'!$B$13:$B$1012=B118)*('1.2 Sub-Con Application'!$U$13:$U$1012=\"Rejected\"),0),20),\"\")","v":""},{"$f":"IFERROR(INDEX('1.2 Sub-Con Application'!$B$13:$V$1012,MATCH(1,('1.2 Sub-Con Application'!$B$13:$B$1012=B118)*('1.2 Sub-Con Application'!$V$13:$V$1012<>\"\"),0),21),\"\")","v":""}]
[null,107,"","","","","","","","",{"$f":"IF(B119=\"\",\"\",SUMIF('1.2 Sub-Con Application'!$B$13:$B$1012,B119,'1.2 Sub-Con Application'!$P$13:$P$1012))","v":0},{"$f":"IF(B119=\"\",\"\",SUMIF('1.2 Sub-Con Application'!$B$13:$B$1012,B119,'1.2 Sub-Con Application'!$R$13:$R$1012))","v":0},{"$f":"IF(B119=\"\",\"\",SUMIF('1.2 Sub-Con Application'!$B$13:$B$1012,B119,'1.2 Sub-Con Application'!$S$13:$S$1012))","v":0},{"$f":"IFERROR(INDEX('1.2 Sub-Con Application'!$B$13:$U$1012,MATCH(1,('1.2 Sub-Con Application'!$B$13:$B$1012=B119)*('1.2 Sub-Con Application'!$U$13:$U$1012=\"Rejected\"),0),20),\"\")","v":""},{"$f":"IFERROR(INDEX('1.2 Sub-Con Application'!$B$13:$V$1012,MATCH(1,('1.2 Sub-Con Application'!$B$13:$B$1012=B119)*('1.2 Sub-Con Application'!$V$13:$V$1012<>\"\"),0),21),\"\")","v":""}]
[null,108,"","","","","","","","",{"$f":"IF(B120=\"\",\"\",SUMIF('1.2 Sub-Con Application'!$B$13:$B$1012,B120,'1.2 Sub-Con Application'!$P$13:$P$1012))","v":0},{"$f":"IF(B120=\"\",\"\",SUMIF('1.2 Sub-Con Application'!$B$13:$B$1012,B120,'1.2 Sub-Con Application'!$R$13:$R$1012))","v":0},{"$f":"IF(B120=\"\",\"\",SUMIF('1.2 Sub-Con Application'!$B$13:$B$1012,B120,'1.2 Sub-Con Application'!$S$13:$S$1012))","v":0},{"$f":"IFERROR(INDEX('1.2 Sub-Con Application'!$B$13:$U$1012,MATCH(1,('1.2 Sub-Con Application'!$B$13:$B$1012=B120)*('1.2 Sub-Con Application'!$U$13:$U$1012=\"Rejected\"),0),20),\"\")","v":""},{"$f":"IFERROR(INDEX('1.2 Sub-Con Application'!$B$13:$V$1012,MATCH(1,('1.2 Sub-Con Application'!$B$13:$B$1012=B120)*('1.2 Sub-Con Application'!$V$13:$V$1012<>\"\"),0),21),\"\")","v":""}]
[null,109,"","","","","","","","",{"$f":"IF(B121=\"\",\"\",SUMIF('1.2 Sub-Con Application'!$B$13:$B$1012,B121,'1.2 Sub-Con Application'!$P$13:$P$1012))","v":0},{"$f":"IF(B121=\"\",\"\",SUMIF('1.2 Sub-Con Application'!$B$13:$B$1012,B121,'1.2 Sub-Con Application'!$R$13:$R$1012))","v":0},{"$f":"IF(B121=\"\",\"\",SUMIF('1.2 Sub-Con Application'!$B$13:$B$1012,B121,'1.2 Sub-Con Application'!$S$13:$S$1012))","v":0},{"$f":"IFERROR(INDEX('1.2 Sub-Con Application'!$B$13:$U$1012,MATCH(1,('1.2 Sub-Con Application'!$B$13:$B$1012=B121)*('1.2 Sub-Con Application'!$U$13:$U$1012=\"Rejected\"),0),20),\"\")","v":""},{"$f":"IFERROR(INDEX('1.2 Sub-Con Application'!$B$13:$V$1012,MATCH(1,('1.2 Sub-Con Application'!$B$13:$B$1012=B121)*('1.2 Sub-Con Application'!$V$13:$V$1012<>\"\"),0),21),\"\")","v":""}]
[null,110,"","","","","","","","",{"$f":"IF(B122=\"\",\"\",SUMIF('1.2 Sub-Con Application'!$B$13:$B$1012,B122,'1.2 Sub-Con Application'!$P$13:$P$1012))","v":0},{"$f":"IF(B122=\"\",\"\",SUMIF('1.2 Sub-Con Application'!$B$13:$B$1012,B122,'1.2 Sub-Con Application'!$R$13:$R$1012))","v":0},{"$f":"IF(B122=\"\",\"\",SUMIF('1.2 Sub-Con Application'!$B$13:$B$1012,B122,'1.2 Sub-Con Application'!$S$13:$S$1012))","v":0},{"$f":"IFERROR(INDEX('1.2 Sub-Con Application'!$B$13:$U$1012,MATCH(1,('1.2 Sub-Con Application'!$B$13:$B$1012=B122)*('1.2 Sub-Con Application'!$U$13:$U$1012=\"Rejected\"),0),20),\"\")","v":""},{"$f":"IFERROR(INDEX('1.2 Sub-Con Application'!$B$13:$V$1012,MATCH(1,('1.2 Sub-Con Application'!$B$13:$B$1012=B122)*('1.2 Sub-Con Application'!$V$13:$V$1012<>\"\"),0),21),\"\")","v":""}]
[null,111,{"$f":"IFERROR(INDEX(table_subconApp,MATCH($B123,row_subconApp,0),MATCH(C$12,col_subconApp,0)),\"\")","v":""},"","","","","","","",{"$f":"IF(B123=\"\",\"\",SUMIF('1.2 Sub-Con Application'!$B$13:$B$1012,B123,'1.2 Sub-Con Application'!$P$13:$P$1012))","v":0},{"$f":"IF(B123=\"\",\"\",SUMIF('1.2 Sub-Con Application'!$B$13:$B$1012,B123,'1.2 Sub-Con Application'!$R$13:$R$1012))","v":0},{"$f":"IF(B123=\"\",\"\",SUMIF('1.2 Sub-Con Application'!$B$13:$B$1012,B123,'1.2 Sub-Con Application'!$S$13:$S$1012))","v":0},{"$f":"IFERROR(INDEX('1.2 Sub-Con Application'!$B$13:$U$1012,MATCH(1,('1.2 Sub-Con Application'!$B$13:$B$1012=B123)*('1.2 Sub-Con Application'!$U$13:$U$1012=\"Rejected\"),0),20),\"\")","v":""},{"$f":"IFERROR(INDEX('1.2 Sub-Con Application'!$B$13:$V$1012,MATCH(1,('1.2 Sub-Con Application'!$B$13:$B$1012=B123)*('1.2 Sub-Con Application'!$V$13:$V$1012<>\"\"),0),21),\"\")","v":""}]
[null,112,"","","","","","","","",{"$f":"IF(B124=\"\",\"\",SUMIF('1.2 Sub-Con Application'!$B$13:$B$1012,B124,'1.2 Sub-Con Application'!$P$13:$P$1012))","v":0},{"$f":"IF(B124=\"\",\"\",SUMIF('1.2 Sub-Con Application'!$B$13:$B$1012,B124,'1.2 Sub-Con Application'!$R$13:$R$1012))","v":0},{"$f":"IF(B124=\"\",\"\",SUMIF('1.2 Sub-Con Application'!$B$13:$B$1012,B124,'1.2 Sub-Con Application'!$S$13:$S$1012))","v":0},{"$f":"IFERROR(INDEX('1.2 Sub-Con Application'!$B$13:$U$1012,MATCH(1,('1.2 Sub-Con Application'!$B$13:$B$1012=B124)*('1.2 Sub-Con Application'!$U$13:$U$1012=\"Rejected\"),0),20),\"\")","v":""},{"$f":"IFERROR(INDEX('1.2 Sub-Con Application'!$B$13:$V$1012,MATCH(1,('1.2 Sub-Con Application'!$B$13:$B$1012=B124)*('1.2 Sub-Con Application'!$V$13:$V$1012<>\"\"),0),21),\"\")","v":""}]
[null,113,"","","","","","","","",{"$f":"IF(B125=\"\",\"\",SUMIF('1.2 Sub-Con Application'!$B$13:$B$1012,B125,'1.2 Sub-Con Application'!$P$13:$P$1012))","v":0},{"$f":"IF(B125=\"\",\"\",SUMIF('1.2 Sub-Con Application'!$B$13:$B$1012,B125,'1.2 Sub-Con Application'!$R$13:$R$1012))","v":0},{"$f":"IF(B125=\"\",\"\",SUMIF('1.2 Sub-Con Application'!$B$13:$B$1012,B125,'1.2 Sub-Con Application'!$S$13:$S$1012))","v":0},{"$f":"IFERROR(INDEX('1.2 Sub-Con Application'!$B$13:$U$1012,MATCH(1,('1.2 Sub-Con Application'!$B$13:$B$1012=B125)*('1.2 Sub-Con Application'!$U$13:$U$1012=\"Rejected\"),0),20),\"\")","v":""},{"$f":"IFERROR(INDEX('1.2 Sub-Con Application'!$B$13:$V$1012,MATCH(1,('1.2 Sub-Con Application'!$B$13:$B$1012=B125)*('1.2 Sub-Con Application'!$V$13:$V$1012<>\"\"),0),21),\"\")","v":""}]
[null,114,"","","","","","","","",{"$f":"IF(B126=\"\",\"\",SUMIF('1.2 Sub-Con Application'!$B$13:$B$1012,B126,'1.2 Sub-Con Application'!$P$13:$P$1012))","v":0},{"$f":"IF(B126=\"\",\"\",SUMIF('1.2 Sub-Con Application'!$B$13:$B$1012,B126,'1.2 Sub-Con Application'!$R$13:$R$1012))","v":0},{"$f":"IF(B126=\"\",\"\",SUMIF('1.2 Sub-Con Application'!$B$13:$B$1012,B126,'1.2 Sub-Con Application'!$S$13:$S$1012))","v":0},{"$f":"IFERROR(INDEX('1.2 Sub-Con Application'!$B$13:$U$1012,MATCH(1,('1.2 Sub-Con Application'!$B$13:$B$1012=B126)*('1.2 Sub-Con Application'!$U$13:$U$1012=\"Rejected\"),0),20),\"\")","v":""},{"$f":"IFERROR(INDEX('1.2 Sub-Con Application'!$B$13:$V$1012,MATCH(1,('1.2 Sub-Con Application'!$B$13:$B$1012=B126)*('1.2 Sub-Con Application'!$V$13:$V$1012<>\"\"),0),21),\"\")","v":""}]
[null,115,"","","","","","","","",{"$f":"IF(B127=\"\",\"\",SUMIF('1.2 Sub-Con Application'!$B$13:$B$1012,B127,'1.2 Sub-Con Application'!$P$13:$P$1012))","v":0},{"$f":"IF(B127=\"\",\"\",SUMIF('1.2 Sub-Con Application'!$B$13:$B$1012,B127,'1.2 Sub-Con Application'!$R$13:$R$1012))","v":0},{"$f":"IF(B127=\"\",\"\",SUMIF('1.2 Sub-Con Application'!$B$13:$B$1012,B127,'1.2 Sub-Con Application'!$S$13:$S$1012))","v":0},{"$f":"IFERROR(INDEX('1.2 Sub-Con Application'!$B$13:$U$1012,MATCH(1,('1.2 Sub-Con Application'!$B$13:$B$1012=B127)*('1.2 Sub-Con Application'!$U$13:$U$1012=\"Rejected\"),0),20),\"\")","v":""},{"$f":"IFERROR(INDEX('1.2 Sub-Con Application'!$B$13:$V$1012,MATCH(1,('1.2 Sub-Con Application'!$B$13:$B$1012=B127)*('1.2 Sub-Con Application'!$V$13:$V$1012<>\"\"),0),21),\"\")","v":""}]
[null,116,"","","","","","","","",{"$f":"IF(B128=\"\",\"\",SUMIF('1.2 Sub-Con Application'!$B$13:$B$1012,B128,'1.2 Sub-Con Application'!$P$13:$P$1012))","v":0},{"$f":"IF(B128=\"\",\"\",SUMIF('1.2 Sub-Con Application'!$B$13:$B$1012,B128,'1.2 Sub-Con Application'!$R$13:$R$1012))","v":0},{"$f":"IF(B128=\"\",\"\",SUMIF('1.2 Sub-Con Application'!$B$13:$B$1012,B128,'1.2 Sub-Con Application'!$S$13:$S$1012))","v":0},{"$f":"IFERROR(INDEX('1.2 Sub-Con Application'!$B$13:$U$1012,MATCH(1,('1.2 Sub-Con Application'!$B$13:$B$1012=B128)*('1.2 Sub-Con Application'!$U$13:$U$1012=\"Rejected\"),0),20),\"\")","v":""},{"$f":"IFERROR(INDEX('1.2 Sub-Con Application'!$B$13:$V$1012,MATCH(1,('1.2 Sub-Con Application'!$B$13:$B$1012=B128)*('1.2 Sub-Con Application'!$V$13:$V$1012<>\"\"),0),21),\"\")","v":""}]
[null,117,"","","","","","","","",{"$f":"IF(B129=\"\",\"\",SUMIF('1.2 Sub-Con Application'!$B$13:$B$1012,B129,'1.2 Sub-Con Application'!$P$13:$P$1012))","v":0},{"$f":"IF(B129=\"\",\"\",SUMIF('1.2 Sub-Con Application'!$B$13:$B$1012,B129,'1.2 Sub-Con Application'!$R$13:$R$1012))","v":0},{"$f":"IF(B129=\"\",\"\",SUMIF('1.2 Sub-Con Application'!$B$13:$B$1012,B129,'1.2 Sub-Con Application'!$S$13:$S$1012))","v":0},{"$f":"IFERROR(INDEX('1.2 Sub-Con Application'!$B$13:$U$1012,MATCH(1,('1.2 Sub-Con Application'!$B$13:$B$1012=B129)*('1.2 Sub-Con Application'!$U$13:$U$1012=\"Rejected\"),0),20),\"\")","v":""},{"$f":"IFERROR(INDEX('1.2 Sub-Con Application'!$B$13:$V$1012,MATCH(1,('1.2 Sub-Con Application'!$B$13:$B$1012=B129)*('1.2 Sub-Con Application'!$V$13:$V$1012<>\"\"),0),21),\"\")","v":""}]
[null,118,"","","","","","","","",{"$f":"IF(B130=\"\",\"\",SUMIF('1.2 Sub-Con Application'!$B$13:$B$1012,B130,'1.2 Sub-Con Application'!$P$13:$P$1012))","v":0},{"$f":"IF(B130=\"\",\"\",SUMIF('1.2 Sub-Con Application'!$B$13:$B$1012,B130,'1.2 Sub-Con Application'!$R$13:$R$1012))","v":0},{"$f":"IF(B130=\"\",\"\",SUMIF('1.2 Sub-Con Application'!$B$13:$B$1012,B130,'1.2 Sub-Con Application'!$S$13:$S$1012))","v":0},{"$f":"IFERROR(INDEX('1.2 Sub-Con Application'!$B$13:$U$1012,MATCH(1,('1.2 Sub-Con Application'!$B$13:$B$1012=B130)*('1.2 Sub-Con Application'!$U$13:$U$1012=\"Rejected\"),0),20),\"\")","v":""},{"$f":"IFERROR(INDEX('1.2 Sub-Con Application'!$B$13:$V$1012,MATCH(1,('1.2 Sub-Con Application'!$B$13:$B$1012=B130)*('1.2 Sub-Con Application'!$V$13:$V$1012<>\"\"),0),21),\"\")","v":""}]
[null,119,"","","","","","","","",{"$f":"IF(B131=\"\",\"\",SUMIF('1.2 Sub-Con Application'!$B$13:$B$1012,B131,'1.2 Sub-Con Application'!$P$13:$P$1012))","v":0},{"$f":"IF(B131=\"\",\"\",SUMIF('1.2 Sub-Con Application'!$B$13:$B$1012,B131,'1.2 Sub-Con Application'!$R$13:$R$1012))","v":0},{"$f":"IF(B131=\"\",\"\",SUMIF('1.2 Sub-Con Application'!$B$13:$B$1012,B131,'1.2 Sub-Con Application'!$S$13:$S$1012))","v":0},{"$f":"IFERROR(INDEX('1.2 Sub-Con Application'!$B$13:$U$1012,MATCH(1,('1.2 Sub-Con Application'!$B$13:$B$1012=B131)*('1.2 Sub-Con Application'!$U$13:$U$1012=\"Rejected\"),0),20),\"\")","v":""},{"$f":"IFERROR(INDEX('1.2 Sub-Con Application'!$B$13:$V$1012,MATCH(1,('1.2 Sub-Con Application'!$B$13:$B$1012=B131)*('1.2 Sub-Con Application'!$V$13:$V$1012<>\"\"),0),21),\"\")","v":""}]
[null,120,"","","","","","","","",{"$f":"IF(B132=\"\",\"\",SUMIF('1.2 Sub-Con Application'!$B$13:$B$1012,B132,'1.2 Sub-Con Application'!$P$13:$P$1012))","v":0},{"$f":"IF(B132=\"\",\"\",SUMIF('1.2 Sub-Con Application'!$B$13:$B$1012,B132,'1.2 Sub-Con Application'!$R$13:$R$1012))","v":0},{"$f":"IF(B132=\"\",\"\",SUMIF('1.2 Sub-Con Application'!$B$13:$B$1012,B132,'1.2 Sub-Con Application'!$S$13:$S$1012))","v":0},{"$f":"IFERROR(INDEX('1.2 Sub-Con Application'!$B$13:$U$1012,MATCH(1,('1.2 Sub-Con Application'!$B$13:$B$1012=B132)*('1.2 Sub-Con Application'!$U$13:$U$1012=\"Rejected\"),0),20),\"\")","v":""},{"$f":"IFERROR(INDEX('1.2 Sub-Con Application'!$B$13:$V$1012,MATCH(1,('1.2 Sub-Con Application'!$B$13:$B$1012=B132)*('1.2 Sub-Con Application'!$V$13:$V$1012<>\"\"),0),21),\"\")","v":""}]
[null,121,{"$f":"IFERROR(INDEX(table_subconApp,MATCH($B133,row_subconApp,0),MATCH(C$12,col_subconApp,0)),\"\")","v":""},"","","","","","","",{"$f":"IF(B133=\"\",\"\",SUMIF('1.2 Sub-Con Application'!$B$13:$B$1012,B133,'1.2 Sub-Con Application'!$P$13:$P$1012))","v":0},{"$f":"IF(B133=\"\",\"\",SUMIF('1.2 Sub-Con Application'!$B$13:$B$1012,B133,'1.2 Sub-Con Application'!$R$13:$R$1012))","v":0},{"$f":"IF(B133=\"\",\"\",SUMIF('1.2 Sub-Con Application'!$B$13:$B$1012,B133,'1.2 Sub-Con Application'!$S$13:$S$1012))","v":0},{"$f":"IFERROR(INDEX('1.2 Sub-Con Application'!$B$13:$U$1012,MATCH(1,('1.2 Sub-Con Application'!$B$13:$B$1012=B133)*('1.2 Sub-Con Application'!$U$13:$U$1012=\"Rejected\"),0),20),\"\")","v":""},{"$f":"IFERROR(INDEX('1.2 Sub-Con Application'!$B$13:$V$1012,MATCH(1,('1.2 Sub-Con Application'!$B$13:$B$1012=B133)*('1.2 Sub-Con Application'!$V$13:$V$1012<>\"\"),0),21),\"\")","v":""}]
[null,122,"","","","","","","","",{"$f":"IF(B134=\"\",\"\",SUMIF('1.2 Sub-Con Application'!$B$13:$B$1012,B134,'1.2 Sub-Con Application'!$P$13:$P$1012))","v":0},{"$f":"IF(B134=\"\",\"\",SUMIF('1.2 Sub-Con Application'!$B$13:$B$1012,B134,'1.2 Sub-Con Application'!$R$13:$R$1012))","v":0},{"$f":"IF(B134=\"\",\"\",SUMIF('1.2 Sub-Con Application'!$B$13:$B$1012,B134,'1.2 Sub-Con Application'!$S$13:$S$1012))","v":0},{"$f":"IFERROR(INDEX('1.2 Sub-Con Application'!$B$13:$U$1012,MATCH(1,('1.2 Sub-Con Application'!$B$13:$B$1012=B134)*('1.2 Sub-Con Application'!$U$13:$U$1012=\"Rejected\"),0),20),\"\")","v":""},{"$f":"IFERROR(INDEX('1.2 Sub-Con Application'!$B$13:$V$1012,MATCH(1,('1.2 Sub-Con Application'!$B$13:$B$1012=B134)*('1.2 Sub-Con Application'!$V$13:$V$1012<>\"\"),0),21),\"\")","v":""}]
[null,123,"","","","","","","","",{"$f":"IF(B135=\"\",\"\",SUMIF('1.2 Sub-Con Application'!$B$13:$B$1012,B135,'1.2 Sub-Con Application'!$P$13:$P$1012))","v":0},{"$f":"IF(B135=\"\",\"\",SUMIF('1.2 Sub-Con Application'!$B$13:$B$1012,B135,'1.2 Sub-Con Application'!$R$13:$R$1012))","v":0},{"$f":"IF(B135=\"\",\"\",SUMIF('1.2 Sub-Con Application'!$B$13:$B$1012,B135,'1.2 Sub-Con Application'!$S$13:$S$1012))","v":0},{"$f":"IFERROR(INDEX('1.2 Sub-Con Application'!$B$13:$U$1012,MATCH(1,('1.2 Sub-Con Application'!$B$13:$B$1012=B135)*('1.2 Sub-Con Application'!$U$13:$U$1012=\"Rejected\"),0),20),\"\")","v":""},{"$f":"IFERROR(INDEX('1.2 Sub-Con Application'!$B$13:$V$1012,MATCH(1,('1.2 Sub-Con Application'!$B$13:$B$1012=B135)*('1.2 Sub-Con Application'!$V$13:$V$1012<>\"\"),0),21),\"\")","v":""}]
[null,124,"","","","","","","","",{"$f":"IF(B136=\"\",\"\",SUMIF('1.2 Sub-Con Application'!$B$13:$B$1012,B136,'1.2 Sub-Con Application'!$P$13:$P$1012))","v":0},{"$f":"IF(B136=\"\",\"\",SUMIF('1.2 Sub-Con Application'!$B$13:$B$1012,B136,'1.2 Sub-Con Application'!$R$13:$R$1012))","v":0},{"$f":"IF(B136=\"\",\"\",SUMIF('1.2 Sub-Con Application'!$B$13:$B$1012,B136,'1.2 Sub-Con Application'!$S$13:$S$1012))","v":0},{"$f":"IFERROR(INDEX('1.2 Sub-Con Application'!$B$13:$U$1012,MATCH(1,('1.2 Sub-Con Application'!$B$13:$B$1012=B136)*('1.2 Sub-Con Application'!$U$13:$U$1012=\"Rejected\"),0),20),\"\")","v":""},{"$f":"IFERROR(INDEX('1.2 Sub-Con Application'!$B$13:$V$1012,MATCH(1,('1.2 Sub-Con Application'!$B$13:$B$1012=B136)*('1.2 Sub-Con Application'!$V$13:$V$1012<>\"\"),0),21),\"\")","v":""}]
[null,125,"","","","","","","","",{"$f":"IF(B137=\"\",\"\",SUMIF('1.2 Sub-Con Application'!$B$13:$B$1012,B137,'1.2 Sub-Con Application'!$P$13:$P$1012))","v":0},{"$f":"IF(B137=\"\",\"\",SUMIF('1.2 Sub-Con Application'!$B$13:$B$1012,B137,'1.2 Sub-Con Application'!$R$13:$R$1012))","v":0},{"$f":"IF(B137=\"\",\"\",SUMIF('1.2 Sub-Con Application'!$B$13:$B$1012,B137,'1.2 Sub-Con Application'!$S$13:$S$1012))","v":0},{"$f":"IFERROR(INDEX('1.2 Sub-Con Application'!$B$13:$U$1012,MATCH(1,('1.2 Sub-Con Application'!$B$13:$B$1012=B137)*('1.2 Sub-Con Application'!$U$13:$U$1012=\"Rejected\"),0),20),\"\")","v":""},{"$f":"IFERROR(INDEX('1.2 Sub-Con Application'!$B$13:$V$1012,MATCH(1,('1.2 Sub-Con Application'!$B$13:$B$1012=B137)*('1.2 Sub-Con Application'!$V$13:$V$1012<>\"\"),0),21),\"\")","v":""}]
[null,126,"","","","","","","","",{"$f":"IF(B138=\"\",\"\",SUMIF('1.2 Sub-Con Application'!$B$13:$B$1012,B138,'1.2 Sub-Con Application'!$P$13:$P$1012))","v":0},{"$f":"IF(B138=\"\",\"\",SUMIF('1.2 Sub-Con Application'!$B$13:$B$1012,B138,'1.2 Sub-Con Application'!$R$13:$R$1012))","v":0},{"$f":"IF(B138=\"\",\"\",SUMIF('1.2 Sub-Con Application'!$B$13:$B$1012,B138,'1.2 Sub-Con Application'!$S$13:$S$1012))","v":0},{"$f":"IFERROR(INDEX('1.2 Sub-Con Application'!$B$13:$U$1012,MATCH(1,('1.2 Sub-Con Application'!$B$13:$B$1012=B138)*('1.2 Sub-Con Application'!$U$13:$U$1012=\"Rejected\"),0),20),\"\")","v":""},{"$f":"IFERROR(INDEX('1.2 Sub-Con Application'!$B$13:$V$1012,MATCH(1,('1.2 Sub-Con Application'!$B$13:$B$1012=B138)*('1.2 Sub-Con Application'!$V$13:$V$1012<>\"\"),0),21),\"\")","v":""}]
[null,127,"","","","","","","","",{"$f":"IF(B139=\"\",\"\",SUMIF('1.2 Sub-Con Application'!$B$13:$B$1012,B139,'1.2 Sub-Con Application'!$P$13:$P$1012))","v":0},{"$f":"IF(B139=\"\",\"\",SUMIF('1.2 Sub-Con Application'!$B$13:$B$1012,B139,'1.2 Sub-Con Application'!$R$13:$R$1012))","v":0},{"$f":"IF(B139=\"\",\"\",SUMIF('1.2 Sub-Con Application'!$B$13:$B$1012,B139,'1.2 Sub-Con Application'!$S$13:$S$1012))","v":0},{"$f":"IFERROR(INDEX('1.2 Sub-Con Application'!$B$13:$U$1012,MATCH(1,('1.2 Sub-Con Application'!$B$13:$B$1012=B139)*('1.2 Sub-Con Application'!$U$13:$U$1012=\"Rejected\"),0),20),\"\")","v":""},{"$f":"IFERROR(INDEX('1.2 Sub-Con Application'!$B$13:$V$1012,MATCH(1,('1.2 Sub-Con Application'!$B$13:$B$1012=B139)*('1.2 Sub-Con Application'!$V$13:$V$1012<>\"\"),0),21),\"\")","v":""}]
[null,128,"","","","","","","","",{"$f":"IF(B140=\"\",\"\",SUMIF('1.2 Sub-Con Application'!$B$13:$B$1012,B140,'1.2 Sub-Con Application'!$P$13:$P$1012))","v":0},{"$f":"IF(B140=\"\",\"\",SUMIF('1.2 Sub-Con Application'!$B$13:$B$1012,B140,'1.2 Sub-Con Application'!$R$13:$R$1012))","v":0},{"$f":"IF(B140=\"\",\"\",SUMIF('1.2 Sub-Con Application'!$B$13:$B$1012,B140,'1.2 Sub-Con Application'!$S$13:$S$1012))","v":0},{"$f":"IFERROR(INDEX('1.2 Sub-Con Application'!$B$13:$U$1012,MATCH(1,('1.2 Sub-Con Application'!$B$13:$B$1012=B140)*('1.2 Sub-Con Application'!$U$13:$U$1012=\"Rejected\"),0),20),\"\")","v":""},{"$f":"IFERROR(INDEX('1.2 Sub-Con Application'!$B$13:$V$1012,MATCH(1,('1.2 Sub-Con Application'!$B$13:$B$1012=B140)*('1.2 Sub-Con Application'!$V$13:$V$1012<>\"\"),0),21),\"\")","v":""}]
[null,129,"","","","","","","",{"$f":"IFERROR(IF(ISBLANK(INDEX(table_subconApp,MATCH($B141,row_subconApp,0),MATCH(J$12,col_subconApp,0))),\"\",INDEX(table_subconApp,MATCH($B141,row_subconApp,0),MATCH(J$12,col_subconApp,0))),\"\")","v":""},{"$f":"IF(B141=\"\",\"\",SUMIF('1.2 Sub-Con Application'!$B$13:$B$1012,B141,'1.2 Sub-Con Application'!$P$13:$P$1012))","v":0},{"$f":"IF(B141=\"\",\"\",SUMIF('1.2 Sub-Con Application'!$B$13:$B$1012,B141,'1.2 Sub-Con Application'!$R$13:$R$1012))","v":0},{"$f":"IF(B141=\"\",\"\",SUMIF('1.2 Sub-Con Application'!$B$13:$B$1012,B141,'1.2 Sub-Con Application'!$S$13:$S$1012))","v":0},{"$f":"IFERROR(INDEX('1.2 Sub-Con Application'!$B$13:$U$1012,MATCH(1,('1.2 Sub-Con Application'!$B$13:$B$1012=B141)*('1.2 Sub-Con Application'!$U$13:$U$1012=\"Rejected\"),0),20),\"\")","v":""},{"$f":"IFERROR(INDEX('1.2 Sub-Con Application'!$B$13:$V$1012,MATCH(1,('1.2 Sub-Con Application'!$B$13:$B$1012=B141)*('1.2 Sub-Con Application'!$V$13:$V$1012<>\"\"),0),21),\"\")","v":""}]
[null,130,"","","","","","","","",{"$f":"IF(B142=\"\",\"\",SUMIF('1.2 Sub-Con Application'!$B$13:$B$1012,B142,'1.2 Sub-Con Application'!$P$13:$P$1012))","v":0},{"$f":"IF(B142=\"\",\"\",SUMIF('1.2 Sub-Con Application'!$B$13:$B$1012,B142,'1.2 Sub-Con Application'!$R$13:$R$1012))","v":0},{"$f":"IF(B142=\"\",\"\",SUMIF('1.2 Sub-Con Application'!$B$13:$B$1012,B142,'1.2 Sub-Con Application'!$S$13:$S$1012))","v":0},{"$f":"IFERROR(INDEX('1.2 Sub-Con Application'!$B$13:$U$1012,MATCH(1,('1.2 Sub-Con Application'!$B$13:$B$1012=B142)*('1.2 Sub-Con Application'!$U$13:$U$1012=\"Rejected\"),0),20),\"\")","v":""},{"$f":"IFERROR(INDEX('1.2 Sub-Con Application'!$B$13:$V$1012,MATCH(1,('1.2 Sub-Con Application'!$B$13:$B$1012=B142)*('1.2 Sub-Con Application'!$V$13:$V$1012<>\"\"),0),21),\"\")","v":""}]
[null,{"$f":"B142+1","v":131},{"$f":"IFERROR(INDEX(table_subconApp,MATCH($B143,row_subconApp,0),MATCH(C$12,col_subconApp,0)),\"\")","v":""},"","","","","","","",{"$f":"IF(B143=\"\",\"\",SUMIF('1.2 Sub-Con Application'!$B$13:$B$1012,B143,'1.2 Sub-Con Application'!$P$13:$P$1012))","v":0},{"$f":"IF(B143=\"\",\"\",SUMIF('1.2 Sub-Con Application'!$B$13:$B$1012,B143,'1.2 Sub-Con Application'!$R$13:$R$1012))","v":0},{"$f":"IF(B143=\"\",\"\",SUMIF('1.2 Sub-Con Application'!$B$13:$B$1012,B143,'1.2 Sub-Con Application'!$S$13:$S$1012))","v":0},{"$f":"IFERROR(INDEX('1.2 Sub-Con Application'!$B$13:$U$1012,MATCH(1,('1.2 Sub-Con Application'!$B$13:$B$1012=B143)*('1.2 Sub-Con Application'!$U$13:$U$1012=\"Rejected\"),0),20),\"\")","v":""},{"$f":"IFERROR(INDEX('1.2 Sub-Con Application'!$B$13:$V$1012,MATCH(1,('1.2 Sub-Con Application'!$B$13:$B$1012=B143)*('1.2 Sub-Con Application'!$V$13:$V$1012<>\"\"),0),21),\"\")","v":""}]
[null,132,"","","","","","","","",{"$f":"IF(B144=\"\",\"\",SUMIF('1.2 Sub-Con Application'!$B$13:$B$1012,B144,'1.2 Sub-Con Application'!$P$13:$P$1012))","v":0},{"$f":"IF(B144=\"\",\"\",SUMIF('1.2 Sub-Con Application'!$B$13:$B$1012,B144,'1.2 Sub-Con Application'!$R$13:$R$1012))","v":0},{"$f":"IF(B144=\"\",\"\",SUMIF('1.2 Sub-Con Application'!$B$13:$B$1012,B144,'1.2 Sub-Con Application'!$S$13:$S$1012))","v":0},{"$f":"IFERROR(INDEX('1.2 Sub-Con Application'!$B$13:$U$1012,MATCH(1,('1.2 Sub-Con Application'!$B$13:$B$1012=B144)*('1.2 Sub-Con Application'!$U$13:$U$1012=\"Rejected\"),0),20),\"\")","v":""},{"$f":"IFERROR(INDEX('1.2 Sub-Con Application'!$B$13:$V$1012,MATCH(1,('1.2 Sub-Con Application'!$B$13:$B$1012=B144)*('1.2 Sub-Con Application'!$V$13:$V$1012<>\"\"),0),21),\"\")","v":""}]
[null,133,"","","","","","","","",{"$f":"IF(B145=\"\",\"\",SUMIF('1.2 Sub-Con Application'!$B$13:$B$1012,B145,'1.2 Sub-Con Application'!$P$13:$P$1012))","v":0},{"$f":"IF(B145=\"\",\"\",SUMIF('1.2 Sub-Con Application'!$B$13:$B$1012,B145,'1.2 Sub-Con Application'!$R$13:$R$1012))","v":0},{"$f":"IF(B145=\"\",\"\",SUMIF('1.2 Sub-Con Application'!$B$13:$B$1012,B145,'1.2 Sub-Con Application'!$S$13:$S$1012))","v":0},{"$f":"IFERROR(INDEX('1.2 Sub-Con Application'!$B$13:$U$1012,MATCH(1,('1.2 Sub-Con Application'!$B$13:$B$1012=B145)*('1.2 Sub-Con Application'!$U$13:$U$1012=\"Rejected\"),0),20),\"\")","v":""},{"$f":"IFERROR(INDEX('1.2 Sub-Con Application'!$B$13:$V$1012,MATCH(1,('1.2 Sub-Con Application'!$B$13:$B$1012=B145)*('1.2 Sub-Con Application'!$V$13:$V$1012<>\"\"),0),21),\"\")","v":""}]
[null,134,"","","","","","","","",{"$f":"IF(B146=\"\",\"\",SUMIF('1.2 Sub-Con Application'!$B$13:$B$1012,B146,'1.2 Sub-Con Application'!$P$13:$P$1012))","v":0},{"$f":"IF(B146=\"\",\"\",SUMIF('1.2 Sub-Con Application'!$B$13:$B$1012,B146,'1.2 Sub-Con Application'!$R$13:$R$1012))","v":0},{"$f":"IF(B146=\"\",\"\",SUMIF('1.2 Sub-Con Application'!$B$13:$B$1012,B146,'1.2 Sub-Con Application'!$S$13:$S$1012))","v":0},{"$f":"IFERROR(INDEX('1.2 Sub-Con Application'!$B$13:$U$1012,MATCH(1,('1.2 Sub-Con Application'!$B$13:$B$1012=B146)*('1.2 Sub-Con Application'!$U$13:$U$1012=\"Rejected\"),0),20),\"\")","v":""},{"$f":"IFERROR(INDEX('1.2 Sub-Con Application'!$B$13:$V$1012,MATCH(1,('1.2 Sub-Con Application'!$B$13:$B$1012=B146)*('1.2 Sub-Con Application'!$V$13:$V$1012<>\"\"),0),21),\"\")","v":""}]
[null,135,"","","","","","","","",{"$f":"IF(B147=\"\",\"\",SUMIF('1.2 Sub-Con Application'!$B$13:$B$1012,B147,'1.2 Sub-Con Application'!$P$13:$P$1012))","v":0},{"$f":"IF(B147=\"\",\"\",SUMIF('1.2 Sub-Con Application'!$B$13:$B$1012,B147,'1.2 Sub-Con Application'!$R$13:$R$1012))","v":0},{"$f":"IF(B147=\"\",\"\",SUMIF('1.2 Sub-Con Application'!$B$13:$B$1012,B147,'1.2 Sub-Con Application'!$S$13:$S$1012))","v":0},{"$f":"IFERROR(INDEX('1.2 Sub-Con Application'!$B$13:$U$1012,MATCH(1,('1.2 Sub-Con Application'!$B$13:$B$1012=B147)*('1.2 Sub-Con Application'!$U$13:$U$1012=\"Rejected\"),0),20),\"\")","v":""},{"$f":"IFERROR(INDEX('1.2 Sub-Con Application'!$B$13:$V$1012,MATCH(1,('1.2 Sub-Con Application'!$B$13:$B$1012=B147)*('1.2 Sub-Con Application'!$V$13:$V$1012<>\"\"),0),21),\"\")","v":""}]
[null,136,"","","","","","","","",{"$f":"IF(B148=\"\",\"\",SUMIF('1.2 Sub-Con Application'!$B$13:$B$1012,B148,'1.2 Sub-Con Application'!$P$13:$P$1012))","v":0},{"$f":"IF(B148=\"\",\"\",SUMIF('1.2 Sub-Con Application'!$B$13:$B$1012,B148,'1.2 Sub-Con Application'!$R$13:$R$1012))","v":0},{"$f":"IF(B148=\"\",\"\",SUMIF('1.2 Sub-Con Application'!$B$13:$B$1012,B148,'1.2 Sub-Con Application'!$S$13:$S$1012))","v":0},{"$f":"IFERROR(INDEX('1.2 Sub-Con Application'!$B$13:$U$1012,MATCH(1,('1.2 Sub-Con Application'!$B$13:$B$1012=B148)*('1.2 Sub-Con Application'!$U$13:$U$1012=\"Rejected\"),0),20),\"\")","v":""},{"$f":"IFERROR(INDEX('1.2 Sub-Con Application'!$B$13:$V$1012,MATCH(1,('1.2 Sub-Con Application'!$B$13:$B$1012=B148)*('1.2 Sub-Con Application'!$V$13:$V$1012<>\"\"),0),21),\"\")","v":""}]
[null,137,"","","","","","","","",{"$f":"IF(B149=\"\",\"\",SUMIF('1.2 Sub-Con Application'!$B$13:$B$1012,B149,'1.2 Sub-Con Application'!$P$13:$P$1012))","v":0},{"$f":"IF(B149=\"\",\"\",SUMIF('1.2 Sub-Con Application'!$B$13:$B$1012,B149,'1.2 Sub-Con Application'!$R$13:$R$1012))","v":0},{"$f":"IF(B149=\"\",\"\",SUMIF('1.2 Sub-Con Application'!$B$13:$B$1012,B149,'1.2 Sub-Con Application'!$S$13:$S$1012))","v":0},{"$f":"IFERROR(INDEX('1.2 Sub-Con Application'!$B$13:$U$1012,MATCH(1,('1.2 Sub-Con Application'!$B$13:$B$1012=B149)*('1.2 Sub-Con Application'!$U$13:$U$1012=\"Rejected\"),0),20),\"\")","v":""},{"$f":"IFERROR(INDEX('1.2 Sub-Con Application'!$B$13:$V$1012,MATCH(1,('1.2 Sub-Con Application'!$B$13:$B$1012=B149)*('1.2 Sub-Con Application'!$V$13:$V$1012<>\"\"),0),21),\"\")","v":""}]
[null,138,"","","","","","","","",{"$f":"IF(B150=\"\",\"\",SUMIF('1.2 Sub-Con Application'!$B$13:$B$1012,B150,'1.2 Sub-Con Application'!$P$13:$P$1012))","v":0},{"$f":"IF(B150=\"\",\"\",SUMIF('1.2 Sub-Con Application'!$B$13:$B$1012,B150,'1.2 Sub-Con Application'!$R$13:$R$1012))","v":0},{"$f":"IF(B150=\"\",\"\",SUMIF('1.2 Sub-Con Application'!$B$13:$B$1012,B150,'1.2 Sub-Con Application'!$S$13:$S$1012))","v":0},{"$f":"IFERROR(INDEX('1.2 Sub-Con Application'!$B$13:$U$1012,MATCH(1,('1.2 Sub-Con Application'!$B$13:$B$1012=B150)*('1.2 Sub-Con Application'!$U$13:$U$1012=\"Rejected\"),0),20),\"\")","v":""},{"$f":"IFERROR(INDEX('1.2 Sub-Con Application'!$B$13:$V$1012,MATCH(1,('1.2 Sub-Con Application'!$B$13:$B$1012=B150)*('1.2 Sub-Con Application'!$V$13:$V$1012<>\"\"),0),21),\"\")","v":""}]
[null,139,"","","","","","","","",{"$f":"IF(B151=\"\",\"\",SUMIF('1.2 Sub-Con Application'!$B$13:$B$1012,B151,'1.2 Sub-Con Application'!$P$13:$P$1012))","v":0},{"$f":"IF(B151=\"\",\"\",SUMIF('1.2 Sub-Con Application'!$B$13:$B$1012,B151,'1.2 Sub-Con Application'!$R$13:$R$1012))","v":0},{"$f":"IF(B151=\"\",\"\",SUMIF('1.2 Sub-Con Application'!$B$13:$B$1012,B151,'1.2 Sub-Con Application'!$S$13:$S$1012))","v":0},{"$f":"IFERROR(INDEX('1.2 Sub-Con Application'!$B$13:$U$1012,MATCH(1,('1.2 Sub-Con Application'!$B$13:$B$1012=B151)*('1.2 Sub-Con Application'!$U$13:$U$1012=\"Rejected\"),0),20),\"\")","v":""},{"$f":"IFERROR(INDEX('1.2 Sub-Con Application'!$B$13:$V$1012,MATCH(1,('1.2 Sub-Con Application'!$B$13:$B$1012=B151)*('1.2 Sub-Con Application'!$V$13:$V$1012<>\"\"),0),21),\"\")","v":""}]
[null,140,"","","","","","","","",{"$f":"IF(B152=\"\",\"\",SUMIF('1.2 Sub-Con Application'!$B$13:$B$1012,B152,'1.2 Sub-Con Application'!$P$13:$P$1012))","v":0},{"$f":"IF(B152=\"\",\"\",SUMIF('1.2 Sub-Con Application'!$B$13:$B$1012,B152,'1.2 Sub-Con Application'!$R$13:$R$1012))","v":0},{"$f":"IF(B152=\"\",\"\",SUMIF('1.2 Sub-Con Application'!$B$13:$B$1012,B152,'1.2 Sub-Con Application'!$S$13:$S$1012))","v":0},{"$f":"IFERROR(INDEX('1.2 Sub-Con Application'!$B$13:$U$1012,MATCH(1,('1.2 Sub-Con Application'!$B$13:$B$1012=B152)*('1.2 Sub-Con Application'!$U$13:$U$1012=\"Rejected\"),0),20),\"\")","v":""},{"$f":"IFERROR(INDEX('1.2 Sub-Con Application'!$B$13:$V$1012,MATCH(1,('1.2 Sub-Con Application'!$B$13:$B$1012=B152)*('1.2 Sub-Con Application'!$V$13:$V$1012<>\"\"),0),21),\"\")","v":""}]
[null,141,{"$f":"IFERROR(INDEX(table_subconApp,MATCH($B153,row_subconApp,0),MATCH(C$12,col_subconApp,0)),\"\")","v":""},"","","","","","","",{"$f":"IF(B153=\"\",\"\",SUMIF('1.2 Sub-Con Application'!$B$13:$B$1012,B153,'1.2 Sub-Con Application'!$P$13:$P$1012))","v":0},{"$f":"IF(B153=\"\",\"\",SUMIF('1.2 Sub-Con Application'!$B$13:$B$1012,B153,'1.2 Sub-Con Application'!$R$13:$R$1012))","v":0},{"$f":"IF(B153=\"\",\"\",SUMIF('1.2 Sub-Con Application'!$B$13:$B$1012,B153,'1.2 Sub-Con Application'!$S$13:$S$1012))","v":0},{"$f":"IFERROR(INDEX('1.2 Sub-Con Application'!$B$13:$U$1012,MATCH(1,('1.2 Sub-Con Application'!$B$13:$B$1012=B153)*('1.2 Sub-Con Application'!$U$13:$U$1012=\"Rejected\"),0),20),\"\")","v":""},{"$f":"IFERROR(INDEX('1.2 Sub-Con Application'!$B$13:$V$1012,MATCH(1,('1.2 Sub-Con Application'!$B$13:$B$1012=B153)*('1.2 Sub-Con Application'!$V$13:$V$1012<>\"\"),0),21),\"\")","v":""}]
[null,142,"","","","","","","","",{"$f":"IF(B154=\"\",\"\",SUMIF('1.2 Sub-Con Application'!$B$13:$B$1012,B154,'1.2 Sub-Con Application'!$P$13:$P$1012))","v":0},{"$f":"IF(B154=\"\",\"\",SUMIF('1.2 Sub-Con Application'!$B$13:$B$1012,B154,'1.2 Sub-Con Application'!$R$13:$R$1012))","v":0},{"$f":"IF(B154=\"\",\"\",SUMIF('1.2 Sub-Con Application'!$B$13:$B$1012,B154,'1.2 Sub-Con Application'!$S$13:$S$1012))","v":0},{"$f":"IFERROR(INDEX('1.2 Sub-Con Application'!$B$13:$U$1012,MATCH(1,('1.2 Sub-Con Application'!$B$13:$B$1012=B154)*('1.2 Sub-Con Application'!$U$13:$U$1012=\"Rejected\"),0),20),\"\")","v":""},{"$f":"IFERROR(INDEX('1.2 Sub-Con Application'!$B$13:$V$1012,MATCH(1,('1.2 Sub-Con Application'!$B$13:$B$1012=B154)*('1.2 Sub-Con Application'!$V$13:$V$1012<>\"\"),0),21),\"\")","v":""}]
[null,143,"","","","","","","","",{"$f":"IF(B155=\"\",\"\",SUMIF('1.2 Sub-Con Application'!$B$13:$B$1012,B155,'1.2 Sub-Con Application'!$P$13:$P$1012))","v":0},{"$f":"IF(B155=\"\",\"\",SUMIF('1.2 Sub-Con Application'!$B$13:$B$1012,B155,'1.2 Sub-Con Application'!$R$13:$R$1012))","v":0},{"$f":"IF(B155=\"\",\"\",SUMIF('1.2 Sub-Con Application'!$B$13:$B$1012,B155,'1.2 Sub-Con Application'!$S$13:$S$1012))","v":0},{"$f":"IFERROR(INDEX('1.2 Sub-Con Application'!$B$13:$U$1012,MATCH(1,('1.2 Sub-Con Application'!$B$13:$B$1012=B155)*('1.2 Sub-Con Application'!$U$13:$U$1012=\"Rejected\"),0),20),\"\")","v":""},{"$f":"IFERROR(INDEX('1.2 Sub-Con Application'!$B$13:$V$1012,MATCH(1,('1.2 Sub-Con Application'!$B$13:$B$1012=B155)*('1.2 Sub-Con Application'!$V$13:$V$1012<>\"\"),0),21),\"\")","v":""}]
[null,144,"","","","","","","","",{"$f":"IF(B156=\"\",\"\",SUMIF('1.2 Sub-Con Application'!$B$13:$B$1012,B156,'1.2 Sub-Con Application'!$P$13:$P$1012))","v":0},{"$f":"IF(B156=\"\",\"\",SUMIF('1.2 Sub-Con Application'!$B$13:$B$1012,B156,'1.2 Sub-Con Application'!$R$13:$R$1012))","v":0},{"$f":"IF(B156=\"\",\"\",SUMIF('1.2 Sub-Con Application'!$B$13:$B$1012,B156,'1.2 Sub-Con Application'!$S$13:$S$1012))","v":0},{"$f":"IFERROR(INDEX('1.2 Sub-Con Application'!$B$13:$U$1012,MATCH(1,('1.2 Sub-Con Application'!$B$13:$B$1012=B156)*('1.2 Sub-Con Application'!$U$13:$U$1012=\"Rejected\"),0),20),\"\")","v":""},{"$f":"IFERROR(INDEX('1.2 Sub-Con Application'!$B$13:$V$1012,MATCH(1,('1.2 Sub-Con Application'!$B$13:$B$1012=B156)*('1.2 Sub-Con Application'!$V$13:$V$1012<>\"\"),0),21),\"\")","v":""}]
[null,145,"","","","","","","","",{"$f":"IF(B157=\"\",\"\",SUMIF('1.2 Sub-Con Application'!$B$13:$B$1012,B157,'1.2 Sub-Con Application'!$P$13:$P$1012))","v":0},{"$f":"IF(B157=\"\",\"\",SUMIF('1.2 Sub-Con Application'!$B$13:$B$1012,B157,'1.2 Sub-Con Application'!$R$13:$R$1012))","v":0},{"$f":"IF(B157=\"\",\"\",SUMIF('1.2 Sub-Con Application'!$B$13:$B$1012,B157,'1.2 Sub-Con Application'!$S$13:$S$1012))","v":0},{"$f":"IFERROR(INDEX('1.2 Sub-Con Application'!$B$13:$U$1012,MATCH(1,('1.2 Sub-Con Application'!$B$13:$B$1012=B157)*('1.2 Sub-Con Application'!$U$13:$U$1012=\"Rejected\"),0),20),\"\")","v":""},{"$f":"IFERROR(INDEX('1.2 Sub-Con Application'!$B$13:$V$1012,MATCH(1,('1.2 Sub-Con Application'!$B$13:$B$1012=B157)*('1.2 Sub-Con Application'!$V$13:$V$1012<>\"\"),0),21),\"\")","v":""}]
[null,146,"","","","","","","","",{"$f":"IF(B158=\"\",\"\",SUMIF('1.2 Sub-Con Application'!$B$13:$B$1012,B158,'1.2 Sub-Con Application'!$P$13:$P$1012))","v":0},{"$f":"IF(B158=\"\",\"\",SUMIF('1.2 Sub-Con Application'!$B$13:$B$1012,B158,'1.2 Sub-Con Application'!$R$13:$R$1012))","v":0},{"$f":"IF(B158=\"\",\"\",SUMIF('1.2 Sub-Con Application'!$B$13:$B$1012,B158,'1.2 Sub-Con Application'!$S$13:$S$1012))","v":0},{"$f":"IFERROR(INDEX('1.2 Sub-Con Application'!$B$13:$U$1012,MATCH(1,('1.2 Sub-Con Application'!$B$13:$B$1012=B158)*('1.2 Sub-Con Application'!$U$13:$U$1012=\"Rejected\"),0),20),\"\")","v":""},{"$f":"IFERROR(INDEX('1.2 Sub-Con Application'!$B$13:$V$1012,MATCH(1,('1.2 Sub-Con Application'!$B$13:$B$1012=B158)*('1.2 Sub-Con Application'!$V$13:$V$1012<>\"\"),0),21),\"\")","v":""}]
[null,147,"","","","","","","","",{"$f":"IF(B159=\"\",\"\",SUMIF('1.2 Sub-Con Application'!$B$13:$B$1012,B159,'1.2 Sub-Con Application'!$P$13:$P$1012))","v":0},{"$f":"IF(B159=\"\",\"\",SUMIF('1.2 Sub-Con Application'!$B$13:$B$1012,B159,'1.2 Sub-Con Application'!$R$13:$R$1012))","v":0},{"$f":"IF(B159=\"\",\"\",SUMIF('1.2 Sub-Con Application'!$B$13:$B$1012,B159,'1.2 Sub-Con Application'!$S$13:$S$1012))","v":0},{"$f":"IFERROR(INDEX('1.2 Sub-Con Application'!$B$13:$U$1012,MATCH(1,('1.2 Sub-Con Application'!$B$13:$B$1012=B159)*('1.2 Sub-Con Application'!$U$13:$U$1012=\"Rejected\"),0),20),\"\")","v":""},{"$f":"IFERROR(INDEX('1.2 Sub-Con Application'!$B$13:$V$1012,MATCH(1,('1.2 Sub-Con Application'!$B$13:$B$1012=B159)*('1.2 Sub-Con Application'!$V$13:$V$1012<>\"\"),0),21),\"\")","v":""}]
[null,148,"","","","","","","","",{"$f":"IF(B160=\"\",\"\",SUMIF('1.2 Sub-Con Application'!$B$13:$B$1012,B160,'1.2 Sub-Con Application'!$P$13:$P$1012))","v":0},{"$f":"IF(B160=\"\",\"\",SUMIF('1.2 Sub-Con Application'!$B$13:$B$1012,B160,'1.2 Sub-Con Application'!$R$13:$R$1012))","v":0},{"$f":"IF(B160=\"\",\"\",SUMIF('1.2 Sub-Con Application'!$B$13:$B$1012,B160,'1.2 Sub-Con Application'!$S$13:$S$1012))","v":0},{"$f":"IFERROR(INDEX('1.2 Sub-Con Application'!$B$13:$U$1012,MATCH(1,('1.2 Sub-Con Application'!$B$13:$B$1012=B160)*('1.2 Sub-Con Application'!$U$13:$U$1012=\"Rejected\"),0),20),\"\")","v":""},{"$f":"IFERROR(INDEX('1.2 Sub-Con Application'!$B$13:$V$1012,MATCH(1,('1.2 Sub-Con Application'!$B$13:$B$1012=B160)*('1.2 Sub-Con Application'!$V$13:$V$1012<>\"\"),0),21),\"\")","v":""}]
[null,149,"","","","","","","","",{"$f":"IF(B161=\"\",\"\",SUMIF('1.2 Sub-Con Application'!$B$13:$B$1012,B161,'1.2 Sub-Con Application'!$P$13:$P$1012))","v":0},{"$f":"IF(B161=\"\",\"\",SUMIF('1.2 Sub-Con Application'!$B$13:$B$1012,B161,'1.2 Sub-Con Application'!$R$13:$R$1012))","v":0},{"$f":"IF(B161=\"\",\"\",SUMIF('1.2 Sub-Con Application'!$B$13:$B$1012,B161,'1.2 Sub-Con Application'!$S$13:$S$1012))","v":0},{"$f":"IFERROR(INDEX('1.2 Sub-Con Application'!$B$13:$U$1012,MATCH(1,('1.2 Sub-Con Application'!$B$13:$B$1012=B161)*('1.2 Sub-Con Application'!$U$13:$U$1012=\"Rejected\"),0),20),\"\")","v":""},{"$f":"IFERROR(INDEX('1.2 Sub-Con Application'!$B$13:$V$1012,MATCH(1,('1.2 Sub-Con Application'!$B$13:$B$1012=B161)*('1.2 Sub-Con Application'!$V$13:$V$1012<>\"\"),0),21),\"\")","v":""}]
[null,150,"","","","","","","","",{"$f":"IF(B162=\"\",\"\",SUMIF('1.2 Sub-Con Application'!$B$13:$B$1012,B162,'1.2 Sub-Con Application'!$P$13:$P$1012))","v":0},{"$f":"IF(B162=\"\",\"\",SUMIF('1.2 Sub-Con Application'!$B$13:$B$1012,B162,'1.2 Sub-Con Application'!$R$13:$R$1012))","v":0},{"$f":"IF(B162=\"\",\"\",SUMIF('1.2 Sub-Con Application'!$B$13:$B$1012,B162,'1.2 Sub-Con Application'!$S$13:$S$1012))","v":0},{"$f":"IFERROR(INDEX('1.2 Sub-Con Application'!$B$13:$U$1012,MATCH(1,('1.2 Sub-Con Application'!$B$13:$B$1012=B162)*('1.2 Sub-Con Application'!$U$13:$U$1012=\"Rejected\"),0),20),\"\")","v":""},{"$f":"IFERROR(INDEX('1.2 Sub-Con Application'!$B$13:$V$1012,MATCH(1,('1.2 Sub-Con Application'!$B$13:$B$1012=B162)*('1.2 Sub-Con Application'!$V$13:$V$1012<>\"\"),0),21),\"\")","v":""}]
[null,151,{"$f":"IFERROR(INDEX(table_subconApp,MATCH($B163,row_subconApp,0),MATCH(C$12,col_subconApp,0)),\"\")","v":""},"","","","","","","",{"$f":"IF(B163=\"\",\"\",SUMIF('1.2 Sub-Con Application'!$B$13:$B$1012,B163,'1.2 Sub-Con Application'!$P$13:$P$1012))","v":0},{"$f":"IF(B163=\"\",\"\",SUMIF('1.2 Sub-Con Application'!$B$13:$B$1012,B163,'1.2 Sub-Con Application'!$R$13:$R$1012))","v":0},{"$f":"IF(B163=\"\",\"\",SUMIF('1.2 Sub-Con Application'!$B$13:$B$1012,B163,'1.2 Sub-Con Application'!$S$13:$S$1012))","v":0},{"$f":"IFERROR(INDEX('1.2 Sub-Con Application'!$B$13:$U$1012,MATCH(1,('1.2 Sub-Con Application'!$B$13:$B$1012=B163)*('1.2 Sub-Con Application'!$U$13:$U$1012=\"Rejected\"),0),20),\"\")","v":""},{"$f":"IFERROR(INDEX('1.2 Sub-Con Application'!$B$13:$V$1012,MATCH(1,('1.2 Sub-Con Application'!$B$13:$B$1012=B163)*('1.2 Sub-Con Application'!$V$13:$V$1012<>\"\"),0),21),\"\")","v":""}]
[null,152,"","","","","","","","",{"$f":"IF(B164=\"\",\"\",SUMIF('1.2 Sub-Con Application'!$B$13:$B$1012,B164,'1.2 Sub-Con Application'!$P$13:$P$1012))","v":0},{"$f":"IF(B164=\"\",\"\",SUMIF('1.2 Sub-Con Application'!$B$13:$B$1012,B164,'1.2 Sub-Con Application'!$R$13:$R$1012))","v":0},{"$f":"IF(B164=\"\",\"\",SUMIF('1.2 Sub-Con Application'!$B$13:$B$1012,B164,'1.2 Sub-Con Application'!$S$13:$S$1012))","v":0},{"$f":"IFERROR(INDEX('1.2 Sub-Con Application'!$B$13:$U$1012,MATCH(1,('1.2 Sub-Con Application'!$B$13:$B$1012=B164)*('1.2 Sub-Con Application'!$U$13:$U$1012=\"Rejected\"),0),20),\"\")","v":""},{"$f":"IFERROR(INDEX('1.2 Sub-Con Application'!$B$13:$V$1012,MATCH(1,('1.2 Sub-Con Application'!$B$13:$B$1012=B164)*('1.2 Sub-Con Application'!$V$13:$V$1012<>\"\"),0),21),\"\")","v":""}]
[null,153,"","","","","","","","",{"$f":"IF(B165=\"\",\"\",SUMIF('1.2 Sub-Con Application'!$B$13:$B$1012,B165,'1.2 Sub-Con Application'!$P$13:$P$1012))","v":0},{"$f":"IF(B165=\"\",\"\",SUMIF('1.2 Sub-Con Application'!$B$13:$B$1012,B165,'1.2 Sub-Con Application'!$R$13:$R$1012))","v":0},{"$f":"IF(B165=\"\",\"\",SUMIF('1.2 Sub-Con Application'!$B$13:$B$1012,B165,'1.2 Sub-Con Application'!$S$13:$S$1012))","v":0},{"$f":"IFERROR(INDEX('1.2 Sub-Con Application'!$B$13:$U$1012,MATCH(1,('1.2 Sub-Con Application'!$B$13:$B$1012=B165)*('1.2 Sub-Con Application'!$U$13:$U$1012=\"Rejected\"),0),20),\"\")","v":""},{"$f":"IFERROR(INDEX('1.2 Sub-Con Application'!$B$13:$V$1012,MATCH(1,('1.2 Sub-Con Application'!$B$13:$B$1012=B165)*('1.2 Sub-Con Application'!$V$13:$V$1012<>\"\"),0),21),\"\")","v":""}]
[null,154,"","","","","","","","",{"$f":"IF(B166=\"\",\"\",SUMIF('1.2 Sub-Con Application'!$B$13:$B$1012,B166,'1.2 Sub-Con Application'!$P$13:$P$1012))","v":0},{"$f":"IF(B166=\"\",\"\",SUMIF('1.2 Sub-Con Application'!$B$13:$B$1012,B166,'1.2 Sub-Con Application'!$R$13:$R$1012))","v":0},{"$f":"IF(B166=\"\",\"\",SUMIF('1.2 Sub-Con Application'!$B$13:$B$1012,B166,'1.2 Sub-Con Application'!$S$13:$S$1012))","v":0},{"$f":"IFERROR(INDEX('1.2 Sub-Con Application'!$B$13:$U$1012,MATCH(1,('1.2 Sub-Con Application'!$B$13:$B$1012=B166)*('1.2 Sub-Con Application'!$U$13:$U$1012=\"Rejected\"),0),20),\"\")","v":""},{"$f":"IFERROR(INDEX('1.2 Sub-Con Application'!$B$13:$V$1012,MATCH(1,('1.2 Sub-Con Application'!$B$13:$B$1012=B166)*('1.2 Sub-Con Application'!$V$13:$V$1012<>\"\"),0),21),\"\")","v":""}]
[null,155,"","","","","","","","",{"$f":"IF(B167=\"\",\"\",SUMIF('1.2 Sub-Con Application'!$B$13:$B$1012,B167,'1.2 Sub-Con Application'!$P$13:$P$1012))","v":0},{"$f":"IF(B167=\"\",\"\",SUMIF('1.2 Sub-Con Application'!$B$13:$B$1012,B167,'1.2 Sub-Con Application'!$R$13:$R$1012))","v":0},{"$f":"IF(B167=\"\",\"\",SUMIF('1.2 Sub-Con Application'!$B$13:$B$1012,B167,'1.2 Sub-Con Application'!$S$13:$S$1012))","v":0},{"$f":"IFERROR(INDEX('1.2 Sub-Con Application'!$B$13:$U$1012,MATCH(1,('1.2 Sub-Con Application'!$B$13:$B$1012=B167)*('1.2 Sub-Con Application'!$U$13:$U$1012=\"Rejected\"),0),20),\"\")","v":""},{"$f":"IFERROR(INDEX('1.2 Sub-Con Application'!$B$13:$V$1012,MATCH(1,('1.2 Sub-Con Application'!$B$13:$B$1012=B167)*('1.2 Sub-Con Application'!$V$13:$V$1012<>\"\"),0),21),\"\")","v":""}]
[null,156,"","","","","","","","",{"$f":"IF(B168=\"\",\"\",SUMIF('1.2 Sub-Con Application'!$B$13:$B$1012,B168,'1.2 Sub-Con Application'!$P$13:$P$1012))","v":0},{"$f":"IF(B168=\"\",\"\",SUMIF('1.2 Sub-Con Application'!$B$13:$B$1012,B168,'1.2 Sub-Con Application'!$R$13:$R$1012))","v":0},{"$f":"IF(B168=\"\",\"\",SUMIF('1.2 Sub-Con Application'!$B$13:$B$1012,B168,'1.2 Sub-Con Application'!$S$13:$S$1012))","v":0},{"$f":"IFERROR(INDEX('1.2 Sub-Con Application'!$B$13:$U$1012,MATCH(1,('1.2 Sub-Con Application'!$B$13:$B$1012=B168)*('1.2 Sub-Con Application'!$U$13:$U$1012=\"Rejected\"),0),20),\"\")","v":""},{"$f":"IFERROR(INDEX('1.2 Sub-Con Application'!$B$13:$V$1012,MATCH(1,('1.2 Sub-Con Application'!$B$13:$B$1012=B168)*('1.2 Sub-Con Application'!$V$13:$V$1012<>\"\"),0),21),\"\")","v":""}]
[null,157,"","","","","","","","",{"$f":"IF(B169=\"\",\"\",SUMIF('1.2 Sub-Con Application'!$B$13:$B$1012,B169,'1.2 Sub-Con Application'!$P$13:$P$1012))","v":0},{"$f":"IF(B169=\"\",\"\",SUMIF('1.2 Sub-Con Application'!$B$13:$B$1012,B169,'1.2 Sub-Con Application'!$R$13:$R$1012))","v":0},{"$f":"IF(B169=\"\",\"\",SUMIF('1.2 Sub-Con Application'!$B$13:$B$1012,B169,'1.2 Sub-Con Application'!$S$13:$S$1012))","v":0},{"$f":"IFERROR(INDEX('1.2 Sub-Con Application'!$B$13:$U$1012,MATCH(1,('1.2 Sub-Con Application'!$B$13:$B$1012=B169)*('1.2 Sub-Con Application'!$U$13:$U$1012=\"Rejected\"),0),20),\"\")","v":""},{"$f":"IFERROR(INDEX('1.2 Sub-Con Application'!$B$13:$V$1012,MATCH(1,('1.2 Sub-Con Application'!$B$13:$B$1012=B169)*('1.2 Sub-Con Application'!$V$13:$V$1012<>\"\"),0),21),\"\")","v":""}]
[null,158,"","","","","","","","",{"$f":"IF(B170=\"\",\"\",SUMIF('1.2 Sub-Con Application'!$B$13:$B$1012,B170,'1.2 Sub-Con Application'!$P$13:$P$1012))","v":0},{"$f":"IF(B170=\"\",\"\",SUMIF('1.2 Sub-Con Application'!$B$13:$B$1012,B170,'1.2 Sub-Con Application'!$R$13:$R$1012))","v":0},{"$f":"IF(B170=\"\",\"\",SUMIF('1.2 Sub-Con Application'!$B$13:$B$1012,B170,'1.2 Sub-Con Application'!$S$13:$S$1012))","v":0},{"$f":"IFERROR(INDEX('1.2 Sub-Con Application'!$B$13:$U$1012,MATCH(1,('1.2 Sub-Con Application'!$B$13:$B$1012=B170)*('1.2 Sub-Con Application'!$U$13:$U$1012=\"Rejected\"),0),20),\"\")","v":""},{"$f":"IFERROR(INDEX('1.2 Sub-Con Application'!$B$13:$V$1012,MATCH(1,('1.2 Sub-Con Application'!$B$13:$B$1012=B170)*('1.2 Sub-Con Application'!$V$13:$V$1012<>\"\"),0),21),\"\")","v":""}]
[null,159,"","","","","","","","",{"$f":"IF(B171=\"\",\"\",SUMIF('1.2 Sub-Con Application'!$B$13:$B$1012,B171,'1.2 Sub-Con Application'!$P$13:$P$1012))","v":0},{"$f":"IF(B171=\"\",\"\",SUMIF('1.2 Sub-Con Application'!$B$13:$B$1012,B171,'1.2 Sub-Con Application'!$R$13:$R$1012))","v":0},{"$f":"IF(B171=\"\",\"\",SUMIF('1.2 Sub-Con Application'!$B$13:$B$1012,B171,'1.2 Sub-Con Application'!$S$13:$S$1012))","v":0},{"$f":"IFERROR(INDEX('1.2 Sub-Con Application'!$B$13:$U$1012,MATCH(1,('1.2 Sub-Con Application'!$B$13:$B$1012=B171)*('1.2 Sub-Con Application'!$U$13:$U$1012=\"Rejected\"),0),20),\"\")","v":""},{"$f":"IFERROR(INDEX('1.2 Sub-Con Application'!$B$13:$V$1012,MATCH(1,('1.2 Sub-Con Application'!$B$13:$B$1012=B171)*('1.2 Sub-Con Application'!$V$13:$V$1012<>\"\"),0),21),\"\")","v":""}]
[null,160,"","","","","","","","",{"$f":"IF(B172=\"\",\"\",SUMIF('1.2 Sub-Con Application'!$B$13:$B$1012,B172,'1.2 Sub-Con Application'!$P$13:$P$1012))","v":0},{"$f":"IF(B172=\"\",\"\",SUMIF('1.2 Sub-Con Application'!$B$13:$B$1012,B172,'1.2 Sub-Con Application'!$R$13:$R$1012))","v":0},{"$f":"IF(B172=\"\",\"\",SUMIF('1.2 Sub-Con Application'!$B$13:$B$1012,B172,'1.2 Sub-Con Application'!$S$13:$S$1012))","v":0},{"$f":"IFERROR(INDEX('1.2 Sub-Con Application'!$B$13:$U$1012,MATCH(1,('1.2 Sub-Con Application'!$B$13:$B$1012=B172)*('1.2 Sub-Con Application'!$U$13:$U$1012=\"Rejected\"),0),20),\"\")","v":""},{"$f":"IFERROR(INDEX('1.2 Sub-Con Application'!$B$13:$V$1012,MATCH(1,('1.2 Sub-Con Application'!$B$13:$B$1012=B172)*('1.2 Sub-Con Application'!$V$13:$V$1012<>\"\"),0),21),\"\")","v":""}]
[null,161,{"$f":"IFERROR(INDEX(table_subconApp,MATCH($B173,row_subconApp,0),MATCH(C$12,col_subconApp,0)),\"\")","v":""},"","","","","","","",{"$f":"IF(B173=\"\",\"\",SUMIF('1.2 Sub-Con Application'!$B$13:$B$1012,B173,'1.2 Sub-Con Application'!$P$13:$P$1012))","v":0},{"$f":"IF(B173=\"\",\"\",SUMIF('1.2 Sub-Con Application'!$B$13:$B$1012,B173,'1.2 Sub-Con Application'!$R$13:$R$1012))","v":0},{"$f":"IF(B173=\"\",\"\",SUMIF('1.2 Sub-Con Application'!$B$13:$B$1012,B173,'1.2 Sub-Con Application'!$S$13:$S$1012))","v":0},{"$f":"IFERROR(INDEX('1.2 Sub-Con Application'!$B$13:$U$1012,MATCH(1,('1.2 Sub-Con Application'!$B$13:$B$1012=B173)*('1.2 Sub-Con Application'!$U$13:$U$1012=\"Rejected\"),0),20),\"\")","v":""},{"$f":"IFERROR(INDEX('1.2 Sub-Con Application'!$B$13:$V$1012,MATCH(1,('1.2 Sub-Con Application'!$B$13:$B$1012=B173)*('1.2 Sub-Con Application'!$V$13:$V$1012<>\"\"),0),21),\"\")","v":""}]
[null,162,"","","","","","","","",{"$f":"IF(B174=\"\",\"\",SUMIF('1.2 Sub-Con Application'!$B$13:$B$1012,B174,'1.2 Sub-Con Application'!$P$13:$P$1012))","v":0},{"$f":"IF(B174=\"\",\"\",SUMIF('1.2 Sub-Con Application'!$B$13:$B$1012,B174,'1.2 Sub-Con Application'!$R$13:$R$1012))","v":0},{"$f":"IF(B174=\"\",\"\",SUMIF('1.2 Sub-Con Application'!$B$13:$B$1012,B174,'1.2 Sub-Con Application'!$S$13:$S$1012))","v":0},{"$f":"IFERROR(INDEX('1.2 Sub-Con Application'!$B$13:$U$1012,MATCH(1,('1.2 Sub-Con Application'!$B$13:$B$1012=B174)*('1.2 Sub-Con Application'!$U$13:$U$1012=\"Rejected\"),0),20),\"\")","v":""},{"$f":"IFERROR(INDEX('1.2 Sub-Con Application'!$B$13:$V$1012,MATCH(1,('1.2 Sub-Con Application'!$B$13:$B$1012=B174)*('1.2 Sub-Con Application'!$V$13:$V$1012<>\"\"),0),21),\"\")","v":""}]
[null,163,"","","","","","","","",{"$f":"IF(B175=\"\",\"\",SUMIF('1.2 Sub-Con Application'!$B$13:$B$1012,B175,'1.2 Sub-Con Application'!$P$13:$P$1012))","v":0},{"$f":"IF(B175=\"\",\"\",SUMIF('1.2 Sub-Con Application'!$B$13:$B$1012,B175,'1.2 Sub-Con Application'!$R$13:$R$1012))","v":0},{"$f":"IF(B175=\"\",\"\",SUMIF('1.2 Sub-Con Application'!$B$13:$B$1012,B175,'1.2 Sub-Con Application'!$S$13:$S$1012))","v":0},{"$f":"IFERROR(INDEX('1.2 Sub-Con Application'!$B$13:$U$1012,MATCH(1,('1.2 Sub-Con Application'!$B$13:$B$1012=B175)*('1.2 Sub-Con Application'!$U$13:$U$1012=\"Rejected\"),0),20),\"\")","v":""},{"$f":"IFERROR(INDEX('1.2 Sub-Con Application'!$B$13:$V$1012,MATCH(1,('1.2 Sub-Con Application'!$B$13:$B$1012=B175)*('1.2 Sub-Con Application'!$V$13:$V$1012<>\"\"),0),21),\"\")","v":""}]
[null,164,"","","","","","","","",{"$f":"IF(B176=\"\",\"\",SUMIF('1.2 Sub-Con Application'!$B$13:$B$1012,B176,'1.2 Sub-Con Application'!$P$13:$P$1012))","v":0},{"$f":"IF(B176=\"\",\"\",SUMIF('1.2 Sub-Con Application'!$B$13:$B$1012,B176,'1.2 Sub-Con Application'!$R$13:$R$1012))","v":0},{"$f":"IF(B176=\"\",\"\",SUMIF('1.2 Sub-Con Application'!$B$13:$B$1012,B176,'1.2 Sub-Con Application'!$S$13:$S$1012))","v":0},{"$f":"IFERROR(INDEX('1.2 Sub-Con Application'!$B$13:$U$1012,MATCH(1,('1.2 Sub-Con Application'!$B$13:$B$1012=B176)*('1.2 Sub-Con Application'!$U$13:$U$1012=\"Rejected\"),0),20),\"\")","v":""},{"$f":"IFERROR(INDEX('1.2 Sub-Con Application'!$B$13:$V$1012,MATCH(1,('1.2 Sub-Con Application'!$B$13:$B$1012=B176)*('1.2 Sub-Con Application'!$V$13:$V$1012<>\"\"),0),21),\"\")","v":""}]
[null,165,"","","","","","","","",{"$f":"IF(B177=\"\",\"\",SUMIF('1.2 Sub-Con Application'!$B$13:$B$1012,B177,'1.2 Sub-Con Application'!$P$13:$P$1012))","v":0},{"$f":"IF(B177=\"\",\"\",SUMIF('1.2 Sub-Con Application'!$B$13:$B$1012,B177,'1.2 Sub-Con Application'!$R$13:$R$1012))","v":0},{"$f":"IF(B177=\"\",\"\",SUMIF('1.2 Sub-Con Application'!$B$13:$B$1012,B177,'1.2 Sub-Con Application'!$S$13:$S$1012))","v":0},{"$f":"IFERROR(INDEX('1.2 Sub-Con Application'!$B$13:$U$1012,MATCH(1,('1.2 Sub-Con Application'!$B$13:$B$1012=B177)*('1.2 Sub-Con Application'!$U$13:$U$1012=\"Rejected\"),0),20),\"\")","v":""},{"$f":"IFERROR(INDEX('1.2 Sub-Con Application'!$B$13:$V$1012,MATCH(1,('1.2 Sub-Con Application'!$B$13:$B$1012=B177)*('1.2 Sub-Con Application'!$V$13:$V$1012<>\"\"),0),21),\"\")","v":""}]
[null,166,"","","","","","","","",{"$f":"IF(B178=\"\",\"\",SUMIF('1.2 Sub-Con Application'!$B$13:$B$1012,B178,'1.2 Sub-Con Application'!$P$13:$P$1012))","v":0},{"$f":"IF(B178=\"\",\"\",SUMIF('1.2 Sub-Con Application'!$B$13:$B$1012,B178,'1.2 Sub-Con Application'!$R$13:$R$1012))","v":0},{"$f":"IF(B178=\"\",\"\",SUMIF('1.2 Sub-Con Application'!$B$13:$B$1012,B178,'1.2 Sub-Con Application'!$S$13:$S$1012))","v":0},{"$f":"IFERROR(INDEX('1.2 Sub-Con Application'!$B$13:$U$1012,MATCH(1,('1.2 Sub-Con Application'!$B$13:$B$1012=B178)*('1.2 Sub-Con Application'!$U$13:$U$1012=\"Rejected\"),0),20),\"\")","v":""},{"$f":"IFERROR(INDEX('1.2 Sub-Con Application'!$B$13:$V$1012,MATCH(1,('1.2 Sub-Con Application'!$B$13:$B$1012=B178)*('1.2 Sub-Con Application'!$V$13:$V$1012<>\"\"),0),21),\"\")","v":""}]
[null,167,"","","","","","","","",{"$f":"IF(B179=\"\",\"\",SUMIF('1.2 Sub-Con Application'!$B$13:$B$1012,B179,'1.2 Sub-Con Application'!$P$13:$P$1012))","v":0},{"$f":"IF(B179=\"\",\"\",SUMIF('1.2 Sub-Con Application'!$B$13:$B$1012,B179,'1.2 Sub-Con Application'!$R$13:$R$1012))","v":0},{"$f":"IF(B179=\"\",\"\",SUMIF('1.2 Sub-Con Application'!$B$13:$B$1012,B179,'1.2 Sub-Con Application'!$S$13:$S$1012))","v":0},{"$f":"IFERROR(INDEX('1.2 Sub-Con Application'!$B$13:$U$1012,MATCH(1,('1.2 Sub-Con Application'!$B$13:$B$1012=B179)*('1.2 Sub-Con Application'!$U$13:$U$1012=\"Rejected\"),0),20),\"\")","v":""},{"$f":"IFERROR(INDEX('1.2 Sub-Con Application'!$B$13:$V$1012,MATCH(1,('1.2 Sub-Con Application'!$B$13:$B$1012=B179)*('1.2 Sub-Con Application'!$V$13:$V$1012<>\"\"),0),21),\"\")","v":""}]
[null,168,"","","","","","","","",{"$f":"IF(B180=\"\",\"\",SUMIF('1.2 Sub-Con Application'!$B$13:$B$1012,B180,'1.2 Sub-Con Application'!$P$13:$P$1012))","v":0},{"$f":"IF(B180=\"\",\"\",SUMIF('1.2 Sub-Con Application'!$B$13:$B$1012,B180,'1.2 Sub-Con Application'!$R$13:$R$1012))","v":0},{"$f":"IF(B180=\"\",\"\",SUMIF('1.2 Sub-Con Application'!$B$13:$B$1012,B180,'1.2 Sub-Con Application'!$S$13:$S$1012))","v":0},{"$f":"IFERROR(INDEX('1.2 Sub-Con Application'!$B$13:$U$1012,MATCH(1,('1.2 Sub-Con Application'!$B$13:$B$1012=B180)*('1.2 Sub-Con Application'!$U$13:$U$1012=\"Rejected\"),0),20),\"\")","v":""},{"$f":"IFERROR(INDEX('1.2 Sub-Con Application'!$B$13:$V$1012,MATCH(1,('1.2 Sub-Con Application'!$B$13:$B$1012=B180)*('1.2 Sub-Con Application'!$V$13:$V$1012<>\"\"),0),21),\"\")","v":""}]
[null,169,"","","","","","","","",{"$f":"IF(B181=\"\",\"\",SUMIF('1.2 Sub-Con Application'!$B$13:$B$1012,B181,'1.2 Sub-Con Application'!$P$13:$P$1012))","v":0},{"$f":"IF(B181=\"\",\"\",SUMIF('1.2 Sub-Con Application'!$B$13:$B$1012,B181,'1.2 Sub-Con Application'!$R$13:$R$1012))","v":0},{"$f":"IF(B181=\"\",\"\",SUMIF('1.2 Sub-Con Application'!$B$13:$B$1012,B181,'1.2 Sub-Con Application'!$S$13:$S$1012))","v":0},{"$f":"IFERROR(INDEX('1.2 Sub-Con Application'!$B$13:$U$1012,MATCH(1,('1.2 Sub-Con Application'!$B$13:$B$1012=B181)*('1.2 Sub-Con Application'!$U$13:$U$1012=\"Rejected\"),0),20),\"\")","v":""},{"$f":"IFERROR(INDEX('1.2 Sub-Con Application'!$B$13:$V$1012,MATCH(1,('1.2 Sub-Con Application'!$B$13:$B$1012=B181)*('1.2 Sub-Con Application'!$V$13:$V$1012<>\"\"),0),21),\"\")","v":""}]
[null,170,"","","","","","","","",{"$f":"IF(B182=\"\",\"\",SUMIF('1.2 Sub-Con Application'!$B$13:$B$1012,B182,'1.2 Sub-Con Application'!$P$13:$P$1012))","v":0},{"$f":"IF(B182=\"\",\"\",SUMIF('1.2 Sub-Con Application'!$B$13:$B$1012,B182,'1.2 Sub-Con Application'!$R$13:$R$1012))","v":0},{"$f":"IF(B182=\"\",\"\",SUMIF('1.2 Sub-Con Application'!$B$13:$B$1012,B182,'1.2 Sub-Con Application'!$S$13:$S$1012))","v":0},{"$f":"IFERROR(INDEX('1.2 Sub-Con Application'!$B$13:$U$1012,MATCH(1,('1.2 Sub-Con Application'!$B$13:$B$1012=B182)*('1.2 Sub-Con Application'!$U$13:$U$1012=\"Rejected\"),0),20),\"\")","v":""},{"$f":"IFERROR(INDEX('1.2 Sub-Con Application'!$B$13:$V$1012,MATCH(1,('1.2 Sub-Con Application'!$B$13:$B$1012=B182)*('1.2 Sub-Con Application'!$V$13:$V$1012<>\"\"),0),21),\"\")","v":""}]
[null,171,{"$f":"IFERROR(INDEX(table_subconApp,MATCH($B183,row_subconApp,0),MATCH(C$12,col_subconApp,0)),\"\")","v":""},"","","","","","","",{"$f":"IF(B183=\"\",\"\",SUMIF('1.2 Sub-Con Application'!$B$13:$B$1012,B183,'1.2 Sub-Con Application'!$P$13:$P$1012))","v":0},{"$f":"IF(B183=\"\",\"\",SUMIF('1.2 Sub-Con Application'!$B$13:$B$1012,B183,'1.2 Sub-Con Application'!$R$13:$R$1012))","v":0},{"$f":"IF(B183=\"\",\"\",SUMIF('1.2 Sub-Con Application'!$B$13:$B$1012,B183,'1.2 Sub-Con Application'!$S$13:$S$1012))","v":0},{"$f":"IFERROR(INDEX('1.2 Sub-Con Application'!$B$13:$U$1012,MATCH(1,('1.2 Sub-Con Application'!$B$13:$B$1012=B183)*('1.2 Sub-Con Application'!$U$13:$U$1012=\"Rejected\"),0),20),\"\")","v":""},{"$f":"IFERROR(INDEX('1.2 Sub-Con Application'!$B$13:$V$1012,MATCH(1,('1.2 Sub-Con Application'!$B$13:$B$1012=B183)*('1.2 Sub-Con Application'!$V$13:$V$1012<>\"\"),0),21),\"\")","v":""}]
[null,172,"","","","","","","","",{"$f":"IF(B184=\"\",\"\",SUMIF('1.2 Sub-Con Application'!$B$13:$B$1012,B184,'1.2 Sub-Con Application'!$P$13:$P$1012))","v":0},{"$f":"IF(B184=\"\",\"\",SUMIF('1.2 Sub-Con Application'!$B$13:$B$1012,B184,'1.2 Sub-Con Application'!$R$13:$R$1012))","v":0},{"$f":"IF(B184=\"\",\"\",SUMIF('1.2 Sub-Con Application'!$B$13:$B$1012,B184,'1.2 Sub-Con Application'!$S$13:$S$1012))","v":0},{"$f":"IFERROR(INDEX('1.2 Sub-Con Application'!$B$13:$U$1012,MATCH(1,('1.2 Sub-Con Application'!$B$13:$B$1012=B184)*('1.2 Sub-Con Application'!$U$13:$U$1012=\"Rejected\"),0),20),\"\")","v":""},{"$f":"IFERROR(INDEX('1.2 Sub-Con Application'!$B$13:$V$1012,MATCH(1,('1.2 Sub-Con Application'!$B$13:$B$1012=B184)*('1.2 Sub-Con Application'!$V$13:$V$1012<>\"\"),0),21),\"\")","v":""}]
[null,173,"","","","","","","","",{"$f":"IF(B185=\"\",\"\",SUMIF('1.2 Sub-Con Application'!$B$13:$B$1012,B185,'1.2 Sub-Con Application'!$P$13:$P$1012))","v":0},{"$f":"IF(B185=\"\",\"\",SUMIF('1.2 Sub-Con Application'!$B$13:$B$1012,B185,'1.2 Sub-Con Application'!$R$13:$R$1012))","v":0},{"$f":"IF(B185=\"\",\"\",SUMIF('1.2 Sub-Con Application'!$B$13:$B$1012,B185,'1.2 Sub-Con Application'!$S$13:$S$1012))","v":0},{"$f":"IFERROR(INDEX('1.2 Sub-Con Application'!$B$13:$U$1012,MATCH(1,('1.2 Sub-Con Application'!$B$13:$B$1012=B185)*('1.2 Sub-Con Application'!$U$13:$U$1012=\"Rejected\"),0),20),\"\")","v":""},{"$f":"IFERROR(INDEX('1.2 Sub-Con Application'!$B$13:$V$1012,MATCH(1,('1.2 Sub-Con Application'!$B$13:$B$1012=B185)*('1.2 Sub-Con Application'!$V$13:$V$1012<>\"\"),0),21),\"\")","v":""}]
[null,174,"","","","","","","","",{"$f":"IF(B186=\"\",\"\",SUMIF('1.2 Sub-Con Application'!$B$13:$B$1012,B186,'1.2 Sub-Con Application'!$P$13:$P$1012))","v":0},{"$f":"IF(B186=\"\",\"\",SUMIF('1.2 Sub-Con Application'!$B$13:$B$1012,B186,'1.2 Sub-Con Application'!$R$13:$R$1012))","v":0},{"$f":"IF(B186=\"\",\"\",SUMIF('1.2 Sub-Con Application'!$B$13:$B$1012,B186,'1.2 Sub-Con Application'!$S$13:$S$1012))","v":0},{"$f":"IFERROR(INDEX('1.2 Sub-Con Application'!$B$13:$U$1012,MATCH(1,('1.2 Sub-Con Application'!$B$13:$B$1012=B186)*('1.2 Sub-Con Application'!$U$13:$U$1012=\"Rejected\"),0),20),\"\")","v":""},{"$f":"IFERROR(INDEX('1.2 Sub-Con Application'!$B$13:$V$1012,MATCH(1,('1.2 Sub-Con Application'!$B$13:$B$1012=B186)*('1.2 Sub-Con Application'!$V$13:$V$1012<>\"\"),0),21),\"\")","v":""}]
[null,175,"","","","","","","","",{"$f":"IF(B187=\"\",\"\",SUMIF('1.2 Sub-Con Application'!$B$13:$B$1012,B187,'1.2 Sub-Con Application'!$P$13:$P$1012))","v":0},{"$f":"IF(B187=\"\",\"\",SUMIF('1.2 Sub-Con Application'!$B$13:$B$1012,B187,'1.2 Sub-Con Application'!$R$13:$R$1012))","v":0},{"$f":"IF(B187=\"\",\"\",SUMIF('1.2 Sub-Con Application'!$B$13:$B$1012,B187,'1.2 Sub-Con Application'!$S$13:$S$1012))","v":0},{"$f":"IFERROR(INDEX('1.2 Sub-Con Application'!$B$13:$U$1012,MATCH(1,('1.2 Sub-Con Application'!$B$13:$B$1012=B187)*('1.2 Sub-Con Application'!$U$13:$U$1012=\"Rejected\"),0),20),\"\")","v":""},{"$f":"IFERROR(INDEX('1.2 Sub-Con Application'!$B$13:$V$1012,MATCH(1,('1.2 Sub-Con Application'!$B$13:$B$1012=B187)*('1.2 Sub-Con Application'!$V$13:$V$1012<>\"\"),0),21),\"\")","v":""}]
[null,176,"","","","","","","","",{"$f":"IF(B188=\"\",\"\",SUMIF('1.2 Sub-Con Application'!$B$13:$B$1012,B188,'1.2 Sub-Con Application'!$P$13:$P$1012))","v":0},{"$f":"IF(B188=\"\",\"\",SUMIF('1.2 Sub-Con Application'!$B$13:$B$1012,B188,'1.2 Sub-Con Application'!$R$13:$R$1012))","v":0},{"$f":"IF(B188=\"\",\"\",SUMIF('1.2 Sub-Con Application'!$B$13:$B$1012,B188,'1.2 Sub-Con Application'!$S$13:$S$1012))","v":0},{"$f":"IFERROR(INDEX('1.2 Sub-Con Application'!$B$13:$U$1012,MATCH(1,('1.2 Sub-Con Application'!$B$13:$B$1012=B188)*('1.2 Sub-Con Application'!$U$13:$U$1012=\"Rejected\"),0),20),\"\")","v":""},{"$f":"IFERROR(INDEX('1.2 Sub-Con Application'!$B$13:$V$1012,MATCH(1,('1.2 Sub-Con Application'!$B$13:$B$1012=B188)*('1.2 Sub-Con Application'!$V$13:$V$1012<>\"\"),0),21),\"\")","v":""}]
[null,177,"","","","","","","","",{"$f":"IF(B189=\"\",\"\",SUMIF('1.2 Sub-Con Application'!$B$13:$B$1012,B189,'1.2 Sub-Con Application'!$P$13:$P$1012))","v":0},{"$f":"IF(B189=\"\",\"\",SUMIF('1.2 Sub-Con Application'!$B$13:$B$1012,B189,'1.2 Sub-Con Application'!$R$13:$R$1012))","v":0},{"$f":"IF(B189=\"\",\"\",SUMIF('1.2 Sub-Con Application'!$B$13:$B$1012,B189,'1.2 Sub-Con Application'!$S$13:$S$1012))","v":0},{"$f":"IFERROR(INDEX('1.2 Sub-Con Application'!$B$13:$U$1012,MATCH(1,('1.2 Sub-Con Application'!$B$13:$B$1012=B189)*('1.2 Sub-Con Application'!$U$13:$U$1012=\"Rejected\"),0),20),\"\")","v":""},{"$f":"IFERROR(INDEX('1.2 Sub-Con Application'!$B$13:$V$1012,MATCH(1,('1.2 Sub-Con Application'!$B$13:$B$1012=B189)*('1.2 Sub-Con Application'!$V$13:$V$1012<>\"\"),0),21),\"\")","v":""}]
[null,178,"","","","","","","","",{"$f":"IF(B190=\"\",\"\",SUMIF('1.2 Sub-Con Application'!$B$13:$B$1012,B190,'1.2 Sub-Con Application'!$P$13:$P$1012))","v":0},{"$f":"IF(B190=\"\",\"\",SUMIF('1.2 Sub-Con Application'!$B$13:$B$1012,B190,'1.2 Sub-Con Application'!$R$13:$R$1012))","v":0},{"$f":"IF(B190=\"\",\"\",SUMIF('1.2 Sub-Con Application'!$B$13:$B$1012,B190,'1.2 Sub-Con Application'!$S$13:$S$1012))","v":0},{"$f":"IFERROR(INDEX('1.2 Sub-Con Application'!$B$13:$U$1012,MATCH(1,('1.2 Sub-Con Application'!$B$13:$B$1012=B190)*('1.2 Sub-Con Application'!$U$13:$U$1012=\"Rejected\"),0),20),\"\")","v":""},{"$f":"IFERROR(INDEX('1.2 Sub-Con Application'!$B$13:$V$1012,MATCH(1,('1.2 Sub-Con Application'!$B$13:$B$1012=B190)*('1.2 Sub-Con Application'!$V$13:$V$1012<>\"\"),0),21),\"\")","v":""}]
[null,179,"","","","","","","","",{"$f":"IF(B191=\"\",\"\",SUMIF('1.2 Sub-Con Application'!$B$13:$B$1012,B191,'1.2 Sub-Con Application'!$P$13:$P$1012))","v":0},{"$f":"IF(B191=\"\",\"\",SUMIF('1.2 Sub-Con Application'!$B$13:$B$1012,B191,'1.2 Sub-Con Application'!$R$13:$R$1012))","v":0},{"$f":"IF(B191=\"\",\"\",SUMIF('1.2 Sub-Con Application'!$B$13:$B$1012,B191,'1.2 Sub-Con Application'!$S$13:$S$1012))","v":0},{"$f":"IFERROR(INDEX('1.2 Sub-Con Application'!$B$13:$U$1012,MATCH(1,('1.2 Sub-Con Application'!$B$13:$B$1012=B191)*('1.2 Sub-Con Application'!$U$13:$U$1012=\"Rejected\"),0),20),\"\")","v":""},{"$f":"IFERROR(INDEX('1.2 Sub-Con Application'!$B$13:$V$1012,MATCH(1,('1.2 Sub-Con Application'!$B$13:$B$1012=B191)*('1.2 Sub-Con Application'!$V$13:$V$1012<>\"\"),0),21),\"\")","v":""}]
[null,180,"","","","","","","","",{"$f":"IF(B192=\"\",\"\",SUMIF('1.2 Sub-Con Application'!$B$13:$B$1012,B192,'1.2 Sub-Con Application'!$P$13:$P$1012))","v":0},{"$f":"IF(B192=\"\",\"\",SUMIF('1.2 Sub-Con Application'!$B$13:$B$1012,B192,'1.2 Sub-Con Application'!$R$13:$R$1012))","v":0},{"$f":"IF(B192=\"\",\"\",SUMIF('1.2 Sub-Con Application'!$B$13:$B$1012,B192,'1.2 Sub-Con Application'!$S$13:$S$1012))","v":0},{"$f":"IFERROR(INDEX('1.2 Sub-Con Application'!$B$13:$U$1012,MATCH(1,('1.2 Sub-Con Application'!$B$13:$B$1012=B192)*('1.2 Sub-Con Application'!$U$13:$U$1012=\"Rejected\"),0),20),\"\")","v":""},{"$f":"IFERROR(INDEX('1.2 Sub-Con Application'!$B$13:$V$1012,MATCH(1,('1.2 Sub-Con Application'!$B$13:$B$1012=B192)*('1.2 Sub-Con Application'!$V$13:$V$1012<>\"\"),0),21),\"\")","v":""}]
[null,181,{"$f":"IFERROR(INDEX(table_subconApp,MATCH($B193,row_subconApp,0),MATCH(C$12,col_subconApp,0)),\"\")","v":""},"","","","","","","",{"$f":"IF(B193=\"\",\"\",SUMIF('1.2 Sub-Con Application'!$B$13:$B$1012,B193,'1.2 Sub-Con Application'!$P$13:$P$1012))","v":0},{"$f":"IF(B193=\"\",\"\",SUMIF('1.2 Sub-Con Application'!$B$13:$B$1012,B193,'1.2 Sub-Con Application'!$R$13:$R$1012))","v":0},{"$f":"IF(B193=\"\",\"\",SUMIF('1.2 Sub-Con Application'!$B$13:$B$1012,B193,'1.2 Sub-Con Application'!$S$13:$S$1012))","v":0},{"$f":"IFERROR(INDEX('1.2 Sub-Con Application'!$B$13:$U$1012,MATCH(1,('1.2 Sub-Con Application'!$B$13:$B$1012=B193)*('1.2 Sub-Con Application'!$U$13:$U$1012=\"Rejected\"),0),20),\"\")","v":""},{"$f":"IFERROR(INDEX('1.2 Sub-Con Application'!$B$13:$V$1012,MATCH(1,('1.2 Sub-Con Application'!$B$13:$B$1012=B193)*('1.2 Sub-Con Application'!$V$13:$V$1012<>\"\"),0),21),\"\")","v":""}]
[null,182,"","","","","","","","",{"$f":"IF(B194=\"\",\"\",SUMIF('1.2 Sub-Con Application'!$B$13:$B$1012,B194,'1.2 Sub-Con Application'!$P$13:$P$1012))","v":0},{"$f":"IF(B194=\"\",\"\",SUMIF('1.2 Sub-Con Application'!$B$13:$B$1012,B194,'1.2 Sub-Con Application'!$R$13:$R$1012))","v":0},{"$f":"IF(B194=\"\",\"\",SUMIF('1.2 Sub-Con Application'!$B$13:$B$1012,B194,'1.2 Sub-Con Application'!$S$13:$S$1012))","v":0},{"$f":"IFERROR(INDEX('1.2 Sub-Con Application'!$B$13:$U$1012,MATCH(1,('1.2 Sub-Con Application'!$B$13:$B$1012=B194)*('1.2 Sub-Con Application'!$U$13:$U$1012=\"Rejected\"),0),20),\"\")","v":""},{"$f":"IFERROR(INDEX('1.2 Sub-Con Application'!$B$13:$V$1012,MATCH(1,('1.2 Sub-Con Application'!$B$13:$B$1012=B194)*('1.2 Sub-Con Application'!$V$13:$V$1012<>\"\"),0),21),\"\")","v":""}]
[null,183,"","","","","","","","",{"$f":"IF(B195=\"\",\"\",SUMIF('1.2 Sub-Con Application'!$B$13:$B$1012,B195,'1.2 Sub-Con Application'!$P$13:$P$1012))","v":0},{"$f":"IF(B195=\"\",\"\",SUMIF('1.2 Sub-Con Application'!$B$13:$B$1012,B195,'1.2 Sub-Con Application'!$R$13:$R$1012))","v":0},{"$f":"IF(B195=\"\",\"\",SUMIF('1.2 Sub-Con Application'!$B$13:$B$1012,B195,'1.2 Sub-Con Application'!$S$13:$S$1012))","v":0},{"$f":"IFERROR(INDEX('1.2 Sub-Con Application'!$B$13:$U$1012,MATCH(1,('1.2 Sub-Con Application'!$B$13:$B$1012=B195)*('1.2 Sub-Con Application'!$U$13:$U$1012=\"Rejected\"),0),20),\"\")","v":""},{"$f":"IFERROR(INDEX('1.2 Sub-Con Application'!$B$13:$V$1012,MATCH(1,('1.2 Sub-Con Application'!$B$13:$B$1012=B195)*('1.2 Sub-Con Application'!$V$13:$V$1012<>\"\"),0),21),\"\")","v":""}]
[null,184,"","","","","","","","",{"$f":"IF(B196=\"\",\"\",SUMIF('1.2 Sub-Con Application'!$B$13:$B$1012,B196,'1.2 Sub-Con Application'!$P$13:$P$1012))","v":0},{"$f":"IF(B196=\"\",\"\",SUMIF('1.2 Sub-Con Application'!$B$13:$B$1012,B196,'1.2 Sub-Con Application'!$R$13:$R$1012))","v":0},{"$f":"IF(B196=\"\",\"\",SUMIF('1.2 Sub-Con Application'!$B$13:$B$1012,B196,'1.2 Sub-Con Application'!$S$13:$S$1012))","v":0},{"$f":"IFERROR(INDEX('1.2 Sub-Con Application'!$B$13:$U$1012,MATCH(1,('1.2 Sub-Con Application'!$B$13:$B$1012=B196)*('1.2 Sub-Con Application'!$U$13:$U$1012=\"Rejected\"),0),20),\"\")","v":""},{"$f":"IFERROR(INDEX('1.2 Sub-Con Application'!$B$13:$V$1012,MATCH(1,('1.2 Sub-Con Application'!$B$13:$B$1012=B196)*('1.2 Sub-Con Application'!$V$13:$V$1012<>\"\"),0),21),\"\")","v":""}]
[null,185,"","","","","","","","",{"$f":"IF(B197=\"\",\"\",SUMIF('1.2 Sub-Con Application'!$B$13:$B$1012,B197,'1.2 Sub-Con Application'!$P$13:$P$1012))","v":0},{"$f":"IF(B197=\"\",\"\",SUMIF('1.2 Sub-Con Application'!$B$13:$B$1012,B197,'1.2 Sub-Con Application'!$R$13:$R$1012))","v":0},{"$f":"IF(B197=\"\",\"\",SUMIF('1.2 Sub-Con Application'!$B$13:$B$1012,B197,'1.2 Sub-Con Application'!$S$13:$S$1012))","v":0},{"$f":"IFERROR(INDEX('1.2 Sub-Con Application'!$B$13:$U$1012,MATCH(1,('1.2 Sub-Con Application'!$B$13:$B$1012=B197)*('1.2 Sub-Con Application'!$U$13:$U$1012=\"Rejected\"),0),20),\"\")","v":""},{"$f":"IFERROR(INDEX('1.2 Sub-Con Application'!$B$13:$V$1012,MATCH(1,('1.2 Sub-Con Application'!$B$13:$B$1012=B197)*('1.2 Sub-Con Application'!$V$13:$V$1012<>\"\"),0),21),\"\")","v":""}]
[null,186,"","","","","","","","",{"$f":"IF(B198=\"\",\"\",SUMIF('1.2 Sub-Con Application'!$B$13:$B$1012,B198,'1.2 Sub-Con Application'!$P$13:$P$1012))","v":0},{"$f":"IF(B198=\"\",\"\",SUMIF('1.2 Sub-Con Application'!$B$13:$B$1012,B198,'1.2 Sub-Con Application'!$R$13:$R$1012))","v":0},{"$f":"IF(B198=\"\",\"\",SUMIF('1.2 Sub-Con Application'!$B$13:$B$1012,B198,'1.2 Sub-Con Application'!$S$13:$S$1012))","v":0},{"$f":"IFERROR(INDEX('1.2 Sub-Con Application'!$B$13:$U$1012,MATCH(1,('1.2 Sub-Con Application'!$B$13:$B$1012=B198)*('1.2 Sub-Con Application'!$U$13:$U$1012=\"Rejected\"),0),20),\"\")","v":""},{"$f":"IFERROR(INDEX('1.2 Sub-Con Application'!$B$13:$V$1012,MATCH(1,('1.2 Sub-Con Application'!$B$13:$B$1012=B198)*('1.2 Sub-Con Application'!$V$13:$V$1012<>\"\"),0),21),\"\")","v":""}]
[null,187,"","","","","","","","",{"$f":"IF(B199=\"\",\"\",SUMIF('1.2 Sub-Con Application'!$B$13:$B$1012,B199,'1.2 Sub-Con Application'!$P$13:$P$1012))","v":0},{"$f":"IF(B199=\"\",\"\",SUMIF('1.2 Sub-Con Application'!$B$13:$B$1012,B199,'1.2 Sub-Con Application'!$R$13:$R$1012))","v":0},{"$f":"IF(B199=\"\",\"\",SUMIF('1.2 Sub-Con Application'!$B$13:$B$1012,B199,'1.2 Sub-Con Application'!$S$13:$S$1012))","v":0},{"$f":"IFERROR(INDEX('1.2 Sub-Con Application'!$B$13:$U$1012,MATCH(1,('1.2 Sub-Con Application'!$B$13:$B$1012=B199)*('1.2 Sub-Con Application'!$U$13:$U$1012=\"Rejected\"),0),20),\"\")","v":""},{"$f":"IFERROR(INDEX('1.2 Sub-Con Application'!$B$13:$V$1012,MATCH(1,('1.2 Sub-Con Application'!$B$13:$B$1012=B199)*('1.2 Sub-Con Application'!$V$13:$V$1012<>\"\"),0),21),\"\")","v":""}]
[null,188,"","","","","","","","",{"$f":"IF(B200=\"\",\"\",SUMIF('1.2 Sub-Con Application'!$B$13:$B$1012,B200,'1.2 Sub-Con Application'!$P$13:$P$1012))","v":0},{"$f":"IF(B200=\"\",\"\",SUMIF('1.2 Sub-Con Application'!$B$13:$B$1012,B200,'1.2 Sub-Con Application'!$R$13:$R$1012))","v":0},{"$f":"IF(B200=\"\",\"\",SUMIF('1.2 Sub-Con Application'!$B$13:$B$1012,B200,'1.2 Sub-Con Application'!$S$13:$S$1012))","v":0},{"$f":"IFERROR(INDEX('1.2 Sub-Con Application'!$B$13:$U$1012,MATCH(1,('1.2 Sub-Con Application'!$B$13:$B$1012=B200)*('1.2 Sub-Con Application'!$U$13:$U$1012=\"Rejected\"),0),20),\"\")","v":""},{"$f":"IFERROR(INDEX('1.2 Sub-Con Application'!$B$13:$V$1012,MATCH(1,('1.2 Sub-Con Application'!$B$13:$B$1012=B200)*('1.2 Sub-Con Application'!$V$13:$V$1012<>\"\"),0),21),\"\")","v":""}]
[null,189,"","","","","","","","",{"$f":"IF(B201=\"\",\"\",SUMIF('1.2 Sub-Con Application'!$B$13:$B$1012,B201,'1.2 Sub-Con Application'!$P$13:$P$1012))","v":0},{"$f":"IF(B201=\"\",\"\",SUMIF('1.2 Sub-Con Application'!$B$13:$B$1012,B201,'1.2 Sub-Con Application'!$R$13:$R$1012))","v":0},{"$f":"IF(B201=\"\",\"\",SUMIF('1.2 Sub-Con Application'!$B$13:$B$1012,B201,'1.2 Sub-Con Application'!$S$13:$S$1012))","v":0},{"$f":"IFERROR(INDEX('1.2 Sub-Con Application'!$B$13:$U$1012,MATCH(1,('1.2 Sub-Con Application'!$B$13:$B$1012=B201)*('1.2 Sub-Con Application'!$U$13:$U$1012=\"Rejected\"),0),20),\"\")","v":""},{"$f":"IFERROR(INDEX('1.2 Sub-Con Application'!$B$13:$V$1012,MATCH(1,('1.2 Sub-Con Application'!$B$13:$B$1012=B201)*('1.2 Sub-Con Application'!$V$13:$V$1012<>\"\"),0),21),\"\")","v":""}]
[null,190,"","","","","","","","",{"$f":"IF(B202=\"\",\"\",SUMIF('1.2 Sub-Con Application'!$B$13:$B$1012,B202,'1.2 Sub-Con Application'!$P$13:$P$1012))","v":0},{"$f":"IF(B202=\"\",\"\",SUMIF('1.2 Sub-Con Application'!$B$13:$B$1012,B202,'1.2 Sub-Con Application'!$R$13:$R$1012))","v":0},{"$f":"IF(B202=\"\",\"\",SUMIF('1.2 Sub-Con Application'!$B$13:$B$1012,B202,'1.2 Sub-Con Application'!$S$13:$S$1012))","v":0},{"$f":"IFERROR(INDEX('1.2 Sub-Con Application'!$B$13:$U$1012,MATCH(1,('1.2 Sub-Con Application'!$B$13:$B$1012=B202)*('1.2 Sub-Con Application'!$U$13:$U$1012=\"Rejected\"),0),20),\"\")","v":""},{"$f":"IFERROR(INDEX('1.2 Sub-Con Application'!$B$13:$V$1012,MATCH(1,('1.2 Sub-Con Application'!$B$13:$B$1012=B202)*('1.2 Sub-Con Application'!$V$13:$V$1012<>\"\"),0),21),\"\")","v":""}]
[null,191,{"$f":"IFERROR(INDEX(table_subconApp,MATCH($B203,row_subconApp,0),MATCH(C$12,col_subconApp,0)),\"\")","v":""},"","","","","","","",{"$f":"IF(B203=\"\",\"\",SUMIF('1.2 Sub-Con Application'!$B$13:$B$1012,B203,'1.2 Sub-Con Application'!$P$13:$P$1012))","v":0},{"$f":"IF(B203=\"\",\"\",SUMIF('1.2 Sub-Con Application'!$B$13:$B$1012,B203,'1.2 Sub-Con Application'!$R$13:$R$1012))","v":0},{"$f":"IF(B203=\"\",\"\",SUMIF('1.2 Sub-Con Application'!$B$13:$B$1012,B203,'1.2 Sub-Con Application'!$S$13:$S$1012))","v":0},{"$f":"IFERROR(INDEX('1.2 Sub-Con Application'!$B$13:$U$1012,MATCH(1,('1.2 Sub-Con Application'!$B$13:$B$1012=B203)*('1.2 Sub-Con Application'!$U$13:$U$1012=\"Rejected\"),0),20),\"\")","v":""},{"$f":"IFERROR(INDEX('1.2 Sub-Con Application'!$B$13:$V$1012,MATCH(1,('1.2 Sub-Con Application'!$B$13:$B$1012=B203)*('1.2 Sub-Con Application'!$V$13:$V$1012<>\"\"),0),21),\"\")","v":""}]
[null,192,"","","","","","","","",{"$f":"IF(B204=\"\",\"\",SUMIF('1.2 Sub-Con Application'!$B$13:$B$1012,B204,'1.2 Sub-Con Application'!$P$13:$P$1012))","v":0},{"$f":"IF(B204=\"\",\"\",SUMIF('1.2 Sub-Con Application'!$B$13:$B$1012,B204,'1.2 Sub-Con Application'!$R$13:$R$1012))","v":0},{"$f":"IF(B204=\"\",\"\",SUMIF('1.2 Sub-Con Application'!$B$13:$B$1012,B204,'1.2 Sub-Con Application'!$S$13:$S$1012))","v":0},{"$f":"IFERROR(INDEX('1.2 Sub-Con Application'!$B$13:$U$1012,MATCH(1,('1.2 Sub-Con Application'!$B$13:$B$1012=B204)*('1.2 Sub-Con Application'!$U$13:$U$1012=\"Rejected\"),0),20),\"\")","v":""},{"$f":"IFERROR(INDEX('1.2 Sub-Con Application'!$B$13:$V$1012,MATCH(1,('1.2 Sub-Con Application'!$B$13:$B$1012=B204)*('1.2 Sub-Con Application'!$V$13:$V$1012<>\"\"),0),21),\"\")","v":""}]
[null,193,"","","","","","","",{"$f":"IFERROR(IF(ISBLANK(INDEX(table_subconApp,MATCH($B205,row_subconApp,0),MATCH(J$12,col_subconApp,0))),\"\",INDEX(table_subconApp,MATCH($B205,row_subconApp,0),MATCH(J$12,col_subconApp,0))),\"\")","v":""},{"$f":"IF(B205=\"\",\"\",SUMIF('1.2 Sub-Con Application'!$B$13:$B$1012,B205,'1.2 Sub-Con Application'!$P$13:$P$1012))","v":0},{"$f":"IF(B205=\"\",\"\",SUMIF('1.2 Sub-Con Application'!$B$13:$B$1012,B205,'1.2 Sub-Con Application'!$R$13:$R$1012))","v":0},{"$f":"IF(B205=\"\",\"\",SUMIF('1.2 Sub-Con Application'!$B$13:$B$1012,B205,'1.2 Sub-Con Application'!$S$13:$S$1012))","v":0},{"$f":"IFERROR(INDEX('1.2 Sub-Con Application'!$B$13:$U$1012,MATCH(1,('1.2 Sub-Con Application'!$B$13:$B$1012=B205)*('1.2 Sub-Con Application'!$U$13:$U$1012=\"Rejected\"),0),20),\"\")","v":""},{"$f":"IFERROR(INDEX('1.2 Sub-Con Application'!$B$13:$V$1012,MATCH(1,('1.2 Sub-Con Application'!$B$13:$B$1012=B205)*('1.2 Sub-Con Application'!$V$13:$V$1012<>\"\"),0),21),\"\")","v":""}]
[null,194,"","","","","","","","",{"$f":"IF(B206=\"\",\"\",SUMIF('1.2 Sub-Con Application'!$B$13:$B$1012,B206,'1.2 Sub-Con Application'!$P$13:$P$1012))","v":0},{"$f":"IF(B206=\"\",\"\",SUMIF('1.2 Sub-Con Application'!$B$13:$B$1012,B206,'1.2 Sub-Con Application'!$R$13:$R$1012))","v":0},{"$f":"IF(B206=\"\",\"\",SUMIF('1.2 Sub-Con Application'!$B$13:$B$1012,B206,'1.2 Sub-Con Application'!$S$13:$S$1012))","v":0},{"$f":"IFERROR(INDEX('1.2 Sub-Con Application'!$B$13:$U$1012,MATCH(1,('1.2 Sub-Con Application'!$B$13:$B$1012=B206)*('1.2 Sub-Con Application'!$U$13:$U$1012=\"Rejected\"),0),20),\"\")","v":""},{"$f":"IFERROR(INDEX('1.2 Sub-Con Application'!$B$13:$V$1012,MATCH(1,('1.2 Sub-Con Application'!$B$13:$B$1012=B206)*('1.2 Sub-Con Application'!$V$13:$V$1012<>\"\"),0),21),\"\")","v":""}]
[null,{"$f":"B206+1","v":195},"","","","","","","","",{"$f":"IF(B207=\"\",\"\",SUMIF('1.2 Sub-Con Application'!$B$13:$B$1012,B207,'1.2 Sub-Con Application'!$P$13:$P$1012))","v":0},{"$f":"IF(B207=\"\",\"\",SUMIF('1.2 Sub-Con Application'!$B$13:$B$1012,B207,'1.2 Sub-Con Application'!$R$13:$R$1012))","v":0},{"$f":"IF(B207=\"\",\"\",SUMIF('1.2 Sub-Con Application'!$B$13:$B$1012,B207,'1.2 Sub-Con Application'!$S$13:$S$1012))","v":0},{"$f":"IFERROR(INDEX('1.2 Sub-Con Application'!$B$13:$U$1012,MATCH(1,('1.2 Sub-Con Application'!$B$13:$B$1012=B207)*('1.2 Sub-Con Application'!$U$13:$U$1012=\"Rejected\"),0),20),\"\")","v":""},{"$f":"IFERROR(INDEX('1.2 Sub-Con Application'!$B$13:$V$1012,MATCH(1,('1.2 Sub-Con Application'!$B$13:$B$1012=B207)*('1.2 Sub-Con Application'!$V$13:$V$1012<>\"\"),0),21),\"\")","v":""}]
[null,196,"","","","","","","","",{"$f":"IF(B208=\"\",\"\",SUMIF('1.2 Sub-Con Application'!$B$13:$B$1012,B208,'1.2 Sub-Con Application'!$P$13:$P$1012))","v":0},{"$f":"IF(B208=\"\",\"\",SUMIF('1.2 Sub-Con Application'!$B$13:$B$1012,B208,'1.2 Sub-Con Application'!$R$13:$R$1012))","v":0},{"$f":"IF(B208=\"\",\"\",SUMIF('1.2 Sub-Con Application'!$B$13:$B$1012,B208,'1.2 Sub-Con Application'!$S$13:$S$1012))","v":0},{"$f":"IFERROR(INDEX('1.2 Sub-Con Application'!$B$13:$U$1012,MATCH(1,('1.2 Sub-Con Application'!$B$13:$B$1012=B208)*('1.2 Sub-Con Application'!$U$13:$U$1012=\"Rejected\"),0),20),\"\")","v":""},{"$f":"IFERROR(INDEX('1.2 Sub-Con Application'!$B$13:$V$1012,MATCH(1,('1.2 Sub-Con Application'!$B$13:$B$1012=B208)*('1.2 Sub-Con Application'!$V$13:$V$1012<>\"\"),0),21),\"\")","v":""}]
[null,197,"","","","","","","","",{"$f":"IF(B209=\"\",\"\",SUMIF('1.2 Sub-Con Application'!$B$13:$B$1012,B209,'1.2 Sub-Con Application'!$P$13:$P$1012))","v":0},{"$f":"IF(B209=\"\",\"\",SUMIF('1.2 Sub-Con Application'!$B$13:$B$1012,B209,'1.2 Sub-Con Application'!$R$13:$R$1012))","v":0},{"$f":"IF(B209=\"\",\"\",SUMIF('1.2 Sub-Con Application'!$B$13:$B$1012,B209,'1.2 Sub-Con Application'!$S$13:$S$1012))","v":0},{"$f":"IFERROR(INDEX('1.2 Sub-Con Application'!$B$13:$U$1012,MATCH(1,('1.2 Sub-Con Application'!$B$13:$B$1012=B209)*('1.2 Sub-Con Application'!$U$13:$U$1012=\"Rejected\"),0),20),\"\")","v":""},{"$f":"IFERROR(INDEX('1.2 Sub-Con Application'!$B$13:$V$1012,MATCH(1,('1.2 Sub-Con Application'!$B$13:$B$1012=B209)*('1.2 Sub-Con Application'!$V$13:$V$1012<>\"\"),0),21),\"\")","v":""}]
[null,198,"","","","","","","","",{"$f":"IF(B210=\"\",\"\",SUMIF('1.2 Sub-Con Application'!$B$13:$B$1012,B210,'1.2 Sub-Con Application'!$P$13:$P$1012))","v":0},{"$f":"IF(B210=\"\",\"\",SUMIF('1.2 Sub-Con Application'!$B$13:$B$1012,B210,'1.2 Sub-Con Application'!$R$13:$R$1012))","v":0},{"$f":"IF(B210=\"\",\"\",SUMIF('1.2 Sub-Con Application'!$B$13:$B$1012,B210,'1.2 Sub-Con Application'!$S$13:$S$1012))","v":0},{"$f":"IFERROR(INDEX('1.2 Sub-Con Application'!$B$13:$U$1012,MATCH(1,('1.2 Sub-Con Application'!$B$13:$B$1012=B210)*('1.2 Sub-Con Application'!$U$13:$U$1012=\"Rejected\"),0),20),\"\")","v":""},{"$f":"IFERROR(INDEX('1.2 Sub-Con Application'!$B$13:$V$1012,MATCH(1,('1.2 Sub-Con Application'!$B$13:$B$1012=B210)*('1.2 Sub-Con Application'!$V$13:$V$1012<>\"\"),0),21),\"\")","v":""}]
[null,199,"","","","","","","","",{"$f":"IF(B211=\"\",\"\",SUMIF('1.2 Sub-Con Application'!$B$13:$B$1012,B211,'1.2 Sub-Con Application'!$P$13:$P$1012))","v":0},{"$f":"IF(B211=\"\",\"\",SUMIF('1.2 Sub-Con Application'!$B$13:$B$1012,B211,'1.2 Sub-Con Application'!$R$13:$R$1012))","v":0},{"$f":"IF(B211=\"\",\"\",SUMIF('1.2 Sub-Con Application'!$B$13:$B$1012,B211,'1.2 Sub-Con Application'!$S$13:$S$1012))","v":0},{"$f":"IFERROR(INDEX('1.2 Sub-Con Application'!$B$13:$U$1012,MATCH(1,('1.2 Sub-Con Application'!$B$13:$B$1012=B211)*('1.2 Sub-Con Application'!$U$13:$U$1012=\"Rejected\"),0),20),\"\")","v":""},{"$f":"IFERROR(INDEX('1.2 Sub-Con Application'!$B$13:$V$1012,MATCH(1,('1.2 Sub-Con Application'!$B$13:$B$1012=B211)*('1.2 Sub-Con Application'!$V$13:$V$1012<>\"\"),0),21),\"\")","v":""}]
[null,200,"","","","","","","","",{"$f":"IF(B212=\"\",\"\",SUMIF('1.2 Sub-Con Application'!$B$13:$B$1012,B212,'1.2 Sub-Con Application'!$P$13:$P$1012))","v":0},{"$f":"IF(B212=\"\",\"\",SUMIF('1.2 Sub-Con Application'!$B$13:$B$1012,B212,'1.2 Sub-Con Application'!$R$13:$R$1012))","v":0},{"$f":"IF(B212=\"\",\"\",SUMIF('1.2 Sub-Con Application'!$B$13:$B$1012,B212,'1.2 Sub-Con Application'!$S$13:$S$1012))","v":0},{"$f":"IFERROR(INDEX('1.2 Sub-Con Application'!$B$13:$U$1012,MATCH(1,('1.2 Sub-Con Application'!$B$13:$B$1012=B212)*('1.2 Sub-Con Application'!$U$13:$U$1012=\"Rejected\"),0),20),\"\")","v":""},{"$f":"IFERROR(INDEX('1.2 Sub-Con Application'!$B$13:$V$1012,MATCH(1,('1.2 Sub-Con Application'!$B$13:$B$1012=B212)*('1.2 Sub-Con Application'!$V$13:$V$1012<>\"\"),0),21),\"\")","v":""}]
[null,201,{"$f":"IFERROR(INDEX(table_subconApp,MATCH($B213,row_subconApp,0),MATCH(C$12,col_subconApp,0)),\"\")","v":""},"","","","","","","",{"$f":"IF(B213=\"\",\"\",SUMIF('1.2 Sub-Con Application'!$B$13:$B$1012,B213,'1.2 Sub-Con Application'!$P$13:$P$1012))","v":0},{"$f":"IF(B213=\"\",\"\",SUMIF('1.2 Sub-Con Application'!$B$13:$B$1012,B213,'1.2 Sub-Con Application'!$R$13:$R$1012))","v":0},{"$f":"IF(B213=\"\",\"\",SUMIF('1.2 Sub-Con Application'!$B$13:$B$1012,B213,'1.2 Sub-Con Application'!$S$13:$S$1012))","v":0},{"$f":"IFERROR(INDEX('1.2 Sub-Con Application'!$B$13:$U$1012,MATCH(1,('1.2 Sub-Con Application'!$B$13:$B$1012=B213)*('1.2 Sub-Con Application'!$U$13:$U$1012=\"Rejected\"),0),20),\"\")","v":""},{"$f":"IFERROR(INDEX('1.2 Sub-Con Application'!$B$13:$V$1012,MATCH(1,('1.2 Sub-Con Application'!$B$13:$B$1012=B213)*('1.2 Sub-Con Application'!$V$13:$V$1012<>\"\"),0),21),\"\")","v":""}]
[null,202,"","","","","","","","",{"$f":"IF(B214=\"\",\"\",SUMIF('1.2 Sub-Con Application'!$B$13:$B$1012,B214,'1.2 Sub-Con Application'!$P$13:$P$1012))","v":0},{"$f":"IF(B214=\"\",\"\",SUMIF('1.2 Sub-Con Application'!$B$13:$B$1012,B214,'1.2 Sub-Con Application'!$R$13:$R$1012))","v":0},{"$f":"IF(B214=\"\",\"\",SUMIF('1.2 Sub-Con Application'!$B$13:$B$1012,B214,'1.2 Sub-Con Application'!$S$13:$S$1012))","v":0},{"$f":"IFERROR(INDEX('1.2 Sub-Con Application'!$B$13:$U$1012,MATCH(1,('1.2 Sub-Con Application'!$B$13:$B$1012=B214)*('1.2 Sub-Con Application'!$U$13:$U$1012=\"Rejected\"),0),20),\"\")","v":""},{"$f":"IFERROR(INDEX('1.2 Sub-Con Application'!$B$13:$V$1012,MATCH(1,('1.2 Sub-Con Application'!$B$13:$B$1012=B214)*('1.2 Sub-Con Application'!$V$13:$V$1012<>\"\"),0),21),\"\")","v":""}]
[null,203,"","","","","","","","",{"$f":"IF(B215=\"\",\"\",SUMIF('1.2 Sub-Con Application'!$B$13:$B$1012,B215,'1.2 Sub-Con Application'!$P$13:$P$1012))","v":0},{"$f":"IF(B215=\"\",\"\",SUMIF('1.2 Sub-Con Application'!$B$13:$B$1012,B215,'1.2 Sub-Con Application'!$R$13:$R$1012))","v":0},{"$f":"IF(B215=\"\",\"\",SUMIF('1.2 Sub-Con Application'!$B$13:$B$1012,B215,'1.2 Sub-Con Application'!$S$13:$S$1012))","v":0},{"$f":"IFERROR(INDEX('1.2 Sub-Con Application'!$B$13:$U$1012,MATCH(1,('1.2 Sub-Con Application'!$B$13:$B$1012=B215)*('1.2 Sub-Con Application'!$U$13:$U$1012=\"Rejected\"),0),20),\"\")","v":""},{"$f":"IFERROR(INDEX('1.2 Sub-Con Application'!$B$13:$V$1012,MATCH(1,('1.2 Sub-Con Application'!$B$13:$B$1012=B215)*('1.2 Sub-Con Application'!$V$13:$V$1012<>\"\"),0),21),\"\")","v":""}]
[null,204,"","","","","","","","",{"$f":"IF(B216=\"\",\"\",SUMIF('1.2 Sub-Con Application'!$B$13:$B$1012,B216,'1.2 Sub-Con Application'!$P$13:$P$1012))","v":0},{"$f":"IF(B216=\"\",\"\",SUMIF('1.2 Sub-Con Application'!$B$13:$B$1012,B216,'1.2 Sub-Con Application'!$R$13:$R$1012))","v":0},{"$f":"IF(B216=\"\",\"\",SUMIF('1.2 Sub-Con Application'!$B$13:$B$1012,B216,'1.2 Sub-Con Application'!$S$13:$S$1012))","v":0},{"$f":"IFERROR(INDEX('1.2 Sub-Con Application'!$B$13:$U$1012,MATCH(1,('1.2 Sub-Con Application'!$B$13:$B$1012=B216)*('1.2 Sub-Con Application'!$U$13:$U$1012=\"Rejected\"),0),20),\"\")","v":""},{"$f":"IFERROR(INDEX('1.2 Sub-Con Application'!$B$13:$V$1012,MATCH(1,('1.2 Sub-Con Application'!$B$13:$B$1012=B216)*('1.2 Sub-Con Application'!$V$13:$V$1012<>\"\"),0),21),\"\")","v":""}]
[null,205,"","","","","","","","",{"$f":"IF(B217=\"\",\"\",SUMIF('1.2 Sub-Con Application'!$B$13:$B$1012,B217,'1.2 Sub-Con Application'!$P$13:$P$1012))","v":0},{"$f":"IF(B217=\"\",\"\",SUMIF('1.2 Sub-Con Application'!$B$13:$B$1012,B217,'1.2 Sub-Con Application'!$R$13:$R$1012))","v":0},{"$f":"IF(B217=\"\",\"\",SUMIF('1.2 Sub-Con Application'!$B$13:$B$1012,B217,'1.2 Sub-Con Application'!$S$13:$S$1012))","v":0},{"$f":"IFERROR(INDEX('1.2 Sub-Con Application'!$B$13:$U$1012,MATCH(1,('1.2 Sub-Con Application'!$B$13:$B$1012=B217)*('1.2 Sub-Con Application'!$U$13:$U$1012=\"Rejected\"),0),20),\"\")","v":""},{"$f":"IFERROR(INDEX('1.2 Sub-Con Application'!$B$13:$V$1012,MATCH(1,('1.2 Sub-Con Application'!$B$13:$B$1012=B217)*('1.2 Sub-Con Application'!$V$13:$V$1012<>\"\"),0),21),\"\")","v":""}]
[null,206,"","","","","","","","",{"$f":"IF(B218=\"\",\"\",SUMIF('1.2 Sub-Con Application'!$B$13:$B$1012,B218,'1.2 Sub-Con Application'!$P$13:$P$1012))","v":0},{"$f":"IF(B218=\"\",\"\",SUMIF('1.2 Sub-Con Application'!$B$13:$B$1012,B218,'1.2 Sub-Con Application'!$R$13:$R$1012))","v":0},{"$f":"IF(B218=\"\",\"\",SUMIF('1.2 Sub-Con Application'!$B$13:$B$1012,B218,'1.2 Sub-Con Application'!$S$13:$S$1012))","v":0},{"$f":"IFERROR(INDEX('1.2 Sub-Con Application'!$B$13:$U$1012,MATCH(1,('1.2 Sub-Con Application'!$B$13:$B$1012=B218)*('1.2 Sub-Con Application'!$U$13:$U$1012=\"Rejected\"),0),20),\"\")","v":""},{"$f":"IFERROR(INDEX('1.2 Sub-Con Application'!$B$13:$V$1012,MATCH(1,('1.2 Sub-Con Application'!$B$13:$B$1012=B218)*('1.2 Sub-Con Application'!$V$13:$V$1012<>\"\"),0),21),\"\")","v":""}]
[null,207,"","","","","","","","",{"$f":"IF(B219=\"\",\"\",SUMIF('1.2 Sub-Con Application'!$B$13:$B$1012,B219,'1.2 Sub-Con Application'!$P$13:$P$1012))","v":0},{"$f":"IF(B219=\"\",\"\",SUMIF('1.2 Sub-Con Application'!$B$13:$B$1012,B219,'1.2 Sub-Con Application'!$R$13:$R$1012))","v":0},{"$f":"IF(B219=\"\",\"\",SUMIF('1.2 Sub-Con Application'!$B$13:$B$1012,B219,'1.2 Sub-Con Application'!$S$13:$S$1012))","v":0},{"$f":"IFERROR(INDEX('1.2 Sub-Con Application'!$B$13:$U$1012,MATCH(1,('1.2 Sub-Con Application'!$B$13:$B$1012=B219)*('1.2 Sub-Con Application'!$U$13:$U$1012=\"Rejected\"),0),20),\"\")","v":""},{"$f":"IFERROR(INDEX('1.2 Sub-Con Application'!$B$13:$V$1012,MATCH(1,('1.2 Sub-Con Application'!$B$13:$B$1012=B219)*('1.2 Sub-Con Application'!$V$13:$V$1012<>\"\"),0),21),\"\")","v":""}]
[null,208,"","","","","","","","",{"$f":"IF(B220=\"\",\"\",SUMIF('1.2 Sub-Con Application'!$B$13:$B$1012,B220,'1.2 Sub-Con Application'!$P$13:$P$1012))","v":0},{"$f":"IF(B220=\"\",\"\",SUMIF('1.2 Sub-Con Application'!$B$13:$B$1012,B220,'1.2 Sub-Con Application'!$R$13:$R$1012))","v":0},{"$f":"IF(B220=\"\",\"\",SUMIF('1.2 Sub-Con Application'!$B$13:$B$1012,B220,'1.2 Sub-Con Application'!$S$13:$S$1012))","v":0},{"$f":"IFERROR(INDEX('1.2 Sub-Con Application'!$B$13:$U$1012,MATCH(1,('1.2 Sub-Con Application'!$B$13:$B$1012=B220)*('1.2 Sub-Con Application'!$U$13:$U$1012=\"Rejected\"),0),20),\"\")","v":""},{"$f":"IFERROR(INDEX('1.2 Sub-Con Application'!$B$13:$V$1012,MATCH(1,('1.2 Sub-Con Application'!$B$13:$B$1012=B220)*('1.2 Sub-Con Application'!$V$13:$V$1012<>\"\"),0),21),\"\")","v":""}]
[null,209,"","","","","","","","",{"$f":"IF(B221=\"\",\"\",SUMIF('1.2 Sub-Con Application'!$B$13:$B$1012,B221,'1.2 Sub-Con Application'!$P$13:$P$1012))","v":0},{"$f":"IF(B221=\"\",\"\",SUMIF('1.2 Sub-Con Application'!$B$13:$B$1012,B221,'1.2 Sub-Con Application'!$R$13:$R$1012))","v":0},{"$f":"IF(B221=\"\",\"\",SUMIF('1.2 Sub-Con Application'!$B$13:$B$1012,B221,'1.2 Sub-Con Application'!$S$13:$S$1012))","v":0},{"$f":"IFERROR(INDEX('1.2 Sub-Con Application'!$B$13:$U$1012,MATCH(1,('1.2 Sub-Con Application'!$B$13:$B$1012=B221)*('1.2 Sub-Con Application'!$U$13:$U$1012=\"Rejected\"),0),20),\"\")","v":""},{"$f":"IFERROR(INDEX('1.2 Sub-Con Application'!$B$13:$V$1012,MATCH(1,('1.2 Sub-Con Application'!$B$13:$B$1012=B221)*('1.2 Sub-Con Application'!$V$13:$V$1012<>\"\"),0),21),\"\")","v":""}]
[null,210,"","","","","","","","",{"$f":"IF(B222=\"\",\"\",SUMIF('1.2 Sub-Con Application'!$B$13:$B$1012,B222,'1.2 Sub-Con Application'!$P$13:$P$1012))","v":0},{"$f":"IF(B222=\"\",\"\",SUMIF('1.2 Sub-Con Application'!$B$13:$B$1012,B222,'1.2 Sub-Con Application'!$R$13:$R$1012))","v":0},{"$f":"IF(B222=\"\",\"\",SUMIF('1.2 Sub-Con Application'!$B$13:$B$1012,B222,'1.2 Sub-Con Application'!$S$13:$S$1012))","v":0},{"$f":"IFERROR(INDEX('1.2 Sub-Con Application'!$B$13:$U$1012,MATCH(1,('1.2 Sub-Con Application'!$B$13:$B$1012=B222)*('1.2 Sub-Con Application'!$U$13:$U$1012=\"Rejected\"),0),20),\"\")","v":""},{"$f":"IFERROR(INDEX('1.2 Sub-Con Application'!$B$13:$V$1012,MATCH(1,('1.2 Sub-Con Application'!$B$13:$B$1012=B222)*('1.2 Sub-Con Application'!$V$13:$V$1012<>\"\"),0),21),\"\")","v":""}]
[null,211,{"$f":"IFERROR(INDEX(table_subconApp,MATCH($B223,row_subconApp,0),MATCH(C$12,col_subconApp,0)),\"\")","v":""},"","","","","","","",{"$f":"IF(B223=\"\",\"\",SUMIF('1.2 Sub-Con Application'!$B$13:$B$1012,B223,'1.2 Sub-Con Application'!$P$13:$P$1012))","v":0},{"$f":"IF(B223=\"\",\"\",SUMIF('1.2 Sub-Con Application'!$B$13:$B$1012,B223,'1.2 Sub-Con Application'!$R$13:$R$1012))","v":0},{"$f":"IF(B223=\"\",\"\",SUMIF('1.2 Sub-Con Application'!$B$13:$B$1012,B223,'1.2 Sub-Con Application'!$S$13:$S$1012))","v":0},{"$f":"IFERROR(INDEX('1.2 Sub-Con Application'!$B$13:$U$1012,MATCH(1,('1.2 Sub-Con Application'!$B$13:$B$1012=B223)*('1.2 Sub-Con Application'!$U$13:$U$1012=\"Rejected\"),0),20),\"\")","v":""},{"$f":"IFERROR(INDEX('1.2 Sub-Con Application'!$B$13:$V$1012,MATCH(1,('1.2 Sub-Con Application'!$B$13:$B$1012=B223)*('1.2 Sub-Con Application'!$V$13:$V$1012<>\"\"),0),21),\"\")","v":""}]
[null,212,"","","","","","","","",{"$f":"IF(B224=\"\",\"\",SUMIF('1.2 Sub-Con Application'!$B$13:$B$1012,B224,'1.2 Sub-Con Application'!$P$13:$P$1012))","v":0},{"$f":"IF(B224=\"\",\"\",SUMIF('1.2 Sub-Con Application'!$B$13:$B$1012,B224,'1.2 Sub-Con Application'!$R$13:$R$1012))","v":0},{"$f":"IF(B224=\"\",\"\",SUMIF('1.2 Sub-Con Application'!$B$13:$B$1012,B224,'1.2 Sub-Con Application'!$S$13:$S$1012))","v":0},{"$f":"IFERROR(INDEX('1.2 Sub-Con Application'!$B$13:$U$1012,MATCH(1,('1.2 Sub-Con Application'!$B$13:$B$1012=B224)*('1.2 Sub-Con Application'!$U$13:$U$1012=\"Rejected\"),0),20),\"\")","v":""},{"$f":"IFERROR(INDEX('1.2 Sub-Con Application'!$B$13:$V$1012,MATCH(1,('1.2 Sub-Con Application'!$B$13:$B$1012=B224)*('1.2 Sub-Con Application'!$V$13:$V$1012<>\"\"),0),21),\"\")","v":""}]
[null,213,"","","","","","","","",{"$f":"IF(B225=\"\",\"\",SUMIF('1.2 Sub-Con Application'!$B$13:$B$1012,B225,'1.2 Sub-Con Application'!$P$13:$P$1012))","v":0},{"$f":"IF(B225=\"\",\"\",SUMIF('1.2 Sub-Con Application'!$B$13:$B$1012,B225,'1.2 Sub-Con Application'!$R$13:$R$1012))","v":0},{"$f":"IF(B225=\"\",\"\",SUMIF('1.2 Sub-Con Application'!$B$13:$B$1012,B225,'1.2 Sub-Con Application'!$S$13:$S$1012))","v":0},{"$f":"IFERROR(INDEX('1.2 Sub-Con Application'!$B$13:$U$1012,MATCH(1,('1.2 Sub-Con Application'!$B$13:$B$1012=B225)*('1.2 Sub-Con Application'!$U$13:$U$1012=\"Rejected\"),0),20),\"\")","v":""},{"$f":"IFERROR(INDEX('1.2 Sub-Con Application'!$B$13:$V$1012,MATCH(1,('1.2 Sub-Con Application'!$B$13:$B$1012=B225)*('1.2 Sub-Con Application'!$V$13:$V$1012<>\"\"),0),21),\"\")","v":""}]
[null,214,"","","","","","","","",{"$f":"IF(B226=\"\",\"\",SUMIF('1.2 Sub-Con Application'!$B$13:$B$1012,B226,'1.2 Sub-Con Application'!$P$13:$P$1012))","v":0},{"$f":"IF(B226=\"\",\"\",SUMIF('1.2 Sub-Con Application'!$B$13:$B$1012,B226,'1.2 Sub-Con Application'!$R$13:$R$1012))","v":0},{"$f":"IF(B226=\"\",\"\",SUMIF('1.2 Sub-Con Application'!$B$13:$B$1012,B226,'1.2 Sub-Con Application'!$S$13:$S$1012))","v":0},{"$f":"IFERROR(INDEX('1.2 Sub-Con Application'!$B$13:$U$1012,MATCH(1,('1.2 Sub-Con Application'!$B$13:$B$1012=B226)*('1.2 Sub-Con Application'!$U$13:$U$1012=\"Rejected\"),0),20),\"\")","v":""},{"$f":"IFERROR(INDEX('1.2 Sub-Con Application'!$B$13:$V$1012,MATCH(1,('1.2 Sub-Con Application'!$B$13:$B$1012=B226)*('1.2 Sub-Con Application'!$V$13:$V$1012<>\"\"),0),21),\"\")","v":""}]
[null,215,"","","","","","","","",{"$f":"IF(B227=\"\",\"\",SUMIF('1.2 Sub-Con Application'!$B$13:$B$1012,B227,'1.2 Sub-Con Application'!$P$13:$P$1012))","v":0},{"$f":"IF(B227=\"\",\"\",SUMIF('1.2 Sub-Con Application'!$B$13:$B$1012,B227,'1.2 Sub-Con Application'!$R$13:$R$1012))","v":0},{"$f":"IF(B227=\"\",\"\",SUMIF('1.2 Sub-Con Application'!$B$13:$B$1012,B227,'1.2 Sub-Con Application'!$S$13:$S$1012))","v":0},{"$f":"IFERROR(INDEX('1.2 Sub-Con Application'!$B$13:$U$1012,MATCH(1,('1.2 Sub-Con Application'!$B$13:$B$1012=B227)*('1.2 Sub-Con Application'!$U$13:$U$1012=\"Rejected\"),0),20),\"\")","v":""},{"$f":"IFERROR(INDEX('1.2 Sub-Con Application'!$B$13:$V$1012,MATCH(1,('1.2 Sub-Con Application'!$B$13:$B$1012=B227)*('1.2 Sub-Con Application'!$V$13:$V$1012<>\"\"),0),21),\"\")","v":""}]
[null,216,"","","","","","","","",{"$f":"IF(B228=\"\",\"\",SUMIF('1.2 Sub-Con Application'!$B$13:$B$1012,B228,'1.2 Sub-Con Application'!$P$13:$P$1012))","v":0},{"$f":"IF(B228=\"\",\"\",SUMIF('1.2 Sub-Con Application'!$B$13:$B$1012,B228,'1.2 Sub-Con Application'!$R$13:$R$1012))","v":0},{"$f":"IF(B228=\"\",\"\",SUMIF('1.2 Sub-Con Application'!$B$13:$B$1012,B228,'1.2 Sub-Con Application'!$S$13:$S$1012))","v":0},{"$f":"IFERROR(INDEX('1.2 Sub-Con Application'!$B$13:$U$1012,MATCH(1,('1.2 Sub-Con Application'!$B$13:$B$1012=B228)*('1.2 Sub-Con Application'!$U$13:$U$1012=\"Rejected\"),0),20),\"\")","v":""},{"$f":"IFERROR(INDEX('1.2 Sub-Con Application'!$B$13:$V$1012,MATCH(1,('1.2 Sub-Con Application'!$B$13:$B$1012=B228)*('1.2 Sub-Con Application'!$V$13:$V$1012<>\"\"),0),21),\"\")","v":""}]
[null,217,"","","","","","","","",{"$f":"IF(B229=\"\",\"\",SUMIF('1.2 Sub-Con Application'!$B$13:$B$1012,B229,'1.2 Sub-Con Application'!$P$13:$P$1012))","v":0},{"$f":"IF(B229=\"\",\"\",SUMIF('1.2 Sub-Con Application'!$B$13:$B$1012,B229,'1.2 Sub-Con Application'!$R$13:$R$1012))","v":0},{"$f":"IF(B229=\"\",\"\",SUMIF('1.2 Sub-Con Application'!$B$13:$B$1012,B229,'1.2 Sub-Con Application'!$S$13:$S$1012))","v":0},{"$f":"IFERROR(INDEX('1.2 Sub-Con Application'!$B$13:$U$1012,MATCH(1,('1.2 Sub-Con Application'!$B$13:$B$1012=B229)*('1.2 Sub-Con Application'!$U$13:$U$1012=\"Rejected\"),0),20),\"\")","v":""},{"$f":"IFERROR(INDEX('1.2 Sub-Con Application'!$B$13:$V$1012,MATCH(1,('1.2 Sub-Con Application'!$B$13:$B$1012=B229)*('1.2 Sub-Con Application'!$V$13:$V$1012<>\"\"),0),21),\"\")","v":""}]
[null,218,"","","","","","","","",{"$f":"IF(B230=\"\",\"\",SUMIF('1.2 Sub-Con Application'!$B$13:$B$1012,B230,'1.2 Sub-Con Application'!$P$13:$P$1012))","v":0},{"$f":"IF(B230=\"\",\"\",SUMIF('1.2 Sub-Con Application'!$B$13:$B$1012,B230,'1.2 Sub-Con Application'!$R$13:$R$1012))","v":0},{"$f":"IF(B230=\"\",\"\",SUMIF('1.2 Sub-Con Application'!$B$13:$B$1012,B230,'1.2 Sub-Con Application'!$S$13:$S$1012))","v":0},{"$f":"IFERROR(INDEX('1.2 Sub-Con Application'!$B$13:$U$1012,MATCH(1,('1.2 Sub-Con Application'!$B$13:$B$1012=B230)*('1.2 Sub-Con Application'!$U$13:$U$1012=\"Rejected\"),0),20),\"\")","v":""},{"$f":"IFERROR(INDEX('1.2 Sub-Con Application'!$B$13:$V$1012,MATCH(1,('1.2 Sub-Con Application'!$B$13:$B$1012=B230)*('1.2 Sub-Con Application'!$V$13:$V$1012<>\"\"),0),21),\"\")","v":""}]
[null,219,"","","","","","","","",{"$f":"IF(B231=\"\",\"\",SUMIF('1.2 Sub-Con Application'!$B$13:$B$1012,B231,'1.2 Sub-Con Application'!$P$13:$P$1012))","v":0},{"$f":"IF(B231=\"\",\"\",SUMIF('1.2 Sub-Con Application'!$B$13:$B$1012,B231,'1.2 Sub-Con Application'!$R$13:$R$1012))","v":0},{"$f":"IF(B231=\"\",\"\",SUMIF('1.2 Sub-Con Application'!$B$13:$B$1012,B231,'1.2 Sub-Con Application'!$S$13:$S$1012))","v":0},{"$f":"IFERROR(INDEX('1.2 Sub-Con Application'!$B$13:$U$1012,MATCH(1,('1.2 Sub-Con Application'!$B$13:$B$1012=B231)*('1.2 Sub-Con Application'!$U$13:$U$1012=\"Rejected\"),0),20),\"\")","v":""},{"$f":"IFERROR(INDEX('1.2 Sub-Con Application'!$B$13:$V$1012,MATCH(1,('1.2 Sub-Con Application'!$B$13:$B$1012=B231)*('1.2 Sub-Con Application'!$V$13:$V$1012<>\"\"),0),21),\"\")","v":""}]
[null,220,"","","","","","","","",{"$f":"IF(B232=\"\",\"\",SUMIF('1.2 Sub-Con Application'!$B$13:$B$1012,B232,'1.2 Sub-Con Application'!$P$13:$P$1012))","v":0},{"$f":"IF(B232=\"\",\"\",SUMIF('1.2 Sub-Con Application'!$B$13:$B$1012,B232,'1.2 Sub-Con Application'!$R$13:$R$1012))","v":0},{"$f":"IF(B232=\"\",\"\",SUMIF('1.2 Sub-Con Application'!$B$13:$B$1012,B232,'1.2 Sub-Con Application'!$S$13:$S$1012))","v":0},{"$f":"IFERROR(INDEX('1.2 Sub-Con Application'!$B$13:$U$1012,MATCH(1,('1.2 Sub-Con Application'!$B$13:$B$1012=B232)*('1.2 Sub-Con Application'!$U$13:$U$1012=\"Rejected\"),0),20),\"\")","v":""},{"$f":"IFERROR(INDEX('1.2 Sub-Con Application'!$B$13:$V$1012,MATCH(1,('1.2 Sub-Con Application'!$B$13:$B$1012=B232)*('1.2 Sub-Con Application'!$V$13:$V$1012<>\"\"),0),21),\"\")","v":""}]
[null,221,{"$f":"IFERROR(INDEX(table_subconApp,MATCH($B233,row_subconApp,0),MATCH(C$12,col_subconApp,0)),\"\")","v":""},"","","","","","","",{"$f":"IF(B233=\"\",\"\",SUMIF('1.2 Sub-Con Application'!$B$13:$B$1012,B233,'1.2 Sub-Con Application'!$P$13:$P$1012))","v":0},{"$f":"IF(B233=\"\",\"\",SUMIF('1.2 Sub-Con Application'!$B$13:$B$1012,B233,'1.2 Sub-Con Application'!$R$13:$R$1012))","v":0},{"$f":"IF(B233=\"\",\"\",SUMIF('1.2 Sub-Con Application'!$B$13:$B$1012,B233,'1.2 Sub-Con Application'!$S$13:$S$1012))","v":0},{"$f":"IFERROR(INDEX('1.2 Sub-Con Application'!$B$13:$U$1012,MATCH(1,('1.2 Sub-Con Application'!$B$13:$B$1012=B233)*('1.2 Sub-Con Application'!$U$13:$U$1012=\"Rejected\"),0),20),\"\")","v":""},{"$f":"IFERROR(INDEX('1.2 Sub-Con Application'!$B$13:$V$1012,MATCH(1,('1.2 Sub-Con Application'!$B$13:$B$1012=B233)*('1.2 Sub-Con Application'!$V$13:$V$1012<>\"\"),0),21),\"\")","v":""}]
[null,222,"","","","","","","","",{"$f":"IF(B234=\"\",\"\",SUMIF('1.2 Sub-Con Application'!$B$13:$B$1012,B234,'1.2 Sub-Con Application'!$P$13:$P$1012))","v":0},{"$f":"IF(B234=\"\",\"\",SUMIF('1.2 Sub-Con Application'!$B$13:$B$1012,B234,'1.2 Sub-Con Application'!$R$13:$R$1012))","v":0},{"$f":"IF(B234=\"\",\"\",SUMIF('1.2 Sub-Con Application'!$B$13:$B$1012,B234,'1.2 Sub-Con Application'!$S$13:$S$1012))","v":0},{"$f":"IFERROR(INDEX('1.2 Sub-Con Application'!$B$13:$U$1012,MATCH(1,('1.2 Sub-Con Application'!$B$13:$B$1012=B234)*('1.2 Sub-Con Application'!$U$13:$U$1012=\"Rejected\"),0),20),\"\")","v":""},{"$f":"IFERROR(INDEX('1.2 Sub-Con Application'!$B$13:$V$1012,MATCH(1,('1.2 Sub-Con Application'!$B$13:$B$1012=B234)*('1.2 Sub-Con Application'!$V$13:$V$1012<>\"\"),0),21),\"\")","v":""}]
[null,223,"","","","","","","","",{"$f":"IF(B235=\"\",\"\",SUMIF('1.2 Sub-Con Application'!$B$13:$B$1012,B235,'1.2 Sub-Con Application'!$P$13:$P$1012))","v":0},{"$f":"IF(B235=\"\",\"\",SUMIF('1.2 Sub-Con Application'!$B$13:$B$1012,B235,'1.2 Sub-Con Application'!$R$13:$R$1012))","v":0},{"$f":"IF(B235=\"\",\"\",SUMIF('1.2 Sub-Con Application'!$B$13:$B$1012,B235,'1.2 Sub-Con Application'!$S$13:$S$1012))","v":0},{"$f":"IFERROR(INDEX('1.2 Sub-Con Application'!$B$13:$U$1012,MATCH(1,('1.2 Sub-Con Application'!$B$13:$B$1012=B235)*('1.2 Sub-Con Application'!$U$13:$U$1012=\"Rejected\"),0),20),\"\")","v":""},{"$f":"IFERROR(INDEX('1.2 Sub-Con Application'!$B$13:$V$1012,MATCH(1,('1.2 Sub-Con Application'!$B$13:$B$1012=B235)*('1.2 Sub-Con Application'!$V$13:$V$1012<>\"\"),0),21),\"\")","v":""}]
[null,224,"","","","","","","","",{"$f":"IF(B236=\"\",\"\",SUMIF('1.2 Sub-Con Application'!$B$13:$B$1012,B236,'1.2 Sub-Con Application'!$P$13:$P$1012))","v":0},{"$f":"IF(B236=\"\",\"\",SUMIF('1.2 Sub-Con Application'!$B$13:$B$1012,B236,'1.2 Sub-Con Application'!$R$13:$R$1012))","v":0},{"$f":"IF(B236=\"\",\"\",SUMIF('1.2 Sub-Con Application'!$B$13:$B$1012,B236,'1.2 Sub-Con Application'!$S$13:$S$1012))","v":0},{"$f":"IFERROR(INDEX('1.2 Sub-Con Application'!$B$13:$U$1012,MATCH(1,('1.2 Sub-Con Application'!$B$13:$B$1012=B236)*('1.2 Sub-Con Application'!$U$13:$U$1012=\"Rejected\"),0),20),\"\")","v":""},{"$f":"IFERROR(INDEX('1.2 Sub-Con Application'!$B$13:$V$1012,MATCH(1,('1.2 Sub-Con Application'!$B$13:$B$1012=B236)*('1.2 Sub-Con Application'!$V$13:$V$1012<>\"\"),0),21),\"\")","v":""}]
[null,225,"","","","","","","","",{"$f":"IF(B237=\"\",\"\",SUMIF('1.2 Sub-Con Application'!$B$13:$B$1012,B237,'1.2 Sub-Con Application'!$P$13:$P$1012))","v":0},{"$f":"IF(B237=\"\",\"\",SUMIF('1.2 Sub-Con Application'!$B$13:$B$1012,B237,'1.2 Sub-Con Application'!$R$13:$R$1012))","v":0},{"$f":"IF(B237=\"\",\"\",SUMIF('1.2 Sub-Con Application'!$B$13:$B$1012,B237,'1.2 Sub-Con Application'!$S$13:$S$1012))","v":0},{"$f":"IFERROR(INDEX('1.2 Sub-Con Application'!$B$13:$U$1012,MATCH(1,('1.2 Sub-Con Application'!$B$13:$B$1012=B237)*('1.2 Sub-Con Application'!$U$13:$U$1012=\"Rejected\"),0),20),\"\")","v":""},{"$f":"IFERROR(INDEX('1.2 Sub-Con Application'!$B$13:$V$1012,MATCH(1,('1.2 Sub-Con Application'!$B$13:$B$1012=B237)*('1.2 Sub-Con Application'!$V$13:$V$1012<>\"\"),0),21),\"\")","v":""}]
[null,226,"","","","","","","","",{"$f":"IF(B238=\"\",\"\",SUMIF('1.2 Sub-Con Application'!$B$13:$B$1012,B238,'1.2 Sub-Con Application'!$P$13:$P$1012))","v":0},{"$f":"IF(B238=\"\",\"\",SUMIF('1.2 Sub-Con Application'!$B$13:$B$1012,B238,'1.2 Sub-Con Application'!$R$13:$R$1012))","v":0},{"$f":"IF(B238=\"\",\"\",SUMIF('1.2 Sub-Con Application'!$B$13:$B$1012,B238,'1.2 Sub-Con Application'!$S$13:$S$1012))","v":0},{"$f":"IFERROR(INDEX('1.2 Sub-Con Application'!$B$13:$U$1012,MATCH(1,('1.2 Sub-Con Application'!$B$13:$B$1012=B238)*('1.2 Sub-Con Application'!$U$13:$U$1012=\"Rejected\"),0),20),\"\")","v":""},{"$f":"IFERROR(INDEX('1.2 Sub-Con Application'!$B$13:$V$1012,MATCH(1,('1.2 Sub-Con Application'!$B$13:$B$1012=B238)*('1.2 Sub-Con Application'!$V$13:$V$1012<>\"\"),0),21),\"\")","v":""}]
[null,227,"","","","","","","","",{"$f":"IF(B239=\"\",\"\",SUMIF('1.2 Sub-Con Application'!$B$13:$B$1012,B239,'1.2 Sub-Con Application'!$P$13:$P$1012))","v":0},{"$f":"IF(B239=\"\",\"\",SUMIF('1.2 Sub-Con Application'!$B$13:$B$1012,B239,'1.2 Sub-Con Application'!$R$13:$R$1012))","v":0},{"$f":"IF(B239=\"\",\"\",SUMIF('1.2 Sub-Con Application'!$B$13:$B$1012,B239,'1.2 Sub-Con Application'!$S$13:$S$1012))","v":0},{"$f":"IFERROR(INDEX('1.2 Sub-Con Application'!$B$13:$U$1012,MATCH(1,('1.2 Sub-Con Application'!$B$13:$B$1012=B239)*('1.2 Sub-Con Application'!$U$13:$U$1012=\"Rejected\"),0),20),\"\")","v":""},{"$f":"IFERROR(INDEX('1.2 Sub-Con Application'!$B$13:$V$1012,MATCH(1,('1.2 Sub-Con Application'!$B$13:$B$1012=B239)*('1.2 Sub-Con Application'!$V$13:$V$1012<>\"\"),0),21),\"\")","v":""}]
[null,228,"","","","","","","","",{"$f":"IF(B240=\"\",\"\",SUMIF('1.2 Sub-Con Application'!$B$13:$B$1012,B240,'1.2 Sub-Con Application'!$P$13:$P$1012))","v":0},{"$f":"IF(B240=\"\",\"\",SUMIF('1.2 Sub-Con Application'!$B$13:$B$1012,B240,'1.2 Sub-Con Application'!$R$13:$R$1012))","v":0},{"$f":"IF(B240=\"\",\"\",SUMIF('1.2 Sub-Con Application'!$B$13:$B$1012,B240,'1.2 Sub-Con Application'!$S$13:$S$1012))","v":0},{"$f":"IFERROR(INDEX('1.2 Sub-Con Application'!$B$13:$U$1012,MATCH(1,('1.2 Sub-Con Application'!$B$13:$B$1012=B240)*('1.2 Sub-Con Application'!$U$13:$U$1012=\"Rejected\"),0),20),\"\")","v":""},{"$f":"IFERROR(INDEX('1.2 Sub-Con Application'!$B$13:$V$1012,MATCH(1,('1.2 Sub-Con Application'!$B$13:$B$1012=B240)*('1.2 Sub-Con Application'!$V$13:$V$1012<>\"\"),0),21),\"\")","v":""}]
[null,229,"","","","","","","","",{"$f":"IF(B241=\"\",\"\",SUMIF('1.2 Sub-Con Application'!$B$13:$B$1012,B241,'1.2 Sub-Con Application'!$P$13:$P$1012))","v":0},{"$f":"IF(B241=\"\",\"\",SUMIF('1.2 Sub-Con Application'!$B$13:$B$1012,B241,'1.2 Sub-Con Application'!$R$13:$R$1012))","v":0},{"$f":"IF(B241=\"\",\"\",SUMIF('1.2 Sub-Con Application'!$B$13:$B$1012,B241,'1.2 Sub-Con Application'!$S$13:$S$1012))","v":0},{"$f":"IFERROR(INDEX('1.2 Sub-Con Application'!$B$13:$U$1012,MATCH(1,('1.2 Sub-Con Application'!$B$13:$B$1012=B241)*('1.2 Sub-Con Application'!$U$13:$U$1012=\"Rejected\"),0),20),\"\")","v":""},{"$f":"IFERROR(INDEX('1.2 Sub-Con Application'!$B$13:$V$1012,MATCH(1,('1.2 Sub-Con Application'!$B$13:$B$1012=B241)*('1.2 Sub-Con Application'!$V$13:$V$1012<>\"\"),0),21),\"\")","v":""}]
[null,230,"","","","","","","","",{"$f":"IF(B242=\"\",\"\",SUMIF('1.2 Sub-Con Application'!$B$13:$B$1012,B242,'1.2 Sub-Con Application'!$P$13:$P$1012))","v":0},{"$f":"IF(B242=\"\",\"\",SUMIF('1.2 Sub-Con Application'!$B$13:$B$1012,B242,'1.2 Sub-Con Application'!$R$13:$R$1012))","v":0},{"$f":"IF(B242=\"\",\"\",SUMIF('1.2 Sub-Con Application'!$B$13:$B$1012,B242,'1.2 Sub-Con Application'!$S$13:$S$1012))","v":0},{"$f":"IFERROR(INDEX('1.2 Sub-Con Application'!$B$13:$U$1012,MATCH(1,('1.2 Sub-Con Application'!$B$13:$B$1012=B242)*('1.2 Sub-Con Application'!$U$13:$U$1012=\"Rejected\"),0),20),\"\")","v":""},{"$f":"IFERROR(INDEX('1.2 Sub-Con Application'!$B$13:$V$1012,MATCH(1,('1.2 Sub-Con Application'!$B$13:$B$1012=B242)*('1.2 Sub-Con Application'!$V$13:$V$1012<>\"\"),0),21),\"\")","v":""}]
[null,231,{"$f":"IFERROR(INDEX(table_subconApp,MATCH($B243,row_subconApp,0),MATCH(C$12,col_subconApp,0)),\"\")","v":""},"","","","","","","",{"$f":"IF(B243=\"\",\"\",SUMIF('1.2 Sub-Con Application'!$B$13:$B$1012,B243,'1.2 Sub-Con Application'!$P$13:$P$1012))","v":0},{"$f":"IF(B243=\"\",\"\",SUMIF('1.2 Sub-Con Application'!$B$13:$B$1012,B243,'1.2 Sub-Con Application'!$R$13:$R$1012))","v":0},{"$f":"IF(B243=\"\",\"\",SUMIF('1.2 Sub-Con Application'!$B$13:$B$1012,B243,'1.2 Sub-Con Application'!$S$13:$S$1012))","v":0},{"$f":"IFERROR(INDEX('1.2 Sub-Con Application'!$B$13:$U$1012,MATCH(1,('1.2 Sub-Con Application'!$B$13:$B$1012=B243)*('1.2 Sub-Con Application'!$U$13:$U$1012=\"Rejected\"),0),20),\"\")","v":""},{"$f":"IFERROR(INDEX('1.2 Sub-Con Application'!$B$13:$V$1012,MATCH(1,('1.2 Sub-Con Application'!$B$13:$B$1012=B243)*('1.2 Sub-Con Application'!$V$13:$V$1012<>\"\"),0),21),\"\")","v":""}]
[null,232,"","","","","","","","",{"$f":"IF(B244=\"\",\"\",SUMIF('1.2 Sub-Con Application'!$B$13:$B$1012,B244,'1.2 Sub-Con Application'!$P$13:$P$1012))","v":0},{"$f":"IF(B244=\"\",\"\",SUMIF('1.2 Sub-Con Application'!$B$13:$B$1012,B244,'1.2 Sub-Con Application'!$R$13:$R$1012))","v":0},{"$f":"IF(B244=\"\",\"\",SUMIF('1.2 Sub-Con Application'!$B$13:$B$1012,B244,'1.2 Sub-Con Application'!$S$13:$S$1012))","v":0},{"$f":"IFERROR(INDEX('1.2 Sub-Con Application'!$B$13:$U$1012,MATCH(1,('1.2 Sub-Con Application'!$B$13:$B$1012=B244)*('1.2 Sub-Con Application'!$U$13:$U$1012=\"Rejected\"),0),20),\"\")","v":""},{"$f":"IFERROR(INDEX('1.2 Sub-Con Application'!$B$13:$V$1012,MATCH(1,('1.2 Sub-Con Application'!$B$13:$B$1012=B244)*('1.2 Sub-Con Application'!$V$13:$V$1012<>\"\"),0),21),\"\")","v":""}]
[null,233,"","","","","","","","",{"$f":"IF(B245=\"\",\"\",SUMIF('1.2 Sub-Con Application'!$B$13:$B$1012,B245,'1.2 Sub-Con Application'!$P$13:$P$1012))","v":0},{"$f":"IF(B245=\"\",\"\",SUMIF('1.2 Sub-Con Application'!$B$13:$B$1012,B245,'1.2 Sub-Con Application'!$R$13:$R$1012))","v":0},{"$f":"IF(B245=\"\",\"\",SUMIF('1.2 Sub-Con Application'!$B$13:$B$1012,B245,'1.2 Sub-Con Application'!$S$13:$S$1012))","v":0},{"$f":"IFERROR(INDEX('1.2 Sub-Con Application'!$B$13:$U$1012,MATCH(1,('1.2 Sub-Con Application'!$B$13:$B$1012=B245)*('1.2 Sub-Con Application'!$U$13:$U$1012=\"Rejected\"),0),20),\"\")","v":""},{"$f":"IFERROR(INDEX('1.2 Sub-Con Application'!$B$13:$V$1012,MATCH(1,('1.2 Sub-Con Application'!$B$13:$B$1012=B245)*('1.2 Sub-Con Application'!$V$13:$V$1012<>\"\"),0),21),\"\")","v":""}]
[null,234,"","","","","","","","",{"$f":"IF(B246=\"\",\"\",SUMIF('1.2 Sub-Con Application'!$B$13:$B$1012,B246,'1.2 Sub-Con Application'!$P$13:$P$1012))","v":0},{"$f":"IF(B246=\"\",\"\",SUMIF('1.2 Sub-Con Application'!$B$13:$B$1012,B246,'1.2 Sub-Con Application'!$R$13:$R$1012))","v":0},{"$f":"IF(B246=\"\",\"\",SUMIF('1.2 Sub-Con Application'!$B$13:$B$1012,B246,'1.2 Sub-Con Application'!$S$13:$S$1012))","v":0},{"$f":"IFERROR(INDEX('1.2 Sub-Con Application'!$B$13:$U$1012,MATCH(1,('1.2 Sub-Con Application'!$B$13:$B$1012=B246)*('1.2 Sub-Con Application'!$U$13:$U$1012=\"Rejected\"),0),20),\"\")","v":""},{"$f":"IFERROR(INDEX('1.2 Sub-Con Application'!$B$13:$V$1012,MATCH(1,('1.2 Sub-Con Application'!$B$13:$B$1012=B246)*('1.2 Sub-Con Application'!$V$13:$V$1012<>\"\"),0),21),\"\")","v":""}]
[null,235,"","","","","","","","",{"$f":"IF(B247=\"\",\"\",SUMIF('1.2 Sub-Con Application'!$B$13:$B$1012,B247,'1.2 Sub-Con Application'!$P$13:$P$1012))","v":0},{"$f":"IF(B247=\"\",\"\",SUMIF('1.2 Sub-Con Application'!$B$13:$B$1012,B247,'1.2 Sub-Con Application'!$R$13:$R$1012))","v":0},{"$f":"IF(B247=\"\",\"\",SUMIF('1.2 Sub-Con Application'!$B$13:$B$1012,B247,'1.2 Sub-Con Application'!$S$13:$S$1012))","v":0},{"$f":"IFERROR(INDEX('1.2 Sub-Con Application'!$B$13:$U$1012,MATCH(1,('1.2 Sub-Con Application'!$B$13:$B$1012=B247)*('1.2 Sub-Con Application'!$U$13:$U$1012=\"Rejected\"),0),20),\"\")","v":""},{"$f":"IFERROR(INDEX('1.2 Sub-Con Application'!$B$13:$V$1012,MATCH(1,('1.2 Sub-Con Application'!$B$13:$B$1012=B247)*('1.2 Sub-Con Application'!$V$13:$V$1012<>\"\"),0),21),\"\")","v":""}]
[null,236,"","","","","","","","",{"$f":"IF(B248=\"\",\"\",SUMIF('1.2 Sub-Con Application'!$B$13:$B$1012,B248,'1.2 Sub-Con Application'!$P$13:$P$1012))","v":0},{"$f":"IF(B248=\"\",\"\",SUMIF('1.2 Sub-Con Application'!$B$13:$B$1012,B248,'1.2 Sub-Con Application'!$R$13:$R$1012))","v":0},{"$f":"IF(B248=\"\",\"\",SUMIF('1.2 Sub-Con Application'!$B$13:$B$1012,B248,'1.2 Sub-Con Application'!$S$13:$S$1012))","v":0},{"$f":"IFERROR(INDEX('1.2 Sub-Con Application'!$B$13:$U$1012,MATCH(1,('1.2 Sub-Con Application'!$B$13:$B$1012=B248)*('1.2 Sub-Con Application'!$U$13:$U$1012=\"Rejected\"),0),20),\"\")","v":""},{"$f":"IFERROR(INDEX('1.2 Sub-Con Application'!$B$13:$V$1012,MATCH(1,('1.2 Sub-Con Application'!$B$13:$B$1012=B248)*('1.2 Sub-Con Application'!$V$13:$V$1012<>\"\"),0),21),\"\")","v":""}]
[null,237,"","","","","","","","",{"$f":"IF(B249=\"\",\"\",SUMIF('1.2 Sub-Con Application'!$B$13:$B$1012,B249,'1.2 Sub-Con Application'!$P$13:$P$1012))","v":0},{"$f":"IF(B249=\"\",\"\",SUMIF('1.2 Sub-Con Application'!$B$13:$B$1012,B249,'1.2 Sub-Con Application'!$R$13:$R$1012))","v":0},{"$f":"IF(B249=\"\",\"\",SUMIF('1.2 Sub-Con Application'!$B$13:$B$1012,B249,'1.2 Sub-Con Application'!$S$13:$S$1012))","v":0},{"$f":"IFERROR(INDEX('1.2 Sub-Con Application'!$B$13:$U$1012,MATCH(1,('1.2 Sub-Con Application'!$B$13:$B$1012=B249)*('1.2 Sub-Con Application'!$U$13:$U$1012=\"Rejected\"),0),20),\"\")","v":""},{"$f":"IFERROR(INDEX('1.2 Sub-Con Application'!$B$13:$V$1012,MATCH(1,('1.2 Sub-Con Application'!$B$13:$B$1012=B249)*('1.2 Sub-Con Application'!$V$13:$V$1012<>\"\"),0),21),\"\")","v":""}]
[null,238,"","","","","","","","",{"$f":"IF(B250=\"\",\"\",SUMIF('1.2 Sub-Con Application'!$B$13:$B$1012,B250,'1.2 Sub-Con Application'!$P$13:$P$1012))","v":0},{"$f":"IF(B250=\"\",\"\",SUMIF('1.2 Sub-Con Application'!$B$13:$B$1012,B250,'1.2 Sub-Con Application'!$R$13:$R$1012))","v":0},{"$f":"IF(B250=\"\",\"\",SUMIF('1.2 Sub-Con Application'!$B$13:$B$1012,B250,'1.2 Sub-Con Application'!$S$13:$S$1012))","v":0},{"$f":"IFERROR(INDEX('1.2 Sub-Con Application'!$B$13:$U$1012,MATCH(1,('1.2 Sub-Con Application'!$B$13:$B$1012=B250)*('1.2 Sub-Con Application'!$U$13:$U$1012=\"Rejected\"),0),20),\"\")","v":""},{"$f":"IFERROR(INDEX('1.2 Sub-Con Application'!$B$13:$V$1012,MATCH(1,('1.2 Sub-Con Application'!$B$13:$B$1012=B250)*('1.2 Sub-Con Application'!$V$13:$V$1012<>\"\"),0),21),\"\")","v":""}]
[null,239,"","","","","","","","",{"$f":"IF(B251=\"\",\"\",SUMIF('1.2 Sub-Con Application'!$B$13:$B$1012,B251,'1.2 Sub-Con Application'!$P$13:$P$1012))","v":0},{"$f":"IF(B251=\"\",\"\",SUMIF('1.2 Sub-Con Application'!$B$13:$B$1012,B251,'1.2 Sub-Con Application'!$R$13:$R$1012))","v":0},{"$f":"IF(B251=\"\",\"\",SUMIF('1.2 Sub-Con Application'!$B$13:$B$1012,B251,'1.2 Sub-Con Application'!$S$13:$S$1012))","v":0},{"$f":"IFERROR(INDEX('1.2 Sub-Con Application'!$B$13:$U$1012,MATCH(1,('1.2 Sub-Con Application'!$B$13:$B$1012=B251)*('1.2 Sub-Con Application'!$U$13:$U$1012=\"Rejected\"),0),20),\"\")","v":""},{"$f":"IFERROR(INDEX('1.2 Sub-Con Application'!$B$13:$V$1012,MATCH(1,('1.2 Sub-Con Application'!$B$13:$B$1012=B251)*('1.2 Sub-Con Application'!$V$13:$V$1012<>\"\"),0),21),\"\")","v":""}]
[null,240,"","","","","","","","",{"$f":"IF(B252=\"\",\"\",SUMIF('1.2 Sub-Con Application'!$B$13:$B$1012,B252,'1.2 Sub-Con Application'!$P$13:$P$1012))","v":0},{"$f":"IF(B252=\"\",\"\",SUMIF('1.2 Sub-Con Application'!$B$13:$B$1012,B252,'1.2 Sub-Con Application'!$R$13:$R$1012))","v":0},{"$f":"IF(B252=\"\",\"\",SUMIF('1.2 Sub-Con Application'!$B$13:$B$1012,B252,'1.2 Sub-Con Application'!$S$13:$S$1012))","v":0},{"$f":"IFERROR(INDEX('1.2 Sub-Con Application'!$B$13:$U$1012,MATCH(1,('1.2 Sub-Con Application'!$B$13:$B$1012=B252)*('1.2 Sub-Con Application'!$U$13:$U$1012=\"Rejected\"),0),20),\"\")","v":""},{"$f":"IFERROR(INDEX('1.2 Sub-Con Application'!$B$13:$V$1012,MATCH(1,('1.2 Sub-Con Application'!$B$13:$B$1012=B252)*('1.2 Sub-Con Application'!$V$13:$V$1012<>\"\"),0),21),\"\")","v":""}]
[null,241,{"$f":"IFERROR(INDEX(table_subconApp,MATCH($B253,row_subconApp,0),MATCH(C$12,col_subconApp,0)),\"\")","v":""},"","","","","","","",{"$f":"IF(B253=\"\",\"\",SUMIF('1.2 Sub-Con Application'!$B$13:$B$1012,B253,'1.2 Sub-Con Application'!$P$13:$P$1012))","v":0},{"$f":"IF(B253=\"\",\"\",SUMIF('1.2 Sub-Con Application'!$B$13:$B$1012,B253,'1.2 Sub-Con Application'!$R$13:$R$1012))","v":0},{"$f":"IF(B253=\"\",\"\",SUMIF('1.2 Sub-Con Application'!$B$13:$B$1012,B253,'1.2 Sub-Con Application'!$S$13:$S$1012))","v":0},{"$f":"IFERROR(INDEX('1.2 Sub-Con Application'!$B$13:$U$1012,MATCH(1,('1.2 Sub-Con Application'!$B$13:$B$1012=B253)*('1.2 Sub-Con Application'!$U$13:$U$1012=\"Rejected\"),0),20),\"\")","v":""},{"$f":"IFERROR(INDEX('1.2 Sub-Con Application'!$B$13:$V$1012,MATCH(1,('1.2 Sub-Con Application'!$B$13:$B$1012=B253)*('1.2 Sub-Con Application'!$V$13:$V$1012<>\"\"),0),21),\"\")","v":""}]
[null,242,"","","","","","","","",{"$f":"IF(B254=\"\",\"\",SUMIF('1.2 Sub-Con Application'!$B$13:$B$1012,B254,'1.2 Sub-Con Application'!$P$13:$P$1012))","v":0},{"$f":"IF(B254=\"\",\"\",SUMIF('1.2 Sub-Con Application'!$B$13:$B$1012,B254,'1.2 Sub-Con Application'!$R$13:$R$1012))","v":0},{"$f":"IF(B254=\"\",\"\",SUMIF('1.2 Sub-Con Application'!$B$13:$B$1012,B254,'1.2 Sub-Con Application'!$S$13:$S$1012))","v":0},{"$f":"IFERROR(INDEX('1.2 Sub-Con Application'!$B$13:$U$1012,MATCH(1,('1.2 Sub-Con Application'!$B$13:$B$1012=B254)*('1.2 Sub-Con Application'!$U$13:$U$1012=\"Rejected\"),0),20),\"\")","v":""},{"$f":"IFERROR(INDEX('1.2 Sub-Con Application'!$B$13:$V$1012,MATCH(1,('1.2 Sub-Con Application'!$B$13:$B$1012=B254)*('1.2 Sub-Con Application'!$V$13:$V$1012<>\"\"),0),21),\"\")","v":""}]
[null,243,"","","","","","","","",{"$f":"IF(B255=\"\",\"\",SUMIF('1.2 Sub-Con Application'!$B$13:$B$1012,B255,'1.2 Sub-Con Application'!$P$13:$P$1012))","v":0},{"$f":"IF(B255=\"\",\"\",SUMIF('1.2 Sub-Con Application'!$B$13:$B$1012,B255,'1.2 Sub-Con Application'!$R$13:$R$1012))","v":0},{"$f":"IF(B255=\"\",\"\",SUMIF('1.2 Sub-Con Application'!$B$13:$B$1012,B255,'1.2 Sub-Con Application'!$S$13:$S$1012))","v":0},{"$f":"IFERROR(INDEX('1.2 Sub-Con Application'!$B$13:$U$1012,MATCH(1,('1.2 Sub-Con Application'!$B$13:$B$1012=B255)*('1.2 Sub-Con Application'!$U$13:$U$1012=\"Rejected\"),0),20),\"\")","v":""},{"$f":"IFERROR(INDEX('1.2 Sub-Con Application'!$B$13:$V$1012,MATCH(1,('1.2 Sub-Con Application'!$B$13:$B$1012=B255)*('1.2 Sub-Con Application'!$V$13:$V$1012<>\"\"),0),21),\"\")","v":""}]
[null,244,"","","","","","","","",{"$f":"IF(B256=\"\",\"\",SUMIF('1.2 Sub-Con Application'!$B$13:$B$1012,B256,'1.2 Sub-Con Application'!$P$13:$P$1012))","v":0},{"$f":"IF(B256=\"\",\"\",SUMIF('1.2 Sub-Con Application'!$B$13:$B$1012,B256,'1.2 Sub-Con Application'!$R$13:$R$1012))","v":0},{"$f":"IF(B256=\"\",\"\",SUMIF('1.2 Sub-Con Application'!$B$13:$B$1012,B256,'1.2 Sub-Con Application'!$S$13:$S$1012))","v":0},{"$f":"IFERROR(INDEX('1.2 Sub-Con Application'!$B$13:$U$1012,MATCH(1,('1.2 Sub-Con Application'!$B$13:$B$1012=B256)*('1.2 Sub-Con Application'!$U$13:$U$1012=\"Rejected\"),0),20),\"\")","v":""},{"$f":"IFERROR(INDEX('1.2 Sub-Con Application'!$B$13:$V$1012,MATCH(1,('1.2 Sub-Con Application'!$B$13:$B$1012=B256)*('1.2 Sub-Con Application'!$V$13:$V$1012<>\"\"),0),21),\"\")","v":""}]
[null,245,"","","","","","","","",{"$f":"IF(B257=\"\",\"\",SUMIF('1.2 Sub-Con Application'!$B$13:$B$1012,B257,'1.2 Sub-Con Application'!$P$13:$P$1012))","v":0},{"$f":"IF(B257=\"\",\"\",SUMIF('1.2 Sub-Con Application'!$B$13:$B$1012,B257,'1.2 Sub-Con Application'!$R$13:$R$1012))","v":0},{"$f":"IF(B257=\"\",\"\",SUMIF('1.2 Sub-Con Application'!$B$13:$B$1012,B257,'1.2 Sub-Con Application'!$S$13:$S$1012))","v":0},{"$f":"IFERROR(INDEX('1.2 Sub-Con Application'!$B$13:$U$1012,MATCH(1,('1.2 Sub-Con Application'!$B$13:$B$1012=B257)*('1.2 Sub-Con Application'!$U$13:$U$1012=\"Rejected\"),0),20),\"\")","v":""},{"$f":"IFERROR(INDEX('1.2 Sub-Con Application'!$B$13:$V$1012,MATCH(1,('1.2 Sub-Con Application'!$B$13:$B$1012=B257)*('1.2 Sub-Con Application'!$V$13:$V$1012<>\"\"),0),21),\"\")","v":""}]
[null,246,"","","","","","","","",{"$f":"IF(B258=\"\",\"\",SUMIF('1.2 Sub-Con Application'!$B$13:$B$1012,B258,'1.2 Sub-Con Application'!$P$13:$P$1012))","v":0},{"$f":"IF(B258=\"\",\"\",SUMIF('1.2 Sub-Con Application'!$B$13:$B$1012,B258,'1.2 Sub-Con Application'!$R$13:$R$1012))","v":0},{"$f":"IF(B258=\"\",\"\",SUMIF('1.2 Sub-Con Application'!$B$13:$B$1012,B258,'1.2 Sub-Con Application'!$S$13:$S$1012))","v":0},{"$f":"IFERROR(INDEX('1.2 Sub-Con Application'!$B$13:$U$1012,MATCH(1,('1.2 Sub-Con Application'!$B$13:$B$1012=B258)*('1.2 Sub-Con Application'!$U$13:$U$1012=\"Rejected\"),0),20),\"\")","v":""},{"$f":"IFERROR(INDEX('1.2 Sub-Con Application'!$B$13:$V$1012,MATCH(1,('1.2 Sub-Con Application'!$B$13:$B$1012=B258)*('1.2 Sub-Con Application'!$V$13:$V$1012<>\"\"),0),21),\"\")","v":""}]
[null,247,"","","","","","","","",{"$f":"IF(B259=\"\",\"\",SUMIF('1.2 Sub-Con Application'!$B$13:$B$1012,B259,'1.2 Sub-Con Application'!$P$13:$P$1012))","v":0},{"$f":"IF(B259=\"\",\"\",SUMIF('1.2 Sub-Con Application'!$B$13:$B$1012,B259,'1.2 Sub-Con Application'!$R$13:$R$1012))","v":0},{"$f":"IF(B259=\"\",\"\",SUMIF('1.2 Sub-Con Application'!$B$13:$B$1012,B259,'1.2 Sub-Con Application'!$S$13:$S$1012))","v":0},{"$f":"IFERROR(INDEX('1.2 Sub-Con Application'!$B$13:$U$1012,MATCH(1,('1.2 Sub-Con Application'!$B$13:$B$1012=B259)*('1.2 Sub-Con Application'!$U$13:$U$1012=\"Rejected\"),0),20),\"\")","v":""},{"$f":"IFERROR(INDEX('1.2 Sub-Con Application'!$B$13:$V$1012,MATCH(1,('1.2 Sub-Con Application'!$B$13:$B$1012=B259)*('1.2 Sub-Con Application'!$V$13:$V$1012<>\"\"),0),21),\"\")","v":""}]
[null,248,"","","","","","","","",{"$f":"IF(B260=\"\",\"\",SUMIF('1.2 Sub-Con Application'!$B$13:$B$1012,B260,'1.2 Sub-Con Application'!$P$13:$P$1012))","v":0},{"$f":"IF(B260=\"\",\"\",SUMIF('1.2 Sub-Con Application'!$B$13:$B$1012,B260,'1.2 Sub-Con Application'!$R$13:$R$1012))","v":0},{"$f":"IF(B260=\"\",\"\",SUMIF('1.2 Sub-Con Application'!$B$13:$B$1012,B260,'1.2 Sub-Con Application'!$S$13:$S$1012))","v":0},{"$f":"IFERROR(INDEX('1.2 Sub-Con Application'!$B$13:$U$1012,MATCH(1,('1.2 Sub-Con Application'!$B$13:$B$1012=B260)*('1.2 Sub-Con Application'!$U$13:$U$1012=\"Rejected\"),0),20),\"\")","v":""},{"$f":"IFERROR(INDEX('1.2 Sub-Con Application'!$B$13:$V$1012,MATCH(1,('1.2 Sub-Con Application'!$B$13:$B$1012=B260)*('1.2 Sub-Con Application'!$V$13:$V$1012<>\"\"),0),21),\"\")","v":""}]
[null,249,"","","","","","","","",{"$f":"IF(B261=\"\",\"\",SUMIF('1.2 Sub-Con Application'!$B$13:$B$1012,B261,'1.2 Sub-Con Application'!$P$13:$P$1012))","v":0},{"$f":"IF(B261=\"\",\"\",SUMIF('1.2 Sub-Con Application'!$B$13:$B$1012,B261,'1.2 Sub-Con Application'!$R$13:$R$1012))","v":0},{"$f":"IF(B261=\"\",\"\",SUMIF('1.2 Sub-Con Application'!$B$13:$B$1012,B261,'1.2 Sub-Con Application'!$S$13:$S$1012))","v":0},{"$f":"IFERROR(INDEX('1.2 Sub-Con Application'!$B$13:$U$1012,MATCH(1,('1.2 Sub-Con Application'!$B$13:$B$1012=B261)*('1.2 Sub-Con Application'!$U$13:$U$1012=\"Rejected\"),0),20),\"\")","v":""},{"$f":"IFERROR(INDEX('1.2 Sub-Con Application'!$B$13:$V$1012,MATCH(1,('1.2 Sub-Con Application'!$B$13:$B$1012=B261)*('1.2 Sub-Con Application'!$V$13:$V$1012<>\"\"),0),21),\"\")","v":""}]
[null,250,"","","","","","","","",{"$f":"IF(B262=\"\",\"\",SUMIF('1.2 Sub-Con Application'!$B$13:$B$1012,B262,'1.2 Sub-Con Application'!$P$13:$P$1012))","v":0},{"$f":"IF(B262=\"\",\"\",SUMIF('1.2 Sub-Con Application'!$B$13:$B$1012,B262,'1.2 Sub-Con Application'!$R$13:$R$1012))","v":0},{"$f":"IF(B262=\"\",\"\",SUMIF('1.2 Sub-Con Application'!$B$13:$B$1012,B262,'1.2 Sub-Con Application'!$S$13:$S$1012))","v":0},{"$f":"IFERROR(INDEX('1.2 Sub-Con Application'!$B$13:$U$1012,MATCH(1,('1.2 Sub-Con Application'!$B$13:$B$1012=B262)*('1.2 Sub-Con Application'!$U$13:$U$1012=\"Rejected\"),0),20),\"\")","v":""},{"$f":"IFERROR(INDEX('1.2 Sub-Con Application'!$B$13:$V$1012,MATCH(1,('1.2 Sub-Con Application'!$B$13:$B$1012=B262)*('1.2 Sub-Con Application'!$V$13:$V$1012<>\"\"),0),21),\"\")","v":""}]
[null,251,{"$f":"IFERROR(INDEX(table_subconApp,MATCH($B263,row_subconApp,0),MATCH(C$12,col_subconApp,0)),\"\")","v":""},"","","","","","","",{"$f":"IF(B263=\"\",\"\",SUMIF('1.2 Sub-Con Application'!$B$13:$B$1012,B263,'1.2 Sub-Con Application'!$P$13:$P$1012))","v":0},{"$f":"IF(B263=\"\",\"\",SUMIF('1.2 Sub-Con Application'!$B$13:$B$1012,B263,'1.2 Sub-Con Application'!$R$13:$R$1012))","v":0},{"$f":"IF(B263=\"\",\"\",SUMIF('1.2 Sub-Con Application'!$B$13:$B$1012,B263,'1.2 Sub-Con Application'!$S$13:$S$1012))","v":0},{"$f":"IFERROR(INDEX('1.2 Sub-Con Application'!$B$13:$U$1012,MATCH(1,('1.2 Sub-Con Application'!$B$13:$B$1012=B263)*('1.2 Sub-Con Application'!$U$13:$U$1012=\"Rejected\"),0),20),\"\")","v":""},{"$f":"IFERROR(INDEX('1.2 Sub-Con Application'!$B$13:$V$1012,MATCH(1,('1.2 Sub-Con Application'!$B$13:$B$1012=B263)*('1.2 Sub-Con Application'!$V$13:$V$1012<>\"\"),0),21),\"\")","v":""}]
[null,252,"","","","","","","","",{"$f":"IF(B264=\"\",\"\",SUMIF('1.2 Sub-Con Application'!$B$13:$B$1012,B264,'1.2 Sub-Con Application'!$P$13:$P$1012))","v":0},{"$f":"IF(B264=\"\",\"\",SUMIF('1.2 Sub-Con Application'!$B$13:$B$1012,B264,'1.2 Sub-Con Application'!$R$13:$R$1012))","v":0},{"$f":"IF(B264=\"\",\"\",SUMIF('1.2 Sub-Con Application'!$B$13:$B$1012,B264,'1.2 Sub-Con Application'!$S$13:$S$1012))","v":0},{"$f":"IFERROR(INDEX('1.2 Sub-Con Application'!$B$13:$U$1012,MATCH(1,('1.2 Sub-Con Application'!$B$13:$B$1012=B264)*('1.2 Sub-Con Application'!$U$13:$U$1012=\"Rejected\"),0),20),\"\")","v":""},{"$f":"IFERROR(INDEX('1.2 Sub-Con Application'!$B$13:$V$1012,MATCH(1,('1.2 Sub-Con Application'!$B$13:$B$1012=B264)*('1.2 Sub-Con Application'!$V$13:$V$1012<>\"\"),0),21),\"\")","v":""}]
[null,253,"","","","","","","","",{"$f":"IF(B265=\"\",\"\",SUMIF('1.2 Sub-Con Application'!$B$13:$B$1012,B265,'1.2 Sub-Con Application'!$P$13:$P$1012))","v":0},{"$f":"IF(B265=\"\",\"\",SUMIF('1.2 Sub-Con Application'!$B$13:$B$1012,B265,'1.2 Sub-Con Application'!$R$13:$R$1012))","v":0},{"$f":"IF(B265=\"\",\"\",SUMIF('1.2 Sub-Con Application'!$B$13:$B$1012,B265,'1.2 Sub-Con Application'!$S$13:$S$1012))","v":0},{"$f":"IFERROR(INDEX('1.2 Sub-Con Application'!$B$13:$U$1012,MATCH(1,('1.2 Sub-Con Application'!$B$13:$B$1012=B265)*('1.2 Sub-Con Application'!$U$13:$U$1012=\"Rejected\"),0),20),\"\")","v":""},{"$f":"IFERROR(INDEX('1.2 Sub-Con Application'!$B$13:$V$1012,MATCH(1,('1.2 Sub-Con Application'!$B$13:$B$1012=B265)*('1.2 Sub-Con Application'!$V$13:$V$1012<>\"\"),0),21),\"\")","v":""}]
[null,254,"","","","","","","","",{"$f":"IF(B266=\"\",\"\",SUMIF('1.2 Sub-Con Application'!$B$13:$B$1012,B266,'1.2 Sub-Con Application'!$P$13:$P$1012))","v":0},{"$f":"IF(B266=\"\",\"\",SUMIF('1.2 Sub-Con Application'!$B$13:$B$1012,B266,'1.2 Sub-Con Application'!$R$13:$R$1012))","v":0},{"$f":"IF(B266=\"\",\"\",SUMIF('1.2 Sub-Con Application'!$B$13:$B$1012,B266,'1.2 Sub-Con Application'!$S$13:$S$1012))","v":0},{"$f":"IFERROR(INDEX('1.2 Sub-Con Application'!$B$13:$U$1012,MATCH(1,('1.2 Sub-Con Application'!$B$13:$B$1012=B266)*('1.2 Sub-Con Application'!$U$13:$U$1012=\"Rejected\"),0),20),\"\")","v":""},{"$f":"IFERROR(INDEX('1.2 Sub-Con Application'!$B$13:$V$1012,MATCH(1,('1.2 Sub-Con Application'!$B$13:$B$1012=B266)*('1.2 Sub-Con Application'!$V$13:$V$1012<>\"\"),0),21),\"\")","v":""}]
[null,255,"","","","","","","","",{"$f":"IF(B267=\"\",\"\",SUMIF('1.2 Sub-Con Application'!$B$13:$B$1012,B267,'1.2 Sub-Con Application'!$P$13:$P$1012))","v":0},{"$f":"IF(B267=\"\",\"\",SUMIF('1.2 Sub-Con Application'!$B$13:$B$1012,B267,'1.2 Sub-Con Application'!$R$13:$R$1012))","v":0},{"$f":"IF(B267=\"\",\"\",SUMIF('1.2 Sub-Con Application'!$B$13:$B$1012,B267,'1.2 Sub-Con Application'!$S$13:$S$1012))","v":0},{"$f":"IFERROR(INDEX('1.2 Sub-Con Application'!$B$13:$U$1012,MATCH(1,('1.2 Sub-Con Application'!$B$13:$B$1012=B267)*('1.2 Sub-Con Application'!$U$13:$U$1012=\"Rejected\"),0),20),\"\")","v":""},{"$f":"IFERROR(INDEX('1.2 Sub-Con Application'!$B$13:$V$1012,MATCH(1,('1.2 Sub-Con Application'!$B$13:$B$1012=B267)*('1.2 Sub-Con Application'!$V$13:$V$1012<>\"\"),0),21),\"\")","v":""}]
[null,256,"","","","","","","","",{"$f":"IF(B268=\"\",\"\",SUMIF('1.2 Sub-Con Application'!$B$13:$B$1012,B268,'1.2 Sub-Con Application'!$P$13:$P$1012))","v":0},{"$f":"IF(B268=\"\",\"\",SUMIF('1.2 Sub-Con Application'!$B$13:$B$1012,B268,'1.2 Sub-Con Application'!$R$13:$R$1012))","v":0},{"$f":"IF(B268=\"\",\"\",SUMIF('1.2 Sub-Con Application'!$B$13:$B$1012,B268,'1.2 Sub-Con Application'!$S$13:$S$1012))","v":0},{"$f":"IFERROR(INDEX('1.2 Sub-Con Application'!$B$13:$U$1012,MATCH(1,('1.2 Sub-Con Application'!$B$13:$B$1012=B268)*('1.2 Sub-Con Application'!$U$13:$U$1012=\"Rejected\"),0),20),\"\")","v":""},{"$f":"IFERROR(INDEX('1.2 Sub-Con Application'!$B$13:$V$1012,MATCH(1,('1.2 Sub-Con Application'!$B$13:$B$1012=B268)*('1.2 Sub-Con Application'!$V$13:$V$1012<>\"\"),0),21),\"\")","v":""}]
[null,257,"","","","","","","",{"$f":"IFERROR(IF(ISBLANK(INDEX(table_subconApp,MATCH($B269,row_subconApp,0),MATCH(J$12,col_subconApp,0))),\"\",INDEX(table_subconApp,MATCH($B269,row_subconApp,0),MATCH(J$12,col_subconApp,0))),\"\")","v":""},{"$f":"IF(B269=\"\",\"\",SUMIF('1.2 Sub-Con Application'!$B$13:$B$1012,B269,'1.2 Sub-Con Application'!$P$13:$P$1012))","v":0},{"$f":"IF(B269=\"\",\"\",SUMIF('1.2 Sub-Con Application'!$B$13:$B$1012,B269,'1.2 Sub-Con Application'!$R$13:$R$1012))","v":0},{"$f":"IF(B269=\"\",\"\",SUMIF('1.2 Sub-Con Application'!$B$13:$B$1012,B269,'1.2 Sub-Con Application'!$S$13:$S$1012))","v":0},{"$f":"IFERROR(INDEX('1.2 Sub-Con Application'!$B$13:$U$1012,MATCH(1,('1.2 Sub-Con Application'!$B$13:$B$1012=B269)*('1.2 Sub-Con Application'!$U$13:$U$1012=\"Rejected\"),0),20),\"\")","v":""},{"$f":"IFERROR(INDEX('1.2 Sub-Con Application'!$B$13:$V$1012,MATCH(1,('1.2 Sub-Con Application'!$B$13:$B$1012=B269)*('1.2 Sub-Con Application'!$V$13:$V$1012<>\"\"),0),21),\"\")","v":""}]
[null,258,"","","","","","","","",{"$f":"IF(B270=\"\",\"\",SUMIF('1.2 Sub-Con Application'!$B$13:$B$1012,B270,'1.2 Sub-Con Application'!$P$13:$P$1012))","v":0},{"$f":"IF(B270=\"\",\"\",SUMIF('1.2 Sub-Con Application'!$B$13:$B$1012,B270,'1.2 Sub-Con Application'!$R$13:$R$1012))","v":0},{"$f":"IF(B270=\"\",\"\",SUMIF('1.2 Sub-Con Application'!$B$13:$B$1012,B270,'1.2 Sub-Con Application'!$S$13:$S$1012))","v":0},{"$f":"IFERROR(INDEX('1.2 Sub-Con Application'!$B$13:$U$1012,MATCH(1,('1.2 Sub-Con Application'!$B$13:$B$1012=B270)*('1.2 Sub-Con Application'!$U$13:$U$1012=\"Rejected\"),0),20),\"\")","v":""},{"$f":"IFERROR(INDEX('1.2 Sub-Con Application'!$B$13:$V$1012,MATCH(1,('1.2 Sub-Con Application'!$B$13:$B$1012=B270)*('1.2 Sub-Con Application'!$V$13:$V$1012<>\"\"),0),21),\"\")","v":""}]
[null,259,"","","","","","","","",{"$f":"IF(B271=\"\",\"\",SUMIF('1.2 Sub-Con Application'!$B$13:$B$1012,B271,'1.2 Sub-Con Application'!$P$13:$P$1012))","v":0},{"$f":"IF(B271=\"\",\"\",SUMIF('1.2 Sub-Con Application'!$B$13:$B$1012,B271,'1.2 Sub-Con Application'!$R$13:$R$1012))","v":0},{"$f":"IF(B271=\"\",\"\",SUMIF('1.2 Sub-Con Application'!$B$13:$B$1012,B271,'1.2 Sub-Con Application'!$S$13:$S$1012))","v":0},{"$f":"IFERROR(INDEX('1.2 Sub-Con Application'!$B$13:$U$1012,MATCH(1,('1.2 Sub-Con Application'!$B$13:$B$1012=B271)*('1.2 Sub-Con Application'!$U$13:$U$1012=\"Rejected\"),0),20),\"\")","v":""},{"$f":"IFERROR(INDEX('1.2 Sub-Con Application'!$B$13:$V$1012,MATCH(1,('1.2 Sub-Con Application'!$B$13:$B$1012=B271)*('1.2 Sub-Con Application'!$V$13:$V$1012<>\"\"),0),21),\"\")","v":""}]
[null,260,"","","","","","","","",{"$f":"IF(B272=\"\",\"\",SUMIF('1.2 Sub-Con Application'!$B$13:$B$1012,B272,'1.2 Sub-Con Application'!$P$13:$P$1012))","v":0},{"$f":"IF(B272=\"\",\"\",SUMIF('1.2 Sub-Con Application'!$B$13:$B$1012,B272,'1.2 Sub-Con Application'!$R$13:$R$1012))","v":0},{"$f":"IF(B272=\"\",\"\",SUMIF('1.2 Sub-Con Application'!$B$13:$B$1012,B272,'1.2 Sub-Con Application'!$S$13:$S$1012))","v":0},{"$f":"IFERROR(INDEX('1.2 Sub-Con Application'!$B$13:$U$1012,MATCH(1,('1.2 Sub-Con Application'!$B$13:$B$1012=B272)*('1.2 Sub-Con Application'!$U$13:$U$1012=\"Rejected\"),0),20),\"\")","v":""},{"$f":"IFERROR(INDEX('1.2 Sub-Con Application'!$B$13:$V$1012,MATCH(1,('1.2 Sub-Con Application'!$B$13:$B$1012=B272)*('1.2 Sub-Con Application'!$V$13:$V$1012<>\"\"),0),21),\"\")","v":""}]
[null,261,{"$f":"IFERROR(INDEX(table_subconApp,MATCH($B273,row_subconApp,0),MATCH(C$12,col_subconApp,0)),\"\")","v":""},"","","","","","","",{"$f":"IF(B273=\"\",\"\",SUMIF('1.2 Sub-Con Application'!$B$13:$B$1012,B273,'1.2 Sub-Con Application'!$P$13:$P$1012))","v":0},{"$f":"IF(B273=\"\",\"\",SUMIF('1.2 Sub-Con Application'!$B$13:$B$1012,B273,'1.2 Sub-Con Application'!$R$13:$R$1012))","v":0},{"$f":"IF(B273=\"\",\"\",SUMIF('1.2 Sub-Con Application'!$B$13:$B$1012,B273,'1.2 Sub-Con Application'!$S$13:$S$1012))","v":0},{"$f":"IFERROR(INDEX('1.2 Sub-Con Application'!$B$13:$U$1012,MATCH(1,('1.2 Sub-Con Application'!$B$13:$B$1012=B273)*('1.2 Sub-Con Application'!$U$13:$U$1012=\"Rejected\"),0),20),\"\")","v":""},{"$f":"IFERROR(INDEX('1.2 Sub-Con Application'!$B$13:$V$1012,MATCH(1,('1.2 Sub-Con Application'!$B$13:$B$1012=B273)*('1.2 Sub-Con Application'!$V$13:$V$1012<>\"\"),0),21),\"\")","v":""}]
[null,262,"","","","","","","","",{"$f":"IF(B274=\"\",\"\",SUMIF('1.2 Sub-Con Application'!$B$13:$B$1012,B274,'1.2 Sub-Con Application'!$P$13:$P$1012))","v":0},{"$f":"IF(B274=\"\",\"\",SUMIF('1.2 Sub-Con Application'!$B$13:$B$1012,B274,'1.2 Sub-Con Application'!$R$13:$R$1012))","v":0},{"$f":"IF(B274=\"\",\"\",SUMIF('1.2 Sub-Con Application'!$B$13:$B$1012,B274,'1.2 Sub-Con Application'!$S$13:$S$1012))","v":0},{"$f":"IFERROR(INDEX('1.2 Sub-Con Application'!$B$13:$U$1012,MATCH(1,('1.2 Sub-Con Application'!$B$13:$B$1012=B274)*('1.2 Sub-Con Application'!$U$13:$U$1012=\"Rejected\"),0),20),\"\")","v":""},{"$f":"IFERROR(INDEX('1.2 Sub-Con Application'!$B$13:$V$1012,MATCH(1,('1.2 Sub-Con Application'!$B$13:$B$1012=B274)*('1.2 Sub-Con Application'!$V$13:$V$1012<>\"\"),0),21),\"\")","v":""}]
[null,263,"","","","","","","","",{"$f":"IF(B275=\"\",\"\",SUMIF('1.2 Sub-Con Application'!$B$13:$B$1012,B275,'1.2 Sub-Con Application'!$P$13:$P$1012))","v":0},{"$f":"IF(B275=\"\",\"\",SUMIF('1.2 Sub-Con Application'!$B$13:$B$1012,B275,'1.2 Sub-Con Application'!$R$13:$R$1012))","v":0},{"$f":"IF(B275=\"\",\"\",SUMIF('1.2 Sub-Con Application'!$B$13:$B$1012,B275,'1.2 Sub-Con Application'!$S$13:$S$1012))","v":0},{"$f":"IFERROR(INDEX('1.2 Sub-Con Application'!$B$13:$U$1012,MATCH(1,('1.2 Sub-Con Application'!$B$13:$B$1012=B275)*('1.2 Sub-Con Application'!$U$13:$U$1012=\"Rejected\"),0),20),\"\")","v":""},{"$f":"IFERROR(INDEX('1.2 Sub-Con Application'!$B$13:$V$1012,MATCH(1,('1.2 Sub-Con Application'!$B$13:$B$1012=B275)*('1.2 Sub-Con Application'!$V$13:$V$1012<>\"\"),0),21),\"\")","v":""}]
[null,264,"","","","","","","","",{"$f":"IF(B276=\"\",\"\",SUMIF('1.2 Sub-Con Application'!$B$13:$B$1012,B276,'1.2 Sub-Con Application'!$P$13:$P$1012))","v":0},{"$f":"IF(B276=\"\",\"\",SUMIF('1.2 Sub-Con Application'!$B$13:$B$1012,B276,'1.2 Sub-Con Application'!$R$13:$R$1012))","v":0},{"$f":"IF(B276=\"\",\"\",SUMIF('1.2 Sub-Con Application'!$B$13:$B$1012,B276,'1.2 Sub-Con Application'!$S$13:$S$1012))","v":0},{"$f":"IFERROR(INDEX('1.2 Sub-Con Application'!$B$13:$U$1012,MATCH(1,('1.2 Sub-Con Application'!$B$13:$B$1012=B276)*('1.2 Sub-Con Application'!$U$13:$U$1012=\"Rejected\"),0),20),\"\")","v":""},{"$f":"IFERROR(INDEX('1.2 Sub-Con Application'!$B$13:$V$1012,MATCH(1,('1.2 Sub-Con Application'!$B$13:$B$1012=B276)*('1.2 Sub-Con Application'!$V$13:$V$1012<>\"\"),0),21),\"\")","v":""}]
[null,265,"","","","","","","","",{"$f":"IF(B277=\"\",\"\",SUMIF('1.2 Sub-Con Application'!$B$13:$B$1012,B277,'1.2 Sub-Con Application'!$P$13:$P$1012))","v":0},{"$f":"IF(B277=\"\",\"\",SUMIF('1.2 Sub-Con Application'!$B$13:$B$1012,B277,'1.2 Sub-Con Application'!$R$13:$R$1012))","v":0},{"$f":"IF(B277=\"\",\"\",SUMIF('1.2 Sub-Con Application'!$B$13:$B$1012,B277,'1.2 Sub-Con Application'!$S$13:$S$1012))","v":0},{"$f":"IFERROR(INDEX('1.2 Sub-Con Application'!$B$13:$U$1012,MATCH(1,('1.2 Sub-Con Application'!$B$13:$B$1012=B277)*('1.2 Sub-Con Application'!$U$13:$U$1012=\"Rejected\"),0),20),\"\")","v":""},{"$f":"IFERROR(INDEX('1.2 Sub-Con Application'!$B$13:$V$1012,MATCH(1,('1.2 Sub-Con Application'!$B$13:$B$1012=B277)*('1.2 Sub-Con Application'!$V$13:$V$1012<>\"\"),0),21),\"\")","v":""}]
[null,266,"","","","","","","","",{"$f":"IF(B278=\"\",\"\",SUMIF('1.2 Sub-Con Application'!$B$13:$B$1012,B278,'1.2 Sub-Con Application'!$P$13:$P$1012))","v":0},{"$f":"IF(B278=\"\",\"\",SUMIF('1.2 Sub-Con Application'!$B$13:$B$1012,B278,'1.2 Sub-Con Application'!$R$13:$R$1012))","v":0},{"$f":"IF(B278=\"\",\"\",SUMIF('1.2 Sub-Con Application'!$B$13:$B$1012,B278,'1.2 Sub-Con Application'!$S$13:$S$1012))","v":0},{"$f":"IFERROR(INDEX('1.2 Sub-Con Application'!$B$13:$U$1012,MATCH(1,('1.2 Sub-Con Application'!$B$13:$B$1012=B278)*('1.2 Sub-Con Application'!$U$13:$U$1012=\"Rejected\"),0),20),\"\")","v":""},{"$f":"IFERROR(INDEX('1.2 Sub-Con Application'!$B$13:$V$1012,MATCH(1,('1.2 Sub-Con Application'!$B$13:$B$1012=B278)*('1.2 Sub-Con Application'!$V$13:$V$1012<>\"\"),0),21),\"\")","v":""}]
[null,267,"","","","","","","","",{"$f":"IF(B279=\"\",\"\",SUMIF('1.2 Sub-Con Application'!$B$13:$B$1012,B279,'1.2 Sub-Con Application'!$P$13:$P$1012))","v":0},{"$f":"IF(B279=\"\",\"\",SUMIF('1.2 Sub-Con Application'!$B$13:$B$1012,B279,'1.2 Sub-Con Application'!$R$13:$R$1012))","v":0},{"$f":"IF(B279=\"\",\"\",SUMIF('1.2 Sub-Con Application'!$B$13:$B$1012,B279,'1.2 Sub-Con Application'!$S$13:$S$1012))","v":0},{"$f":"IFERROR(INDEX('1.2 Sub-Con Application'!$B$13:$U$1012,MATCH(1,('1.2 Sub-Con Application'!$B$13:$B$1012=B279)*('1.2 Sub-Con Application'!$U$13:$U$1012=\"Rejected\"),0),20),\"\")","v":""},{"$f":"IFERROR(INDEX('1.2 Sub-Con Application'!$B$13:$V$1012,MATCH(1,('1.2 Sub-Con Application'!$B$13:$B$1012=B279)*('1.2 Sub-Con Application'!$V$13:$V$1012<>\"\"),0),21),\"\")","v":""}]
[null,268,"","","","","","","","",{"$f":"IF(B280=\"\",\"\",SUMIF('1.2 Sub-Con Application'!$B$13:$B$1012,B280,'1.2 Sub-Con Application'!$P$13:$P$1012))","v":0},{"$f":"IF(B280=\"\",\"\",SUMIF('1.2 Sub-Con Application'!$B$13:$B$1012,B280,'1.2 Sub-Con Application'!$R$13:$R$1012))","v":0},{"$f":"IF(B280=\"\",\"\",SUMIF('1.2 Sub-Con Application'!$B$13:$B$1012,B280,'1.2 Sub-Con Application'!$S$13:$S$1012))","v":0},{"$f":"IFERROR(INDEX('1.2 Sub-Con Application'!$B$13:$U$1012,MATCH(1,('1.2 Sub-Con Application'!$B$13:$B$1012=B280)*('1.2 Sub-Con Application'!$U$13:$U$1012=\"Rejected\"),0),20),\"\")","v":""},{"$f":"IFERROR(INDEX('1.2 Sub-Con Application'!$B$13:$V$1012,MATCH(1,('1.2 Sub-Con Application'!$B$13:$B$1012=B280)*('1.2 Sub-Con Application'!$V$13:$V$1012<>\"\"),0),21),\"\")","v":""}]
[null,269,"","","","","","","","",{"$f":"IF(B281=\"\",\"\",SUMIF('1.2 Sub-Con Application'!$B$13:$B$1012,B281,'1.2 Sub-Con Application'!$P$13:$P$1012))","v":0},{"$f":"IF(B281=\"\",\"\",SUMIF('1.2 Sub-Con Application'!$B$13:$B$1012,B281,'1.2 Sub-Con Application'!$R$13:$R$1012))","v":0},{"$f":"IF(B281=\"\",\"\",SUMIF('1.2 Sub-Con Application'!$B$13:$B$1012,B281,'1.2 Sub-Con Application'!$S$13:$S$1012))","v":0},{"$f":"IFERROR(INDEX('1.2 Sub-Con Application'!$B$13:$U$1012,MATCH(1,('1.2 Sub-Con Application'!$B$13:$B$1012=B281)*('1.2 Sub-Con Application'!$U$13:$U$1012=\"Rejected\"),0),20),\"\")","v":""},{"$f":"IFERROR(INDEX('1.2 Sub-Con Application'!$B$13:$V$1012,MATCH(1,('1.2 Sub-Con Application'!$B$13:$B$1012=B281)*('1.2 Sub-Con Application'!$V$13:$V$1012<>\"\"),0),21),\"\")","v":""}]
[null,270,"","","","","","","","",{"$f":"IF(B282=\"\",\"\",SUMIF('1.2 Sub-Con Application'!$B$13:$B$1012,B282,'1.2 Sub-Con Application'!$P$13:$P$1012))","v":0},{"$f":"IF(B282=\"\",\"\",SUMIF('1.2 Sub-Con Application'!$B$13:$B$1012,B282,'1.2 Sub-Con Application'!$R$13:$R$1012))","v":0},{"$f":"IF(B282=\"\",\"\",SUMIF('1.2 Sub-Con Application'!$B$13:$B$1012,B282,'1.2 Sub-Con Application'!$S$13:$S$1012))","v":0},{"$f":"IFERROR(INDEX('1.2 Sub-Con Application'!$B$13:$U$1012,MATCH(1,('1.2 Sub-Con Application'!$B$13:$B$1012=B282)*('1.2 Sub-Con Application'!$U$13:$U$1012=\"Rejected\"),0),20),\"\")","v":""},{"$f":"IFERROR(INDEX('1.2 Sub-Con Application'!$B$13:$V$1012,MATCH(1,('1.2 Sub-Con Application'!$B$13:$B$1012=B282)*('1.2 Sub-Con Application'!$V$13:$V$1012<>\"\"),0),21),\"\")","v":""}]
[null,271,{"$f":"IFERROR(INDEX(table_subconApp,MATCH($B283,row_subconApp,0),MATCH(C$12,col_subconApp,0)),\"\")","v":""},"","","","","","","",{"$f":"IF(B283=\"\",\"\",SUMIF('1.2 Sub-Con Application'!$B$13:$B$1012,B283,'1.2 Sub-Con Application'!$P$13:$P$1012))","v":0},{"$f":"IF(B283=\"\",\"\",SUMIF('1.2 Sub-Con Application'!$B$13:$B$1012,B283,'1.2 Sub-Con Application'!$R$13:$R$1012))","v":0},{"$f":"IF(B283=\"\",\"\",SUMIF('1.2 Sub-Con Application'!$B$13:$B$1012,B283,'1.2 Sub-Con Application'!$S$13:$S$1012))","v":0},{"$f":"IFERROR(INDEX('1.2 Sub-Con Application'!$B$13:$U$1012,MATCH(1,('1.2 Sub-Con Application'!$B$13:$B$1012=B283)*('1.2 Sub-Con Application'!$U$13:$U$1012=\"Rejected\"),0),20),\"\")","v":""},{"$f":"IFERROR(INDEX('1.2 Sub-Con Application'!$B$13:$V$1012,MATCH(1,('1.2 Sub-Con Application'!$B$13:$B$1012=B283)*('1.2 Sub-Con Application'!$V$13:$V$1012<>\"\"),0),21),\"\")","v":""}]
[null,272,"","","","","","","","",{"$f":"IF(B284=\"\",\"\",SUMIF('1.2 Sub-Con Application'!$B$13:$B$1012,B284,'1.2 Sub-Con Application'!$P$13:$P$1012))","v":0},{"$f":"IF(B284=\"\",\"\",SUMIF('1.2 Sub-Con Application'!$B$13:$B$1012,B284,'1.2 Sub-Con Application'!$R$13:$R$1012))","v":0},{"$f":"IF(B284=\"\",\"\",SUMIF('1.2 Sub-Con Application'!$B$13:$B$1012,B284,'1.2 Sub-Con Application'!$S$13:$S$1012))","v":0},{"$f":"IFERROR(INDEX('1.2 Sub-Con Application'!$B$13:$U$1012,MATCH(1,('1.2 Sub-Con Application'!$B$13:$B$1012=B284)*('1.2 Sub-Con Application'!$U$13:$U$1012=\"Rejected\"),0),20),\"\")","v":""},{"$f":"IFERROR(INDEX('1.2 Sub-Con Application'!$B$13:$V$1012,MATCH(1,('1.2 Sub-Con Application'!$B$13:$B$1012=B284)*('1.2 Sub-Con Application'!$V$13:$V$1012<>\"\"),0),21),\"\")","v":""}]
[null,273,"","","","","","","","",{"$f":"IF(B285=\"\",\"\",SUMIF('1.2 Sub-Con Application'!$B$13:$B$1012,B285,'1.2 Sub-Con Application'!$P$13:$P$1012))","v":0},{"$f":"IF(B285=\"\",\"\",SUMIF('1.2 Sub-Con Application'!$B$13:$B$1012,B285,'1.2 Sub-Con Application'!$R$13:$R$1012))","v":0},{"$f":"IF(B285=\"\",\"\",SUMIF('1.2 Sub-Con Application'!$B$13:$B$1012,B285,'1.2 Sub-Con Application'!$S$13:$S$1012))","v":0},{"$f":"IFERROR(INDEX('1.2 Sub-Con Application'!$B$13:$U$1012,MATCH(1,('1.2 Sub-Con Application'!$B$13:$B$1012=B285)*('1.2 Sub-Con Application'!$U$13:$U$1012=\"Rejected\"),0),20),\"\")","v":""},{"$f":"IFERROR(INDEX('1.2 Sub-Con Application'!$B$13:$V$1012,MATCH(1,('1.2 Sub-Con Application'!$B$13:$B$1012=B285)*('1.2 Sub-Con Application'!$V$13:$V$1012<>\"\"),0),21),\"\")","v":""}]
[null,274,"","","","","","","","",{"$f":"IF(B286=\"\",\"\",SUMIF('1.2 Sub-Con Application'!$B$13:$B$1012,B286,'1.2 Sub-Con Application'!$P$13:$P$1012))","v":0},{"$f":"IF(B286=\"\",\"\",SUMIF('1.2 Sub-Con Application'!$B$13:$B$1012,B286,'1.2 Sub-Con Application'!$R$13:$R$1012))","v":0},{"$f":"IF(B286=\"\",\"\",SUMIF('1.2 Sub-Con Application'!$B$13:$B$1012,B286,'1.2 Sub-Con Application'!$S$13:$S$1012))","v":0},{"$f":"IFERROR(INDEX('1.2 Sub-Con Application'!$B$13:$U$1012,MATCH(1,('1.2 Sub-Con Application'!$B$13:$B$1012=B286)*('1.2 Sub-Con Application'!$U$13:$U$1012=\"Rejected\"),0),20),\"\")","v":""},{"$f":"IFERROR(INDEX('1.2 Sub-Con Application'!$B$13:$V$1012,MATCH(1,('1.2 Sub-Con Application'!$B$13:$B$1012=B286)*('1.2 Sub-Con Application'!$V$13:$V$1012<>\"\"),0),21),\"\")","v":""}]
[null,275,"","","","","","","","",{"$f":"IF(B287=\"\",\"\",SUMIF('1.2 Sub-Con Application'!$B$13:$B$1012,B287,'1.2 Sub-Con Application'!$P$13:$P$1012))","v":0},{"$f":"IF(B287=\"\",\"\",SUMIF('1.2 Sub-Con Application'!$B$13:$B$1012,B287,'1.2 Sub-Con Application'!$R$13:$R$1012))","v":0},{"$f":"IF(B287=\"\",\"\",SUMIF('1.2 Sub-Con Application'!$B$13:$B$1012,B287,'1.2 Sub-Con Application'!$S$13:$S$1012))","v":0},{"$f":"IFERROR(INDEX('1.2 Sub-Con Application'!$B$13:$U$1012,MATCH(1,('1.2 Sub-Con Application'!$B$13:$B$1012=B287)*('1.2 Sub-Con Application'!$U$13:$U$1012=\"Rejected\"),0),20),\"\")","v":""},{"$f":"IFERROR(INDEX('1.2 Sub-Con Application'!$B$13:$V$1012,MATCH(1,('1.2 Sub-Con Application'!$B$13:$B$1012=B287)*('1.2 Sub-Con Application'!$V$13:$V$1012<>\"\"),0),21),\"\")","v":""}]
[null,276,"","","","","","","","",{"$f":"IF(B288=\"\",\"\",SUMIF('1.2 Sub-Con Application'!$B$13:$B$1012,B288,'1.2 Sub-Con Application'!$P$13:$P$1012))","v":0},{"$f":"IF(B288=\"\",\"\",SUMIF('1.2 Sub-Con Application'!$B$13:$B$1012,B288,'1.2 Sub-Con Application'!$R$13:$R$1012))","v":0},{"$f":"IF(B288=\"\",\"\",SUMIF('1.2 Sub-Con Application'!$B$13:$B$1012,B288,'1.2 Sub-Con Application'!$S$13:$S$1012))","v":0},{"$f":"IFERROR(INDEX('1.2 Sub-Con Application'!$B$13:$U$1012,MATCH(1,('1.2 Sub-Con Application'!$B$13:$B$1012=B288)*('1.2 Sub-Con Application'!$U$13:$U$1012=\"Rejected\"),0),20),\"\")","v":""},{"$f":"IFERROR(INDEX('1.2 Sub-Con Application'!$B$13:$V$1012,MATCH(1,('1.2 Sub-Con Application'!$B$13:$B$1012=B288)*('1.2 Sub-Con Application'!$V$13:$V$1012<>\"\"),0),21),\"\")","v":""}]
[null,277,"","","","","","","","",{"$f":"IF(B289=\"\",\"\",SUMIF('1.2 Sub-Con Application'!$B$13:$B$1012,B289,'1.2 Sub-Con Application'!$P$13:$P$1012))","v":0},{"$f":"IF(B289=\"\",\"\",SUMIF('1.2 Sub-Con Application'!$B$13:$B$1012,B289,'1.2 Sub-Con Application'!$R$13:$R$1012))","v":0},{"$f":"IF(B289=\"\",\"\",SUMIF('1.2 Sub-Con Application'!$B$13:$B$1012,B289,'1.2 Sub-Con Application'!$S$13:$S$1012))","v":0},{"$f":"IFERROR(INDEX('1.2 Sub-Con Application'!$B$13:$U$1012,MATCH(1,('1.2 Sub-Con Application'!$B$13:$B$1012=B289)*('1.2 Sub-Con Application'!$U$13:$U$1012=\"Rejected\"),0),20),\"\")","v":""},{"$f":"IFERROR(INDEX('1.2 Sub-Con Application'!$B$13:$V$1012,MATCH(1,('1.2 Sub-Con Application'!$B$13:$B$1012=B289)*('1.2 Sub-Con Application'!$V$13:$V$1012<>\"\"),0),21),\"\")","v":""}]
[null,278,"","","","","","","","",{"$f":"IF(B290=\"\",\"\",SUMIF('1.2 Sub-Con Application'!$B$13:$B$1012,B290,'1.2 Sub-Con Application'!$P$13:$P$1012))","v":0},{"$f":"IF(B290=\"\",\"\",SUMIF('1.2 Sub-Con Application'!$B$13:$B$1012,B290,'1.2 Sub-Con Application'!$R$13:$R$1012))","v":0},{"$f":"IF(B290=\"\",\"\",SUMIF('1.2 Sub-Con Application'!$B$13:$B$1012,B290,'1.2 Sub-Con Application'!$S$13:$S$1012))","v":0},{"$f":"IFERROR(INDEX('1.2 Sub-Con Application'!$B$13:$U$1012,MATCH(1,('1.2 Sub-Con Application'!$B$13:$B$1012=B290)*('1.2 Sub-Con Application'!$U$13:$U$1012=\"Rejected\"),0),20),\"\")","v":""},{"$f":"IFERROR(INDEX('1.2 Sub-Con Application'!$B$13:$V$1012,MATCH(1,('1.2 Sub-Con Application'!$B$13:$B$1012=B290)*('1.2 Sub-Con Application'!$V$13:$V$1012<>\"\"),0),21),\"\")","v":""}]
[null,279,"","","","","","","","",{"$f":"IF(B291=\"\",\"\",SUMIF('1.2 Sub-Con Application'!$B$13:$B$1012,B291,'1.2 Sub-Con Application'!$P$13:$P$1012))","v":0},{"$f":"IF(B291=\"\",\"\",SUMIF('1.2 Sub-Con Application'!$B$13:$B$1012,B291,'1.2 Sub-Con Application'!$R$13:$R$1012))","v":0},{"$f":"IF(B291=\"\",\"\",SUMIF('1.2 Sub-Con Application'!$B$13:$B$1012,B291,'1.2 Sub-Con Application'!$S$13:$S$1012))","v":0},{"$f":"IFERROR(INDEX('1.2 Sub-Con Application'!$B$13:$U$1012,MATCH(1,('1.2 Sub-Con Application'!$B$13:$B$1012=B291)*('1.2 Sub-Con Application'!$U$13:$U$1012=\"Rejected\"),0),20),\"\")","v":""},{"$f":"IFERROR(INDEX('1.2 Sub-Con Application'!$B$13:$V$1012,MATCH(1,('1.2 Sub-Con Application'!$B$13:$B$1012=B291)*('1.2 Sub-Con Application'!$V$13:$V$1012<>\"\"),0),21),\"\")","v":""}]
[null,280,"","","","","","","","",{"$f":"IF(B292=\"\",\"\",SUMIF('1.2 Sub-Con Application'!$B$13:$B$1012,B292,'1.2 Sub-Con Application'!$P$13:$P$1012))","v":0},{"$f":"IF(B292=\"\",\"\",SUMIF('1.2 Sub-Con Application'!$B$13:$B$1012,B292,'1.2 Sub-Con Application'!$R$13:$R$1012))","v":0},{"$f":"IF(B292=\"\",\"\",SUMIF('1.2 Sub-Con Application'!$B$13:$B$1012,B292,'1.2 Sub-Con Application'!$S$13:$S$1012))","v":0},{"$f":"IFERROR(INDEX('1.2 Sub-Con Application'!$B$13:$U$1012,MATCH(1,('1.2 Sub-Con Application'!$B$13:$B$1012=B292)*('1.2 Sub-Con Application'!$U$13:$U$1012=\"Rejected\"),0),20),\"\")","v":""},{"$f":"IFERROR(INDEX('1.2 Sub-Con Application'!$B$13:$V$1012,MATCH(1,('1.2 Sub-Con Application'!$B$13:$B$1012=B292)*('1.2 Sub-Con Application'!$V$13:$V$1012<>\"\"),0),21),\"\")","v":""}]
[null,281,{"$f":"IFERROR(INDEX(table_subconApp,MATCH($B293,row_subconApp,0),MATCH(C$12,col_subconApp,0)),\"\")","v":""},"","","","","","","",{"$f":"IF(B293=\"\",\"\",SUMIF('1.2 Sub-Con Application'!$B$13:$B$1012,B293,'1.2 Sub-Con Application'!$P$13:$P$1012))","v":0},{"$f":"IF(B293=\"\",\"\",SUMIF('1.2 Sub-Con Application'!$B$13:$B$1012,B293,'1.2 Sub-Con Application'!$R$13:$R$1012))","v":0},{"$f":"IF(B293=\"\",\"\",SUMIF('1.2 Sub-Con Application'!$B$13:$B$1012,B293,'1.2 Sub-Con Application'!$S$13:$S$1012))","v":0},{"$f":"IFERROR(INDEX('1.2 Sub-Con Application'!$B$13:$U$1012,MATCH(1,('1.2 Sub-Con Application'!$B$13:$B$1012=B293)*('1.2 Sub-Con Application'!$U$13:$U$1012=\"Rejected\"),0),20),\"\")","v":""},{"$f":"IFERROR(INDEX('1.2 Sub-Con Application'!$B$13:$V$1012,MATCH(1,('1.2 Sub-Con Application'!$B$13:$B$1012=B293)*('1.2 Sub-Con Application'!$V$13:$V$1012<>\"\"),0),21),\"\")","v":""}]
[null,282,"","","","","","","","",{"$f":"IF(B294=\"\",\"\",SUMIF('1.2 Sub-Con Application'!$B$13:$B$1012,B294,'1.2 Sub-Con Application'!$P$13:$P$1012))","v":0},{"$f":"IF(B294=\"\",\"\",SUMIF('1.2 Sub-Con Application'!$B$13:$B$1012,B294,'1.2 Sub-Con Application'!$R$13:$R$1012))","v":0},{"$f":"IF(B294=\"\",\"\",SUMIF('1.2 Sub-Con Application'!$B$13:$B$1012,B294,'1.2 Sub-Con Application'!$S$13:$S$1012))","v":0},{"$f":"IFERROR(INDEX('1.2 Sub-Con Application'!$B$13:$U$1012,MATCH(1,('1.2 Sub-Con Application'!$B$13:$B$1012=B294)*('1.2 Sub-Con Application'!$U$13:$U$1012=\"Rejected\"),0),20),\"\")","v":""},{"$f":"IFERROR(INDEX('1.2 Sub-Con Application'!$B$13:$V$1012,MATCH(1,('1.2 Sub-Con Application'!$B$13:$B$1012=B294)*('1.2 Sub-Con Application'!$V$13:$V$1012<>\"\"),0),21),\"\")","v":""}]
[null,283,"","","","","","","","",{"$f":"IF(B295=\"\",\"\",SUMIF('1.2 Sub-Con Application'!$B$13:$B$1012,B295,'1.2 Sub-Con Application'!$P$13:$P$1012))","v":0},{"$f":"IF(B295=\"\",\"\",SUMIF('1.2 Sub-Con Application'!$B$13:$B$1012,B295,'1.2 Sub-Con Application'!$R$13:$R$1012))","v":0},{"$f":"IF(B295=\"\",\"\",SUMIF('1.2 Sub-Con Application'!$B$13:$B$1012,B295,'1.2 Sub-Con Application'!$S$13:$S$1012))","v":0},{"$f":"IFERROR(INDEX('1.2 Sub-Con Application'!$B$13:$U$1012,MATCH(1,('1.2 Sub-Con Application'!$B$13:$B$1012=B295)*('1.2 Sub-Con Application'!$U$13:$U$1012=\"Rejected\"),0),20),\"\")","v":""},{"$f":"IFERROR(INDEX('1.2 Sub-Con Application'!$B$13:$V$1012,MATCH(1,('1.2 Sub-Con Application'!$B$13:$B$1012=B295)*('1.2 Sub-Con Application'!$V$13:$V$1012<>\"\"),0),21),\"\")","v":""}]
[null,284,"","","","","","","","",{"$f":"IF(B296=\"\",\"\",SUMIF('1.2 Sub-Con Application'!$B$13:$B$1012,B296,'1.2 Sub-Con Application'!$P$13:$P$1012))","v":0},{"$f":"IF(B296=\"\",\"\",SUMIF('1.2 Sub-Con Application'!$B$13:$B$1012,B296,'1.2 Sub-Con Application'!$R$13:$R$1012))","v":0},{"$f":"IF(B296=\"\",\"\",SUMIF('1.2 Sub-Con Application'!$B$13:$B$1012,B296,'1.2 Sub-Con Application'!$S$13:$S$1012))","v":0},{"$f":"IFERROR(INDEX('1.2 Sub-Con Application'!$B$13:$U$1012,MATCH(1,('1.2 Sub-Con Application'!$B$13:$B$1012=B296)*('1.2 Sub-Con Application'!$U$13:$U$1012=\"Rejected\"),0),20),\"\")","v":""},{"$f":"IFERROR(INDEX('1.2 Sub-Con Application'!$B$13:$V$1012,MATCH(1,('1.2 Sub-Con Application'!$B$13:$B$1012=B296)*('1.2 Sub-Con Application'!$V$13:$V$1012<>\"\"),0),21),\"\")","v":""}]
[null,285,"","","","","","","","",{"$f":"IF(B297=\"\",\"\",SUMIF('1.2 Sub-Con Application'!$B$13:$B$1012,B297,'1.2 Sub-Con Application'!$P$13:$P$1012))","v":0},{"$f":"IF(B297=\"\",\"\",SUMIF('1.2 Sub-Con Application'!$B$13:$B$1012,B297,'1.2 Sub-Con Application'!$R$13:$R$1012))","v":0},{"$f":"IF(B297=\"\",\"\",SUMIF('1.2 Sub-Con Application'!$B$13:$B$1012,B297,'1.2 Sub-Con Application'!$S$13:$S$1012))","v":0},{"$f":"IFERROR(INDEX('1.2 Sub-Con Application'!$B$13:$U$1012,MATCH(1,('1.2 Sub-Con Application'!$B$13:$B$1012=B297)*('1.2 Sub-Con Application'!$U$13:$U$1012=\"Rejected\"),0),20),\"\")","v":""},{"$f":"IFERROR(INDEX('1.2 Sub-Con Application'!$B$13:$V$1012,MATCH(1,('1.2 Sub-Con Application'!$B$13:$B$1012=B297)*('1.2 Sub-Con Application'!$V$13:$V$1012<>\"\"),0),21),\"\")","v":""}]
[null,286,"","","","","","","","",{"$f":"IF(B298=\"\",\"\",SUMIF('1.2 Sub-Con Application'!$B$13:$B$1012,B298,'1.2 Sub-Con Application'!$P$13:$P$1012))","v":0},{"$f":"IF(B298=\"\",\"\",SUMIF('1.2 Sub-Con Application'!$B$13:$B$1012,B298,'1.2 Sub-Con Application'!$R$13:$R$1012))","v":0},{"$f":"IF(B298=\"\",\"\",SUMIF('1.2 Sub-Con Application'!$B$13:$B$1012,B298,'1.2 Sub-Con Application'!$S$13:$S$1012))","v":0},{"$f":"IFERROR(INDEX('1.2 Sub-Con Application'!$B$13:$U$1012,MATCH(1,('1.2 Sub-Con Application'!$B$13:$B$1012=B298)*('1.2 Sub-Con Application'!$U$13:$U$1012=\"Rejected\"),0),20),\"\")","v":""},{"$f":"IFERROR(INDEX('1.2 Sub-Con Application'!$B$13:$V$1012,MATCH(1,('1.2 Sub-Con Application'!$B$13:$B$1012=B298)*('1.2 Sub-Con Application'!$V$13:$V$1012<>\"\"),0),21),\"\")","v":""}]
[null,287,"","","","","","","","",{"$f":"IF(B299=\"\",\"\",SUMIF('1.2 Sub-Con Application'!$B$13:$B$1012,B299,'1.2 Sub-Con Application'!$P$13:$P$1012))","v":0},{"$f":"IF(B299=\"\",\"\",SUMIF('1.2 Sub-Con Application'!$B$13:$B$1012,B299,'1.2 Sub-Con Application'!$R$13:$R$1012))","v":0},{"$f":"IF(B299=\"\",\"\",SUMIF('1.2 Sub-Con Application'!$B$13:$B$1012,B299,'1.2 Sub-Con Application'!$S$13:$S$1012))","v":0},{"$f":"IFERROR(INDEX('1.2 Sub-Con Application'!$B$13:$U$1012,MATCH(1,('1.2 Sub-Con Application'!$B$13:$B$1012=B299)*('1.2 Sub-Con Application'!$U$13:$U$1012=\"Rejected\"),0),20),\"\")","v":""},{"$f":"IFERROR(INDEX('1.2 Sub-Con Application'!$B$13:$V$1012,MATCH(1,('1.2 Sub-Con Application'!$B$13:$B$1012=B299)*('1.2 Sub-Con Application'!$V$13:$V$1012<>\"\"),0),21),\"\")","v":""}]
[null,288,"","","","","","","","",{"$f":"IF(B300=\"\",\"\",SUMIF('1.2 Sub-Con Application'!$B$13:$B$1012,B300,'1.2 Sub-Con Application'!$P$13:$P$1012))","v":0},{"$f":"IF(B300=\"\",\"\",SUMIF('1.2 Sub-Con Application'!$B$13:$B$1012,B300,'1.2 Sub-Con Application'!$R$13:$R$1012))","v":0},{"$f":"IF(B300=\"\",\"\",SUMIF('1.2 Sub-Con Application'!$B$13:$B$1012,B300,'1.2 Sub-Con Application'!$S$13:$S$1012))","v":0},{"$f":"IFERROR(INDEX('1.2 Sub-Con Application'!$B$13:$U$1012,MATCH(1,('1.2 Sub-Con Application'!$B$13:$B$1012=B300)*('1.2 Sub-Con Application'!$U$13:$U$1012=\"Rejected\"),0),20),\"\")","v":""},{"$f":"IFERROR(INDEX('1.2 Sub-Con Application'!$B$13:$V$1012,MATCH(1,('1.2 Sub-Con Application'!$B$13:$B$1012=B300)*('1.2 Sub-Con Application'!$V$13:$V$1012<>\"\"),0),21),\"\")","v":""}]
[null,289,"","","","","","","","",{"$f":"IF(B301=\"\",\"\",SUMIF('1.2 Sub-Con Application'!$B$13:$B$1012,B301,'1.2 Sub-Con Application'!$P$13:$P$1012))","v":0},{"$f":"IF(B301=\"\",\"\",SUMIF('1.2 Sub-Con Application'!$B$13:$B$1012,B301,'1.2 Sub-Con Application'!$R$13:$R$1012))","v":0},{"$f":"IF(B301=\"\",\"\",SUMIF('1.2 Sub-Con Application'!$B$13:$B$1012,B301,'1.2 Sub-Con Application'!$S$13:$S$1012))","v":0},{"$f":"IFERROR(INDEX('1.2 Sub-Con Application'!$B$13:$U$1012,MATCH(1,('1.2 Sub-Con Application'!$B$13:$B$1012=B301)*('1.2 Sub-Con Application'!$U$13:$U$1012=\"Rejected\"),0),20),\"\")","v":""},{"$f":"IFERROR(INDEX('1.2 Sub-Con Application'!$B$13:$V$1012,MATCH(1,('1.2 Sub-Con Application'!$B$13:$B$1012=B301)*('1.2 Sub-Con Application'!$V$13:$V$1012<>\"\"),0),21),\"\")","v":""}]
[null,290,"","","","","","","","",{"$f":"IF(B302=\"\",\"\",SUMIF('1.2 Sub-Con Application'!$B$13:$B$1012,B302,'1.2 Sub-Con Application'!$P$13:$P$1012))","v":0},{"$f":"IF(B302=\"\",\"\",SUMIF('1.2 Sub-Con Application'!$B$13:$B$1012,B302,'1.2 Sub-Con Application'!$R$13:$R$1012))","v":0},{"$f":"IF(B302=\"\",\"\",SUMIF('1.2 Sub-Con Application'!$B$13:$B$1012,B302,'1.2 Sub-Con Application'!$S$13:$S$1012))","v":0},{"$f":"IFERROR(INDEX('1.2 Sub-Con Application'!$B$13:$U$1012,MATCH(1,('1.2 Sub-Con Application'!$B$13:$B$1012=B302)*('1.2 Sub-Con Application'!$U$13:$U$1012=\"Rejected\"),0),20),\"\")","v":""},{"$f":"IFERROR(INDEX('1.2 Sub-Con Application'!$B$13:$V$1012,MATCH(1,('1.2 Sub-Con Application'!$B$13:$B$1012=B302)*('1.2 Sub-Con Application'!$V$13:$V$1012<>\"\"),0),21),\"\")","v":""}]
[null,291,{"$f":"IFERROR(INDEX(table_subconApp,MATCH($B303,row_subconApp,0),MATCH(C$12,col_subconApp,0)),\"\")","v":""},"","","","","","","",{"$f":"IF(B303=\"\",\"\",SUMIF('1.2 Sub-Con Application'!$B$13:$B$1012,B303,'1.2 Sub-Con Application'!$P$13:$P$1012))","v":0},{"$f":"IF(B303=\"\",\"\",SUMIF('1.2 Sub-Con Application'!$B$13:$B$1012,B303,'1.2 Sub-Con Application'!$R$13:$R$1012))","v":0},{"$f":"IF(B303=\"\",\"\",SUMIF('1.2 Sub-Con Application'!$B$13:$B$1012,B303,'1.2 Sub-Con Application'!$S$13:$S$1012))","v":0},{"$f":"IFERROR(INDEX('1.2 Sub-Con Application'!$B$13:$U$1012,MATCH(1,('1.2 Sub-Con Application'!$B$13:$B$1012=B303)*('1.2 Sub-Con Application'!$U$13:$U$1012=\"Rejected\"),0),20),\"\")","v":""},{"$f":"IFERROR(INDEX('1.2 Sub-Con Application'!$B$13:$V$1012,MATCH(1,('1.2 Sub-Con Application'!$B$13:$B$1012=B303)*('1.2 Sub-Con Application'!$V$13:$V$1012<>\"\"),0),21),\"\")","v":""}]
[null,292,"","","","","","","","",{"$f":"IF(B304=\"\",\"\",SUMIF('1.2 Sub-Con Application'!$B$13:$B$1012,B304,'1.2 Sub-Con Application'!$P$13:$P$1012))","v":0},{"$f":"IF(B304=\"\",\"\",SUMIF('1.2 Sub-Con Application'!$B$13:$B$1012,B304,'1.2 Sub-Con Application'!$R$13:$R$1012))","v":0},{"$f":"IF(B304=\"\",\"\",SUMIF('1.2 Sub-Con Application'!$B$13:$B$1012,B304,'1.2 Sub-Con Application'!$S$13:$S$1012))","v":0},{"$f":"IFERROR(INDEX('1.2 Sub-Con Application'!$B$13:$U$1012,MATCH(1,('1.2 Sub-Con Application'!$B$13:$B$1012=B304)*('1.2 Sub-Con Application'!$U$13:$U$1012=\"Rejected\"),0),20),\"\")","v":""},{"$f":"IFERROR(INDEX('1.2 Sub-Con Application'!$B$13:$V$1012,MATCH(1,('1.2 Sub-Con Application'!$B$13:$B$1012=B304)*('1.2 Sub-Con Application'!$V$13:$V$1012<>\"\"),0),21),\"\")","v":""}]
[null,293,"","","","","","","","",{"$f":"IF(B305=\"\",\"\",SUMIF('1.2 Sub-Con Application'!$B$13:$B$1012,B305,'1.2 Sub-Con Application'!$P$13:$P$1012))","v":0},{"$f":"IF(B305=\"\",\"\",SUMIF('1.2 Sub-Con Application'!$B$13:$B$1012,B305,'1.2 Sub-Con Application'!$R$13:$R$1012))","v":0},{"$f":"IF(B305=\"\",\"\",SUMIF('1.2 Sub-Con Application'!$B$13:$B$1012,B305,'1.2 Sub-Con Application'!$S$13:$S$1012))","v":0},{"$f":"IFERROR(INDEX('1.2 Sub-Con Application'!$B$13:$U$1012,MATCH(1,('1.2 Sub-Con Application'!$B$13:$B$1012=B305)*('1.2 Sub-Con Application'!$U$13:$U$1012=\"Rejected\"),0),20),\"\")","v":""},{"$f":"IFERROR(INDEX('1.2 Sub-Con Application'!$B$13:$V$1012,MATCH(1,('1.2 Sub-Con Application'!$B$13:$B$1012=B305)*('1.2 Sub-Con Application'!$V$13:$V$1012<>\"\"),0),21),\"\")","v":""}]
[null,294,"","","","","","","","",{"$f":"IF(B306=\"\",\"\",SUMIF('1.2 Sub-Con Application'!$B$13:$B$1012,B306,'1.2 Sub-Con Application'!$P$13:$P$1012))","v":0},{"$f":"IF(B306=\"\",\"\",SUMIF('1.2 Sub-Con Application'!$B$13:$B$1012,B306,'1.2 Sub-Con Application'!$R$13:$R$1012))","v":0},{"$f":"IF(B306=\"\",\"\",SUMIF('1.2 Sub-Con Application'!$B$13:$B$1012,B306,'1.2 Sub-Con Application'!$S$13:$S$1012))","v":0},{"$f":"IFERROR(INDEX('1.2 Sub-Con Application'!$B$13:$U$1012,MATCH(1,('1.2 Sub-Con Application'!$B$13:$B$1012=B306)*('1.2 Sub-Con Application'!$U$13:$U$1012=\"Rejected\"),0),20),\"\")","v":""},{"$f":"IFERROR(INDEX('1.2 Sub-Con Application'!$B$13:$V$1012,MATCH(1,('1.2 Sub-Con Application'!$B$13:$B$1012=B306)*('1.2 Sub-Con Application'!$V$13:$V$1012<>\"\"),0),21),\"\")","v":""}]
[null,295,"","","","","","","","",{"$f":"IF(B307=\"\",\"\",SUMIF('1.2 Sub-Con Application'!$B$13:$B$1012,B307,'1.2 Sub-Con Application'!$P$13:$P$1012))","v":0},{"$f":"IF(B307=\"\",\"\",SUMIF('1.2 Sub-Con Application'!$B$13:$B$1012,B307,'1.2 Sub-Con Application'!$R$13:$R$1012))","v":0},{"$f":"IF(B307=\"\",\"\",SUMIF('1.2 Sub-Con Application'!$B$13:$B$1012,B307,'1.2 Sub-Con Application'!$S$13:$S$1012))","v":0},{"$f":"IFERROR(INDEX('1.2 Sub-Con Application'!$B$13:$U$1012,MATCH(1,('1.2 Sub-Con Application'!$B$13:$B$1012=B307)*('1.2 Sub-Con Application'!$U$13:$U$1012=\"Rejected\"),0),20),\"\")","v":""},{"$f":"IFERROR(INDEX('1.2 Sub-Con Application'!$B$13:$V$1012,MATCH(1,('1.2 Sub-Con Application'!$B$13:$B$1012=B307)*('1.2 Sub-Con Application'!$V$13:$V$1012<>\"\"),0),21),\"\")","v":""}]
[null,296,"","","","","","","","",{"$f":"IF(B308=\"\",\"\",SUMIF('1.2 Sub-Con Application'!$B$13:$B$1012,B308,'1.2 Sub-Con Application'!$P$13:$P$1012))","v":0},{"$f":"IF(B308=\"\",\"\",SUMIF('1.2 Sub-Con Application'!$B$13:$B$1012,B308,'1.2 Sub-Con Application'!$R$13:$R$1012))","v":0},{"$f":"IF(B308=\"\",\"\",SUMIF('1.2 Sub-Con Application'!$B$13:$B$1012,B308,'1.2 Sub-Con Application'!$S$13:$S$1012))","v":0},{"$f":"IFERROR(INDEX('1.2 Sub-Con Application'!$B$13:$U$1012,MATCH(1,('1.2 Sub-Con Application'!$B$13:$B$1012=B308)*('1.2 Sub-Con Application'!$U$13:$U$1012=\"Rejected\"),0),20),\"\")","v":""},{"$f":"IFERROR(INDEX('1.2 Sub-Con Application'!$B$13:$V$1012,MATCH(1,('1.2 Sub-Con Application'!$B$13:$B$1012=B308)*('1.2 Sub-Con Application'!$V$13:$V$1012<>\"\"),0),21),\"\")","v":""}]
[null,297,"","","","","","","","",{"$f":"IF(B309=\"\",\"\",SUMIF('1.2 Sub-Con Application'!$B$13:$B$1012,B309,'1.2 Sub-Con Application'!$P$13:$P$1012))","v":0},{"$f":"IF(B309=\"\",\"\",SUMIF('1.2 Sub-Con Application'!$B$13:$B$1012,B309,'1.2 Sub-Con Application'!$R$13:$R$1012))","v":0},{"$f":"IF(B309=\"\",\"\",SUMIF('1.2 Sub-Con Application'!$B$13:$B$1012,B309,'1.2 Sub-Con Application'!$S$13:$S$1012))","v":0},{"$f":"IFERROR(INDEX('1.2 Sub-Con Application'!$B$13:$U$1012,MATCH(1,('1.2 Sub-Con Application'!$B$13:$B$1012=B309)*('1.2 Sub-Con Application'!$U$13:$U$1012=\"Rejected\"),0),20),\"\")","v":""},{"$f":"IFERROR(INDEX('1.2 Sub-Con Application'!$B$13:$V$1012,MATCH(1,('1.2 Sub-Con Application'!$B$13:$B$1012=B309)*('1.2 Sub-Con Application'!$V$13:$V$1012<>\"\"),0),21),\"\")","v":""}]
[null,298,"","","","","","","","",{"$f":"IF(B310=\"\",\"\",SUMIF('1.2 Sub-Con Application'!$B$13:$B$1012,B310,'1.2 Sub-Con Application'!$P$13:$P$1012))","v":0},{"$f":"IF(B310=\"\",\"\",SUMIF('1.2 Sub-Con Application'!$B$13:$B$1012,B310,'1.2 Sub-Con Application'!$R$13:$R$1012))","v":0},{"$f":"IF(B310=\"\",\"\",SUMIF('1.2 Sub-Con Application'!$B$13:$B$1012,B310,'1.2 Sub-Con Application'!$S$13:$S$1012))","v":0},{"$f":"IFERROR(INDEX('1.2 Sub-Con Application'!$B$13:$U$1012,MATCH(1,('1.2 Sub-Con Application'!$B$13:$B$1012=B310)*('1.2 Sub-Con Application'!$U$13:$U$1012=\"Rejected\"),0),20),\"\")","v":""},{"$f":"IFERROR(INDEX('1.2 Sub-Con Application'!$B$13:$V$1012,MATCH(1,('1.2 Sub-Con Application'!$B$13:$B$1012=B310)*('1.2 Sub-Con Application'!$V$13:$V$1012<>\"\"),0),21),\"\")","v":""}]
[null,299,"","","","","","","","",{"$f":"IF(B311=\"\",\"\",SUMIF('1.2 Sub-Con Application'!$B$13:$B$1012,B311,'1.2 Sub-Con Application'!$P$13:$P$1012))","v":0},{"$f":"IF(B311=\"\",\"\",SUMIF('1.2 Sub-Con Application'!$B$13:$B$1012,B311,'1.2 Sub-Con Application'!$R$13:$R$1012))","v":0},{"$f":"IF(B311=\"\",\"\",SUMIF('1.2 Sub-Con Application'!$B$13:$B$1012,B311,'1.2 Sub-Con Application'!$S$13:$S$1012))","v":0},{"$f":"IFERROR(INDEX('1.2 Sub-Con Application'!$B$13:$U$1012,MATCH(1,('1.2 Sub-Con Application'!$B$13:$B$1012=B311)*('1.2 Sub-Con Application'!$U$13:$U$1012=\"Rejected\"),0),20),\"\")","v":""},{"$f":"IFERROR(INDEX('1.2 Sub-Con Application'!$B$13:$V$1012,MATCH(1,('1.2 Sub-Con Application'!$B$13:$B$1012=B311)*('1.2 Sub-Con Application'!$V$13:$V$1012<>\"\"),0),21),\"\")","v":""}]
[null,300,"","","","","","","","",{"$f":"IF(B312=\"\",\"\",SUMIF('1.2 Sub-Con Application'!$B$13:$B$1012,B312,'1.2 Sub-Con Application'!$P$13:$P$1012))","v":0},{"$f":"IF(B312=\"\",\"\",SUMIF('1.2 Sub-Con Application'!$B$13:$B$1012,B312,'1.2 Sub-Con Application'!$R$13:$R$1012))","v":0},{"$f":"IF(B312=\"\",\"\",SUMIF('1.2 Sub-Con Application'!$B$13:$B$1012,B312,'1.2 Sub-Con Application'!$S$13:$S$1012))","v":0},{"$f":"IFERROR(INDEX('1.2 Sub-Con Application'!$B$13:$U$1012,MATCH(1,('1.2 Sub-Con Application'!$B$13:$B$1012=B312)*('1.2 Sub-Con Application'!$U$13:$U$1012=\"Rejected\"),0),20),\"\")","v":""},{"$f":"IFERROR(INDEX('1.2 Sub-Con Application'!$B$13:$V$1012,MATCH(1,('1.2 Sub-Con Application'!$B$13:$B$1012=B312)*('1.2 Sub-Con Application'!$V$13:$V$1012<>\"\"),0),21),\"\")","v":""}]
[null,301,{"$f":"IFERROR(INDEX(table_subconApp,MATCH($B313,row_subconApp,0),MATCH(C$12,col_subconApp,0)),\"\")","v":""},"","","","","","","",{"$f":"IF(B313=\"\",\"\",SUMIF('1.2 Sub-Con Application'!$B$13:$B$1012,B313,'1.2 Sub-Con Application'!$P$13:$P$1012))","v":0},{"$f":"IF(B313=\"\",\"\",SUMIF('1.2 Sub-Con Application'!$B$13:$B$1012,B313,'1.2 Sub-Con Application'!$R$13:$R$1012))","v":0},{"$f":"IF(B313=\"\",\"\",SUMIF('1.2 Sub-Con Application'!$B$13:$B$1012,B313,'1.2 Sub-Con Application'!$S$13:$S$1012))","v":0},{"$f":"IFERROR(INDEX('1.2 Sub-Con Application'!$B$13:$U$1012,MATCH(1,('1.2 Sub-Con Application'!$B$13:$B$1012=B313)*('1.2 Sub-Con Application'!$U$13:$U$1012=\"Rejected\"),0),20),\"\")","v":""},{"$f":"IFERROR(INDEX('1.2 Sub-Con Application'!$B$13:$V$1012,MATCH(1,('1.2 Sub-Con Application'!$B$13:$B$1012=B313)*('1.2 Sub-Con Application'!$V$13:$V$1012<>\"\"),0),21),\"\")","v":""}]
[null,302,"","","","","","","","",{"$f":"IF(B314=\"\",\"\",SUMIF('1.2 Sub-Con Application'!$B$13:$B$1012,B314,'1.2 Sub-Con Application'!$P$13:$P$1012))","v":0},{"$f":"IF(B314=\"\",\"\",SUMIF('1.2 Sub-Con Application'!$B$13:$B$1012,B314,'1.2 Sub-Con Application'!$R$13:$R$1012))","v":0},{"$f":"IF(B314=\"\",\"\",SUMIF('1.2 Sub-Con Application'!$B$13:$B$1012,B314,'1.2 Sub-Con Application'!$S$13:$S$1012))","v":0},{"$f":"IFERROR(INDEX('1.2 Sub-Con Application'!$B$13:$U$1012,MATCH(1,('1.2 Sub-Con Application'!$B$13:$B$1012=B314)*('1.2 Sub-Con Application'!$U$13:$U$1012=\"Rejected\"),0),20),\"\")","v":""},{"$f":"IFERROR(INDEX('1.2 Sub-Con Application'!$B$13:$V$1012,MATCH(1,('1.2 Sub-Con Application'!$B$13:$B$1012=B314)*('1.2 Sub-Con Application'!$V$13:$V$1012<>\"\"),0),21),\"\")","v":""}]
[null,303,"","","","","","","","",{"$f":"IF(B315=\"\",\"\",SUMIF('1.2 Sub-Con Application'!$B$13:$B$1012,B315,'1.2 Sub-Con Application'!$P$13:$P$1012))","v":0},{"$f":"IF(B315=\"\",\"\",SUMIF('1.2 Sub-Con Application'!$B$13:$B$1012,B315,'1.2 Sub-Con Application'!$R$13:$R$1012))","v":0},{"$f":"IF(B315=\"\",\"\",SUMIF('1.2 Sub-Con Application'!$B$13:$B$1012,B315,'1.2 Sub-Con Application'!$S$13:$S$1012))","v":0},{"$f":"IFERROR(INDEX('1.2 Sub-Con Application'!$B$13:$U$1012,MATCH(1,('1.2 Sub-Con Application'!$B$13:$B$1012=B315)*('1.2 Sub-Con Application'!$U$13:$U$1012=\"Rejected\"),0),20),\"\")","v":""},{"$f":"IFERROR(INDEX('1.2 Sub-Con Application'!$B$13:$V$1012,MATCH(1,('1.2 Sub-Con Application'!$B$13:$B$1012=B315)*('1.2 Sub-Con Application'!$V$13:$V$1012<>\"\"),0),21),\"\")","v":""}]
[null,304,"","","","","","","","",{"$f":"IF(B316=\"\",\"\",SUMIF('1.2 Sub-Con Application'!$B$13:$B$1012,B316,'1.2 Sub-Con Application'!$P$13:$P$1012))","v":0},{"$f":"IF(B316=\"\",\"\",SUMIF('1.2 Sub-Con Application'!$B$13:$B$1012,B316,'1.2 Sub-Con Application'!$R$13:$R$1012))","v":0},{"$f":"IF(B316=\"\",\"\",SUMIF('1.2 Sub-Con Application'!$B$13:$B$1012,B316,'1.2 Sub-Con Application'!$S$13:$S$1012))","v":0},{"$f":"IFERROR(INDEX('1.2 Sub-Con Application'!$B$13:$U$1012,MATCH(1,('1.2 Sub-Con Application'!$B$13:$B$1012=B316)*('1.2 Sub-Con Application'!$U$13:$U$1012=\"Rejected\"),0),20),\"\")","v":""},{"$f":"IFERROR(INDEX('1.2 Sub-Con Application'!$B$13:$V$1012,MATCH(1,('1.2 Sub-Con Application'!$B$13:$B$1012=B316)*('1.2 Sub-Con Application'!$V$13:$V$1012<>\"\"),0),21),\"\")","v":""}]
[null,305,"","","","","","","","",{"$f":"IF(B317=\"\",\"\",SUMIF('1.2 Sub-Con Application'!$B$13:$B$1012,B317,'1.2 Sub-Con Application'!$P$13:$P$1012))","v":0},{"$f":"IF(B317=\"\",\"\",SUMIF('1.2 Sub-Con Application'!$B$13:$B$1012,B317,'1.2 Sub-Con Application'!$R$13:$R$1012))","v":0},{"$f":"IF(B317=\"\",\"\",SUMIF('1.2 Sub-Con Application'!$B$13:$B$1012,B317,'1.2 Sub-Con Application'!$S$13:$S$1012))","v":0},{"$f":"IFERROR(INDEX('1.2 Sub-Con Application'!$B$13:$U$1012,MATCH(1,('1.2 Sub-Con Application'!$B$13:$B$1012=B317)*('1.2 Sub-Con Application'!$U$13:$U$1012=\"Rejected\"),0),20),\"\")","v":""},{"$f":"IFERROR(INDEX('1.2 Sub-Con Application'!$B$13:$V$1012,MATCH(1,('1.2 Sub-Con Application'!$B$13:$B$1012=B317)*('1.2 Sub-Con Application'!$V$13:$V$1012<>\"\"),0),21),\"\")","v":""}]
[null,306,"","","","","","","","",{"$f":"IF(B318=\"\",\"\",SUMIF('1.2 Sub-Con Application'!$B$13:$B$1012,B318,'1.2 Sub-Con Application'!$P$13:$P$1012))","v":0},{"$f":"IF(B318=\"\",\"\",SUMIF('1.2 Sub-Con Application'!$B$13:$B$1012,B318,'1.2 Sub-Con Application'!$R$13:$R$1012))","v":0},{"$f":"IF(B318=\"\",\"\",SUMIF('1.2 Sub-Con Application'!$B$13:$B$1012,B318,'1.2 Sub-Con Application'!$S$13:$S$1012))","v":0},{"$f":"IFERROR(INDEX('1.2 Sub-Con Application'!$B$13:$U$1012,MATCH(1,('1.2 Sub-Con Application'!$B$13:$B$1012=B318)*('1.2 Sub-Con Application'!$U$13:$U$1012=\"Rejected\"),0),20),\"\")","v":""},{"$f":"IFERROR(INDEX('1.2 Sub-Con Application'!$B$13:$V$1012,MATCH(1,('1.2 Sub-Con Application'!$B$13:$B$1012=B318)*('1.2 Sub-Con Application'!$V$13:$V$1012<>\"\"),0),21),\"\")","v":""}]
[null,307,"","","","","","","","",{"$f":"IF(B319=\"\",\"\",SUMIF('1.2 Sub-Con Application'!$B$13:$B$1012,B319,'1.2 Sub-Con Application'!$P$13:$P$1012))","v":0},{"$f":"IF(B319=\"\",\"\",SUMIF('1.2 Sub-Con Application'!$B$13:$B$1012,B319,'1.2 Sub-Con Application'!$R$13:$R$1012))","v":0},{"$f":"IF(B319=\"\",\"\",SUMIF('1.2 Sub-Con Application'!$B$13:$B$1012,B319,'1.2 Sub-Con Application'!$S$13:$S$1012))","v":0},{"$f":"IFERROR(INDEX('1.2 Sub-Con Application'!$B$13:$U$1012,MATCH(1,('1.2 Sub-Con Application'!$B$13:$B$1012=B319)*('1.2 Sub-Con Application'!$U$13:$U$1012=\"Rejected\"),0),20),\"\")","v":""},{"$f":"IFERROR(INDEX('1.2 Sub-Con Application'!$B$13:$V$1012,MATCH(1,('1.2 Sub-Con Application'!$B$13:$B$1012=B319)*('1.2 Sub-Con Application'!$V$13:$V$1012<>\"\"),0),21),\"\")","v":""}]
[null,308,"","","","","","","","",{"$f":"IF(B320=\"\",\"\",SUMIF('1.2 Sub-Con Application'!$B$13:$B$1012,B320,'1.2 Sub-Con Application'!$P$13:$P$1012))","v":0},{"$f":"IF(B320=\"\",\"\",SUMIF('1.2 Sub-Con Application'!$B$13:$B$1012,B320,'1.2 Sub-Con Application'!$R$13:$R$1012))","v":0},{"$f":"IF(B320=\"\",\"\",SUMIF('1.2 Sub-Con Application'!$B$13:$B$1012,B320,'1.2 Sub-Con Application'!$S$13:$S$1012))","v":0},{"$f":"IFERROR(INDEX('1.2 Sub-Con Application'!$B$13:$U$1012,MATCH(1,('1.2 Sub-Con Application'!$B$13:$B$1012=B320)*('1.2 Sub-Con Application'!$U$13:$U$1012=\"Rejected\"),0),20),\"\")","v":""},{"$f":"IFERROR(INDEX('1.2 Sub-Con Application'!$B$13:$V$1012,MATCH(1,('1.2 Sub-Con Application'!$B$13:$B$1012=B320)*('1.2 Sub-Con Application'!$V$13:$V$1012<>\"\"),0),21),\"\")","v":""}]
[null,309,"","","","","","","","",{"$f":"IF(B321=\"\",\"\",SUMIF('1.2 Sub-Con Application'!$B$13:$B$1012,B321,'1.2 Sub-Con Application'!$P$13:$P$1012))","v":0},{"$f":"IF(B321=\"\",\"\",SUMIF('1.2 Sub-Con Application'!$B$13:$B$1012,B321,'1.2 Sub-Con Application'!$R$13:$R$1012))","v":0},{"$f":"IF(B321=\"\",\"\",SUMIF('1.2 Sub-Con Application'!$B$13:$B$1012,B321,'1.2 Sub-Con Application'!$S$13:$S$1012))","v":0},{"$f":"IFERROR(INDEX('1.2 Sub-Con Application'!$B$13:$U$1012,MATCH(1,('1.2 Sub-Con Application'!$B$13:$B$1012=B321)*('1.2 Sub-Con Application'!$U$13:$U$1012=\"Rejected\"),0),20),\"\")","v":""},{"$f":"IFERROR(INDEX('1.2 Sub-Con Application'!$B$13:$V$1012,MATCH(1,('1.2 Sub-Con Application'!$B$13:$B$1012=B321)*('1.2 Sub-Con Application'!$V$13:$V$1012<>\"\"),0),21),\"\")","v":""}]
[null,310,"","","","","","","","",{"$f":"IF(B322=\"\",\"\",SUMIF('1.2 Sub-Con Application'!$B$13:$B$1012,B322,'1.2 Sub-Con Application'!$P$13:$P$1012))","v":0},{"$f":"IF(B322=\"\",\"\",SUMIF('1.2 Sub-Con Application'!$B$13:$B$1012,B322,'1.2 Sub-Con Application'!$R$13:$R$1012))","v":0},{"$f":"IF(B322=\"\",\"\",SUMIF('1.2 Sub-Con Application'!$B$13:$B$1012,B322,'1.2 Sub-Con Application'!$S$13:$S$1012))","v":0},{"$f":"IFERROR(INDEX('1.2 Sub-Con Application'!$B$13:$U$1012,MATCH(1,('1.2 Sub-Con Application'!$B$13:$B$1012=B322)*('1.2 Sub-Con Application'!$U$13:$U$1012=\"Rejected\"),0),20),\"\")","v":""},{"$f":"IFERROR(INDEX('1.2 Sub-Con Application'!$B$13:$V$1012,MATCH(1,('1.2 Sub-Con Application'!$B$13:$B$1012=B322)*('1.2 Sub-Con Application'!$V$13:$V$1012<>\"\"),0),21),\"\")","v":""}]
[null,311,{"$f":"IFERROR(INDEX(table_subconApp,MATCH($B323,row_subconApp,0),MATCH(C$12,col_subconApp,0)),\"\")","v":""},"","","","","","","",{"$f":"IF(B323=\"\",\"\",SUMIF('1.2 Sub-Con Application'!$B$13:$B$1012,B323,'1.2 Sub-Con Application'!$P$13:$P$1012))","v":0},{"$f":"IF(B323=\"\",\"\",SUMIF('1.2 Sub-Con Application'!$B$13:$B$1012,B323,'1.2 Sub-Con Application'!$R$13:$R$1012))","v":0},{"$f":"IF(B323=\"\",\"\",SUMIF('1.2 Sub-Con Application'!$B$13:$B$1012,B323,'1.2 Sub-Con Application'!$S$13:$S$1012))","v":0},{"$f":"IFERROR(INDEX('1.2 Sub-Con Application'!$B$13:$U$1012,MATCH(1,('1.2 Sub-Con Application'!$B$13:$B$1012=B323)*('1.2 Sub-Con Application'!$U$13:$U$1012=\"Rejected\"),0),20),\"\")","v":""},{"$f":"IFERROR(INDEX('1.2 Sub-Con Application'!$B$13:$V$1012,MATCH(1,('1.2 Sub-Con Application'!$B$13:$B$1012=B323)*('1.2 Sub-Con Application'!$V$13:$V$1012<>\"\"),0),21),\"\")","v":""}]
[null,312,"","","","","","","","",{"$f":"IF(B324=\"\",\"\",SUMIF('1.2 Sub-Con Application'!$B$13:$B$1012,B324,'1.2 Sub-Con Application'!$P$13:$P$1012))","v":0},{"$f":"IF(B324=\"\",\"\",SUMIF('1.2 Sub-Con Application'!$B$13:$B$1012,B324,'1.2 Sub-Con Application'!$R$13:$R$1012))","v":0},{"$f":"IF(B324=\"\",\"\",SUMIF('1.2 Sub-Con Application'!$B$13:$B$1012,B324,'1.2 Sub-Con Application'!$S$13:$S$1012))","v":0},{"$f":"IFERROR(INDEX('1.2 Sub-Con Application'!$B$13:$U$1012,MATCH(1,('1.2 Sub-Con Application'!$B$13:$B$1012=B324)*('1.2 Sub-Con Application'!$U$13:$U$1012=\"Rejected\"),0),20),\"\")","v":""},{"$f":"IFERROR(INDEX('1.2 Sub-Con Application'!$B$13:$V$1012,MATCH(1,('1.2 Sub-Con Application'!$B$13:$B$1012=B324)*('1.2 Sub-Con Application'!$V$13:$V$1012<>\"\"),0),21),\"\")","v":""}]
[null,313,"","","","","","","","",{"$f":"IF(B325=\"\",\"\",SUMIF('1.2 Sub-Con Application'!$B$13:$B$1012,B325,'1.2 Sub-Con Application'!$P$13:$P$1012))","v":0},{"$f":"IF(B325=\"\",\"\",SUMIF('1.2 Sub-Con Application'!$B$13:$B$1012,B325,'1.2 Sub-Con Application'!$R$13:$R$1012))","v":0},{"$f":"IF(B325=\"\",\"\",SUMIF('1.2 Sub-Con Application'!$B$13:$B$1012,B325,'1.2 Sub-Con Application'!$S$13:$S$1012))","v":0},{"$f":"IFERROR(INDEX('1.2 Sub-Con Application'!$B$13:$U$1012,MATCH(1,('1.2 Sub-Con Application'!$B$13:$B$1012=B325)*('1.2 Sub-Con Application'!$U$13:$U$1012=\"Rejected\"),0),20),\"\")","v":""},{"$f":"IFERROR(INDEX('1.2 Sub-Con Application'!$B$13:$V$1012,MATCH(1,('1.2 Sub-Con Application'!$B$13:$B$1012=B325)*('1.2 Sub-Con Application'!$V$13:$V$1012<>\"\"),0),21),\"\")","v":""}]
[null,314,"","","","","","","","",{"$f":"IF(B326=\"\",\"\",SUMIF('1.2 Sub-Con Application'!$B$13:$B$1012,B326,'1.2 Sub-Con Application'!$P$13:$P$1012))","v":0},{"$f":"IF(B326=\"\",\"\",SUMIF('1.2 Sub-Con Application'!$B$13:$B$1012,B326,'1.2 Sub-Con Application'!$R$13:$R$1012))","v":0},{"$f":"IF(B326=\"\",\"\",SUMIF('1.2 Sub-Con Application'!$B$13:$B$1012,B326,'1.2 Sub-Con Application'!$S$13:$S$1012))","v":0},{"$f":"IFERROR(INDEX('1.2 Sub-Con Application'!$B$13:$U$1012,MATCH(1,('1.2 Sub-Con Application'!$B$13:$B$1012=B326)*('1.2 Sub-Con Application'!$U$13:$U$1012=\"Rejected\"),0),20),\"\")","v":""},{"$f":"IFERROR(INDEX('1.2 Sub-Con Application'!$B$13:$V$1012,MATCH(1,('1.2 Sub-Con Application'!$B$13:$B$1012=B326)*('1.2 Sub-Con Application'!$V$13:$V$1012<>\"\"),0),21),\"\")","v":""}]
[null,315,"","","","","","","","",{"$f":"IF(B327=\"\",\"\",SUMIF('1.2 Sub-Con Application'!$B$13:$B$1012,B327,'1.2 Sub-Con Application'!$P$13:$P$1012))","v":0},{"$f":"IF(B327=\"\",\"\",SUMIF('1.2 Sub-Con Application'!$B$13:$B$1012,B327,'1.2 Sub-Con Application'!$R$13:$R$1012))","v":0},{"$f":"IF(B327=\"\",\"\",SUMIF('1.2 Sub-Con Application'!$B$13:$B$1012,B327,'1.2 Sub-Con Application'!$S$13:$S$1012))","v":0},{"$f":"IFERROR(INDEX('1.2 Sub-Con Application'!$B$13:$U$1012,MATCH(1,('1.2 Sub-Con Application'!$B$13:$B$1012=B327)*('1.2 Sub-Con Application'!$U$13:$U$1012=\"Rejected\"),0),20),\"\")","v":""},{"$f":"IFERROR(INDEX('1.2 Sub-Con Application'!$B$13:$V$1012,MATCH(1,('1.2 Sub-Con Application'!$B$13:$B$1012=B327)*('1.2 Sub-Con Application'!$V$13:$V$1012<>\"\"),0),21),\"\")","v":""}]
[null,316,"","","","","","","","",{"$f":"IF(B328=\"\",\"\",SUMIF('1.2 Sub-Con Application'!$B$13:$B$1012,B328,'1.2 Sub-Con Application'!$P$13:$P$1012))","v":0},{"$f":"IF(B328=\"\",\"\",SUMIF('1.2 Sub-Con Application'!$B$13:$B$1012,B328,'1.2 Sub-Con Application'!$R$13:$R$1012))","v":0},{"$f":"IF(B328=\"\",\"\",SUMIF('1.2 Sub-Con Application'!$B$13:$B$1012,B328,'1.2 Sub-Con Application'!$S$13:$S$1012))","v":0},{"$f":"IFERROR(INDEX('1.2 Sub-Con Application'!$B$13:$U$1012,MATCH(1,('1.2 Sub-Con Application'!$B$13:$B$1012=B328)*('1.2 Sub-Con Application'!$U$13:$U$1012=\"Rejected\"),0),20),\"\")","v":""},{"$f":"IFERROR(INDEX('1.2 Sub-Con Application'!$B$13:$V$1012,MATCH(1,('1.2 Sub-Con Application'!$B$13:$B$1012=B328)*('1.2 Sub-Con Application'!$V$13:$V$1012<>\"\"),0),21),\"\")","v":""}]
[null,317,"","","","","","","","",{"$f":"IF(B329=\"\",\"\",SUMIF('1.2 Sub-Con Application'!$B$13:$B$1012,B329,'1.2 Sub-Con Application'!$P$13:$P$1012))","v":0},{"$f":"IF(B329=\"\",\"\",SUMIF('1.2 Sub-Con Application'!$B$13:$B$1012,B329,'1.2 Sub-Con Application'!$R$13:$R$1012))","v":0},{"$f":"IF(B329=\"\",\"\",SUMIF('1.2 Sub-Con Application'!$B$13:$B$1012,B329,'1.2 Sub-Con Application'!$S$13:$S$1012))","v":0},{"$f":"IFERROR(INDEX('1.2 Sub-Con Application'!$B$13:$U$1012,MATCH(1,('1.2 Sub-Con Application'!$B$13:$B$1012=B329)*('1.2 Sub-Con Application'!$U$13:$U$1012=\"Rejected\"),0),20),\"\")","v":""},{"$f":"IFERROR(INDEX('1.2 Sub-Con Application'!$B$13:$V$1012,MATCH(1,('1.2 Sub-Con Application'!$B$13:$B$1012=B329)*('1.2 Sub-Con Application'!$V$13:$V$1012<>\"\"),0),21),\"\")","v":""}]
[null,318,"","","","","","","","",{"$f":"IF(B330=\"\",\"\",SUMIF('1.2 Sub-Con Application'!$B$13:$B$1012,B330,'1.2 Sub-Con Application'!$P$13:$P$1012))","v":0},{"$f":"IF(B330=\"\",\"\",SUMIF('1.2 Sub-Con Application'!$B$13:$B$1012,B330,'1.2 Sub-Con Application'!$R$13:$R$1012))","v":0},{"$f":"IF(B330=\"\",\"\",SUMIF('1.2 Sub-Con Application'!$B$13:$B$1012,B330,'1.2 Sub-Con Application'!$S$13:$S$1012))","v":0},{"$f":"IFERROR(INDEX('1.2 Sub-Con Application'!$B$13:$U$1012,MATCH(1,('1.2 Sub-Con Application'!$B$13:$B$1012=B330)*('1.2 Sub-Con Application'!$U$13:$U$1012=\"Rejected\"),0),20),\"\")","v":""},{"$f":"IFERROR(INDEX('1.2 Sub-Con Application'!$B$13:$V$1012,MATCH(1,('1.2 Sub-Con Application'!$B$13:$B$1012=B330)*('1.2 Sub-Con Application'!$V$13:$V$1012<>\"\"),0),21),\"\")","v":""}]
[null,319,"","","","","","","","",{"$f":"IF(B331=\"\",\"\",SUMIF('1.2 Sub-Con Application'!$B$13:$B$1012,B331,'1.2 Sub-Con Application'!$P$13:$P$1012))","v":0},{"$f":"IF(B331=\"\",\"\",SUMIF('1.2 Sub-Con Application'!$B$13:$B$1012,B331,'1.2 Sub-Con Application'!$R$13:$R$1012))","v":0},{"$f":"IF(B331=\"\",\"\",SUMIF('1.2 Sub-Con Application'!$B$13:$B$1012,B331,'1.2 Sub-Con Application'!$S$13:$S$1012))","v":0},{"$f":"IFERROR(INDEX('1.2 Sub-Con Application'!$B$13:$U$1012,MATCH(1,('1.2 Sub-Con Application'!$B$13:$B$1012=B331)*('1.2 Sub-Con Application'!$U$13:$U$1012=\"Rejected\"),0),20),\"\")","v":""},{"$f":"IFERROR(INDEX('1.2 Sub-Con Application'!$B$13:$V$1012,MATCH(1,('1.2 Sub-Con Application'!$B$13:$B$1012=B331)*('1.2 Sub-Con Application'!$V$13:$V$1012<>\"\"),0),21),\"\")","v":""}]
[null,320,"","","","","","","","",{"$f":"IF(B332=\"\",\"\",SUMIF('1.2 Sub-Con Application'!$B$13:$B$1012,B332,'1.2 Sub-Con Application'!$P$13:$P$1012))","v":0},{"$f":"IF(B332=\"\",\"\",SUMIF('1.2 Sub-Con Application'!$B$13:$B$1012,B332,'1.2 Sub-Con Application'!$R$13:$R$1012))","v":0},{"$f":"IF(B332=\"\",\"\",SUMIF('1.2 Sub-Con Application'!$B$13:$B$1012,B332,'1.2 Sub-Con Application'!$S$13:$S$1012))","v":0},{"$f":"IFERROR(INDEX('1.2 Sub-Con Application'!$B$13:$U$1012,MATCH(1,('1.2 Sub-Con Application'!$B$13:$B$1012=B332)*('1.2 Sub-Con Application'!$U$13:$U$1012=\"Rejected\"),0),20),\"\")","v":""},{"$f":"IFERROR(INDEX('1.2 Sub-Con Application'!$B$13:$V$1012,MATCH(1,('1.2 Sub-Con Application'!$B$13:$B$1012=B332)*('1.2 Sub-Con Application'!$V$13:$V$1012<>\"\"),0),21),\"\")","v":""}]
[null,321,{"$f":"IFERROR(INDEX(table_subconApp,MATCH($B333,row_subconApp,0),MATCH(C$12,col_subconApp,0)),\"\")","v":""},"","","","","","",{"$f":"IFERROR(IF(ISBLANK(INDEX(table_subconApp,MATCH($B333,row_subconApp,0),MATCH(J$12,col_subconApp,0))),\"\",INDEX(table_subconApp,MATCH($B333,row_subconApp,0),MATCH(J$12,col_subconApp,0))),\"\")","v":""},{"$f":"IF(B333=\"\",\"\",SUMIF('1.2 Sub-Con Application'!$B$13:$B$1012,B333,'1.2 Sub-Con Application'!$P$13:$P$1012))","v":0},{"$f":"IF(B333=\"\",\"\",SUMIF('1.2 Sub-Con Application'!$B$13:$B$1012,B333,'1.2 Sub-Con Application'!$R$13:$R$1012))","v":0},{"$f":"IF(B333=\"\",\"\",SUMIF('1.2 Sub-Con Application'!$B$13:$B$1012,B333,'1.2 Sub-Con Application'!$S$13:$S$1012))","v":0},{"$f":"IFERROR(INDEX('1.2 Sub-Con Application'!$B$13:$U$1012,MATCH(1,('1.2 Sub-Con Application'!$B$13:$B$1012=B333)*('1.2 Sub-Con Application'!$U$13:$U$1012=\"Rejected\"),0),20),\"\")","v":""},{"$f":"IFERROR(INDEX('1.2 Sub-Con Application'!$B$13:$V$1012,MATCH(1,('1.2 Sub-Con Application'!$B$13:$B$1012=B333)*('1.2 Sub-Con Application'!$V$13:$V$1012<>\"\"),0),21),\"\")","v":""}]
[null,322,"","","","","","","","",{"$f":"IF(B334=\"\",\"\",SUMIF('1.2 Sub-Con Application'!$B$13:$B$1012,B334,'1.2 Sub-Con Application'!$P$13:$P$1012))","v":0},{"$f":"IF(B334=\"\",\"\",SUMIF('1.2 Sub-Con Application'!$B$13:$B$1012,B334,'1.2 Sub-Con Application'!$R$13:$R$1012))","v":0},{"$f":"IF(B334=\"\",\"\",SUMIF('1.2 Sub-Con Application'!$B$13:$B$1012,B334,'1.2 Sub-Con Application'!$S$13:$S$1012))","v":0},{"$f":"IFERROR(INDEX('1.2 Sub-Con Application'!$B$13:$U$1012,MATCH(1,('1.2 Sub-Con Application'!$B$13:$B$1012=B334)*('1.2 Sub-Con Application'!$U$13:$U$1012=\"Rejected\"),0),20),\"\")","v":""},{"$f":"IFERROR(INDEX('1.2 Sub-Con Application'!$B$13:$V$1012,MATCH(1,('1.2 Sub-Con Application'!$B$13:$B$1012=B334)*('1.2 Sub-Con Application'!$V$13:$V$1012<>\"\"),0),21),\"\")","v":""}]
[null,323,"","","","","","","","",{"$f":"IF(B335=\"\",\"\",SUMIF('1.2 Sub-Con Application'!$B$13:$B$1012,B335,'1.2 Sub-Con Application'!$P$13:$P$1012))","v":0},{"$f":"IF(B335=\"\",\"\",SUMIF('1.2 Sub-Con Application'!$B$13:$B$1012,B335,'1.2 Sub-Con Application'!$R$13:$R$1012))","v":0},{"$f":"IF(B335=\"\",\"\",SUMIF('1.2 Sub-Con Application'!$B$13:$B$1012,B335,'1.2 Sub-Con Application'!$S$13:$S$1012))","v":0},{"$f":"IFERROR(INDEX('1.2 Sub-Con Application'!$B$13:$U$1012,MATCH(1,('1.2 Sub-Con Application'!$B$13:$B$1012=B335)*('1.2 Sub-Con Application'!$U$13:$U$1012=\"Rejected\"),0),20),\"\")","v":""},{"$f":"IFERROR(INDEX('1.2 Sub-Con Application'!$B$13:$V$1012,MATCH(1,('1.2 Sub-Con Application'!$B$13:$B$1012=B335)*('1.2 Sub-Con Application'!$V$13:$V$1012<>\"\"),0),21),\"\")","v":""}]
[null,324,"","","","","","","","",{"$f":"IF(B336=\"\",\"\",SUMIF('1.2 Sub-Con Application'!$B$13:$B$1012,B336,'1.2 Sub-Con Application'!$P$13:$P$1012))","v":0},{"$f":"IF(B336=\"\",\"\",SUMIF('1.2 Sub-Con Application'!$B$13:$B$1012,B336,'1.2 Sub-Con Application'!$R$13:$R$1012))","v":0},{"$f":"IF(B336=\"\",\"\",SUMIF('1.2 Sub-Con Application'!$B$13:$B$1012,B336,'1.2 Sub-Con Application'!$S$13:$S$1012))","v":0},{"$f":"IFERROR(INDEX('1.2 Sub-Con Application'!$B$13:$U$1012,MATCH(1,('1.2 Sub-Con Application'!$B$13:$B$1012=B336)*('1.2 Sub-Con Application'!$U$13:$U$1012=\"Rejected\"),0),20),\"\")","v":""},{"$f":"IFERROR(INDEX('1.2 Sub-Con Application'!$B$13:$V$1012,MATCH(1,('1.2 Sub-Con Application'!$B$13:$B$1012=B336)*('1.2 Sub-Con Application'!$V$13:$V$1012<>\"\"),0),21),\"\")","v":""}]
[null,325,"","","","","","","","",{"$f":"IF(B337=\"\",\"\",SUMIF('1.2 Sub-Con Application'!$B$13:$B$1012,B337,'1.2 Sub-Con Application'!$P$13:$P$1012))","v":0},{"$f":"IF(B337=\"\",\"\",SUMIF('1.2 Sub-Con Application'!$B$13:$B$1012,B337,'1.2 Sub-Con Application'!$R$13:$R$1012))","v":0},{"$f":"IF(B337=\"\",\"\",SUMIF('1.2 Sub-Con Application'!$B$13:$B$1012,B337,'1.2 Sub-Con Application'!$S$13:$S$1012))","v":0},{"$f":"IFERROR(INDEX('1.2 Sub-Con Application'!$B$13:$U$1012,MATCH(1,('1.2 Sub-Con Application'!$B$13:$B$1012=B337)*('1.2 Sub-Con Application'!$U$13:$U$1012=\"Rejected\"),0),20),\"\")","v":""},{"$f":"IFERROR(INDEX('1.2 Sub-Con Application'!$B$13:$V$1012,MATCH(1,('1.2 Sub-Con Application'!$B$13:$B$1012=B337)*('1.2 Sub-Con Application'!$V$13:$V$1012<>\"\"),0),21),\"\")","v":""}]
[null,326,"","","","","","","","",{"$f":"IF(B338=\"\",\"\",SUMIF('1.2 Sub-Con Application'!$B$13:$B$1012,B338,'1.2 Sub-Con Application'!$P$13:$P$1012))","v":0},{"$f":"IF(B338=\"\",\"\",SUMIF('1.2 Sub-Con Application'!$B$13:$B$1012,B338,'1.2 Sub-Con Application'!$R$13:$R$1012))","v":0},{"$f":"IF(B338=\"\",\"\",SUMIF('1.2 Sub-Con Application'!$B$13:$B$1012,B338,'1.2 Sub-Con Application'!$S$13:$S$1012))","v":0},{"$f":"IFERROR(INDEX('1.2 Sub-Con Application'!$B$13:$U$1012,MATCH(1,('1.2 Sub-Con Application'!$B$13:$B$1012=B338)*('1.2 Sub-Con Application'!$U$13:$U$1012=\"Rejected\"),0),20),\"\")","v":""},{"$f":"IFERROR(INDEX('1.2 Sub-Con Application'!$B$13:$V$1012,MATCH(1,('1.2 Sub-Con Application'!$B$13:$B$1012=B338)*('1.2 Sub-Con Application'!$V$13:$V$1012<>\"\"),0),21),\"\")","v":""}]
[null,327,"","","","","","","","",{"$f":"IF(B339=\"\",\"\",SUMIF('1.2 Sub-Con Application'!$B$13:$B$1012,B339,'1.2 Sub-Con Application'!$P$13:$P$1012))","v":0},{"$f":"IF(B339=\"\",\"\",SUMIF('1.2 Sub-Con Application'!$B$13:$B$1012,B339,'1.2 Sub-Con Application'!$R$13:$R$1012))","v":0},{"$f":"IF(B339=\"\",\"\",SUMIF('1.2 Sub-Con Application'!$B$13:$B$1012,B339,'1.2 Sub-Con Application'!$S$13:$S$1012))","v":0},{"$f":"IFERROR(INDEX('1.2 Sub-Con Application'!$B$13:$U$1012,MATCH(1,('1.2 Sub-Con Application'!$B$13:$B$1012=B339)*('1.2 Sub-Con Application'!$U$13:$U$1012=\"Rejected\"),0),20),\"\")","v":""},{"$f":"IFERROR(INDEX('1.2 Sub-Con Application'!$B$13:$V$1012,MATCH(1,('1.2 Sub-Con Application'!$B$13:$B$1012=B339)*('1.2 Sub-Con Application'!$V$13:$V$1012<>\"\"),0),21),\"\")","v":""}]
[null,328,"","","","","","","","",{"$f":"IF(B340=\"\",\"\",SUMIF('1.2 Sub-Con Application'!$B$13:$B$1012,B340,'1.2 Sub-Con Application'!$P$13:$P$1012))","v":0},{"$f":"IF(B340=\"\",\"\",SUMIF('1.2 Sub-Con Application'!$B$13:$B$1012,B340,'1.2 Sub-Con Application'!$R$13:$R$1012))","v":0},{"$f":"IF(B340=\"\",\"\",SUMIF('1.2 Sub-Con Application'!$B$13:$B$1012,B340,'1.2 Sub-Con Application'!$S$13:$S$1012))","v":0},{"$f":"IFERROR(INDEX('1.2 Sub-Con Application'!$B$13:$U$1012,MATCH(1,('1.2 Sub-Con Application'!$B$13:$B$1012=B340)*('1.2 Sub-Con Application'!$U$13:$U$1012=\"Rejected\"),0),20),\"\")","v":""},{"$f":"IFERROR(INDEX('1.2 Sub-Con Application'!$B$13:$V$1012,MATCH(1,('1.2 Sub-Con Application'!$B$13:$B$1012=B340)*('1.2 Sub-Con Application'!$V$13:$V$1012<>\"\"),0),21),\"\")","v":""}]
[null,329,"","","","","","","","",{"$f":"IF(B341=\"\",\"\",SUMIF('1.2 Sub-Con Application'!$B$13:$B$1012,B341,'1.2 Sub-Con Application'!$P$13:$P$1012))","v":0},{"$f":"IF(B341=\"\",\"\",SUMIF('1.2 Sub-Con Application'!$B$13:$B$1012,B341,'1.2 Sub-Con Application'!$R$13:$R$1012))","v":0},{"$f":"IF(B341=\"\",\"\",SUMIF('1.2 Sub-Con Application'!$B$13:$B$1012,B341,'1.2 Sub-Con Application'!$S$13:$S$1012))","v":0},{"$f":"IFERROR(INDEX('1.2 Sub-Con Application'!$B$13:$U$1012,MATCH(1,('1.2 Sub-Con Application'!$B$13:$B$1012=B341)*('1.2 Sub-Con Application'!$U$13:$U$1012=\"Rejected\"),0),20),\"\")","v":""},{"$f":"IFERROR(INDEX('1.2 Sub-Con Application'!$B$13:$V$1012,MATCH(1,('1.2 Sub-Con Application'!$B$13:$B$1012=B341)*('1.2 Sub-Con Application'!$V$13:$V$1012<>\"\"),0),21),\"\")","v":""}]
[null,330,"","","","","","","","",{"$f":"IF(B342=\"\",\"\",SUMIF('1.2 Sub-Con Application'!$B$13:$B$1012,B342,'1.2 Sub-Con Application'!$P$13:$P$1012))","v":0},{"$f":"IF(B342=\"\",\"\",SUMIF('1.2 Sub-Con Application'!$B$13:$B$1012,B342,'1.2 Sub-Con Application'!$R$13:$R$1012))","v":0},{"$f":"IF(B342=\"\",\"\",SUMIF('1.2 Sub-Con Application'!$B$13:$B$1012,B342,'1.2 Sub-Con Application'!$S$13:$S$1012))","v":0},{"$f":"IFERROR(INDEX('1.2 Sub-Con Application'!$B$13:$U$1012,MATCH(1,('1.2 Sub-Con Application'!$B$13:$B$1012=B342)*('1.2 Sub-Con Application'!$U$13:$U$1012=\"Rejected\"),0),20),\"\")","v":""},{"$f":"IFERROR(INDEX('1.2 Sub-Con Application'!$B$13:$V$1012,MATCH(1,('1.2 Sub-Con Application'!$B$13:$B$1012=B342)*('1.2 Sub-Con Application'!$V$13:$V$1012<>\"\"),0),21),\"\")","v":""}]
[null,331,{"$f":"IFERROR(INDEX(table_subconApp,MATCH($B343,row_subconApp,0),MATCH(C$12,col_subconApp,0)),\"\")","v":""},"","","","","","","",{"$f":"IF(B343=\"\",\"\",SUMIF('1.2 Sub-Con Application'!$B$13:$B$1012,B343,'1.2 Sub-Con Application'!$P$13:$P$1012))","v":0},{"$f":"IF(B343=\"\",\"\",SUMIF('1.2 Sub-Con Application'!$B$13:$B$1012,B343,'1.2 Sub-Con Application'!$R$13:$R$1012))","v":0},{"$f":"IF(B343=\"\",\"\",SUMIF('1.2 Sub-Con Application'!$B$13:$B$1012,B343,'1.2 Sub-Con Application'!$S$13:$S$1012))","v":0},{"$f":"IFERROR(INDEX('1.2 Sub-Con Application'!$B$13:$U$1012,MATCH(1,('1.2 Sub-Con Application'!$B$13:$B$1012=B343)*('1.2 Sub-Con Application'!$U$13:$U$1012=\"Rejected\"),0),20),\"\")","v":""},{"$f":"IFERROR(INDEX('1.2 Sub-Con Application'!$B$13:$V$1012,MATCH(1,('1.2 Sub-Con Application'!$B$13:$B$1012=B343)*('1.2 Sub-Con Application'!$V$13:$V$1012<>\"\"),0),21),\"\")","v":""}]
[null,332,"","","","","","","","",{"$f":"IF(B344=\"\",\"\",SUMIF('1.2 Sub-Con Application'!$B$13:$B$1012,B344,'1.2 Sub-Con Application'!$P$13:$P$1012))","v":0},{"$f":"IF(B344=\"\",\"\",SUMIF('1.2 Sub-Con Application'!$B$13:$B$1012,B344,'1.2 Sub-Con Application'!$R$13:$R$1012))","v":0},{"$f":"IF(B344=\"\",\"\",SUMIF('1.2 Sub-Con Application'!$B$13:$B$1012,B344,'1.2 Sub-Con Application'!$S$13:$S$1012))","v":0},{"$f":"IFERROR(INDEX('1.2 Sub-Con Application'!$B$13:$U$1012,MATCH(1,('1.2 Sub-Con Application'!$B$13:$B$1012=B344)*('1.2 Sub-Con Application'!$U$13:$U$1012=\"Rejected\"),0),20),\"\")","v":""},{"$f":"IFERROR(INDEX('1.2 Sub-Con Application'!$B$13:$V$1012,MATCH(1,('1.2 Sub-Con Application'!$B$13:$B$1012=B344)*('1.2 Sub-Con Application'!$V$13:$V$1012<>\"\"),0),21),\"\")","v":""}]
[null,333,"","","","","","","","",{"$f":"IF(B345=\"\",\"\",SUMIF('1.2 Sub-Con Application'!$B$13:$B$1012,B345,'1.2 Sub-Con Application'!$P$13:$P$1012))","v":0},{"$f":"IF(B345=\"\",\"\",SUMIF('1.2 Sub-Con Application'!$B$13:$B$1012,B345,'1.2 Sub-Con Application'!$R$13:$R$1012))","v":0},{"$f":"IF(B345=\"\",\"\",SUMIF('1.2 Sub-Con Application'!$B$13:$B$1012,B345,'1.2 Sub-Con Application'!$S$13:$S$1012))","v":0},{"$f":"IFERROR(INDEX('1.2 Sub-Con Application'!$B$13:$U$1012,MATCH(1,('1.2 Sub-Con Application'!$B$13:$B$1012=B345)*('1.2 Sub-Con Application'!$U$13:$U$1012=\"Rejected\"),0),20),\"\")","v":""},{"$f":"IFERROR(INDEX('1.2 Sub-Con Application'!$B$13:$V$1012,MATCH(1,('1.2 Sub-Con Application'!$B$13:$B$1012=B345)*('1.2 Sub-Con Application'!$V$13:$V$1012<>\"\"),0),21),\"\")","v":""}]
[null,334,"","","","","","","","",{"$f":"IF(B346=\"\",\"\",SUMIF('1.2 Sub-Con Application'!$B$13:$B$1012,B346,'1.2 Sub-Con Application'!$P$13:$P$1012))","v":0},{"$f":"IF(B346=\"\",\"\",SUMIF('1.2 Sub-Con Application'!$B$13:$B$1012,B346,'1.2 Sub-Con Application'!$R$13:$R$1012))","v":0},{"$f":"IF(B346=\"\",\"\",SUMIF('1.2 Sub-Con Application'!$B$13:$B$1012,B346,'1.2 Sub-Con Application'!$S$13:$S$1012))","v":0},{"$f":"IFERROR(INDEX('1.2 Sub-Con Application'!$B$13:$U$1012,MATCH(1,('1.2 Sub-Con Application'!$B$13:$B$1012=B346)*('1.2 Sub-Con Application'!$U$13:$U$1012=\"Rejected\"),0),20),\"\")","v":""},{"$f":"IFERROR(INDEX('1.2 Sub-Con Application'!$B$13:$V$1012,MATCH(1,('1.2 Sub-Con Application'!$B$13:$B$1012=B346)*('1.2 Sub-Con Application'!$V$13:$V$1012<>\"\"),0),21),\"\")","v":""}]
[null,335,"","","","","","","","",{"$f":"IF(B347=\"\",\"\",SUMIF('1.2 Sub-Con Application'!$B$13:$B$1012,B347,'1.2 Sub-Con Application'!$P$13:$P$1012))","v":0},{"$f":"IF(B347=\"\",\"\",SUMIF('1.2 Sub-Con Application'!$B$13:$B$1012,B347,'1.2 Sub-Con Application'!$R$13:$R$1012))","v":0},{"$f":"IF(B347=\"\",\"\",SUMIF('1.2 Sub-Con Application'!$B$13:$B$1012,B347,'1.2 Sub-Con Application'!$S$13:$S$1012))","v":0},{"$f":"IFERROR(INDEX('1.2 Sub-Con Application'!$B$13:$U$1012,MATCH(1,('1.2 Sub-Con Application'!$B$13:$B$1012=B347)*('1.2 Sub-Con Application'!$U$13:$U$1012=\"Rejected\"),0),20),\"\")","v":""},{"$f":"IFERROR(INDEX('1.2 Sub-Con Application'!$B$13:$V$1012,MATCH(1,('1.2 Sub-Con Application'!$B$13:$B$1012=B347)*('1.2 Sub-Con Application'!$V$13:$V$1012<>\"\"),0),21),\"\")","v":""}]
[null,336,"","","","","","","","",{"$f":"IF(B348=\"\",\"\",SUMIF('1.2 Sub-Con Application'!$B$13:$B$1012,B348,'1.2 Sub-Con Application'!$P$13:$P$1012))","v":0},{"$f":"IF(B348=\"\",\"\",SUMIF('1.2 Sub-Con Application'!$B$13:$B$1012,B348,'1.2 Sub-Con Application'!$R$13:$R$1012))","v":0},{"$f":"IF(B348=\"\",\"\",SUMIF('1.2 Sub-Con Application'!$B$13:$B$1012,B348,'1.2 Sub-Con Application'!$S$13:$S$1012))","v":0},{"$f":"IFERROR(INDEX('1.2 Sub-Con Application'!$B$13:$U$1012,MATCH(1,('1.2 Sub-Con Application'!$B$13:$B$1012=B348)*('1.2 Sub-Con Application'!$U$13:$U$1012=\"Rejected\"),0),20),\"\")","v":""},{"$f":"IFERROR(INDEX('1.2 Sub-Con Application'!$B$13:$V$1012,MATCH(1,('1.2 Sub-Con Application'!$B$13:$B$1012=B348)*('1.2 Sub-Con Application'!$V$13:$V$1012<>\"\"),0),21),\"\")","v":""}]
[null,337,"","","","","","","","",{"$f":"IF(B349=\"\",\"\",SUMIF('1.2 Sub-Con Application'!$B$13:$B$1012,B349,'1.2 Sub-Con Application'!$P$13:$P$1012))","v":0},{"$f":"IF(B349=\"\",\"\",SUMIF('1.2 Sub-Con Application'!$B$13:$B$1012,B349,'1.2 Sub-Con Application'!$R$13:$R$1012))","v":0},{"$f":"IF(B349=\"\",\"\",SUMIF('1.2 Sub-Con Application'!$B$13:$B$1012,B349,'1.2 Sub-Con Application'!$S$13:$S$1012))","v":0},{"$f":"IFERROR(INDEX('1.2 Sub-Con Application'!$B$13:$U$1012,MATCH(1,('1.2 Sub-Con Application'!$B$13:$B$1012=B349)*('1.2 Sub-Con Application'!$U$13:$U$1012=\"Rejected\"),0),20),\"\")","v":""},{"$f":"IFERROR(INDEX('1.2 Sub-Con Application'!$B$13:$V$1012,MATCH(1,('1.2 Sub-Con Application'!$B$13:$B$1012=B349)*('1.2 Sub-Con Application'!$V$13:$V$1012<>\"\"),0),21),\"\")","v":""}]
[null,338,"","","","","","","","",{"$f":"IF(B350=\"\",\"\",SUMIF('1.2 Sub-Con Application'!$B$13:$B$1012,B350,'1.2 Sub-Con Application'!$P$13:$P$1012))","v":0},{"$f":"IF(B350=\"\",\"\",SUMIF('1.2 Sub-Con Application'!$B$13:$B$1012,B350,'1.2 Sub-Con Application'!$R$13:$R$1012))","v":0},{"$f":"IF(B350=\"\",\"\",SUMIF('1.2 Sub-Con Application'!$B$13:$B$1012,B350,'1.2 Sub-Con Application'!$S$13:$S$1012))","v":0},{"$f":"IFERROR(INDEX('1.2 Sub-Con Application'!$B$13:$U$1012,MATCH(1,('1.2 Sub-Con Application'!$B$13:$B$1012=B350)*('1.2 Sub-Con Application'!$U$13:$U$1012=\"Rejected\"),0),20),\"\")","v":""},{"$f":"IFERROR(INDEX('1.2 Sub-Con Application'!$B$13:$V$1012,MATCH(1,('1.2 Sub-Con Application'!$B$13:$B$1012=B350)*('1.2 Sub-Con Application'!$V$13:$V$1012<>\"\"),0),21),\"\")","v":""}]
[null,339,"","","","","","","","",{"$f":"IF(B351=\"\",\"\",SUMIF('1.2 Sub-Con Application'!$B$13:$B$1012,B351,'1.2 Sub-Con Application'!$P$13:$P$1012))","v":0},{"$f":"IF(B351=\"\",\"\",SUMIF('1.2 Sub-Con Application'!$B$13:$B$1012,B351,'1.2 Sub-Con Application'!$R$13:$R$1012))","v":0},{"$f":"IF(B351=\"\",\"\",SUMIF('1.2 Sub-Con Application'!$B$13:$B$1012,B351,'1.2 Sub-Con Application'!$S$13:$S$1012))","v":0},{"$f":"IFERROR(INDEX('1.2 Sub-Con Application'!$B$13:$U$1012,MATCH(1,('1.2 Sub-Con Application'!$B$13:$B$1012=B351)*('1.2 Sub-Con Application'!$U$13:$U$1012=\"Rejected\"),0),20),\"\")","v":""},{"$f":"IFERROR(INDEX('1.2 Sub-Con Application'!$B$13:$V$1012,MATCH(1,('1.2 Sub-Con Application'!$B$13:$B$1012=B351)*('1.2 Sub-Con Application'!$V$13:$V$1012<>\"\"),0),21),\"\")","v":""}]
[null,340,"","","","","","","","",{"$f":"IF(B352=\"\",\"\",SUMIF('1.2 Sub-Con Application'!$B$13:$B$1012,B352,'1.2 Sub-Con Application'!$P$13:$P$1012))","v":0},{"$f":"IF(B352=\"\",\"\",SUMIF('1.2 Sub-Con Application'!$B$13:$B$1012,B352,'1.2 Sub-Con Application'!$R$13:$R$1012))","v":0},{"$f":"IF(B352=\"\",\"\",SUMIF('1.2 Sub-Con Application'!$B$13:$B$1012,B352,'1.2 Sub-Con Application'!$S$13:$S$1012))","v":0},{"$f":"IFERROR(INDEX('1.2 Sub-Con Application'!$B$13:$U$1012,MATCH(1,('1.2 Sub-Con Application'!$B$13:$B$1012=B352)*('1.2 Sub-Con Application'!$U$13:$U$1012=\"Rejected\"),0),20),\"\")","v":""},{"$f":"IFERROR(INDEX('1.2 Sub-Con Application'!$B$13:$V$1012,MATCH(1,('1.2 Sub-Con Application'!$B$13:$B$1012=B352)*('1.2 Sub-Con Application'!$V$13:$V$1012<>\"\"),0),21),\"\")","v":""}]
[null,341,{"$f":"IFERROR(INDEX(table_subconApp,MATCH($B353,row_subconApp,0),MATCH(C$12,col_subconApp,0)),\"\")","v":""},"","","","","","","",{"$f":"IF(B353=\"\",\"\",SUMIF('1.2 Sub-Con Application'!$B$13:$B$1012,B353,'1.2 Sub-Con Application'!$P$13:$P$1012))","v":0},{"$f":"IF(B353=\"\",\"\",SUMIF('1.2 Sub-Con Application'!$B$13:$B$1012,B353,'1.2 Sub-Con Application'!$R$13:$R$1012))","v":0},{"$f":"IF(B353=\"\",\"\",SUMIF('1.2 Sub-Con Application'!$B$13:$B$1012,B353,'1.2 Sub-Con Application'!$S$13:$S$1012))","v":0},{"$f":"IFERROR(INDEX('1.2 Sub-Con Application'!$B$13:$U$1012,MATCH(1,('1.2 Sub-Con Application'!$B$13:$B$1012=B353)*('1.2 Sub-Con Application'!$U$13:$U$1012=\"Rejected\"),0),20),\"\")","v":""},{"$f":"IFERROR(INDEX('1.2 Sub-Con Application'!$B$13:$V$1012,MATCH(1,('1.2 Sub-Con Application'!$B$13:$B$1012=B353)*('1.2 Sub-Con Application'!$V$13:$V$1012<>\"\"),0),21),\"\")","v":""}]
[null,342,"","","","","","","","",{"$f":"IF(B354=\"\",\"\",SUMIF('1.2 Sub-Con Application'!$B$13:$B$1012,B354,'1.2 Sub-Con Application'!$P$13:$P$1012))","v":0},{"$f":"IF(B354=\"\",\"\",SUMIF('1.2 Sub-Con Application'!$B$13:$B$1012,B354,'1.2 Sub-Con Application'!$R$13:$R$1012))","v":0},{"$f":"IF(B354=\"\",\"\",SUMIF('1.2 Sub-Con Application'!$B$13:$B$1012,B354,'1.2 Sub-Con Application'!$S$13:$S$1012))","v":0},{"$f":"IFERROR(INDEX('1.2 Sub-Con Application'!$B$13:$U$1012,MATCH(1,('1.2 Sub-Con Application'!$B$13:$B$1012=B354)*('1.2 Sub-Con Application'!$U$13:$U$1012=\"Rejected\"),0),20),\"\")","v":""},{"$f":"IFERROR(INDEX('1.2 Sub-Con Application'!$B$13:$V$1012,MATCH(1,('1.2 Sub-Con Application'!$B$13:$B$1012=B354)*('1.2 Sub-Con Application'!$V$13:$V$1012<>\"\"),0),21),\"\")","v":""}]
[null,343,"","","","","","","","",{"$f":"IF(B355=\"\",\"\",SUMIF('1.2 Sub-Con Application'!$B$13:$B$1012,B355,'1.2 Sub-Con Application'!$P$13:$P$1012))","v":0},{"$f":"IF(B355=\"\",\"\",SUMIF('1.2 Sub-Con Application'!$B$13:$B$1012,B355,'1.2 Sub-Con Application'!$R$13:$R$1012))","v":0},{"$f":"IF(B355=\"\",\"\",SUMIF('1.2 Sub-Con Application'!$B$13:$B$1012,B355,'1.2 Sub-Con Application'!$S$13:$S$1012))","v":0},{"$f":"IFERROR(INDEX('1.2 Sub-Con Application'!$B$13:$U$1012,MATCH(1,('1.2 Sub-Con Application'!$B$13:$B$1012=B355)*('1.2 Sub-Con Application'!$U$13:$U$1012=\"Rejected\"),0),20),\"\")","v":""},{"$f":"IFERROR(INDEX('1.2 Sub-Con Application'!$B$13:$V$1012,MATCH(1,('1.2 Sub-Con Application'!$B$13:$B$1012=B355)*('1.2 Sub-Con Application'!$V$13:$V$1012<>\"\"),0),21),\"\")","v":""}]
[null,344,"","","","","","","","",{"$f":"IF(B356=\"\",\"\",SUMIF('1.2 Sub-Con Application'!$B$13:$B$1012,B356,'1.2 Sub-Con Application'!$P$13:$P$1012))","v":0},{"$f":"IF(B356=\"\",\"\",SUMIF('1.2 Sub-Con Application'!$B$13:$B$1012,B356,'1.2 Sub-Con Application'!$R$13:$R$1012))","v":0},{"$f":"IF(B356=\"\",\"\",SUMIF('1.2 Sub-Con Application'!$B$13:$B$1012,B356,'1.2 Sub-Con Application'!$S$13:$S$1012))","v":0},{"$f":"IFERROR(INDEX('1.2 Sub-Con Application'!$B$13:$U$1012,MATCH(1,('1.2 Sub-Con Application'!$B$13:$B$1012=B356)*('1.2 Sub-Con Application'!$U$13:$U$1012=\"Rejected\"),0),20),\"\")","v":""},{"$f":"IFERROR(INDEX('1.2 Sub-Con Application'!$B$13:$V$1012,MATCH(1,('1.2 Sub-Con Application'!$B$13:$B$1012=B356)*('1.2 Sub-Con Application'!$V$13:$V$1012<>\"\"),0),21),\"\")","v":""}]
[null,345,"","","","","","","","",{"$f":"IF(B357=\"\",\"\",SUMIF('1.2 Sub-Con Application'!$B$13:$B$1012,B357,'1.2 Sub-Con Application'!$P$13:$P$1012))","v":0},{"$f":"IF(B357=\"\",\"\",SUMIF('1.2 Sub-Con Application'!$B$13:$B$1012,B357,'1.2 Sub-Con Application'!$R$13:$R$1012))","v":0},{"$f":"IF(B357=\"\",\"\",SUMIF('1.2 Sub-Con Application'!$B$13:$B$1012,B357,'1.2 Sub-Con Application'!$S$13:$S$1012))","v":0},{"$f":"IFERROR(INDEX('1.2 Sub-Con Application'!$B$13:$U$1012,MATCH(1,('1.2 Sub-Con Application'!$B$13:$B$1012=B357)*('1.2 Sub-Con Application'!$U$13:$U$1012=\"Rejected\"),0),20),\"\")","v":""},{"$f":"IFERROR(INDEX('1.2 Sub-Con Application'!$B$13:$V$1012,MATCH(1,('1.2 Sub-Con Application'!$B$13:$B$1012=B357)*('1.2 Sub-Con Application'!$V$13:$V$1012<>\"\"),0),21),\"\")","v":""}]
[null,346,"","","","","","","","",{"$f":"IF(B358=\"\",\"\",SUMIF('1.2 Sub-Con Application'!$B$13:$B$1012,B358,'1.2 Sub-Con Application'!$P$13:$P$1012))","v":0},{"$f":"IF(B358=\"\",\"\",SUMIF('1.2 Sub-Con Application'!$B$13:$B$1012,B358,'1.2 Sub-Con Application'!$R$13:$R$1012))","v":0},{"$f":"IF(B358=\"\",\"\",SUMIF('1.2 Sub-Con Application'!$B$13:$B$1012,B358,'1.2 Sub-Con Application'!$S$13:$S$1012))","v":0},{"$f":"IFERROR(INDEX('1.2 Sub-Con Application'!$B$13:$U$1012,MATCH(1,('1.2 Sub-Con Application'!$B$13:$B$1012=B358)*('1.2 Sub-Con Application'!$U$13:$U$1012=\"Rejected\"),0),20),\"\")","v":""},{"$f":"IFERROR(INDEX('1.2 Sub-Con Application'!$B$13:$V$1012,MATCH(1,('1.2 Sub-Con Application'!$B$13:$B$1012=B358)*('1.2 Sub-Con Application'!$V$13:$V$1012<>\"\"),0),21),\"\")","v":""}]
[null,347,"","","","","","","","",{"$f":"IF(B359=\"\",\"\",SUMIF('1.2 Sub-Con Application'!$B$13:$B$1012,B359,'1.2 Sub-Con Application'!$P$13:$P$1012))","v":0},{"$f":"IF(B359=\"\",\"\",SUMIF('1.2 Sub-Con Application'!$B$13:$B$1012,B359,'1.2 Sub-Con Application'!$R$13:$R$1012))","v":0},{"$f":"IF(B359=\"\",\"\",SUMIF('1.2 Sub-Con Application'!$B$13:$B$1012,B359,'1.2 Sub-Con Application'!$S$13:$S$1012))","v":0},{"$f":"IFERROR(INDEX('1.2 Sub-Con Application'!$B$13:$U$1012,MATCH(1,('1.2 Sub-Con Application'!$B$13:$B$1012=B359)*('1.2 Sub-Con Application'!$U$13:$U$1012=\"Rejected\"),0),20),\"\")","v":""},{"$f":"IFERROR(INDEX('1.2 Sub-Con Application'!$B$13:$V$1012,MATCH(1,('1.2 Sub-Con Application'!$B$13:$B$1012=B359)*('1.2 Sub-Con Application'!$V$13:$V$1012<>\"\"),0),21),\"\")","v":""}]
[null,348,"","","","","","","","",{"$f":"IF(B360=\"\",\"\",SUMIF('1.2 Sub-Con Application'!$B$13:$B$1012,B360,'1.2 Sub-Con Application'!$P$13:$P$1012))","v":0},{"$f":"IF(B360=\"\",\"\",SUMIF('1.2 Sub-Con Application'!$B$13:$B$1012,B360,'1.2 Sub-Con Application'!$R$13:$R$1012))","v":0},{"$f":"IF(B360=\"\",\"\",SUMIF('1.2 Sub-Con Application'!$B$13:$B$1012,B360,'1.2 Sub-Con Application'!$S$13:$S$1012))","v":0},{"$f":"IFERROR(INDEX('1.2 Sub-Con Application'!$B$13:$U$1012,MATCH(1,('1.2 Sub-Con Application'!$B$13:$B$1012=B360)*('1.2 Sub-Con Application'!$U$13:$U$1012=\"Rejected\"),0),20),\"\")","v":""},{"$f":"IFERROR(INDEX('1.2 Sub-Con Application'!$B$13:$V$1012,MATCH(1,('1.2 Sub-Con Application'!$B$13:$B$1012=B360)*('1.2 Sub-Con Application'!$V$13:$V$1012<>\"\"),0),21),\"\")","v":""}]
[null,349,"","","","","","","","",{"$f":"IF(B361=\"\",\"\",SUMIF('1.2 Sub-Con Application'!$B$13:$B$1012,B361,'1.2 Sub-Con Application'!$P$13:$P$1012))","v":0},{"$f":"IF(B361=\"\",\"\",SUMIF('1.2 Sub-Con Application'!$B$13:$B$1012,B361,'1.2 Sub-Con Application'!$R$13:$R$1012))","v":0},{"$f":"IF(B361=\"\",\"\",SUMIF('1.2 Sub-Con Application'!$B$13:$B$1012,B361,'1.2 Sub-Con Application'!$S$13:$S$1012))","v":0},{"$f":"IFERROR(INDEX('1.2 Sub-Con Application'!$B$13:$U$1012,MATCH(1,('1.2 Sub-Con Application'!$B$13:$B$1012=B361)*('1.2 Sub-Con Application'!$U$13:$U$1012=\"Rejected\"),0),20),\"\")","v":""},{"$f":"IFERROR(INDEX('1.2 Sub-Con Application'!$B$13:$V$1012,MATCH(1,('1.2 Sub-Con Application'!$B$13:$B$1012=B361)*('1.2 Sub-Con Application'!$V$13:$V$1012<>\"\"),0),21),\"\")","v":""}]
[null,350,"","","","","","","","",{"$f":"IF(B362=\"\",\"\",SUMIF('1.2 Sub-Con Application'!$B$13:$B$1012,B362,'1.2 Sub-Con Application'!$P$13:$P$1012))","v":0},{"$f":"IF(B362=\"\",\"\",SUMIF('1.2 Sub-Con Application'!$B$13:$B$1012,B362,'1.2 Sub-Con Application'!$R$13:$R$1012))","v":0},{"$f":"IF(B362=\"\",\"\",SUMIF('1.2 Sub-Con Application'!$B$13:$B$1012,B362,'1.2 Sub-Con Application'!$S$13:$S$1012))","v":0},{"$f":"IFERROR(INDEX('1.2 Sub-Con Application'!$B$13:$U$1012,MATCH(1,('1.2 Sub-Con Application'!$B$13:$B$1012=B362)*('1.2 Sub-Con Application'!$U$13:$U$1012=\"Rejected\"),0),20),\"\")","v":""},{"$f":"IFERROR(INDEX('1.2 Sub-Con Application'!$B$13:$V$1012,MATCH(1,('1.2 Sub-Con Application'!$B$13:$B$1012=B362)*('1.2 Sub-Con Application'!$V$13:$V$1012<>\"\"),0),21),\"\")","v":""}]
[null,351,{"$f":"IFERROR(INDEX(table_subconApp,MATCH($B363,row_subconApp,0),MATCH(C$12,col_subconApp,0)),\"\")","v":""},"","","","","","","",{"$f":"IF(B363=\"\",\"\",SUMIF('1.2 Sub-Con Application'!$B$13:$B$1012,B363,'1.2 Sub-Con Application'!$P$13:$P$1012))","v":0},{"$f":"IF(B363=\"\",\"\",SUMIF('1.2 Sub-Con Application'!$B$13:$B$1012,B363,'1.2 Sub-Con Application'!$R$13:$R$1012))","v":0},{"$f":"IF(B363=\"\",\"\",SUMIF('1.2 Sub-Con Application'!$B$13:$B$1012,B363,'1.2 Sub-Con Application'!$S$13:$S$1012))","v":0},{"$f":"IFERROR(INDEX('1.2 Sub-Con Application'!$B$13:$U$1012,MATCH(1,('1.2 Sub-Con Application'!$B$13:$B$1012=B363)*('1.2 Sub-Con Application'!$U$13:$U$1012=\"Rejected\"),0),20),\"\")","v":""},{"$f":"IFERROR(INDEX('1.2 Sub-Con Application'!$B$13:$V$1012,MATCH(1,('1.2 Sub-Con Application'!$B$13:$B$1012=B363)*('1.2 Sub-Con Application'!$V$13:$V$1012<>\"\"),0),21),\"\")","v":""}]
[null,352,"","","","","","","","",{"$f":"IF(B364=\"\",\"\",SUMIF('1.2 Sub-Con Application'!$B$13:$B$1012,B364,'1.2 Sub-Con Application'!$P$13:$P$1012))","v":0},{"$f":"IF(B364=\"\",\"\",SUMIF('1.2 Sub-Con Application'!$B$13:$B$1012,B364,'1.2 Sub-Con Application'!$R$13:$R$1012))","v":0},{"$f":"IF(B364=\"\",\"\",SUMIF('1.2 Sub-Con Application'!$B$13:$B$1012,B364,'1.2 Sub-Con Application'!$S$13:$S$1012))","v":0},{"$f":"IFERROR(INDEX('1.2 Sub-Con Application'!$B$13:$U$1012,MATCH(1,('1.2 Sub-Con Application'!$B$13:$B$1012=B364)*('1.2 Sub-Con Application'!$U$13:$U$1012=\"Rejected\"),0),20),\"\")","v":""},{"$f":"IFERROR(INDEX('1.2 Sub-Con Application'!$B$13:$V$1012,MATCH(1,('1.2 Sub-Con Application'!$B$13:$B$1012=B364)*('1.2 Sub-Con Application'!$V$13:$V$1012<>\"\"),0),21),\"\")","v":""}]
[null,353,"","","","","","","","",{"$f":"IF(B365=\"\",\"\",SUMIF('1.2 Sub-Con Application'!$B$13:$B$1012,B365,'1.2 Sub-Con Application'!$P$13:$P$1012))","v":0},{"$f":"IF(B365=\"\",\"\",SUMIF('1.2 Sub-Con Application'!$B$13:$B$1012,B365,'1.2 Sub-Con Application'!$R$13:$R$1012))","v":0},{"$f":"IF(B365=\"\",\"\",SUMIF('1.2 Sub-Con Application'!$B$13:$B$1012,B365,'1.2 Sub-Con Application'!$S$13:$S$1012))","v":0},{"$f":"IFERROR(INDEX('1.2 Sub-Con Application'!$B$13:$U$1012,MATCH(1,('1.2 Sub-Con Application'!$B$13:$B$1012=B365)*('1.2 Sub-Con Application'!$U$13:$U$1012=\"Rejected\"),0),20),\"\")","v":""},{"$f":"IFERROR(INDEX('1.2 Sub-Con Application'!$B$13:$V$1012,MATCH(1,('1.2 Sub-Con Application'!$B$13:$B$1012=B365)*('1.2 Sub-Con Application'!$V$13:$V$1012<>\"\"),0),21),\"\")","v":""}]
[null,354,"","","","","","","","",{"$f":"IF(B366=\"\",\"\",SUMIF('1.2 Sub-Con Application'!$B$13:$B$1012,B366,'1.2 Sub-Con Application'!$P$13:$P$1012))","v":0},{"$f":"IF(B366=\"\",\"\",SUMIF('1.2 Sub-Con Application'!$B$13:$B$1012,B366,'1.2 Sub-Con Application'!$R$13:$R$1012))","v":0},{"$f":"IF(B366=\"\",\"\",SUMIF('1.2 Sub-Con Application'!$B$13:$B$1012,B366,'1.2 Sub-Con Application'!$S$13:$S$1012))","v":0},{"$f":"IFERROR(INDEX('1.2 Sub-Con Application'!$B$13:$U$1012,MATCH(1,('1.2 Sub-Con Application'!$B$13:$B$1012=B366)*('1.2 Sub-Con Application'!$U$13:$U$1012=\"Rejected\"),0),20),\"\")","v":""},{"$f":"IFERROR(INDEX('1.2 Sub-Con Application'!$B$13:$V$1012,MATCH(1,('1.2 Sub-Con Application'!$B$13:$B$1012=B366)*('1.2 Sub-Con Application'!$V$13:$V$1012<>\"\"),0),21),\"\")","v":""}]
[null,355,"","","","","","","","",{"$f":"IF(B367=\"\",\"\",SUMIF('1.2 Sub-Con Application'!$B$13:$B$1012,B367,'1.2 Sub-Con Application'!$P$13:$P$1012))","v":0},{"$f":"IF(B367=\"\",\"\",SUMIF('1.2 Sub-Con Application'!$B$13:$B$1012,B367,'1.2 Sub-Con Application'!$R$13:$R$1012))","v":0},{"$f":"IF(B367=\"\",\"\",SUMIF('1.2 Sub-Con Application'!$B$13:$B$1012,B367,'1.2 Sub-Con Application'!$S$13:$S$1012))","v":0},{"$f":"IFERROR(INDEX('1.2 Sub-Con Application'!$B$13:$U$1012,MATCH(1,('1.2 Sub-Con Application'!$B$13:$B$1012=B367)*('1.2 Sub-Con Application'!$U$13:$U$1012=\"Rejected\"),0),20),\"\")","v":""},{"$f":"IFERROR(INDEX('1.2 Sub-Con Application'!$B$13:$V$1012,MATCH(1,('1.2 Sub-Con Application'!$B$13:$B$1012=B367)*('1.2 Sub-Con Application'!$V$13:$V$1012<>\"\"),0),21),\"\")","v":""}]
[null,356,"","","","","","","","",{"$f":"IF(B368=\"\",\"\",SUMIF('1.2 Sub-Con Application'!$B$13:$B$1012,B368,'1.2 Sub-Con Application'!$P$13:$P$1012))","v":0},{"$f":"IF(B368=\"\",\"\",SUMIF('1.2 Sub-Con Application'!$B$13:$B$1012,B368,'1.2 Sub-Con Application'!$R$13:$R$1012))","v":0},{"$f":"IF(B368=\"\",\"\",SUMIF('1.2 Sub-Con Application'!$B$13:$B$1012,B368,'1.2 Sub-Con Application'!$S$13:$S$1012))","v":0},{"$f":"IFERROR(INDEX('1.2 Sub-Con Application'!$B$13:$U$1012,MATCH(1,('1.2 Sub-Con Application'!$B$13:$B$1012=B368)*('1.2 Sub-Con Application'!$U$13:$U$1012=\"Rejected\"),0),20),\"\")","v":""},{"$f":"IFERROR(INDEX('1.2 Sub-Con Application'!$B$13:$V$1012,MATCH(1,('1.2 Sub-Con Application'!$B$13:$B$1012=B368)*('1.2 Sub-Con Application'!$V$13:$V$1012<>\"\"),0),21),\"\")","v":""}]
[null,357,"","","","","","","","",{"$f":"IF(B369=\"\",\"\",SUMIF('1.2 Sub-Con Application'!$B$13:$B$1012,B369,'1.2 Sub-Con Application'!$P$13:$P$1012))","v":0},{"$f":"IF(B369=\"\",\"\",SUMIF('1.2 Sub-Con Application'!$B$13:$B$1012,B369,'1.2 Sub-Con Application'!$R$13:$R$1012))","v":0},{"$f":"IF(B369=\"\",\"\",SUMIF('1.2 Sub-Con Application'!$B$13:$B$1012,B369,'1.2 Sub-Con Application'!$S$13:$S$1012))","v":0},{"$f":"IFERROR(INDEX('1.2 Sub-Con Application'!$B$13:$U$1012,MATCH(1,('1.2 Sub-Con Application'!$B$13:$B$1012=B369)*('1.2 Sub-Con Application'!$U$13:$U$1012=\"Rejected\"),0),20),\"\")","v":""},{"$f":"IFERROR(INDEX('1.2 Sub-Con Application'!$B$13:$V$1012,MATCH(1,('1.2 Sub-Con Application'!$B$13:$B$1012=B369)*('1.2 Sub-Con Application'!$V$13:$V$1012<>\"\"),0),21),\"\")","v":""}]
[null,358,"","","","","","","","",{"$f":"IF(B370=\"\",\"\",SUMIF('1.2 Sub-Con Application'!$B$13:$B$1012,B370,'1.2 Sub-Con Application'!$P$13:$P$1012))","v":0},{"$f":"IF(B370=\"\",\"\",SUMIF('1.2 Sub-Con Application'!$B$13:$B$1012,B370,'1.2 Sub-Con Application'!$R$13:$R$1012))","v":0},{"$f":"IF(B370=\"\",\"\",SUMIF('1.2 Sub-Con Application'!$B$13:$B$1012,B370,'1.2 Sub-Con Application'!$S$13:$S$1012))","v":0},{"$f":"IFERROR(INDEX('1.2 Sub-Con Application'!$B$13:$U$1012,MATCH(1,('1.2 Sub-Con Application'!$B$13:$B$1012=B370)*('1.2 Sub-Con Application'!$U$13:$U$1012=\"Rejected\"),0),20),\"\")","v":""},{"$f":"IFERROR(INDEX('1.2 Sub-Con Application'!$B$13:$V$1012,MATCH(1,('1.2 Sub-Con Application'!$B$13:$B$1012=B370)*('1.2 Sub-Con Application'!$V$13:$V$1012<>\"\"),0),21),\"\")","v":""}]
[null,359,"","","","","","","","",{"$f":"IF(B371=\"\",\"\",SUMIF('1.2 Sub-Con Application'!$B$13:$B$1012,B371,'1.2 Sub-Con Application'!$P$13:$P$1012))","v":0},{"$f":"IF(B371=\"\",\"\",SUMIF('1.2 Sub-Con Application'!$B$13:$B$1012,B371,'1.2 Sub-Con Application'!$R$13:$R$1012))","v":0},{"$f":"IF(B371=\"\",\"\",SUMIF('1.2 Sub-Con Application'!$B$13:$B$1012,B371,'1.2 Sub-Con Application'!$S$13:$S$1012))","v":0},{"$f":"IFERROR(INDEX('1.2 Sub-Con Application'!$B$13:$U$1012,MATCH(1,('1.2 Sub-Con Application'!$B$13:$B$1012=B371)*('1.2 Sub-Con Application'!$U$13:$U$1012=\"Rejected\"),0),20),\"\")","v":""},{"$f":"IFERROR(INDEX('1.2 Sub-Con Application'!$B$13:$V$1012,MATCH(1,('1.2 Sub-Con Application'!$B$13:$B$1012=B371)*('1.2 Sub-Con Application'!$V$13:$V$1012<>\"\"),0),21),\"\")","v":""}]
[null,360,"","","","","","","","",{"$f":"IF(B372=\"\",\"\",SUMIF('1.2 Sub-Con Application'!$B$13:$B$1012,B372,'1.2 Sub-Con Application'!$P$13:$P$1012))","v":0},{"$f":"IF(B372=\"\",\"\",SUMIF('1.2 Sub-Con Application'!$B$13:$B$1012,B372,'1.2 Sub-Con Application'!$R$13:$R$1012))","v":0},{"$f":"IF(B372=\"\",\"\",SUMIF('1.2 Sub-Con Application'!$B$13:$B$1012,B372,'1.2 Sub-Con Application'!$S$13:$S$1012))","v":0},{"$f":"IFERROR(INDEX('1.2 Sub-Con Application'!$B$13:$U$1012,MATCH(1,('1.2 Sub-Con Application'!$B$13:$B$1012=B372)*('1.2 Sub-Con Application'!$U$13:$U$1012=\"Rejected\"),0),20),\"\")","v":""},{"$f":"IFERROR(INDEX('1.2 Sub-Con Application'!$B$13:$V$1012,MATCH(1,('1.2 Sub-Con Application'!$B$13:$B$1012=B372)*('1.2 Sub-Con Application'!$V$13:$V$1012<>\"\"),0),21),\"\")","v":""}]
[null,361,{"$f":"IFERROR(INDEX(table_subconApp,MATCH($B373,row_subconApp,0),MATCH(C$12,col_subconApp,0)),\"\")","v":""},"","","","","","","",{"$f":"IF(B373=\"\",\"\",SUMIF('1.2 Sub-Con Application'!$B$13:$B$1012,B373,'1.2 Sub-Con Application'!$P$13:$P$1012))","v":0},{"$f":"IF(B373=\"\",\"\",SUMIF('1.2 Sub-Con Application'!$B$13:$B$1012,B373,'1.2 Sub-Con Application'!$R$13:$R$1012))","v":0},{"$f":"IF(B373=\"\",\"\",SUMIF('1.2 Sub-Con Application'!$B$13:$B$1012,B373,'1.2 Sub-Con Application'!$S$13:$S$1012))","v":0},{"$f":"IFERROR(INDEX('1.2 Sub-Con Application'!$B$13:$U$1012,MATCH(1,('1.2 Sub-Con Application'!$B$13:$B$1012=B373)*('1.2 Sub-Con Application'!$U$13:$U$1012=\"Rejected\"),0),20),\"\")","v":""},{"$f":"IFERROR(INDEX('1.2 Sub-Con Application'!$B$13:$V$1012,MATCH(1,('1.2 Sub-Con Application'!$B$13:$B$1012=B373)*('1.2 Sub-Con Application'!$V$13:$V$1012<>\"\"),0),21),\"\")","v":""}]
[null,362,"","","","","","","","",{"$f":"IF(B374=\"\",\"\",SUMIF('1.2 Sub-Con Application'!$B$13:$B$1012,B374,'1.2 Sub-Con Application'!$P$13:$P$1012))","v":0},{"$f":"IF(B374=\"\",\"\",SUMIF('1.2 Sub-Con Application'!$B$13:$B$1012,B374,'1.2 Sub-Con Application'!$R$13:$R$1012))","v":0},{"$f":"IF(B374=\"\",\"\",SUMIF('1.2 Sub-Con Application'!$B$13:$B$1012,B374,'1.2 Sub-Con Application'!$S$13:$S$1012))","v":0},{"$f":"IFERROR(INDEX('1.2 Sub-Con Application'!$B$13:$U$1012,MATCH(1,('1.2 Sub-Con Application'!$B$13:$B$1012=B374)*('1.2 Sub-Con Application'!$U$13:$U$1012=\"Rejected\"),0),20),\"\")","v":""},{"$f":"IFERROR(INDEX('1.2 Sub-Con Application'!$B$13:$V$1012,MATCH(1,('1.2 Sub-Con Application'!$B$13:$B$1012=B374)*('1.2 Sub-Con Application'!$V$13:$V$1012<>\"\"),0),21),\"\")","v":""}]
[null,363,"","","","","","","","",{"$f":"IF(B375=\"\",\"\",SUMIF('1.2 Sub-Con Application'!$B$13:$B$1012,B375,'1.2 Sub-Con Application'!$P$13:$P$1012))","v":0},{"$f":"IF(B375=\"\",\"\",SUMIF('1.2 Sub-Con Application'!$B$13:$B$1012,B375,'1.2 Sub-Con Application'!$R$13:$R$1012))","v":0},{"$f":"IF(B375=\"\",\"\",SUMIF('1.2 Sub-Con Application'!$B$13:$B$1012,B375,'1.2 Sub-Con Application'!$S$13:$S$1012))","v":0},{"$f":"IFERROR(INDEX('1.2 Sub-Con Application'!$B$13:$U$1012,MATCH(1,('1.2 Sub-Con Application'!$B$13:$B$1012=B375)*('1.2 Sub-Con Application'!$U$13:$U$1012=\"Rejected\"),0),20),\"\")","v":""},{"$f":"IFERROR(INDEX('1.2 Sub-Con Application'!$B$13:$V$1012,MATCH(1,('1.2 Sub-Con Application'!$B$13:$B$1012=B375)*('1.2 Sub-Con Application'!$V$13:$V$1012<>\"\"),0),21),\"\")","v":""}]
[null,364,"","","","","","","","",{"$f":"IF(B376=\"\",\"\",SUMIF('1.2 Sub-Con Application'!$B$13:$B$1012,B376,'1.2 Sub-Con Application'!$P$13:$P$1012))","v":0},{"$f":"IF(B376=\"\",\"\",SUMIF('1.2 Sub-Con Application'!$B$13:$B$1012,B376,'1.2 Sub-Con Application'!$R$13:$R$1012))","v":0},{"$f":"IF(B376=\"\",\"\",SUMIF('1.2 Sub-Con Application'!$B$13:$B$1012,B376,'1.2 Sub-Con Application'!$S$13:$S$1012))","v":0},{"$f":"IFERROR(INDEX('1.2 Sub-Con Application'!$B$13:$U$1012,MATCH(1,('1.2 Sub-Con Application'!$B$13:$B$1012=B376)*('1.2 Sub-Con Application'!$U$13:$U$1012=\"Rejected\"),0),20),\"\")","v":""},{"$f":"IFERROR(INDEX('1.2 Sub-Con Application'!$B$13:$V$1012,MATCH(1,('1.2 Sub-Con Application'!$B$13:$B$1012=B376)*('1.2 Sub-Con Application'!$V$13:$V$1012<>\"\"),0),21),\"\")","v":""}]
[null,365,"","","","","","","","",{"$f":"IF(B377=\"\",\"\",SUMIF('1.2 Sub-Con Application'!$B$13:$B$1012,B377,'1.2 Sub-Con Application'!$P$13:$P$1012))","v":0},{"$f":"IF(B377=\"\",\"\",SUMIF('1.2 Sub-Con Application'!$B$13:$B$1012,B377,'1.2 Sub-Con Application'!$R$13:$R$1012))","v":0},{"$f":"IF(B377=\"\",\"\",SUMIF('1.2 Sub-Con Application'!$B$13:$B$1012,B377,'1.2 Sub-Con Application'!$S$13:$S$1012))","v":0},{"$f":"IFERROR(INDEX('1.2 Sub-Con Application'!$B$13:$U$1012,MATCH(1,('1.2 Sub-Con Application'!$B$13:$B$1012=B377)*('1.2 Sub-Con Application'!$U$13:$U$1012=\"Rejected\"),0),20),\"\")","v":""},{"$f":"IFERROR(INDEX('1.2 Sub-Con Application'!$B$13:$V$1012,MATCH(1,('1.2 Sub-Con Application'!$B$13:$B$1012=B377)*('1.2 Sub-Con Application'!$V$13:$V$1012<>\"\"),0),21),\"\")","v":""}]
[null,366,"","","","","","","","",{"$f":"IF(B378=\"\",\"\",SUMIF('1.2 Sub-Con Application'!$B$13:$B$1012,B378,'1.2 Sub-Con Application'!$P$13:$P$1012))","v":0},{"$f":"IF(B378=\"\",\"\",SUMIF('1.2 Sub-Con Application'!$B$13:$B$1012,B378,'1.2 Sub-Con Application'!$R$13:$R$1012))","v":0},{"$f":"IF(B378=\"\",\"\",SUMIF('1.2 Sub-Con Application'!$B$13:$B$1012,B378,'1.2 Sub-Con Application'!$S$13:$S$1012))","v":0},{"$f":"IFERROR(INDEX('1.2 Sub-Con Application'!$B$13:$U$1012,MATCH(1,('1.2 Sub-Con Application'!$B$13:$B$1012=B378)*('1.2 Sub-Con Application'!$U$13:$U$1012=\"Rejected\"),0),20),\"\")","v":""},{"$f":"IFERROR(INDEX('1.2 Sub-Con Application'!$B$13:$V$1012,MATCH(1,('1.2 Sub-Con Application'!$B$13:$B$1012=B378)*('1.2 Sub-Con Application'!$V$13:$V$1012<>\"\"),0),21),\"\")","v":""}]
[null,367,"","","","","","","","",{"$f":"IF(B379=\"\",\"\",SUMIF('1.2 Sub-Con Application'!$B$13:$B$1012,B379,'1.2 Sub-Con Application'!$P$13:$P$1012))","v":0},{"$f":"IF(B379=\"\",\"\",SUMIF('1.2 Sub-Con Application'!$B$13:$B$1012,B379,'1.2 Sub-Con Application'!$R$13:$R$1012))","v":0},{"$f":"IF(B379=\"\",\"\",SUMIF('1.2 Sub-Con Application'!$B$13:$B$1012,B379,'1.2 Sub-Con Application'!$S$13:$S$1012))","v":0},{"$f":"IFERROR(INDEX('1.2 Sub-Con Application'!$B$13:$U$1012,MATCH(1,('1.2 Sub-Con Application'!$B$13:$B$1012=B379)*('1.2 Sub-Con Application'!$U$13:$U$1012=\"Rejected\"),0),20),\"\")","v":""},{"$f":"IFERROR(INDEX('1.2 Sub-Con Application'!$B$13:$V$1012,MATCH(1,('1.2 Sub-Con Application'!$B$13:$B$1012=B379)*('1.2 Sub-Con Application'!$V$13:$V$1012<>\"\"),0),21),\"\")","v":""}]
[null,368,"","","","","","","","",{"$f":"IF(B380=\"\",\"\",SUMIF('1.2 Sub-Con Application'!$B$13:$B$1012,B380,'1.2 Sub-Con Application'!$P$13:$P$1012))","v":0},{"$f":"IF(B380=\"\",\"\",SUMIF('1.2 Sub-Con Application'!$B$13:$B$1012,B380,'1.2 Sub-Con Application'!$R$13:$R$1012))","v":0},{"$f":"IF(B380=\"\",\"\",SUMIF('1.2 Sub-Con Application'!$B$13:$B$1012,B380,'1.2 Sub-Con Application'!$S$13:$S$1012))","v":0},{"$f":"IFERROR(INDEX('1.2 Sub-Con Application'!$B$13:$U$1012,MATCH(1,('1.2 Sub-Con Application'!$B$13:$B$1012=B380)*('1.2 Sub-Con Application'!$U$13:$U$1012=\"Rejected\"),0),20),\"\")","v":""},{"$f":"IFERROR(INDEX('1.2 Sub-Con Application'!$B$13:$V$1012,MATCH(1,('1.2 Sub-Con Application'!$B$13:$B$1012=B380)*('1.2 Sub-Con Application'!$V$13:$V$1012<>\"\"),0),21),\"\")","v":""}]
[null,369,"","","","","","","","",{"$f":"IF(B381=\"\",\"\",SUMIF('1.2 Sub-Con Application'!$B$13:$B$1012,B381,'1.2 Sub-Con Application'!$P$13:$P$1012))","v":0},{"$f":"IF(B381=\"\",\"\",SUMIF('1.2 Sub-Con Application'!$B$13:$B$1012,B381,'1.2 Sub-Con Application'!$R$13:$R$1012))","v":0},{"$f":"IF(B381=\"\",\"\",SUMIF('1.2 Sub-Con Application'!$B$13:$B$1012,B381,'1.2 Sub-Con Application'!$S$13:$S$1012))","v":0},{"$f":"IFERROR(INDEX('1.2 Sub-Con Application'!$B$13:$U$1012,MATCH(1,('1.2 Sub-Con Application'!$B$13:$B$1012=B381)*('1.2 Sub-Con Application'!$U$13:$U$1012=\"Rejected\"),0),20),\"\")","v":""},{"$f":"IFERROR(INDEX('1.2 Sub-Con Application'!$B$13:$V$1012,MATCH(1,('1.2 Sub-Con Application'!$B$13:$B$1012=B381)*('1.2 Sub-Con Application'!$V$13:$V$1012<>\"\"),0),21),\"\")","v":""}]
[null,370,"","","","","","","","",{"$f":"IF(B382=\"\",\"\",SUMIF('1.2 Sub-Con Application'!$B$13:$B$1012,B382,'1.2 Sub-Con Application'!$P$13:$P$1012))","v":0},{"$f":"IF(B382=\"\",\"\",SUMIF('1.2 Sub-Con Application'!$B$13:$B$1012,B382,'1.2 Sub-Con Application'!$R$13:$R$1012))","v":0},{"$f":"IF(B382=\"\",\"\",SUMIF('1.2 Sub-Con Application'!$B$13:$B$1012,B382,'1.2 Sub-Con Application'!$S$13:$S$1012))","v":0},{"$f":"IFERROR(INDEX('1.2 Sub-Con Application'!$B$13:$U$1012,MATCH(1,('1.2 Sub-Con Application'!$B$13:$B$1012=B382)*('1.2 Sub-Con Application'!$U$13:$U$1012=\"Rejected\"),0),20),\"\")","v":""},{"$f":"IFERROR(INDEX('1.2 Sub-Con Application'!$B$13:$V$1012,MATCH(1,('1.2 Sub-Con Application'!$B$13:$B$1012=B382)*('1.2 Sub-Con Application'!$V$13:$V$1012<>\"\"),0),21),\"\")","v":""}]
[null,371,{"$f":"IFERROR(INDEX(table_subconApp,MATCH($B383,row_subconApp,0),MATCH(C$12,col_subconApp,0)),\"\")","v":""},"","","","","","","",{"$f":"IF(B383=\"\",\"\",SUMIF('1.2 Sub-Con Application'!$B$13:$B$1012,B383,'1.2 Sub-Con Application'!$P$13:$P$1012))","v":0},{"$f":"IF(B383=\"\",\"\",SUMIF('1.2 Sub-Con Application'!$B$13:$B$1012,B383,'1.2 Sub-Con Application'!$R$13:$R$1012))","v":0},{"$f":"IF(B383=\"\",\"\",SUMIF('1.2 Sub-Con Application'!$B$13:$B$1012,B383,'1.2 Sub-Con Application'!$S$13:$S$1012))","v":0},{"$f":"IFERROR(INDEX('1.2 Sub-Con Application'!$B$13:$U$1012,MATCH(1,('1.2 Sub-Con Application'!$B$13:$B$1012=B383)*('1.2 Sub-Con Application'!$U$13:$U$1012=\"Rejected\"),0),20),\"\")","v":""},{"$f":"IFERROR(INDEX('1.2 Sub-Con Application'!$B$13:$V$1012,MATCH(1,('1.2 Sub-Con Application'!$B$13:$B$1012=B383)*('1.2 Sub-Con Application'!$V$13:$V$1012<>\"\"),0),21),\"\")","v":""}]
[null,372,"","","","","","","","",{"$f":"IF(B384=\"\",\"\",SUMIF('1.2 Sub-Con Application'!$B$13:$B$1012,B384,'1.2 Sub-Con Application'!$P$13:$P$1012))","v":0},{"$f":"IF(B384=\"\",\"\",SUMIF('1.2 Sub-Con Application'!$B$13:$B$1012,B384,'1.2 Sub-Con Application'!$R$13:$R$1012))","v":0},{"$f":"IF(B384=\"\",\"\",SUMIF('1.2 Sub-Con Application'!$B$13:$B$1012,B384,'1.2 Sub-Con Application'!$S$13:$S$1012))","v":0},{"$f":"IFERROR(INDEX('1.2 Sub-Con Application'!$B$13:$U$1012,MATCH(1,('1.2 Sub-Con Application'!$B$13:$B$1012=B384)*('1.2 Sub-Con Application'!$U$13:$U$1012=\"Rejected\"),0),20),\"\")","v":""},{"$f":"IFERROR(INDEX('1.2 Sub-Con Application'!$B$13:$V$1012,MATCH(1,('1.2 Sub-Con Application'!$B$13:$B$1012=B384)*('1.2 Sub-Con Application'!$V$13:$V$1012<>\"\"),0),21),\"\")","v":""}]
[null,373,"","","","","","","","",{"$f":"IF(B385=\"\",\"\",SUMIF('1.2 Sub-Con Application'!$B$13:$B$1012,B385,'1.2 Sub-Con Application'!$P$13:$P$1012))","v":0},{"$f":"IF(B385=\"\",\"\",SUMIF('1.2 Sub-Con Application'!$B$13:$B$1012,B385,'1.2 Sub-Con Application'!$R$13:$R$1012))","v":0},{"$f":"IF(B385=\"\",\"\",SUMIF('1.2 Sub-Con Application'!$B$13:$B$1012,B385,'1.2 Sub-Con Application'!$S$13:$S$1012))","v":0},{"$f":"IFERROR(INDEX('1.2 Sub-Con Application'!$B$13:$U$1012,MATCH(1,('1.2 Sub-Con Application'!$B$13:$B$1012=B385)*('1.2 Sub-Con Application'!$U$13:$U$1012=\"Rejected\"),0),20),\"\")","v":""},{"$f":"IFERROR(INDEX('1.2 Sub-Con Application'!$B$13:$V$1012,MATCH(1,('1.2 Sub-Con Application'!$B$13:$B$1012=B385)*('1.2 Sub-Con Application'!$V$13:$V$1012<>\"\"),0),21),\"\")","v":""}]
[null,374,"","","","","","","","",{"$f":"IF(B386=\"\",\"\",SUMIF('1.2 Sub-Con Application'!$B$13:$B$1012,B386,'1.2 Sub-Con Application'!$P$13:$P$1012))","v":0},{"$f":"IF(B386=\"\",\"\",SUMIF('1.2 Sub-Con Application'!$B$13:$B$1012,B386,'1.2 Sub-Con Application'!$R$13:$R$1012))","v":0},{"$f":"IF(B386=\"\",\"\",SUMIF('1.2 Sub-Con Application'!$B$13:$B$1012,B386,'1.2 Sub-Con Application'!$S$13:$S$1012))","v":0},{"$f":"IFERROR(INDEX('1.2 Sub-Con Application'!$B$13:$U$1012,MATCH(1,('1.2 Sub-Con Application'!$B$13:$B$1012=B386)*('1.2 Sub-Con Application'!$U$13:$U$1012=\"Rejected\"),0),20),\"\")","v":""},{"$f":"IFERROR(INDEX('1.2 Sub-Con Application'!$B$13:$V$1012,MATCH(1,('1.2 Sub-Con Application'!$B$13:$B$1012=B386)*('1.2 Sub-Con Application'!$V$13:$V$1012<>\"\"),0),21),\"\")","v":""}]
[null,375,"","","","","","","","",{"$f":"IF(B387=\"\",\"\",SUMIF('1.2 Sub-Con Application'!$B$13:$B$1012,B387,'1.2 Sub-Con Application'!$P$13:$P$1012))","v":0},{"$f":"IF(B387=\"\",\"\",SUMIF('1.2 Sub-Con Application'!$B$13:$B$1012,B387,'1.2 Sub-Con Application'!$R$13:$R$1012))","v":0},{"$f":"IF(B387=\"\",\"\",SUMIF('1.2 Sub-Con Application'!$B$13:$B$1012,B387,'1.2 Sub-Con Application'!$S$13:$S$1012))","v":0},{"$f":"IFERROR(INDEX('1.2 Sub-Con Application'!$B$13:$U$1012,MATCH(1,('1.2 Sub-Con Application'!$B$13:$B$1012=B387)*('1.2 Sub-Con Application'!$U$13:$U$1012=\"Rejected\"),0),20),\"\")","v":""},{"$f":"IFERROR(INDEX('1.2 Sub-Con Application'!$B$13:$V$1012,MATCH(1,('1.2 Sub-Con Application'!$B$13:$B$1012=B387)*('1.2 Sub-Con Application'!$V$13:$V$1012<>\"\"),0),21),\"\")","v":""}]
[null,376,"","","","","","","","",{"$f":"IF(B388=\"\",\"\",SUMIF('1.2 Sub-Con Application'!$B$13:$B$1012,B388,'1.2 Sub-Con Application'!$P$13:$P$1012))","v":0},{"$f":"IF(B388=\"\",\"\",SUMIF('1.2 Sub-Con Application'!$B$13:$B$1012,B388,'1.2 Sub-Con Application'!$R$13:$R$1012))","v":0},{"$f":"IF(B388=\"\",\"\",SUMIF('1.2 Sub-Con Application'!$B$13:$B$1012,B388,'1.2 Sub-Con Application'!$S$13:$S$1012))","v":0},{"$f":"IFERROR(INDEX('1.2 Sub-Con Application'!$B$13:$U$1012,MATCH(1,('1.2 Sub-Con Application'!$B$13:$B$1012=B388)*('1.2 Sub-Con Application'!$U$13:$U$1012=\"Rejected\"),0),20),\"\")","v":""},{"$f":"IFERROR(INDEX('1.2 Sub-Con Application'!$B$13:$V$1012,MATCH(1,('1.2 Sub-Con Application'!$B$13:$B$1012=B388)*('1.2 Sub-Con Application'!$V$13:$V$1012<>\"\"),0),21),\"\")","v":""}]
[null,377,"","","","","","","","",{"$f":"IF(B389=\"\",\"\",SUMIF('1.2 Sub-Con Application'!$B$13:$B$1012,B389,'1.2 Sub-Con Application'!$P$13:$P$1012))","v":0},{"$f":"IF(B389=\"\",\"\",SUMIF('1.2 Sub-Con Application'!$B$13:$B$1012,B389,'1.2 Sub-Con Application'!$R$13:$R$1012))","v":0},{"$f":"IF(B389=\"\",\"\",SUMIF('1.2 Sub-Con Application'!$B$13:$B$1012,B389,'1.2 Sub-Con Application'!$S$13:$S$1012))","v":0},{"$f":"IFERROR(INDEX('1.2 Sub-Con Application'!$B$13:$U$1012,MATCH(1,('1.2 Sub-Con Application'!$B$13:$B$1012=B389)*('1.2 Sub-Con Application'!$U$13:$U$1012=\"Rejected\"),0),20),\"\")","v":""},{"$f":"IFERROR(INDEX('1.2 Sub-Con Application'!$B$13:$V$1012,MATCH(1,('1.2 Sub-Con Application'!$B$13:$B$1012=B389)*('1.2 Sub-Con Application'!$V$13:$V$1012<>\"\"),0),21),\"\")","v":""}]
[null,378,"","","","","","","","",{"$f":"IF(B390=\"\",\"\",SUMIF('1.2 Sub-Con Application'!$B$13:$B$1012,B390,'1.2 Sub-Con Application'!$P$13:$P$1012))","v":0},{"$f":"IF(B390=\"\",\"\",SUMIF('1.2 Sub-Con Application'!$B$13:$B$1012,B390,'1.2 Sub-Con Application'!$R$13:$R$1012))","v":0},{"$f":"IF(B390=\"\",\"\",SUMIF('1.2 Sub-Con Application'!$B$13:$B$1012,B390,'1.2 Sub-Con Application'!$S$13:$S$1012))","v":0},{"$f":"IFERROR(INDEX('1.2 Sub-Con Application'!$B$13:$U$1012,MATCH(1,('1.2 Sub-Con Application'!$B$13:$B$1012=B390)*('1.2 Sub-Con Application'!$U$13:$U$1012=\"Rejected\"),0),20),\"\")","v":""},{"$f":"IFERROR(INDEX('1.2 Sub-Con Application'!$B$13:$V$1012,MATCH(1,('1.2 Sub-Con Application'!$B$13:$B$1012=B390)*('1.2 Sub-Con Application'!$V$13:$V$1012<>\"\"),0),21),\"\")","v":""}]
[null,379,"","","","","","","","",{"$f":"IF(B391=\"\",\"\",SUMIF('1.2 Sub-Con Application'!$B$13:$B$1012,B391,'1.2 Sub-Con Application'!$P$13:$P$1012))","v":0},{"$f":"IF(B391=\"\",\"\",SUMIF('1.2 Sub-Con Application'!$B$13:$B$1012,B391,'1.2 Sub-Con Application'!$R$13:$R$1012))","v":0},{"$f":"IF(B391=\"\",\"\",SUMIF('1.2 Sub-Con Application'!$B$13:$B$1012,B391,'1.2 Sub-Con Application'!$S$13:$S$1012))","v":0},{"$f":"IFERROR(INDEX('1.2 Sub-Con Application'!$B$13:$U$1012,MATCH(1,('1.2 Sub-Con Application'!$B$13:$B$1012=B391)*('1.2 Sub-Con Application'!$U$13:$U$1012=\"Rejected\"),0),20),\"\")","v":""},{"$f":"IFERROR(INDEX('1.2 Sub-Con Application'!$B$13:$V$1012,MATCH(1,('1.2 Sub-Con Application'!$B$13:$B$1012=B391)*('1.2 Sub-Con Application'!$V$13:$V$1012<>\"\"),0),21),\"\")","v":""}]
[null,380,"","","","","","","","",{"$f":"IF(B392=\"\",\"\",SUMIF('1.2 Sub-Con Application'!$B$13:$B$1012,B392,'1.2 Sub-Con Application'!$P$13:$P$1012))","v":0},{"$f":"IF(B392=\"\",\"\",SUMIF('1.2 Sub-Con Application'!$B$13:$B$1012,B392,'1.2 Sub-Con Application'!$R$13:$R$1012))","v":0},{"$f":"IF(B392=\"\",\"\",SUMIF('1.2 Sub-Con Application'!$B$13:$B$1012,B392,'1.2 Sub-Con Application'!$S$13:$S$1012))","v":0},{"$f":"IFERROR(INDEX('1.2 Sub-Con Application'!$B$13:$U$1012,MATCH(1,('1.2 Sub-Con Application'!$B$13:$B$1012=B392)*('1.2 Sub-Con Application'!$U$13:$U$1012=\"Rejected\"),0),20),\"\")","v":""},{"$f":"IFERROR(INDEX('1.2 Sub-Con Application'!$B$13:$V$1012,MATCH(1,('1.2 Sub-Con Application'!$B$13:$B$1012=B392)*('1.2 Sub-Con Application'!$V$13:$V$1012<>\"\"),0),21),\"\")","v":""}]
[null,381,{"$f":"IFERROR(INDEX(table_subconApp,MATCH($B393,row_subconApp,0),MATCH(C$12,col_subconApp,0)),\"\")","v":""},"","","","","","","",{"$f":"IF(B393=\"\",\"\",SUMIF('1.2 Sub-Con Application'!$B$13:$B$1012,B393,'1.2 Sub-Con Application'!$P$13:$P$1012))","v":0},{"$f":"IF(B393=\"\",\"\",SUMIF('1.2 Sub-Con Application'!$B$13:$B$1012,B393,'1.2 Sub-Con Application'!$R$13:$R$1012))","v":0},{"$f":"IF(B393=\"\",\"\",SUMIF('1.2 Sub-Con Application'!$B$13:$B$1012,B393,'1.2 Sub-Con Application'!$S$13:$S$1012))","v":0},{"$f":"IFERROR(INDEX('1.2 Sub-Con Application'!$B$13:$U$1012,MATCH(1,('1.2 Sub-Con Application'!$B$13:$B$1012=B393)*('1.2 Sub-Con Application'!$U$13:$U$1012=\"Rejected\"),0),20),\"\")","v":""},{"$f":"IFERROR(INDEX('1.2 Sub-Con Application'!$B$13:$V$1012,MATCH(1,('1.2 Sub-Con Application'!$B$13:$B$1012=B393)*('1.2 Sub-Con Application'!$V$13:$V$1012<>\"\"),0),21),\"\")","v":""}]
[null,382,"","","","","","","","",{"$f":"IF(B394=\"\",\"\",SUMIF('1.2 Sub-Con Application'!$B$13:$B$1012,B394,'1.2 Sub-Con Application'!$P$13:$P$1012))","v":0},{"$f":"IF(B394=\"\",\"\",SUMIF('1.2 Sub-Con Application'!$B$13:$B$1012,B394,'1.2 Sub-Con Application'!$R$13:$R$1012))","v":0},{"$f":"IF(B394=\"\",\"\",SUMIF('1.2 Sub-Con Application'!$B$13:$B$1012,B394,'1.2 Sub-Con Application'!$S$13:$S$1012))","v":0},{"$f":"IFERROR(INDEX('1.2 Sub-Con Application'!$B$13:$U$1012,MATCH(1,('1.2 Sub-Con Application'!$B$13:$B$1012=B394)*('1.2 Sub-Con Application'!$U$13:$U$1012=\"Rejected\"),0),20),\"\")","v":""},{"$f":"IFERROR(INDEX('1.2 Sub-Con Application'!$B$13:$V$1012,MATCH(1,('1.2 Sub-Con Application'!$B$13:$B$1012=B394)*('1.2 Sub-Con Application'!$V$13:$V$1012<>\"\"),0),21),\"\")","v":""}]
[null,383,"","","","","","","","",{"$f":"IF(B395=\"\",\"\",SUMIF('1.2 Sub-Con Application'!$B$13:$B$1012,B395,'1.2 Sub-Con Application'!$P$13:$P$1012))","v":0},{"$f":"IF(B395=\"\",\"\",SUMIF('1.2 Sub-Con Application'!$B$13:$B$1012,B395,'1.2 Sub-Con Application'!$R$13:$R$1012))","v":0},{"$f":"IF(B395=\"\",\"\",SUMIF('1.2 Sub-Con Application'!$B$13:$B$1012,B395,'1.2 Sub-Con Application'!$S$13:$S$1012))","v":0},{"$f":"IFERROR(INDEX('1.2 Sub-Con Application'!$B$13:$U$1012,MATCH(1,('1.2 Sub-Con Application'!$B$13:$B$1012=B395)*('1.2 Sub-Con Application'!$U$13:$U$1012=\"Rejected\"),0),20),\"\")","v":""},{"$f":"IFERROR(INDEX('1.2 Sub-Con Application'!$B$13:$V$1012,MATCH(1,('1.2 Sub-Con Application'!$B$13:$B$1012=B395)*('1.2 Sub-Con Application'!$V$13:$V$1012<>\"\"),0),21),\"\")","v":""}]
[null,384,"","","","","","","","",{"$f":"IF(B396=\"\",\"\",SUMIF('1.2 Sub-Con Application'!$B$13:$B$1012,B396,'1.2 Sub-Con Application'!$P$13:$P$1012))","v":0},{"$f":"IF(B396=\"\",\"\",SUMIF('1.2 Sub-Con Application'!$B$13:$B$1012,B396,'1.2 Sub-Con Application'!$R$13:$R$1012))","v":0},{"$f":"IF(B396=\"\",\"\",SUMIF('1.2 Sub-Con Application'!$B$13:$B$1012,B396,'1.2 Sub-Con Application'!$S$13:$S$1012))","v":0},{"$f":"IFERROR(INDEX('1.2 Sub-Con Application'!$B$13:$U$1012,MATCH(1,('1.2 Sub-Con Application'!$B$13:$B$1012=B396)*('1.2 Sub-Con Application'!$U$13:$U$1012=\"Rejected\"),0),20),\"\")","v":""},{"$f":"IFERROR(INDEX('1.2 Sub-Con Application'!$B$13:$V$1012,MATCH(1,('1.2 Sub-Con Application'!$B$13:$B$1012=B396)*('1.2 Sub-Con Application'!$V$13:$V$1012<>\"\"),0),21),\"\")","v":""}]
[null,385,"","","","","","","",{"$f":"IFERROR(IF(ISBLANK(INDEX(table_subconApp,MATCH($B397,row_subconApp,0),MATCH(J$12,col_subconApp,0))),\"\",INDEX(table_subconApp,MATCH($B397,row_subconApp,0),MATCH(J$12,col_subconApp,0))),\"\")","v":""},{"$f":"IF(B397=\"\",\"\",SUMIF('1.2 Sub-Con Application'!$B$13:$B$1012,B397,'1.2 Sub-Con Application'!$P$13:$P$1012))","v":0},{"$f":"IF(B397=\"\",\"\",SUMIF('1.2 Sub-Con Application'!$B$13:$B$1012,B397,'1.2 Sub-Con Application'!$R$13:$R$1012))","v":0},{"$f":"IF(B397=\"\",\"\",SUMIF('1.2 Sub-Con Application'!$B$13:$B$1012,B397,'1.2 Sub-Con Application'!$S$13:$S$1012))","v":0},{"$f":"IFERROR(INDEX('1.2 Sub-Con Application'!$B$13:$U$1012,MATCH(1,('1.2 Sub-Con Application'!$B$13:$B$1012=B397)*('1.2 Sub-Con Application'!$U$13:$U$1012=\"Rejected\"),0),20),\"\")","v":""},{"$f":"IFERROR(INDEX('1.2 Sub-Con Application'!$B$13:$V$1012,MATCH(1,('1.2 Sub-Con Application'!$B$13:$B$1012=B397)*('1.2 Sub-Con Application'!$V$13:$V$1012<>\"\"),0),21),\"\")","v":""}]
[null,386,"","","","","","","","",{"$f":"IF(B398=\"\",\"\",SUMIF('1.2 Sub-Con Application'!$B$13:$B$1012,B398,'1.2 Sub-Con Application'!$P$13:$P$1012))","v":0},{"$f":"IF(B398=\"\",\"\",SUMIF('1.2 Sub-Con Application'!$B$13:$B$1012,B398,'1.2 Sub-Con Application'!$R$13:$R$1012))","v":0},{"$f":"IF(B398=\"\",\"\",SUMIF('1.2 Sub-Con Application'!$B$13:$B$1012,B398,'1.2 Sub-Con Application'!$S$13:$S$1012))","v":0},{"$f":"IFERROR(INDEX('1.2 Sub-Con Application'!$B$13:$U$1012,MATCH(1,('1.2 Sub-Con Application'!$B$13:$B$1012=B398)*('1.2 Sub-Con Application'!$U$13:$U$1012=\"Rejected\"),0),20),\"\")","v":""},{"$f":"IFERROR(INDEX('1.2 Sub-Con Application'!$B$13:$V$1012,MATCH(1,('1.2 Sub-Con Application'!$B$13:$B$1012=B398)*('1.2 Sub-Con Application'!$V$13:$V$1012<>\"\"),0),21),\"\")","v":""}]
[null,387,"","","","","","","","",{"$f":"IF(B399=\"\",\"\",SUMIF('1.2 Sub-Con Application'!$B$13:$B$1012,B399,'1.2 Sub-Con Application'!$P$13:$P$1012))","v":0},{"$f":"IF(B399=\"\",\"\",SUMIF('1.2 Sub-Con Application'!$B$13:$B$1012,B399,'1.2 Sub-Con Application'!$R$13:$R$1012))","v":0},{"$f":"IF(B399=\"\",\"\",SUMIF('1.2 Sub-Con Application'!$B$13:$B$1012,B399,'1.2 Sub-Con Application'!$S$13:$S$1012))","v":0},{"$f":"IFERROR(INDEX('1.2 Sub-Con Application'!$B$13:$U$1012,MATCH(1,('1.2 Sub-Con Application'!$B$13:$B$1012=B399)*('1.2 Sub-Con Application'!$U$13:$U$1012=\"Rejected\"),0),20),\"\")","v":""},{"$f":"IFERROR(INDEX('1.2 Sub-Con Application'!$B$13:$V$1012,MATCH(1,('1.2 Sub-Con Application'!$B$13:$B$1012=B399)*('1.2 Sub-Con Application'!$V$13:$V$1012<>\"\"),0),21),\"\")","v":""}]
[null,388,"","","","","","","","",{"$f":"IF(B400=\"\",\"\",SUMIF('1.2 Sub-Con Application'!$B$13:$B$1012,B400,'1.2 Sub-Con Application'!$P$13:$P$1012))","v":0},{"$f":"IF(B400=\"\",\"\",SUMIF('1.2 Sub-Con Application'!$B$13:$B$1012,B400,'1.2 Sub-Con Application'!$R$13:$R$1012))","v":0},{"$f":"IF(B400=\"\",\"\",SUMIF('1.2 Sub-Con Application'!$B$13:$B$1012,B400,'1.2 Sub-Con Application'!$S$13:$S$1012))","v":0},{"$f":"IFERROR(INDEX('1.2 Sub-Con Application'!$B$13:$U$1012,MATCH(1,('1.2 Sub-Con Application'!$B$13:$B$1012=B400)*('1.2 Sub-Con Application'!$U$13:$U$1012=\"Rejected\"),0),20),\"\")","v":""},{"$f":"IFERROR(INDEX('1.2 Sub-Con Application'!$B$13:$V$1012,MATCH(1,('1.2 Sub-Con Application'!$B$13:$B$1012=B400)*('1.2 Sub-Con Application'!$V$13:$V$1012<>\"\"),0),21),\"\")","v":""}]
[null,389,"","","","","","","","",{"$f":"IF(B401=\"\",\"\",SUMIF('1.2 Sub-Con Application'!$B$13:$B$1012,B401,'1.2 Sub-Con Application'!$P$13:$P$1012))","v":0},{"$f":"IF(B401=\"\",\"\",SUMIF('1.2 Sub-Con Application'!$B$13:$B$1012,B401,'1.2 Sub-Con Application'!$R$13:$R$1012))","v":0},{"$f":"IF(B401=\"\",\"\",SUMIF('1.2 Sub-Con Application'!$B$13:$B$1012,B401,'1.2 Sub-Con Application'!$S$13:$S$1012))","v":0},{"$f":"IFERROR(INDEX('1.2 Sub-Con Application'!$B$13:$U$1012,MATCH(1,('1.2 Sub-Con Application'!$B$13:$B$1012=B401)*('1.2 Sub-Con Application'!$U$13:$U$1012=\"Rejected\"),0),20),\"\")","v":""},{"$f":"IFERROR(INDEX('1.2 Sub-Con Application'!$B$13:$V$1012,MATCH(1,('1.2 Sub-Con Application'!$B$13:$B$1012=B401)*('1.2 Sub-Con Application'!$V$13:$V$1012<>\"\"),0),21),\"\")","v":""}]
[null,390,"","","","","","","","",{"$f":"IF(B402=\"\",\"\",SUMIF('1.2 Sub-Con Application'!$B$13:$B$1012,B402,'1.2 Sub-Con Application'!$P$13:$P$1012))","v":0},{"$f":"IF(B402=\"\",\"\",SUMIF('1.2 Sub-Con Application'!$B$13:$B$1012,B402,'1.2 Sub-Con Application'!$R$13:$R$1012))","v":0},{"$f":"IF(B402=\"\",\"\",SUMIF('1.2 Sub-Con Application'!$B$13:$B$1012,B402,'1.2 Sub-Con Application'!$S$13:$S$1012))","v":0},{"$f":"IFERROR(INDEX('1.2 Sub-Con Application'!$B$13:$U$1012,MATCH(1,('1.2 Sub-Con Application'!$B$13:$B$1012=B402)*('1.2 Sub-Con Application'!$U$13:$U$1012=\"Rejected\"),0),20),\"\")","v":""},{"$f":"IFERROR(INDEX('1.2 Sub-Con Application'!$B$13:$V$1012,MATCH(1,('1.2 Sub-Con Application'!$B$13:$B$1012=B402)*('1.2 Sub-Con Application'!$V$13:$V$1012<>\"\"),0),21),\"\")","v":""}]
[null,391,{"$f":"IFERROR(INDEX(table_subconApp,MATCH($B403,row_subconApp,0),MATCH(C$12,col_subconApp,0)),\"\")","v":""},"","","","","","","",{"$f":"IF(B403=\"\",\"\",SUMIF('1.2 Sub-Con Application'!$B$13:$B$1012,B403,'1.2 Sub-Con Application'!$P$13:$P$1012))","v":0},{"$f":"IF(B403=\"\",\"\",SUMIF('1.2 Sub-Con Application'!$B$13:$B$1012,B403,'1.2 Sub-Con Application'!$R$13:$R$1012))","v":0},{"$f":"IF(B403=\"\",\"\",SUMIF('1.2 Sub-Con Application'!$B$13:$B$1012,B403,'1.2 Sub-Con Application'!$S$13:$S$1012))","v":0},{"$f":"IFERROR(INDEX('1.2 Sub-Con Application'!$B$13:$U$1012,MATCH(1,('1.2 Sub-Con Application'!$B$13:$B$1012=B403)*('1.2 Sub-Con Application'!$U$13:$U$1012=\"Rejected\"),0),20),\"\")","v":""},{"$f":"IFERROR(INDEX('1.2 Sub-Con Application'!$B$13:$V$1012,MATCH(1,('1.2 Sub-Con Application'!$B$13:$B$1012=B403)*('1.2 Sub-Con Application'!$V$13:$V$1012<>\"\"),0),21),\"\")","v":""}]
[null,392,"","","","","","","","",{"$f":"IF(B404=\"\",\"\",SUMIF('1.2 Sub-Con Application'!$B$13:$B$1012,B404,'1.2 Sub-Con Application'!$P$13:$P$1012))","v":0},{"$f":"IF(B404=\"\",\"\",SUMIF('1.2 Sub-Con Application'!$B$13:$B$1012,B404,'1.2 Sub-Con Application'!$R$13:$R$1012))","v":0},{"$f":"IF(B404=\"\",\"\",SUMIF('1.2 Sub-Con Application'!$B$13:$B$1012,B404,'1.2 Sub-Con Application'!$S$13:$S$1012))","v":0},{"$f":"IFERROR(INDEX('1.2 Sub-Con Application'!$B$13:$U$1012,MATCH(1,('1.2 Sub-Con Application'!$B$13:$B$1012=B404)*('1.2 Sub-Con Application'!$U$13:$U$1012=\"Rejected\"),0),20),\"\")","v":""},{"$f":"IFERROR(INDEX('1.2 Sub-Con Application'!$B$13:$V$1012,MATCH(1,('1.2 Sub-Con Application'!$B$13:$B$1012=B404)*('1.2 Sub-Con Application'!$V$13:$V$1012<>\"\"),0),21),\"\")","v":""}]
[null,393,"","","","","","","","",{"$f":"IF(B405=\"\",\"\",SUMIF('1.2 Sub-Con Application'!$B$13:$B$1012,B405,'1.2 Sub-Con Application'!$P$13:$P$1012))","v":0},{"$f":"IF(B405=\"\",\"\",SUMIF('1.2 Sub-Con Application'!$B$13:$B$1012,B405,'1.2 Sub-Con Application'!$R$13:$R$1012))","v":0},{"$f":"IF(B405=\"\",\"\",SUMIF('1.2 Sub-Con Application'!$B$13:$B$1012,B405,'1.2 Sub-Con Application'!$S$13:$S$1012))","v":0},{"$f":"IFERROR(INDEX('1.2 Sub-Con Application'!$B$13:$U$1012,MATCH(1,('1.2 Sub-Con Application'!$B$13:$B$1012=B405)*('1.2 Sub-Con Application'!$U$13:$U$1012=\"Rejected\"),0),20),\"\")","v":""},{"$f":"IFERROR(INDEX('1.2 Sub-Con Application'!$B$13:$V$1012,MATCH(1,('1.2 Sub-Con Application'!$B$13:$B$1012=B405)*('1.2 Sub-Con Application'!$V$13:$V$1012<>\"\"),0),21),\"\")","v":""}]
[null,394,"","","","","","","","",{"$f":"IF(B406=\"\",\"\",SUMIF('1.2 Sub-Con Application'!$B$13:$B$1012,B406,'1.2 Sub-Con Application'!$P$13:$P$1012))","v":0},{"$f":"IF(B406=\"\",\"\",SUMIF('1.2 Sub-Con Application'!$B$13:$B$1012,B406,'1.2 Sub-Con Application'!$R$13:$R$1012))","v":0},{"$f":"IF(B406=\"\",\"\",SUMIF('1.2 Sub-Con Application'!$B$13:$B$1012,B406,'1.2 Sub-Con Application'!$S$13:$S$1012))","v":0},{"$f":"IFERROR(INDEX('1.2 Sub-Con Application'!$B$13:$U$1012,MATCH(1,('1.2 Sub-Con Application'!$B$13:$B$1012=B406)*('1.2 Sub-Con Application'!$U$13:$U$1012=\"Rejected\"),0),20),\"\")","v":""},{"$f":"IFERROR(INDEX('1.2 Sub-Con Application'!$B$13:$V$1012,MATCH(1,('1.2 Sub-Con Application'!$B$13:$B$1012=B406)*('1.2 Sub-Con Application'!$V$13:$V$1012<>\"\"),0),21),\"\")","v":""}]
[null,395,"","","","","","","","",{"$f":"IF(B407=\"\",\"\",SUMIF('1.2 Sub-Con Application'!$B$13:$B$1012,B407,'1.2 Sub-Con Application'!$P$13:$P$1012))","v":0},{"$f":"IF(B407=\"\",\"\",SUMIF('1.2 Sub-Con Application'!$B$13:$B$1012,B407,'1.2 Sub-Con Application'!$R$13:$R$1012))","v":0},{"$f":"IF(B407=\"\",\"\",SUMIF('1.2 Sub-Con Application'!$B$13:$B$1012,B407,'1.2 Sub-Con Application'!$S$13:$S$1012))","v":0},{"$f":"IFERROR(INDEX('1.2 Sub-Con Application'!$B$13:$U$1012,MATCH(1,('1.2 Sub-Con Application'!$B$13:$B$1012=B407)*('1.2 Sub-Con Application'!$U$13:$U$1012=\"Rejected\"),0),20),\"\")","v":""},{"$f":"IFERROR(INDEX('1.2 Sub-Con Application'!$B$13:$V$1012,MATCH(1,('1.2 Sub-Con Application'!$B$13:$B$1012=B407)*('1.2 Sub-Con Application'!$V$13:$V$1012<>\"\"),0),21),\"\")","v":""}]
[null,396,"","","","","","","","",{"$f":"IF(B408=\"\",\"\",SUMIF('1.2 Sub-Con Application'!$B$13:$B$1012,B408,'1.2 Sub-Con Application'!$P$13:$P$1012))","v":0},{"$f":"IF(B408=\"\",\"\",SUMIF('1.2 Sub-Con Application'!$B$13:$B$1012,B408,'1.2 Sub-Con Application'!$R$13:$R$1012))","v":0},{"$f":"IF(B408=\"\",\"\",SUMIF('1.2 Sub-Con Application'!$B$13:$B$1012,B408,'1.2 Sub-Con Application'!$S$13:$S$1012))","v":0},{"$f":"IFERROR(INDEX('1.2 Sub-Con Application'!$B$13:$U$1012,MATCH(1,('1.2 Sub-Con Application'!$B$13:$B$1012=B408)*('1.2 Sub-Con Application'!$U$13:$U$1012=\"Rejected\"),0),20),\"\")","v":""},{"$f":"IFERROR(INDEX('1.2 Sub-Con Application'!$B$13:$V$1012,MATCH(1,('1.2 Sub-Con Application'!$B$13:$B$1012=B408)*('1.2 Sub-Con Application'!$V$13:$V$1012<>\"\"),0),21),\"\")","v":""}]
[null,397,"","","","","","","","",{"$f":"IF(B409=\"\",\"\",SUMIF('1.2 Sub-Con Application'!$B$13:$B$1012,B409,'1.2 Sub-Con Application'!$P$13:$P$1012))","v":0},{"$f":"IF(B409=\"\",\"\",SUMIF('1.2 Sub-Con Application'!$B$13:$B$1012,B409,'1.2 Sub-Con Application'!$R$13:$R$1012))","v":0},{"$f":"IF(B409=\"\",\"\",SUMIF('1.2 Sub-Con Application'!$B$13:$B$1012,B409,'1.2 Sub-Con Application'!$S$13:$S$1012))","v":0},{"$f":"IFERROR(INDEX('1.2 Sub-Con Application'!$B$13:$U$1012,MATCH(1,('1.2 Sub-Con Application'!$B$13:$B$1012=B409)*('1.2 Sub-Con Application'!$U$13:$U$1012=\"Rejected\"),0),20),\"\")","v":""},{"$f":"IFERROR(INDEX('1.2 Sub-Con Application'!$B$13:$V$1012,MATCH(1,('1.2 Sub-Con Application'!$B$13:$B$1012=B409)*('1.2 Sub-Con Application'!$V$13:$V$1012<>\"\"),0),21),\"\")","v":""}]
[null,398,"","","","","","","","",{"$f":"IF(B410=\"\",\"\",SUMIF('1.2 Sub-Con Application'!$B$13:$B$1012,B410,'1.2 Sub-Con Application'!$P$13:$P$1012))","v":0},{"$f":"IF(B410=\"\",\"\",SUMIF('1.2 Sub-Con Application'!$B$13:$B$1012,B410,'1.2 Sub-Con Application'!$R$13:$R$1012))","v":0},{"$f":"IF(B410=\"\",\"\",SUMIF('1.2 Sub-Con Application'!$B$13:$B$1012,B410,'1.2 Sub-Con Application'!$S$13:$S$1012))","v":0},{"$f":"IFERROR(INDEX('1.2 Sub-Con Application'!$B$13:$U$1012,MATCH(1,('1.2 Sub-Con Application'!$B$13:$B$1012=B410)*('1.2 Sub-Con Application'!$U$13:$U$1012=\"Rejected\"),0),20),\"\")","v":""},{"$f":"IFERROR(INDEX('1.2 Sub-Con Application'!$B$13:$V$1012,MATCH(1,('1.2 Sub-Con Application'!$B$13:$B$1012=B410)*('1.2 Sub-Con Application'!$V$13:$V$1012<>\"\"),0),21),\"\")","v":""}]
[null,399,"","","","","","","","",{"$f":"IF(B411=\"\",\"\",SUMIF('1.2 Sub-Con Application'!$B$13:$B$1012,B411,'1.2 Sub-Con Application'!$P$13:$P$1012))","v":0},{"$f":"IF(B411=\"\",\"\",SUMIF('1.2 Sub-Con Application'!$B$13:$B$1012,B411,'1.2 Sub-Con Application'!$R$13:$R$1012))","v":0},{"$f":"IF(B411=\"\",\"\",SUMIF('1.2 Sub-Con Application'!$B$13:$B$1012,B411,'1.2 Sub-Con Application'!$S$13:$S$1012))","v":0},{"$f":"IFERROR(INDEX('1.2 Sub-Con Application'!$B$13:$U$1012,MATCH(1,('1.2 Sub-Con Application'!$B$13:$B$1012=B411)*('1.2 Sub-Con Application'!$U$13:$U$1012=\"Rejected\"),0),20),\"\")","v":""},{"$f":"IFERROR(INDEX('1.2 Sub-Con Application'!$B$13:$V$1012,MATCH(1,('1.2 Sub-Con Application'!$B$13:$B$1012=B411)*('1.2 Sub-Con Application'!$V$13:$V$1012<>\"\"),0),21),\"\")","v":""}]
[null,400,"","","","","","","","",{"$f":"IF(B412=\"\",\"\",SUMIF('1.2 Sub-Con Application'!$B$13:$B$1012,B412,'1.2 Sub-Con Application'!$P$13:$P$1012))","v":0},{"$f":"IF(B412=\"\",\"\",SUMIF('1.2 Sub-Con Application'!$B$13:$B$1012,B412,'1.2 Sub-Con Application'!$R$13:$R$1012))","v":0},{"$f":"IF(B412=\"\",\"\",SUMIF('1.2 Sub-Con Application'!$B$13:$B$1012,B412,'1.2 Sub-Con Application'!$S$13:$S$1012))","v":0},{"$f":"IFERROR(INDEX('1.2 Sub-Con Application'!$B$13:$U$1012,MATCH(1,('1.2 Sub-Con Application'!$B$13:$B$1012=B412)*('1.2 Sub-Con Application'!$U$13:$U$1012=\"Rejected\"),0),20),\"\")","v":""},{"$f":"IFERROR(INDEX('1.2 Sub-Con Application'!$B$13:$V$1012,MATCH(1,('1.2 Sub-Con Application'!$B$13:$B$1012=B412)*('1.2 Sub-Con Application'!$V$13:$V$1012<>\"\"),0),21),\"\")","v":""}]
[null,401,{"$f":"IFERROR(INDEX(table_subconApp,MATCH($B413,row_subconApp,0),MATCH(C$12,col_subconApp,0)),\"\")","v":""},"","","","","","","",{"$f":"IF(B413=\"\",\"\",SUMIF('1.2 Sub-Con Application'!$B$13:$B$1012,B413,'1.2 Sub-Con Application'!$P$13:$P$1012))","v":0},{"$f":"IF(B413=\"\",\"\",SUMIF('1.2 Sub-Con Application'!$B$13:$B$1012,B413,'1.2 Sub-Con Application'!$R$13:$R$1012))","v":0},{"$f":"IF(B413=\"\",\"\",SUMIF('1.2 Sub-Con Application'!$B$13:$B$1012,B413,'1.2 Sub-Con Application'!$S$13:$S$1012))","v":0},{"$f":"IFERROR(INDEX('1.2 Sub-Con Application'!$B$13:$U$1012,MATCH(1,('1.2 Sub-Con Application'!$B$13:$B$1012=B413)*('1.2 Sub-Con Application'!$U$13:$U$1012=\"Rejected\"),0),20),\"\")","v":""},{"$f":"IFERROR(INDEX('1.2 Sub-Con Application'!$B$13:$V$1012,MATCH(1,('1.2 Sub-Con Application'!$B$13:$B$1012=B413)*('1.2 Sub-Con Application'!$V$13:$V$1012<>\"\"),0),21),\"\")","v":""}]
[null,402,"","","","","","","","",{"$f":"IF(B414=\"\",\"\",SUMIF('1.2 Sub-Con Application'!$B$13:$B$1012,B414,'1.2 Sub-Con Application'!$P$13:$P$1012))","v":0},{"$f":"IF(B414=\"\",\"\",SUMIF('1.2 Sub-Con Application'!$B$13:$B$1012,B414,'1.2 Sub-Con Application'!$R$13:$R$1012))","v":0},{"$f":"IF(B414=\"\",\"\",SUMIF('1.2 Sub-Con Application'!$B$13:$B$1012,B414,'1.2 Sub-Con Application'!$S$13:$S$1012))","v":0},{"$f":"IFERROR(INDEX('1.2 Sub-Con Application'!$B$13:$U$1012,MATCH(1,('1.2 Sub-Con Application'!$B$13:$B$1012=B414)*('1.2 Sub-Con Application'!$U$13:$U$1012=\"Rejected\"),0),20),\"\")","v":""},{"$f":"IFERROR(INDEX('1.2 Sub-Con Application'!$B$13:$V$1012,MATCH(1,('1.2 Sub-Con Application'!$B$13:$B$1012=B414)*('1.2 Sub-Con Application'!$V$13:$V$1012<>\"\"),0),21),\"\")","v":""}]
[null,403,"","","","","","","","",{"$f":"IF(B415=\"\",\"\",SUMIF('1.2 Sub-Con Application'!$B$13:$B$1012,B415,'1.2 Sub-Con Application'!$P$13:$P$1012))","v":0},{"$f":"IF(B415=\"\",\"\",SUMIF('1.2 Sub-Con Application'!$B$13:$B$1012,B415,'1.2 Sub-Con Application'!$R$13:$R$1012))","v":0},{"$f":"IF(B415=\"\",\"\",SUMIF('1.2 Sub-Con Application'!$B$13:$B$1012,B415,'1.2 Sub-Con Application'!$S$13:$S$1012))","v":0},{"$f":"IFERROR(INDEX('1.2 Sub-Con Application'!$B$13:$U$1012,MATCH(1,('1.2 Sub-Con Application'!$B$13:$B$1012=B415)*('1.2 Sub-Con Application'!$U$13:$U$1012=\"Rejected\"),0),20),\"\")","v":""},{"$f":"IFERROR(INDEX('1.2 Sub-Con Application'!$B$13:$V$1012,MATCH(1,('1.2 Sub-Con Application'!$B$13:$B$1012=B415)*('1.2 Sub-Con Application'!$V$13:$V$1012<>\"\"),0),21),\"\")","v":""}]
[null,404,"","","","","","","","",{"$f":"IF(B416=\"\",\"\",SUMIF('1.2 Sub-Con Application'!$B$13:$B$1012,B416,'1.2 Sub-Con Application'!$P$13:$P$1012))","v":0},{"$f":"IF(B416=\"\",\"\",SUMIF('1.2 Sub-Con Application'!$B$13:$B$1012,B416,'1.2 Sub-Con Application'!$R$13:$R$1012))","v":0},{"$f":"IF(B416=\"\",\"\",SUMIF('1.2 Sub-Con Application'!$B$13:$B$1012,B416,'1.2 Sub-Con Application'!$S$13:$S$1012))","v":0},{"$f":"IFERROR(INDEX('1.2 Sub-Con Application'!$B$13:$U$1012,MATCH(1,('1.2 Sub-Con Application'!$B$13:$B$1012=B416)*('1.2 Sub-Con Application'!$U$13:$U$1012=\"Rejected\"),0),20),\"\")","v":""},{"$f":"IFERROR(INDEX('1.2 Sub-Con Application'!$B$13:$V$1012,MATCH(1,('1.2 Sub-Con Application'!$B$13:$B$1012=B416)*('1.2 Sub-Con Application'!$V$13:$V$1012<>\"\"),0),21),\"\")","v":""}]
[null,405,"","","","","","","","",{"$f":"IF(B417=\"\",\"\",SUMIF('1.2 Sub-Con Application'!$B$13:$B$1012,B417,'1.2 Sub-Con Application'!$P$13:$P$1012))","v":0},{"$f":"IF(B417=\"\",\"\",SUMIF('1.2 Sub-Con Application'!$B$13:$B$1012,B417,'1.2 Sub-Con Application'!$R$13:$R$1012))","v":0},{"$f":"IF(B417=\"\",\"\",SUMIF('1.2 Sub-Con Application'!$B$13:$B$1012,B417,'1.2 Sub-Con Application'!$S$13:$S$1012))","v":0},{"$f":"IFERROR(INDEX('1.2 Sub-Con Application'!$B$13:$U$1012,MATCH(1,('1.2 Sub-Con Application'!$B$13:$B$1012=B417)*('1.2 Sub-Con Application'!$U$13:$U$1012=\"Rejected\"),0),20),\"\")","v":""},{"$f":"IFERROR(INDEX('1.2 Sub-Con Application'!$B$13:$V$1012,MATCH(1,('1.2 Sub-Con Application'!$B$13:$B$1012=B417)*('1.2 Sub-Con Application'!$V$13:$V$1012<>\"\"),0),21),\"\")","v":""}]
[null,406,"","","","","","","","",{"$f":"IF(B418=\"\",\"\",SUMIF('1.2 Sub-Con Application'!$B$13:$B$1012,B418,'1.2 Sub-Con Application'!$P$13:$P$1012))","v":0},{"$f":"IF(B418=\"\",\"\",SUMIF('1.2 Sub-Con Application'!$B$13:$B$1012,B418,'1.2 Sub-Con Application'!$R$13:$R$1012))","v":0},{"$f":"IF(B418=\"\",\"\",SUMIF('1.2 Sub-Con Application'!$B$13:$B$1012,B418,'1.2 Sub-Con Application'!$S$13:$S$1012))","v":0},{"$f":"IFERROR(INDEX('1.2 Sub-Con Application'!$B$13:$U$1012,MATCH(1,('1.2 Sub-Con Application'!$B$13:$B$1012=B418)*('1.2 Sub-Con Application'!$U$13:$U$1012=\"Rejected\"),0),20),\"\")","v":""},{"$f":"IFERROR(INDEX('1.2 Sub-Con Application'!$B$13:$V$1012,MATCH(1,('1.2 Sub-Con Application'!$B$13:$B$1012=B418)*('1.2 Sub-Con Application'!$V$13:$V$1012<>\"\"),0),21),\"\")","v":""}]
[null,407,"","","","","","","","",{"$f":"IF(B419=\"\",\"\",SUMIF('1.2 Sub-Con Application'!$B$13:$B$1012,B419,'1.2 Sub-Con Application'!$P$13:$P$1012))","v":0},{"$f":"IF(B419=\"\",\"\",SUMIF('1.2 Sub-Con Application'!$B$13:$B$1012,B419,'1.2 Sub-Con Application'!$R$13:$R$1012))","v":0},{"$f":"IF(B419=\"\",\"\",SUMIF('1.2 Sub-Con Application'!$B$13:$B$1012,B419,'1.2 Sub-Con Application'!$S$13:$S$1012))","v":0},{"$f":"IFERROR(INDEX('1.2 Sub-Con Application'!$B$13:$U$1012,MATCH(1,('1.2 Sub-Con Application'!$B$13:$B$1012=B419)*('1.2 Sub-Con Application'!$U$13:$U$1012=\"Rejected\"),0),20),\"\")","v":""},{"$f":"IFERROR(INDEX('1.2 Sub-Con Application'!$B$13:$V$1012,MATCH(1,('1.2 Sub-Con Application'!$B$13:$B$1012=B419)*('1.2 Sub-Con Application'!$V$13:$V$1012<>\"\"),0),21),\"\")","v":""}]
[null,408,"","","","","","","","",{"$f":"IF(B420=\"\",\"\",SUMIF('1.2 Sub-Con Application'!$B$13:$B$1012,B420,'1.2 Sub-Con Application'!$P$13:$P$1012))","v":0},{"$f":"IF(B420=\"\",\"\",SUMIF('1.2 Sub-Con Application'!$B$13:$B$1012,B420,'1.2 Sub-Con Application'!$R$13:$R$1012))","v":0},{"$f":"IF(B420=\"\",\"\",SUMIF('1.2 Sub-Con Application'!$B$13:$B$1012,B420,'1.2 Sub-Con Application'!$S$13:$S$1012))","v":0},{"$f":"IFERROR(INDEX('1.2 Sub-Con Application'!$B$13:$U$1012,MATCH(1,('1.2 Sub-Con Application'!$B$13:$B$1012=B420)*('1.2 Sub-Con Application'!$U$13:$U$1012=\"Rejected\"),0),20),\"\")","v":""},{"$f":"IFERROR(INDEX('1.2 Sub-Con Application'!$B$13:$V$1012,MATCH(1,('1.2 Sub-Con Application'!$B$13:$B$1012=B420)*('1.2 Sub-Con Application'!$V$13:$V$1012<>\"\"),0),21),\"\")","v":""}]
[null,409,"","","","","","","","",{"$f":"IF(B421=\"\",\"\",SUMIF('1.2 Sub-Con Application'!$B$13:$B$1012,B421,'1.2 Sub-Con Application'!$P$13:$P$1012))","v":0},{"$f":"IF(B421=\"\",\"\",SUMIF('1.2 Sub-Con Application'!$B$13:$B$1012,B421,'1.2 Sub-Con Application'!$R$13:$R$1012))","v":0},{"$f":"IF(B421=\"\",\"\",SUMIF('1.2 Sub-Con Application'!$B$13:$B$1012,B421,'1.2 Sub-Con Application'!$S$13:$S$1012))","v":0},{"$f":"IFERROR(INDEX('1.2 Sub-Con Application'!$B$13:$U$1012,MATCH(1,('1.2 Sub-Con Application'!$B$13:$B$1012=B421)*('1.2 Sub-Con Application'!$U$13:$U$1012=\"Rejected\"),0),20),\"\")","v":""},{"$f":"IFERROR(INDEX('1.2 Sub-Con Application'!$B$13:$V$1012,MATCH(1,('1.2 Sub-Con Application'!$B$13:$B$1012=B421)*('1.2 Sub-Con Application'!$V$13:$V$1012<>\"\"),0),21),\"\")","v":""}]
[null,410,"","","","","","","","",{"$f":"IF(B422=\"\",\"\",SUMIF('1.2 Sub-Con Application'!$B$13:$B$1012,B422,'1.2 Sub-Con Application'!$P$13:$P$1012))","v":0},{"$f":"IF(B422=\"\",\"\",SUMIF('1.2 Sub-Con Application'!$B$13:$B$1012,B422,'1.2 Sub-Con Application'!$R$13:$R$1012))","v":0},{"$f":"IF(B422=\"\",\"\",SUMIF('1.2 Sub-Con Application'!$B$13:$B$1012,B422,'1.2 Sub-Con Application'!$S$13:$S$1012))","v":0},{"$f":"IFERROR(INDEX('1.2 Sub-Con Application'!$B$13:$U$1012,MATCH(1,('1.2 Sub-Con Application'!$B$13:$B$1012=B422)*('1.2 Sub-Con Application'!$U$13:$U$1012=\"Rejected\"),0),20),\"\")","v":""},{"$f":"IFERROR(INDEX('1.2 Sub-Con Application'!$B$13:$V$1012,MATCH(1,('1.2 Sub-Con Application'!$B$13:$B$1012=B422)*('1.2 Sub-Con Application'!$V$13:$V$1012<>\"\"),0),21),\"\")","v":""}]
[null,411,{"$f":"IFERROR(INDEX(table_subconApp,MATCH($B423,row_subconApp,0),MATCH(C$12,col_subconApp,0)),\"\")","v":""},"","","","","","","",{"$f":"IF(B423=\"\",\"\",SUMIF('1.2 Sub-Con Application'!$B$13:$B$1012,B423,'1.2 Sub-Con Application'!$P$13:$P$1012))","v":0},{"$f":"IF(B423=\"\",\"\",SUMIF('1.2 Sub-Con Application'!$B$13:$B$1012,B423,'1.2 Sub-Con Application'!$R$13:$R$1012))","v":0},{"$f":"IF(B423=\"\",\"\",SUMIF('1.2 Sub-Con Application'!$B$13:$B$1012,B423,'1.2 Sub-Con Application'!$S$13:$S$1012))","v":0},{"$f":"IFERROR(INDEX('1.2 Sub-Con Application'!$B$13:$U$1012,MATCH(1,('1.2 Sub-Con Application'!$B$13:$B$1012=B423)*('1.2 Sub-Con Application'!$U$13:$U$1012=\"Rejected\"),0),20),\"\")","v":""},{"$f":"IFERROR(INDEX('1.2 Sub-Con Application'!$B$13:$V$1012,MATCH(1,('1.2 Sub-Con Application'!$B$13:$B$1012=B423)*('1.2 Sub-Con Application'!$V$13:$V$1012<>\"\"),0),21),\"\")","v":""}]
[null,412,"","","","","","","","",{"$f":"IF(B424=\"\",\"\",SUMIF('1.2 Sub-Con Application'!$B$13:$B$1012,B424,'1.2 Sub-Con Application'!$P$13:$P$1012))","v":0},{"$f":"IF(B424=\"\",\"\",SUMIF('1.2 Sub-Con Application'!$B$13:$B$1012,B424,'1.2 Sub-Con Application'!$R$13:$R$1012))","v":0},{"$f":"IF(B424=\"\",\"\",SUMIF('1.2 Sub-Con Application'!$B$13:$B$1012,B424,'1.2 Sub-Con Application'!$S$13:$S$1012))","v":0},{"$f":"IFERROR(INDEX('1.2 Sub-Con Application'!$B$13:$U$1012,MATCH(1,('1.2 Sub-Con Application'!$B$13:$B$1012=B424)*('1.2 Sub-Con Application'!$U$13:$U$1012=\"Rejected\"),0),20),\"\")","v":""},{"$f":"IFERROR(INDEX('1.2 Sub-Con Application'!$B$13:$V$1012,MATCH(1,('1.2 Sub-Con Application'!$B$13:$B$1012=B424)*('1.2 Sub-Con Application'!$V$13:$V$1012<>\"\"),0),21),\"\")","v":""}]
[null,413,"","","","","","","","",{"$f":"IF(B425=\"\",\"\",SUMIF('1.2 Sub-Con Application'!$B$13:$B$1012,B425,'1.2 Sub-Con Application'!$P$13:$P$1012))","v":0},{"$f":"IF(B425=\"\",\"\",SUMIF('1.2 Sub-Con Application'!$B$13:$B$1012,B425,'1.2 Sub-Con Application'!$R$13:$R$1012))","v":0},{"$f":"IF(B425=\"\",\"\",SUMIF('1.2 Sub-Con Application'!$B$13:$B$1012,B425,'1.2 Sub-Con Application'!$S$13:$S$1012))","v":0},{"$f":"IFERROR(INDEX('1.2 Sub-Con Application'!$B$13:$U$1012,MATCH(1,('1.2 Sub-Con Application'!$B$13:$B$1012=B425)*('1.2 Sub-Con Application'!$U$13:$U$1012=\"Rejected\"),0),20),\"\")","v":""},{"$f":"IFERROR(INDEX('1.2 Sub-Con Application'!$B$13:$V$1012,MATCH(1,('1.2 Sub-Con Application'!$B$13:$B$1012=B425)*('1.2 Sub-Con Application'!$V$13:$V$1012<>\"\"),0),21),\"\")","v":""}]
[null,414,"","","","","","","","",{"$f":"IF(B426=\"\",\"\",SUMIF('1.2 Sub-Con Application'!$B$13:$B$1012,B426,'1.2 Sub-Con Application'!$P$13:$P$1012))","v":0},{"$f":"IF(B426=\"\",\"\",SUMIF('1.2 Sub-Con Application'!$B$13:$B$1012,B426,'1.2 Sub-Con Application'!$R$13:$R$1012))","v":0},{"$f":"IF(B426=\"\",\"\",SUMIF('1.2 Sub-Con Application'!$B$13:$B$1012,B426,'1.2 Sub-Con Application'!$S$13:$S$1012))","v":0},{"$f":"IFERROR(INDEX('1.2 Sub-Con Application'!$B$13:$U$1012,MATCH(1,('1.2 Sub-Con Application'!$B$13:$B$1012=B426)*('1.2 Sub-Con Application'!$U$13:$U$1012=\"Rejected\"),0),20),\"\")","v":""},{"$f":"IFERROR(INDEX('1.2 Sub-Con Application'!$B$13:$V$1012,MATCH(1,('1.2 Sub-Con Application'!$B$13:$B$1012=B426)*('1.2 Sub-Con Application'!$V$13:$V$1012<>\"\"),0),21),\"\")","v":""}]
[null,415,"","","","","","","","",{"$f":"IF(B427=\"\",\"\",SUMIF('1.2 Sub-Con Application'!$B$13:$B$1012,B427,'1.2 Sub-Con Application'!$P$13:$P$1012))","v":0},{"$f":"IF(B427=\"\",\"\",SUMIF('1.2 Sub-Con Application'!$B$13:$B$1012,B427,'1.2 Sub-Con Application'!$R$13:$R$1012))","v":0},{"$f":"IF(B427=\"\",\"\",SUMIF('1.2 Sub-Con Application'!$B$13:$B$1012,B427,'1.2 Sub-Con Application'!$S$13:$S$1012))","v":0},{"$f":"IFERROR(INDEX('1.2 Sub-Con Application'!$B$13:$U$1012,MATCH(1,('1.2 Sub-Con Application'!$B$13:$B$1012=B427)*('1.2 Sub-Con Application'!$U$13:$U$1012=\"Rejected\"),0),20),\"\")","v":""},{"$f":"IFERROR(INDEX('1.2 Sub-Con Application'!$B$13:$V$1012,MATCH(1,('1.2 Sub-Con Application'!$B$13:$B$1012=B427)*('1.2 Sub-Con Application'!$V$13:$V$1012<>\"\"),0),21),\"\")","v":""}]
[null,416,"","","","","","","","",{"$f":"IF(B428=\"\",\"\",SUMIF('1.2 Sub-Con Application'!$B$13:$B$1012,B428,'1.2 Sub-Con Application'!$P$13:$P$1012))","v":0},{"$f":"IF(B428=\"\",\"\",SUMIF('1.2 Sub-Con Application'!$B$13:$B$1012,B428,'1.2 Sub-Con Application'!$R$13:$R$1012))","v":0},{"$f":"IF(B428=\"\",\"\",SUMIF('1.2 Sub-Con Application'!$B$13:$B$1012,B428,'1.2 Sub-Con Application'!$S$13:$S$1012))","v":0},{"$f":"IFERROR(INDEX('1.2 Sub-Con Application'!$B$13:$U$1012,MATCH(1,('1.2 Sub-Con Application'!$B$13:$B$1012=B428)*('1.2 Sub-Con Application'!$U$13:$U$1012=\"Rejected\"),0),20),\"\")","v":""},{"$f":"IFERROR(INDEX('1.2 Sub-Con Application'!$B$13:$V$1012,MATCH(1,('1.2 Sub-Con Application'!$B$13:$B$1012=B428)*('1.2 Sub-Con Application'!$V$13:$V$1012<>\"\"),0),21),\"\")","v":""}]
[null,417,"","","","","","","","",{"$f":"IF(B429=\"\",\"\",SUMIF('1.2 Sub-Con Application'!$B$13:$B$1012,B429,'1.2 Sub-Con Application'!$P$13:$P$1012))","v":0},{"$f":"IF(B429=\"\",\"\",SUMIF('1.2 Sub-Con Application'!$B$13:$B$1012,B429,'1.2 Sub-Con Application'!$R$13:$R$1012))","v":0},{"$f":"IF(B429=\"\",\"\",SUMIF('1.2 Sub-Con Application'!$B$13:$B$1012,B429,'1.2 Sub-Con Application'!$S$13:$S$1012))","v":0},{"$f":"IFERROR(INDEX('1.2 Sub-Con Application'!$B$13:$U$1012,MATCH(1,('1.2 Sub-Con Application'!$B$13:$B$1012=B429)*('1.2 Sub-Con Application'!$U$13:$U$1012=\"Rejected\"),0),20),\"\")","v":""},{"$f":"IFERROR(INDEX('1.2 Sub-Con Application'!$B$13:$V$1012,MATCH(1,('1.2 Sub-Con Application'!$B$13:$B$1012=B429)*('1.2 Sub-Con Application'!$V$13:$V$1012<>\"\"),0),21),\"\")","v":""}]
[null,418,"","","","","","","","",{"$f":"IF(B430=\"\",\"\",SUMIF('1.2 Sub-Con Application'!$B$13:$B$1012,B430,'1.2 Sub-Con Application'!$P$13:$P$1012))","v":0},{"$f":"IF(B430=\"\",\"\",SUMIF('1.2 Sub-Con Application'!$B$13:$B$1012,B430,'1.2 Sub-Con Application'!$R$13:$R$1012))","v":0},{"$f":"IF(B430=\"\",\"\",SUMIF('1.2 Sub-Con Application'!$B$13:$B$1012,B430,'1.2 Sub-Con Application'!$S$13:$S$1012))","v":0},{"$f":"IFERROR(INDEX('1.2 Sub-Con Application'!$B$13:$U$1012,MATCH(1,('1.2 Sub-Con Application'!$B$13:$B$1012=B430)*('1.2 Sub-Con Application'!$U$13:$U$1012=\"Rejected\"),0),20),\"\")","v":""},{"$f":"IFERROR(INDEX('1.2 Sub-Con Application'!$B$13:$V$1012,MATCH(1,('1.2 Sub-Con Application'!$B$13:$B$1012=B430)*('1.2 Sub-Con Application'!$V$13:$V$1012<>\"\"),0),21),\"\")","v":""}]
[null,419,"","","","","","","","",{"$f":"IF(B431=\"\",\"\",SUMIF('1.2 Sub-Con Application'!$B$13:$B$1012,B431,'1.2 Sub-Con Application'!$P$13:$P$1012))","v":0},{"$f":"IF(B431=\"\",\"\",SUMIF('1.2 Sub-Con Application'!$B$13:$B$1012,B431,'1.2 Sub-Con Application'!$R$13:$R$1012))","v":0},{"$f":"IF(B431=\"\",\"\",SUMIF('1.2 Sub-Con Application'!$B$13:$B$1012,B431,'1.2 Sub-Con Application'!$S$13:$S$1012))","v":0},{"$f":"IFERROR(INDEX('1.2 Sub-Con Application'!$B$13:$U$1012,MATCH(1,('1.2 Sub-Con Application'!$B$13:$B$1012=B431)*('1.2 Sub-Con Application'!$U$13:$U$1012=\"Rejected\"),0),20),\"\")","v":""},{"$f":"IFERROR(INDEX('1.2 Sub-Con Application'!$B$13:$V$1012,MATCH(1,('1.2 Sub-Con Application'!$B$13:$B$1012=B431)*('1.2 Sub-Con Application'!$V$13:$V$1012<>\"\"),0),21),\"\")","v":""}]
[null,420,"","","","","","","","",{"$f":"IF(B432=\"\",\"\",SUMIF('1.2 Sub-Con Application'!$B$13:$B$1012,B432,'1.2 Sub-Con Application'!$P$13:$P$1012))","v":0},{"$f":"IF(B432=\"\",\"\",SUMIF('1.2 Sub-Con Application'!$B$13:$B$1012,B432,'1.2 Sub-Con Application'!$R$13:$R$1012))","v":0},{"$f":"IF(B432=\"\",\"\",SUMIF('1.2 Sub-Con Application'!$B$13:$B$1012,B432,'1.2 Sub-Con Application'!$S$13:$S$1012))","v":0},{"$f":"IFERROR(INDEX('1.2 Sub-Con Application'!$B$13:$U$1012,MATCH(1,('1.2 Sub-Con Application'!$B$13:$B$1012=B432)*('1.2 Sub-Con Application'!$U$13:$U$1012=\"Rejected\"),0),20),\"\")","v":""},{"$f":"IFERROR(INDEX('1.2 Sub-Con Application'!$B$13:$V$1012,MATCH(1,('1.2 Sub-Con Application'!$B$13:$B$1012=B432)*('1.2 Sub-Con Application'!$V$13:$V$1012<>\"\"),0),21),\"\")","v":""}]
[null,421,{"$f":"IFERROR(INDEX(table_subconApp,MATCH($B433,row_subconApp,0),MATCH(C$12,col_subconApp,0)),\"\")","v":""},"","","","","","","",{"$f":"IF(B433=\"\",\"\",SUMIF('1.2 Sub-Con Application'!$B$13:$B$1012,B433,'1.2 Sub-Con Application'!$P$13:$P$1012))","v":0},{"$f":"IF(B433=\"\",\"\",SUMIF('1.2 Sub-Con Application'!$B$13:$B$1012,B433,'1.2 Sub-Con Application'!$R$13:$R$1012))","v":0},{"$f":"IF(B433=\"\",\"\",SUMIF('1.2 Sub-Con Application'!$B$13:$B$1012,B433,'1.2 Sub-Con Application'!$S$13:$S$1012))","v":0},{"$f":"IFERROR(INDEX('1.2 Sub-Con Application'!$B$13:$U$1012,MATCH(1,('1.2 Sub-Con Application'!$B$13:$B$1012=B433)*('1.2 Sub-Con Application'!$U$13:$U$1012=\"Rejected\"),0),20),\"\")","v":""},{"$f":"IFERROR(INDEX('1.2 Sub-Con Application'!$B$13:$V$1012,MATCH(1,('1.2 Sub-Con Application'!$B$13:$B$1012=B433)*('1.2 Sub-Con Application'!$V$13:$V$1012<>\"\"),0),21),\"\")","v":""}]
[null,422,"","","","","","","","",{"$f":"IF(B434=\"\",\"\",SUMIF('1.2 Sub-Con Application'!$B$13:$B$1012,B434,'1.2 Sub-Con Application'!$P$13:$P$1012))","v":0},{"$f":"IF(B434=\"\",\"\",SUMIF('1.2 Sub-Con Application'!$B$13:$B$1012,B434,'1.2 Sub-Con Application'!$R$13:$R$1012))","v":0},{"$f":"IF(B434=\"\",\"\",SUMIF('1.2 Sub-Con Application'!$B$13:$B$1012,B434,'1.2 Sub-Con Application'!$S$13:$S$1012))","v":0},{"$f":"IFERROR(INDEX('1.2 Sub-Con Application'!$B$13:$U$1012,MATCH(1,('1.2 Sub-Con Application'!$B$13:$B$1012=B434)*('1.2 Sub-Con Application'!$U$13:$U$1012=\"Rejected\"),0),20),\"\")","v":""},{"$f":"IFERROR(INDEX('1.2 Sub-Con Application'!$B$13:$V$1012,MATCH(1,('1.2 Sub-Con Application'!$B$13:$B$1012=B434)*('1.2 Sub-Con Application'!$V$13:$V$1012<>\"\"),0),21),\"\")","v":""}]
[null,423,"","","","","","","","",{"$f":"IF(B435=\"\",\"\",SUMIF('1.2 Sub-Con Application'!$B$13:$B$1012,B435,'1.2 Sub-Con Application'!$P$13:$P$1012))","v":0},{"$f":"IF(B435=\"\",\"\",SUMIF('1.2 Sub-Con Application'!$B$13:$B$1012,B435,'1.2 Sub-Con Application'!$R$13:$R$1012))","v":0},{"$f":"IF(B435=\"\",\"\",SUMIF('1.2 Sub-Con Application'!$B$13:$B$1012,B435,'1.2 Sub-Con Application'!$S$13:$S$1012))","v":0},{"$f":"IFERROR(INDEX('1.2 Sub-Con Application'!$B$13:$U$1012,MATCH(1,('1.2 Sub-Con Application'!$B$13:$B$1012=B435)*('1.2 Sub-Con Application'!$U$13:$U$1012=\"Rejected\"),0),20),\"\")","v":""},{"$f":"IFERROR(INDEX('1.2 Sub-Con Application'!$B$13:$V$1012,MATCH(1,('1.2 Sub-Con Application'!$B$13:$B$1012=B435)*('1.2 Sub-Con Application'!$V$13:$V$1012<>\"\"),0),21),\"\")","v":""}]
[null,424,"","","","","","","","",{"$f":"IF(B436=\"\",\"\",SUMIF('1.2 Sub-Con Application'!$B$13:$B$1012,B436,'1.2 Sub-Con Application'!$P$13:$P$1012))","v":0},{"$f":"IF(B436=\"\",\"\",SUMIF('1.2 Sub-Con Application'!$B$13:$B$1012,B436,'1.2 Sub-Con Application'!$R$13:$R$1012))","v":0},{"$f":"IF(B436=\"\",\"\",SUMIF('1.2 Sub-Con Application'!$B$13:$B$1012,B436,'1.2 Sub-Con Application'!$S$13:$S$1012))","v":0},{"$f":"IFERROR(INDEX('1.2 Sub-Con Application'!$B$13:$U$1012,MATCH(1,('1.2 Sub-Con Application'!$B$13:$B$1012=B436)*('1.2 Sub-Con Application'!$U$13:$U$1012=\"Rejected\"),0),20),\"\")","v":""},{"$f":"IFERROR(INDEX('1.2 Sub-Con Application'!$B$13:$V$1012,MATCH(1,('1.2 Sub-Con Application'!$B$13:$B$1012=B436)*('1.2 Sub-Con Application'!$V$13:$V$1012<>\"\"),0),21),\"\")","v":""}]
[null,425,"","","","","","","","",{"$f":"IF(B437=\"\",\"\",SUMIF('1.2 Sub-Con Application'!$B$13:$B$1012,B437,'1.2 Sub-Con Application'!$P$13:$P$1012))","v":0},{"$f":"IF(B437=\"\",\"\",SUMIF('1.2 Sub-Con Application'!$B$13:$B$1012,B437,'1.2 Sub-Con Application'!$R$13:$R$1012))","v":0},{"$f":"IF(B437=\"\",\"\",SUMIF('1.2 Sub-Con Application'!$B$13:$B$1012,B437,'1.2 Sub-Con Application'!$S$13:$S$1012))","v":0},{"$f":"IFERROR(INDEX('1.2 Sub-Con Application'!$B$13:$U$1012,MATCH(1,('1.2 Sub-Con Application'!$B$13:$B$1012=B437)*('1.2 Sub-Con Application'!$U$13:$U$1012=\"Rejected\"),0),20),\"\")","v":""},{"$f":"IFERROR(INDEX('1.2 Sub-Con Application'!$B$13:$V$1012,MATCH(1,('1.2 Sub-Con Application'!$B$13:$B$1012=B437)*('1.2 Sub-Con Application'!$V$13:$V$1012<>\"\"),0),21),\"\")","v":""}]
[null,426,"","","","","","","","",{"$f":"IF(B438=\"\",\"\",SUMIF('1.2 Sub-Con Application'!$B$13:$B$1012,B438,'1.2 Sub-Con Application'!$P$13:$P$1012))","v":0},{"$f":"IF(B438=\"\",\"\",SUMIF('1.2 Sub-Con Application'!$B$13:$B$1012,B438,'1.2 Sub-Con Application'!$R$13:$R$1012))","v":0},{"$f":"IF(B438=\"\",\"\",SUMIF('1.2 Sub-Con Application'!$B$13:$B$1012,B438,'1.2 Sub-Con Application'!$S$13:$S$1012))","v":0},{"$f":"IFERROR(INDEX('1.2 Sub-Con Application'!$B$13:$U$1012,MATCH(1,('1.2 Sub-Con Application'!$B$13:$B$1012=B438)*('1.2 Sub-Con Application'!$U$13:$U$1012=\"Rejected\"),0),20),\"\")","v":""},{"$f":"IFERROR(INDEX('1.2 Sub-Con Application'!$B$13:$V$1012,MATCH(1,('1.2 Sub-Con Application'!$B$13:$B$1012=B438)*('1.2 Sub-Con Application'!$V$13:$V$1012<>\"\"),0),21),\"\")","v":""}]
[null,427,"","","","","","","","",{"$f":"IF(B439=\"\",\"\",SUMIF('1.2 Sub-Con Application'!$B$13:$B$1012,B439,'1.2 Sub-Con Application'!$P$13:$P$1012))","v":0},{"$f":"IF(B439=\"\",\"\",SUMIF('1.2 Sub-Con Application'!$B$13:$B$1012,B439,'1.2 Sub-Con Application'!$R$13:$R$1012))","v":0},{"$f":"IF(B439=\"\",\"\",SUMIF('1.2 Sub-Con Application'!$B$13:$B$1012,B439,'1.2 Sub-Con Application'!$S$13:$S$1012))","v":0},{"$f":"IFERROR(INDEX('1.2 Sub-Con Application'!$B$13:$U$1012,MATCH(1,('1.2 Sub-Con Application'!$B$13:$B$1012=B439)*('1.2 Sub-Con Application'!$U$13:$U$1012=\"Rejected\"),0),20),\"\")","v":""},{"$f":"IFERROR(INDEX('1.2 Sub-Con Application'!$B$13:$V$1012,MATCH(1,('1.2 Sub-Con Application'!$B$13:$B$1012=B439)*('1.2 Sub-Con Application'!$V$13:$V$1012<>\"\"),0),21),\"\")","v":""}]
[null,428,"","","","","","","","",{"$f":"IF(B440=\"\",\"\",SUMIF('1.2 Sub-Con Application'!$B$13:$B$1012,B440,'1.2 Sub-Con Application'!$P$13:$P$1012))","v":0},{"$f":"IF(B440=\"\",\"\",SUMIF('1.2 Sub-Con Application'!$B$13:$B$1012,B440,'1.2 Sub-Con Application'!$R$13:$R$1012))","v":0},{"$f":"IF(B440=\"\",\"\",SUMIF('1.2 Sub-Con Application'!$B$13:$B$1012,B440,'1.2 Sub-Con Application'!$S$13:$S$1012))","v":0},{"$f":"IFERROR(INDEX('1.2 Sub-Con Application'!$B$13:$U$1012,MATCH(1,('1.2 Sub-Con Application'!$B$13:$B$1012=B440)*('1.2 Sub-Con Application'!$U$13:$U$1012=\"Rejected\"),0),20),\"\")","v":""},{"$f":"IFERROR(INDEX('1.2 Sub-Con Application'!$B$13:$V$1012,MATCH(1,('1.2 Sub-Con Application'!$B$13:$B$1012=B440)*('1.2 Sub-Con Application'!$V$13:$V$1012<>\"\"),0),21),\"\")","v":""}]
[null,429,"","","","","","","","",{"$f":"IF(B441=\"\",\"\",SUMIF('1.2 Sub-Con Application'!$B$13:$B$1012,B441,'1.2 Sub-Con Application'!$P$13:$P$1012))","v":0},{"$f":"IF(B441=\"\",\"\",SUMIF('1.2 Sub-Con Application'!$B$13:$B$1012,B441,'1.2 Sub-Con Application'!$R$13:$R$1012))","v":0},{"$f":"IF(B441=\"\",\"\",SUMIF('1.2 Sub-Con Application'!$B$13:$B$1012,B441,'1.2 Sub-Con Application'!$S$13:$S$1012))","v":0},{"$f":"IFERROR(INDEX('1.2 Sub-Con Application'!$B$13:$U$1012,MATCH(1,('1.2 Sub-Con Application'!$B$13:$B$1012=B441)*('1.2 Sub-Con Application'!$U$13:$U$1012=\"Rejected\"),0),20),\"\")","v":""},{"$f":"IFERROR(INDEX('1.2 Sub-Con Application'!$B$13:$V$1012,MATCH(1,('1.2 Sub-Con Application'!$B$13:$B$1012=B441)*('1.2 Sub-Con Application'!$V$13:$V$1012<>\"\"),0),21),\"\")","v":""}]
[null,430,"","","","","","","","",{"$f":"IF(B442=\"\",\"\",SUMIF('1.2 Sub-Con Application'!$B$13:$B$1012,B442,'1.2 Sub-Con Application'!$P$13:$P$1012))","v":0},{"$f":"IF(B442=\"\",\"\",SUMIF('1.2 Sub-Con Application'!$B$13:$B$1012,B442,'1.2 Sub-Con Application'!$R$13:$R$1012))","v":0},{"$f":"IF(B442=\"\",\"\",SUMIF('1.2 Sub-Con Application'!$B$13:$B$1012,B442,'1.2 Sub-Con Application'!$S$13:$S$1012))","v":0},{"$f":"IFERROR(INDEX('1.2 Sub-Con Application'!$B$13:$U$1012,MATCH(1,('1.2 Sub-Con Application'!$B$13:$B$1012=B442)*('1.2 Sub-Con Application'!$U$13:$U$1012=\"Rejected\"),0),20),\"\")","v":""},{"$f":"IFERROR(INDEX('1.2 Sub-Con Application'!$B$13:$V$1012,MATCH(1,('1.2 Sub-Con Application'!$B$13:$B$1012=B442)*('1.2 Sub-Con Application'!$V$13:$V$1012<>\"\"),0),21),\"\")","v":""}]
[null,431,{"$f":"IFERROR(INDEX(table_subconApp,MATCH($B443,row_subconApp,0),MATCH(C$12,col_subconApp,0)),\"\")","v":""},"","","","","","","",{"$f":"IF(B443=\"\",\"\",SUMIF('1.2 Sub-Con Application'!$B$13:$B$1012,B443,'1.2 Sub-Con Application'!$P$13:$P$1012))","v":0},{"$f":"IF(B443=\"\",\"\",SUMIF('1.2 Sub-Con Application'!$B$13:$B$1012,B443,'1.2 Sub-Con Application'!$R$13:$R$1012))","v":0},{"$f":"IF(B443=\"\",\"\",SUMIF('1.2 Sub-Con Application'!$B$13:$B$1012,B443,'1.2 Sub-Con Application'!$S$13:$S$1012))","v":0},{"$f":"IFERROR(INDEX('1.2 Sub-Con Application'!$B$13:$U$1012,MATCH(1,('1.2 Sub-Con Application'!$B$13:$B$1012=B443)*('1.2 Sub-Con Application'!$U$13:$U$1012=\"Rejected\"),0),20),\"\")","v":""},{"$f":"IFERROR(INDEX('1.2 Sub-Con Application'!$B$13:$V$1012,MATCH(1,('1.2 Sub-Con Application'!$B$13:$B$1012=B443)*('1.2 Sub-Con Application'!$V$13:$V$1012<>\"\"),0),21),\"\")","v":""}]
[null,432,"","","","","","","","",{"$f":"IF(B444=\"\",\"\",SUMIF('1.2 Sub-Con Application'!$B$13:$B$1012,B444,'1.2 Sub-Con Application'!$P$13:$P$1012))","v":0},{"$f":"IF(B444=\"\",\"\",SUMIF('1.2 Sub-Con Application'!$B$13:$B$1012,B444,'1.2 Sub-Con Application'!$R$13:$R$1012))","v":0},{"$f":"IF(B444=\"\",\"\",SUMIF('1.2 Sub-Con Application'!$B$13:$B$1012,B444,'1.2 Sub-Con Application'!$S$13:$S$1012))","v":0},{"$f":"IFERROR(INDEX('1.2 Sub-Con Application'!$B$13:$U$1012,MATCH(1,('1.2 Sub-Con Application'!$B$13:$B$1012=B444)*('1.2 Sub-Con Application'!$U$13:$U$1012=\"Rejected\"),0),20),\"\")","v":""},{"$f":"IFERROR(INDEX('1.2 Sub-Con Application'!$B$13:$V$1012,MATCH(1,('1.2 Sub-Con Application'!$B$13:$B$1012=B444)*('1.2 Sub-Con Application'!$V$13:$V$1012<>\"\"),0),21),\"\")","v":""}]
[null,433,"","","","","","","","",{"$f":"IF(B445=\"\",\"\",SUMIF('1.2 Sub-Con Application'!$B$13:$B$1012,B445,'1.2 Sub-Con Application'!$P$13:$P$1012))","v":0},{"$f":"IF(B445=\"\",\"\",SUMIF('1.2 Sub-Con Application'!$B$13:$B$1012,B445,'1.2 Sub-Con Application'!$R$13:$R$1012))","v":0},{"$f":"IF(B445=\"\",\"\",SUMIF('1.2 Sub-Con Application'!$B$13:$B$1012,B445,'1.2 Sub-Con Application'!$S$13:$S$1012))","v":0},{"$f":"IFERROR(INDEX('1.2 Sub-Con Application'!$B$13:$U$1012,MATCH(1,('1.2 Sub-Con Application'!$B$13:$B$1012=B445)*('1.2 Sub-Con Application'!$U$13:$U$1012=\"Rejected\"),0),20),\"\")","v":""},{"$f":"IFERROR(INDEX('1.2 Sub-Con Application'!$B$13:$V$1012,MATCH(1,('1.2 Sub-Con Application'!$B$13:$B$1012=B445)*('1.2 Sub-Con Application'!$V$13:$V$1012<>\"\"),0),21),\"\")","v":""}]
[null,434,"","","","","","","","",{"$f":"IF(B446=\"\",\"\",SUMIF('1.2 Sub-Con Application'!$B$13:$B$1012,B446,'1.2 Sub-Con Application'!$P$13:$P$1012))","v":0},{"$f":"IF(B446=\"\",\"\",SUMIF('1.2 Sub-Con Application'!$B$13:$B$1012,B446,'1.2 Sub-Con Application'!$R$13:$R$1012))","v":0},{"$f":"IF(B446=\"\",\"\",SUMIF('1.2 Sub-Con Application'!$B$13:$B$1012,B446,'1.2 Sub-Con Application'!$S$13:$S$1012))","v":0},{"$f":"IFERROR(INDEX('1.2 Sub-Con Application'!$B$13:$U$1012,MATCH(1,('1.2 Sub-Con Application'!$B$13:$B$1012=B446)*('1.2 Sub-Con Application'!$U$13:$U$1012=\"Rejected\"),0),20),\"\")","v":""},{"$f":"IFERROR(INDEX('1.2 Sub-Con Application'!$B$13:$V$1012,MATCH(1,('1.2 Sub-Con Application'!$B$13:$B$1012=B446)*('1.2 Sub-Con Application'!$V$13:$V$1012<>\"\"),0),21),\"\")","v":""}]
[null,435,"","","","","","","","",{"$f":"IF(B447=\"\",\"\",SUMIF('1.2 Sub-Con Application'!$B$13:$B$1012,B447,'1.2 Sub-Con Application'!$P$13:$P$1012))","v":0},{"$f":"IF(B447=\"\",\"\",SUMIF('1.2 Sub-Con Application'!$B$13:$B$1012,B447,'1.2 Sub-Con Application'!$R$13:$R$1012))","v":0},{"$f":"IF(B447=\"\",\"\",SUMIF('1.2 Sub-Con Application'!$B$13:$B$1012,B447,'1.2 Sub-Con Application'!$S$13:$S$1012))","v":0},{"$f":"IFERROR(INDEX('1.2 Sub-Con Application'!$B$13:$U$1012,MATCH(1,('1.2 Sub-Con Application'!$B$13:$B$1012=B447)*('1.2 Sub-Con Application'!$U$13:$U$1012=\"Rejected\"),0),20),\"\")","v":""},{"$f":"IFERROR(INDEX('1.2 Sub-Con Application'!$B$13:$V$1012,MATCH(1,('1.2 Sub-Con Application'!$B$13:$B$1012=B447)*('1.2 Sub-Con Application'!$V$13:$V$1012<>\"\"),0),21),\"\")","v":""}]
[null,436,"","","","","","","","",{"$f":"IF(B448=\"\",\"\",SUMIF('1.2 Sub-Con Application'!$B$13:$B$1012,B448,'1.2 Sub-Con Application'!$P$13:$P$1012))","v":0},{"$f":"IF(B448=\"\",\"\",SUMIF('1.2 Sub-Con Application'!$B$13:$B$1012,B448,'1.2 Sub-Con Application'!$R$13:$R$1012))","v":0},{"$f":"IF(B448=\"\",\"\",SUMIF('1.2 Sub-Con Application'!$B$13:$B$1012,B448,'1.2 Sub-Con Application'!$S$13:$S$1012))","v":0},{"$f":"IFERROR(INDEX('1.2 Sub-Con Application'!$B$13:$U$1012,MATCH(1,('1.2 Sub-Con Application'!$B$13:$B$1012=B448)*('1.2 Sub-Con Application'!$U$13:$U$1012=\"Rejected\"),0),20),\"\")","v":""},{"$f":"IFERROR(INDEX('1.2 Sub-Con Application'!$B$13:$V$1012,MATCH(1,('1.2 Sub-Con Application'!$B$13:$B$1012=B448)*('1.2 Sub-Con Application'!$V$13:$V$1012<>\"\"),0),21),\"\")","v":""}]
[null,437,"","","","","","","","",{"$f":"IF(B449=\"\",\"\",SUMIF('1.2 Sub-Con Application'!$B$13:$B$1012,B449,'1.2 Sub-Con Application'!$P$13:$P$1012))","v":0},{"$f":"IF(B449=\"\",\"\",SUMIF('1.2 Sub-Con Application'!$B$13:$B$1012,B449,'1.2 Sub-Con Application'!$R$13:$R$1012))","v":0},{"$f":"IF(B449=\"\",\"\",SUMIF('1.2 Sub-Con Application'!$B$13:$B$1012,B449,'1.2 Sub-Con Application'!$S$13:$S$1012))","v":0},{"$f":"IFERROR(INDEX('1.2 Sub-Con Application'!$B$13:$U$1012,MATCH(1,('1.2 Sub-Con Application'!$B$13:$B$1012=B449)*('1.2 Sub-Con Application'!$U$13:$U$1012=\"Rejected\"),0),20),\"\")","v":""},{"$f":"IFERROR(INDEX('1.2 Sub-Con Application'!$B$13:$V$1012,MATCH(1,('1.2 Sub-Con Application'!$B$13:$B$1012=B449)*('1.2 Sub-Con Application'!$V$13:$V$1012<>\"\"),0),21),\"\")","v":""}]
[null,438,"","","","","","","","",{"$f":"IF(B450=\"\",\"\",SUMIF('1.2 Sub-Con Application'!$B$13:$B$1012,B450,'1.2 Sub-Con Application'!$P$13:$P$1012))","v":0},{"$f":"IF(B450=\"\",\"\",SUMIF('1.2 Sub-Con Application'!$B$13:$B$1012,B450,'1.2 Sub-Con Application'!$R$13:$R$1012))","v":0},{"$f":"IF(B450=\"\",\"\",SUMIF('1.2 Sub-Con Application'!$B$13:$B$1012,B450,'1.2 Sub-Con Application'!$S$13:$S$1012))","v":0},{"$f":"IFERROR(INDEX('1.2 Sub-Con Application'!$B$13:$U$1012,MATCH(1,('1.2 Sub-Con Application'!$B$13:$B$1012=B450)*('1.2 Sub-Con Application'!$U$13:$U$1012=\"Rejected\"),0),20),\"\")","v":""},{"$f":"IFERROR(INDEX('1.2 Sub-Con Application'!$B$13:$V$1012,MATCH(1,('1.2 Sub-Con Application'!$B$13:$B$1012=B450)*('1.2 Sub-Con Application'!$V$13:$V$1012<>\"\"),0),21),\"\")","v":""}]
[null,439,"","","","","","","","",{"$f":"IF(B451=\"\",\"\",SUMIF('1.2 Sub-Con Application'!$B$13:$B$1012,B451,'1.2 Sub-Con Application'!$P$13:$P$1012))","v":0},{"$f":"IF(B451=\"\",\"\",SUMIF('1.2 Sub-Con Application'!$B$13:$B$1012,B451,'1.2 Sub-Con Application'!$R$13:$R$1012))","v":0},{"$f":"IF(B451=\"\",\"\",SUMIF('1.2 Sub-Con Application'!$B$13:$B$1012,B451,'1.2 Sub-Con Application'!$S$13:$S$1012))","v":0},{"$f":"IFERROR(INDEX('1.2 Sub-Con Application'!$B$13:$U$1012,MATCH(1,('1.2 Sub-Con Application'!$B$13:$B$1012=B451)*('1.2 Sub-Con Application'!$U$13:$U$1012=\"Rejected\"),0),20),\"\")","v":""},{"$f":"IFERROR(INDEX('1.2 Sub-Con Application'!$B$13:$V$1012,MATCH(1,('1.2 Sub-Con Application'!$B$13:$B$1012=B451)*('1.2 Sub-Con Application'!$V$13:$V$1012<>\"\"),0),21),\"\")","v":""}]
[null,440,"","","","","","","","",{"$f":"IF(B452=\"\",\"\",SUMIF('1.2 Sub-Con Application'!$B$13:$B$1012,B452,'1.2 Sub-Con Application'!$P$13:$P$1012))","v":0},{"$f":"IF(B452=\"\",\"\",SUMIF('1.2 Sub-Con Application'!$B$13:$B$1012,B452,'1.2 Sub-Con Application'!$R$13:$R$1012))","v":0},{"$f":"IF(B452=\"\",\"\",SUMIF('1.2 Sub-Con Application'!$B$13:$B$1012,B452,'1.2 Sub-Con Application'!$S$13:$S$1012))","v":0},{"$f":"IFERROR(INDEX('1.2 Sub-Con Application'!$B$13:$U$1012,MATCH(1,('1.2 Sub-Con Application'!$B$13:$B$1012=B452)*('1.2 Sub-Con Application'!$U$13:$U$1012=\"Rejected\"),0),20),\"\")","v":""},{"$f":"IFERROR(INDEX('1.2 Sub-Con Application'!$B$13:$V$1012,MATCH(1,('1.2 Sub-Con Application'!$B$13:$B$1012=B452)*('1.2 Sub-Con Application'!$V$13:$V$1012<>\"\"),0),21),\"\")","v":""}]
[null,441,{"$f":"IFERROR(INDEX(table_subconApp,MATCH($B453,row_subconApp,0),MATCH(C$12,col_subconApp,0)),\"\")","v":""},"","","","","","","",{"$f":"IF(B453=\"\",\"\",SUMIF('1.2 Sub-Con Application'!$B$13:$B$1012,B453,'1.2 Sub-Con Application'!$P$13:$P$1012))","v":0},{"$f":"IF(B453=\"\",\"\",SUMIF('1.2 Sub-Con Application'!$B$13:$B$1012,B453,'1.2 Sub-Con Application'!$R$13:$R$1012))","v":0},{"$f":"IF(B453=\"\",\"\",SUMIF('1.2 Sub-Con Application'!$B$13:$B$1012,B453,'1.2 Sub-Con Application'!$S$13:$S$1012))","v":0},{"$f":"IFERROR(INDEX('1.2 Sub-Con Application'!$B$13:$U$1012,MATCH(1,('1.2 Sub-Con Application'!$B$13:$B$1012=B453)*('1.2 Sub-Con Application'!$U$13:$U$1012=\"Rejected\"),0),20),\"\")","v":""},{"$f":"IFERROR(INDEX('1.2 Sub-Con Application'!$B$13:$V$1012,MATCH(1,('1.2 Sub-Con Application'!$B$13:$B$1012=B453)*('1.2 Sub-Con Application'!$V$13:$V$1012<>\"\"),0),21),\"\")","v":""}]
[null,442,"","","","","","","","",{"$f":"IF(B454=\"\",\"\",SUMIF('1.2 Sub-Con Application'!$B$13:$B$1012,B454,'1.2 Sub-Con Application'!$P$13:$P$1012))","v":0},{"$f":"IF(B454=\"\",\"\",SUMIF('1.2 Sub-Con Application'!$B$13:$B$1012,B454,'1.2 Sub-Con Application'!$R$13:$R$1012))","v":0},{"$f":"IF(B454=\"\",\"\",SUMIF('1.2 Sub-Con Application'!$B$13:$B$1012,B454,'1.2 Sub-Con Application'!$S$13:$S$1012))","v":0},{"$f":"IFERROR(INDEX('1.2 Sub-Con Application'!$B$13:$U$1012,MATCH(1,('1.2 Sub-Con Application'!$B$13:$B$1012=B454)*('1.2 Sub-Con Application'!$U$13:$U$1012=\"Rejected\"),0),20),\"\")","v":""},{"$f":"IFERROR(INDEX('1.2 Sub-Con Application'!$B$13:$V$1012,MATCH(1,('1.2 Sub-Con Application'!$B$13:$B$1012=B454)*('1.2 Sub-Con Application'!$V$13:$V$1012<>\"\"),0),21),\"\")","v":""}]
[null,443,"","","","","","","","",{"$f":"IF(B455=\"\",\"\",SUMIF('1.2 Sub-Con Application'!$B$13:$B$1012,B455,'1.2 Sub-Con Application'!$P$13:$P$1012))","v":0},{"$f":"IF(B455=\"\",\"\",SUMIF('1.2 Sub-Con Application'!$B$13:$B$1012,B455,'1.2 Sub-Con Application'!$R$13:$R$1012))","v":0},{"$f":"IF(B455=\"\",\"\",SUMIF('1.2 Sub-Con Application'!$B$13:$B$1012,B455,'1.2 Sub-Con Application'!$S$13:$S$1012))","v":0},{"$f":"IFERROR(INDEX('1.2 Sub-Con Application'!$B$13:$U$1012,MATCH(1,('1.2 Sub-Con Application'!$B$13:$B$1012=B455)*('1.2 Sub-Con Application'!$U$13:$U$1012=\"Rejected\"),0),20),\"\")","v":""},{"$f":"IFERROR(INDEX('1.2 Sub-Con Application'!$B$13:$V$1012,MATCH(1,('1.2 Sub-Con Application'!$B$13:$B$1012=B455)*('1.2 Sub-Con Application'!$V$13:$V$1012<>\"\"),0),21),\"\")","v":""}]
[null,444,"","","","","","","","",{"$f":"IF(B456=\"\",\"\",SUMIF('1.2 Sub-Con Application'!$B$13:$B$1012,B456,'1.2 Sub-Con Application'!$P$13:$P$1012))","v":0},{"$f":"IF(B456=\"\",\"\",SUMIF('1.2 Sub-Con Application'!$B$13:$B$1012,B456,'1.2 Sub-Con Application'!$R$13:$R$1012))","v":0},{"$f":"IF(B456=\"\",\"\",SUMIF('1.2 Sub-Con Application'!$B$13:$B$1012,B456,'1.2 Sub-Con Application'!$S$13:$S$1012))","v":0},{"$f":"IFERROR(INDEX('1.2 Sub-Con Application'!$B$13:$U$1012,MATCH(1,('1.2 Sub-Con Application'!$B$13:$B$1012=B456)*('1.2 Sub-Con Application'!$U$13:$U$1012=\"Rejected\"),0),20),\"\")","v":""},{"$f":"IFERROR(INDEX('1.2 Sub-Con Application'!$B$13:$V$1012,MATCH(1,('1.2 Sub-Con Application'!$B$13:$B$1012=B456)*('1.2 Sub-Con Application'!$V$13:$V$1012<>\"\"),0),21),\"\")","v":""}]
[null,445,"","","","","","","","",{"$f":"IF(B457=\"\",\"\",SUMIF('1.2 Sub-Con Application'!$B$13:$B$1012,B457,'1.2 Sub-Con Application'!$P$13:$P$1012))","v":0},{"$f":"IF(B457=\"\",\"\",SUMIF('1.2 Sub-Con Application'!$B$13:$B$1012,B457,'1.2 Sub-Con Application'!$R$13:$R$1012))","v":0},{"$f":"IF(B457=\"\",\"\",SUMIF('1.2 Sub-Con Application'!$B$13:$B$1012,B457,'1.2 Sub-Con Application'!$S$13:$S$1012))","v":0},{"$f":"IFERROR(INDEX('1.2 Sub-Con Application'!$B$13:$U$1012,MATCH(1,('1.2 Sub-Con Application'!$B$13:$B$1012=B457)*('1.2 Sub-Con Application'!$U$13:$U$1012=\"Rejected\"),0),20),\"\")","v":""},{"$f":"IFERROR(INDEX('1.2 Sub-Con Application'!$B$13:$V$1012,MATCH(1,('1.2 Sub-Con Application'!$B$13:$B$1012=B457)*('1.2 Sub-Con Application'!$V$13:$V$1012<>\"\"),0),21),\"\")","v":""}]
[null,446,"","","","","","","","",{"$f":"IF(B458=\"\",\"\",SUMIF('1.2 Sub-Con Application'!$B$13:$B$1012,B458,'1.2 Sub-Con Application'!$P$13:$P$1012))","v":0},{"$f":"IF(B458=\"\",\"\",SUMIF('1.2 Sub-Con Application'!$B$13:$B$1012,B458,'1.2 Sub-Con Application'!$R$13:$R$1012))","v":0},{"$f":"IF(B458=\"\",\"\",SUMIF('1.2 Sub-Con Application'!$B$13:$B$1012,B458,'1.2 Sub-Con Application'!$S$13:$S$1012))","v":0},{"$f":"IFERROR(INDEX('1.2 Sub-Con Application'!$B$13:$U$1012,MATCH(1,('1.2 Sub-Con Application'!$B$13:$B$1012=B458)*('1.2 Sub-Con Application'!$U$13:$U$1012=\"Rejected\"),0),20),\"\")","v":""},{"$f":"IFERROR(INDEX('1.2 Sub-Con Application'!$B$13:$V$1012,MATCH(1,('1.2 Sub-Con Application'!$B$13:$B$1012=B458)*('1.2 Sub-Con Application'!$V$13:$V$1012<>\"\"),0),21),\"\")","v":""}]
[null,447,"","","","","","","","",{"$f":"IF(B459=\"\",\"\",SUMIF('1.2 Sub-Con Application'!$B$13:$B$1012,B459,'1.2 Sub-Con Application'!$P$13:$P$1012))","v":0},{"$f":"IF(B459=\"\",\"\",SUMIF('1.2 Sub-Con Application'!$B$13:$B$1012,B459,'1.2 Sub-Con Application'!$R$13:$R$1012))","v":0},{"$f":"IF(B459=\"\",\"\",SUMIF('1.2 Sub-Con Application'!$B$13:$B$1012,B459,'1.2 Sub-Con Application'!$S$13:$S$1012))","v":0},{"$f":"IFERROR(INDEX('1.2 Sub-Con Application'!$B$13:$U$1012,MATCH(1,('1.2 Sub-Con Application'!$B$13:$B$1012=B459)*('1.2 Sub-Con Application'!$U$13:$U$1012=\"Rejected\"),0),20),\"\")","v":""},{"$f":"IFERROR(INDEX('1.2 Sub-Con Application'!$B$13:$V$1012,MATCH(1,('1.2 Sub-Con Application'!$B$13:$B$1012=B459)*('1.2 Sub-Con Application'!$V$13:$V$1012<>\"\"),0),21),\"\")","v":""}]
[null,448,"","","","","","","","",{"$f":"IF(B460=\"\",\"\",SUMIF('1.2 Sub-Con Application'!$B$13:$B$1012,B460,'1.2 Sub-Con Application'!$P$13:$P$1012))","v":0},{"$f":"IF(B460=\"\",\"\",SUMIF('1.2 Sub-Con Application'!$B$13:$B$1012,B460,'1.2 Sub-Con Application'!$R$13:$R$1012))","v":0},{"$f":"IF(B460=\"\",\"\",SUMIF('1.2 Sub-Con Application'!$B$13:$B$1012,B460,'1.2 Sub-Con Application'!$S$13:$S$1012))","v":0},{"$f":"IFERROR(INDEX('1.2 Sub-Con Application'!$B$13:$U$1012,MATCH(1,('1.2 Sub-Con Application'!$B$13:$B$1012=B460)*('1.2 Sub-Con Application'!$U$13:$U$1012=\"Rejected\"),0),20),\"\")","v":""},{"$f":"IFERROR(INDEX('1.2 Sub-Con Application'!$B$13:$V$1012,MATCH(1,('1.2 Sub-Con Application'!$B$13:$B$1012=B460)*('1.2 Sub-Con Application'!$V$13:$V$1012<>\"\"),0),21),\"\")","v":""}]
[null,449,"","","","","","","",{"$f":"IFERROR(IF(ISBLANK(INDEX(table_subconApp,MATCH($B461,row_subconApp,0),MATCH(J$12,col_subconApp,0))),\"\",INDEX(table_subconApp,MATCH($B461,row_subconApp,0),MATCH(J$12,col_subconApp,0))),\"\")","v":""},{"$f":"IF(B461=\"\",\"\",SUMIF('1.2 Sub-Con Application'!$B$13:$B$1012,B461,'1.2 Sub-Con Application'!$P$13:$P$1012))","v":0},{"$f":"IF(B461=\"\",\"\",SUMIF('1.2 Sub-Con Application'!$B$13:$B$1012,B461,'1.2 Sub-Con Application'!$R$13:$R$1012))","v":0},{"$f":"IF(B461=\"\",\"\",SUMIF('1.2 Sub-Con Application'!$B$13:$B$1012,B461,'1.2 Sub-Con Application'!$S$13:$S$1012))","v":0},{"$f":"IFERROR(INDEX('1.2 Sub-Con Application'!$B$13:$U$1012,MATCH(1,('1.2 Sub-Con Application'!$B$13:$B$1012=B461)*('1.2 Sub-Con Application'!$U$13:$U$1012=\"Rejected\"),0),20),\"\")","v":""},{"$f":"IFERROR(INDEX('1.2 Sub-Con Application'!$B$13:$V$1012,MATCH(1,('1.2 Sub-Con Application'!$B$13:$B$1012=B461)*('1.2 Sub-Con Application'!$V$13:$V$1012<>\"\"),0),21),\"\")","v":""}]
[null,{"$f":"B461+1","v":450},"","","","","","","","",{"$f":"IF(B462=\"\",\"\",SUMIF('1.2 Sub-Con Application'!$B$13:$B$1012,B462,'1.2 Sub-Con Application'!$P$13:$P$1012))","v":0},{"$f":"IF(B462=\"\",\"\",SUMIF('1.2 Sub-Con Application'!$B$13:$B$1012,B462,'1.2 Sub-Con Application'!$R$13:$R$1012))","v":0},{"$f":"IF(B462=\"\",\"\",SUMIF('1.2 Sub-Con Application'!$B$13:$B$1012,B462,'1.2 Sub-Con Application'!$S$13:$S$1012))","v":0},{"$f":"IFERROR(INDEX('1.2 Sub-Con Application'!$B$13:$U$1012,MATCH(1,('1.2 Sub-Con Application'!$B$13:$B$1012=B462)*('1.2 Sub-Con Application'!$U$13:$U$1012=\"Rejected\"),0),20),\"\")","v":""},{"$f":"IFERROR(INDEX('1.2 Sub-Con Application'!$B$13:$V$1012,MATCH(1,('1.2 Sub-Con Application'!$B$13:$B$1012=B462)*('1.2 Sub-Con Application'!$V$13:$V$1012<>\"\"),0),21),\"\")","v":""}]
[null,451,{"$f":"IFERROR(INDEX(table_subconApp,MATCH($B463,row_subconApp,0),MATCH(C$12,col_subconApp,0)),\"\")","v":""},"","","","","","","",{"$f":"IF(B463=\"\",\"\",SUMIF('1.2 Sub-Con Application'!$B$13:$B$1012,B463,'1.2 Sub-Con Application'!$P$13:$P$1012))","v":0},{"$f":"IF(B463=\"\",\"\",SUMIF('1.2 Sub-Con Application'!$B$13:$B$1012,B463,'1.2 Sub-Con Application'!$R$13:$R$1012))","v":0},{"$f":"IF(B463=\"\",\"\",SUMIF('1.2 Sub-Con Application'!$B$13:$B$1012,B463,'1.2 Sub-Con Application'!$S$13:$S$1012))","v":0},{"$f":"IFERROR(INDEX('1.2 Sub-Con Application'!$B$13:$U$1012,MATCH(1,('1.2 Sub-Con Application'!$B$13:$B$1012=B463)*('1.2 Sub-Con Application'!$U$13:$U$1012=\"Rejected\"),0),20),\"\")","v":""},{"$f":"IFERROR(INDEX('1.2 Sub-Con Application'!$B$13:$V$1012,MATCH(1,('1.2 Sub-Con Application'!$B$13:$B$1012=B463)*('1.2 Sub-Con Application'!$V$13:$V$1012<>\"\"),0),21),\"\")","v":""}]
[null,452,"","","","","","","","",{"$f":"IF(B464=\"\",\"\",SUMIF('1.2 Sub-Con Application'!$B$13:$B$1012,B464,'1.2 Sub-Con Application'!$P$13:$P$1012))","v":0},{"$f":"IF(B464=\"\",\"\",SUMIF('1.2 Sub-Con Application'!$B$13:$B$1012,B464,'1.2 Sub-Con Application'!$R$13:$R$1012))","v":0},{"$f":"IF(B464=\"\",\"\",SUMIF('1.2 Sub-Con Application'!$B$13:$B$1012,B464,'1.2 Sub-Con Application'!$S$13:$S$1012))","v":0},{"$f":"IFERROR(INDEX('1.2 Sub-Con Application'!$B$13:$U$1012,MATCH(1,('1.2 Sub-Con Application'!$B$13:$B$1012=B464)*('1.2 Sub-Con Application'!$U$13:$U$1012=\"Rejected\"),0),20),\"\")","v":""},{"$f":"IFERROR(INDEX('1.2 Sub-Con Application'!$B$13:$V$1012,MATCH(1,('1.2 Sub-Con Application'!$B$13:$B$1012=B464)*('1.2 Sub-Con Application'!$V$13:$V$1012<>\"\"),0),21),\"\")","v":""}]
[null,453,"","","","","","","","",{"$f":"IF(B465=\"\",\"\",SUMIF('1.2 Sub-Con Application'!$B$13:$B$1012,B465,'1.2 Sub-Con Application'!$P$13:$P$1012))","v":0},{"$f":"IF(B465=\"\",\"\",SUMIF('1.2 Sub-Con Application'!$B$13:$B$1012,B465,'1.2 Sub-Con Application'!$R$13:$R$1012))","v":0},{"$f":"IF(B465=\"\",\"\",SUMIF('1.2 Sub-Con Application'!$B$13:$B$1012,B465,'1.2 Sub-Con Application'!$S$13:$S$1012))","v":0},{"$f":"IFERROR(INDEX('1.2 Sub-Con Application'!$B$13:$U$1012,MATCH(1,('1.2 Sub-Con Application'!$B$13:$B$1012=B465)*('1.2 Sub-Con Application'!$U$13:$U$1012=\"Rejected\"),0),20),\"\")","v":""},{"$f":"IFERROR(INDEX('1.2 Sub-Con Application'!$B$13:$V$1012,MATCH(1,('1.2 Sub-Con Application'!$B$13:$B$1012=B465)*('1.2 Sub-Con Application'!$V$13:$V$1012<>\"\"),0),21),\"\")","v":""}]
[null,454,"","","","","","","","",{"$f":"IF(B466=\"\",\"\",SUMIF('1.2 Sub-Con Application'!$B$13:$B$1012,B466,'1.2 Sub-Con Application'!$P$13:$P$1012))","v":0},{"$f":"IF(B466=\"\",\"\",SUMIF('1.2 Sub-Con Application'!$B$13:$B$1012,B466,'1.2 Sub-Con Application'!$R$13:$R$1012))","v":0},{"$f":"IF(B466=\"\",\"\",SUMIF('1.2 Sub-Con Application'!$B$13:$B$1012,B466,'1.2 Sub-Con Application'!$S$13:$S$1012))","v":0},{"$f":"IFERROR(INDEX('1.2 Sub-Con Application'!$B$13:$U$1012,MATCH(1,('1.2 Sub-Con Application'!$B$13:$B$1012=B466)*('1.2 Sub-Con Application'!$U$13:$U$1012=\"Rejected\"),0),20),\"\")","v":""},{"$f":"IFERROR(INDEX('1.2 Sub-Con Application'!$B$13:$V$1012,MATCH(1,('1.2 Sub-Con Application'!$B$13:$B$1012=B466)*('1.2 Sub-Con Application'!$V$13:$V$1012<>\"\"),0),21),\"\")","v":""}]
[null,455,"","","","","","","","",{"$f":"IF(B467=\"\",\"\",SUMIF('1.2 Sub-Con Application'!$B$13:$B$1012,B467,'1.2 Sub-Con Application'!$P$13:$P$1012))","v":0},{"$f":"IF(B467=\"\",\"\",SUMIF('1.2 Sub-Con Application'!$B$13:$B$1012,B467,'1.2 Sub-Con Application'!$R$13:$R$1012))","v":0},{"$f":"IF(B467=\"\",\"\",SUMIF('1.2 Sub-Con Application'!$B$13:$B$1012,B467,'1.2 Sub-Con Application'!$S$13:$S$1012))","v":0},{"$f":"IFERROR(INDEX('1.2 Sub-Con Application'!$B$13:$U$1012,MATCH(1,('1.2 Sub-Con Application'!$B$13:$B$1012=B467)*('1.2 Sub-Con Application'!$U$13:$U$1012=\"Rejected\"),0),20),\"\")","v":""},{"$f":"IFERROR(INDEX('1.2 Sub-Con Application'!$B$13:$V$1012,MATCH(1,('1.2 Sub-Con Application'!$B$13:$B$1012=B467)*('1.2 Sub-Con Application'!$V$13:$V$1012<>\"\"),0),21),\"\")","v":""}]
[null,456,"","","","","","","","",{"$f":"IF(B468=\"\",\"\",SUMIF('1.2 Sub-Con Application'!$B$13:$B$1012,B468,'1.2 Sub-Con Application'!$P$13:$P$1012))","v":0},{"$f":"IF(B468=\"\",\"\",SUMIF('1.2 Sub-Con Application'!$B$13:$B$1012,B468,'1.2 Sub-Con Application'!$R$13:$R$1012))","v":0},{"$f":"IF(B468=\"\",\"\",SUMIF('1.2 Sub-Con Application'!$B$13:$B$1012,B468,'1.2 Sub-Con Application'!$S$13:$S$1012))","v":0},{"$f":"IFERROR(INDEX('1.2 Sub-Con Application'!$B$13:$U$1012,MATCH(1,('1.2 Sub-Con Application'!$B$13:$B$1012=B468)*('1.2 Sub-Con Application'!$U$13:$U$1012=\"Rejected\"),0),20),\"\")","v":""},{"$f":"IFERROR(INDEX('1.2 Sub-Con Application'!$B$13:$V$1012,MATCH(1,('1.2 Sub-Con Application'!$B$13:$B$1012=B468)*('1.2 Sub-Con Application'!$V$13:$V$1012<>\"\"),0),21),\"\")","v":""}]
[null,457,"","","","","","","","",{"$f":"IF(B469=\"\",\"\",SUMIF('1.2 Sub-Con Application'!$B$13:$B$1012,B469,'1.2 Sub-Con Application'!$P$13:$P$1012))","v":0},{"$f":"IF(B469=\"\",\"\",SUMIF('1.2 Sub-Con Application'!$B$13:$B$1012,B469,'1.2 Sub-Con Application'!$R$13:$R$1012))","v":0},{"$f":"IF(B469=\"\",\"\",SUMIF('1.2 Sub-Con Application'!$B$13:$B$1012,B469,'1.2 Sub-Con Application'!$S$13:$S$1012))","v":0},{"$f":"IFERROR(INDEX('1.2 Sub-Con Application'!$B$13:$U$1012,MATCH(1,('1.2 Sub-Con Application'!$B$13:$B$1012=B469)*('1.2 Sub-Con Application'!$U$13:$U$1012=\"Rejected\"),0),20),\"\")","v":""},{"$f":"IFERROR(INDEX('1.2 Sub-Con Application'!$B$13:$V$1012,MATCH(1,('1.2 Sub-Con Application'!$B$13:$B$1012=B469)*('1.2 Sub-Con Application'!$V$13:$V$1012<>\"\"),0),21),\"\")","v":""}]
[null,458,"","","","","","","","",{"$f":"IF(B470=\"\",\"\",SUMIF('1.2 Sub-Con Application'!$B$13:$B$1012,B470,'1.2 Sub-Con Application'!$P$13:$P$1012))","v":0},{"$f":"IF(B470=\"\",\"\",SUMIF('1.2 Sub-Con Application'!$B$13:$B$1012,B470,'1.2 Sub-Con Application'!$R$13:$R$1012))","v":0},{"$f":"IF(B470=\"\",\"\",SUMIF('1.2 Sub-Con Application'!$B$13:$B$1012,B470,'1.2 Sub-Con Application'!$S$13:$S$1012))","v":0},{"$f":"IFERROR(INDEX('1.2 Sub-Con Application'!$B$13:$U$1012,MATCH(1,('1.2 Sub-Con Application'!$B$13:$B$1012=B470)*('1.2 Sub-Con Application'!$U$13:$U$1012=\"Rejected\"),0),20),\"\")","v":""},{"$f":"IFERROR(INDEX('1.2 Sub-Con Application'!$B$13:$V$1012,MATCH(1,('1.2 Sub-Con Application'!$B$13:$B$1012=B470)*('1.2 Sub-Con Application'!$V$13:$V$1012<>\"\"),0),21),\"\")","v":""}]
[null,459,"","","","","","","","",{"$f":"IF(B471=\"\",\"\",SUMIF('1.2 Sub-Con Application'!$B$13:$B$1012,B471,'1.2 Sub-Con Application'!$P$13:$P$1012))","v":0},{"$f":"IF(B471=\"\",\"\",SUMIF('1.2 Sub-Con Application'!$B$13:$B$1012,B471,'1.2 Sub-Con Application'!$R$13:$R$1012))","v":0},{"$f":"IF(B471=\"\",\"\",SUMIF('1.2 Sub-Con Application'!$B$13:$B$1012,B471,'1.2 Sub-Con Application'!$S$13:$S$1012))","v":0},{"$f":"IFERROR(INDEX('1.2 Sub-Con Application'!$B$13:$U$1012,MATCH(1,('1.2 Sub-Con Application'!$B$13:$B$1012=B471)*('1.2 Sub-Con Application'!$U$13:$U$1012=\"Rejected\"),0),20),\"\")","v":""},{"$f":"IFERROR(INDEX('1.2 Sub-Con Application'!$B$13:$V$1012,MATCH(1,('1.2 Sub-Con Application'!$B$13:$B$1012=B471)*('1.2 Sub-Con Application'!$V$13:$V$1012<>\"\"),0),21),\"\")","v":""}]
[null,460,"","","","","","","","",{"$f":"IF(B472=\"\",\"\",SUMIF('1.2 Sub-Con Application'!$B$13:$B$1012,B472,'1.2 Sub-Con Application'!$P$13:$P$1012))","v":0},{"$f":"IF(B472=\"\",\"\",SUMIF('1.2 Sub-Con Application'!$B$13:$B$1012,B472,'1.2 Sub-Con Application'!$R$13:$R$1012))","v":0},{"$f":"IF(B472=\"\",\"\",SUMIF('1.2 Sub-Con Application'!$B$13:$B$1012,B472,'1.2 Sub-Con Application'!$S$13:$S$1012))","v":0},{"$f":"IFERROR(INDEX('1.2 Sub-Con Application'!$B$13:$U$1012,MATCH(1,('1.2 Sub-Con Application'!$B$13:$B$1012=B472)*('1.2 Sub-Con Application'!$U$13:$U$1012=\"Rejected\"),0),20),\"\")","v":""},{"$f":"IFERROR(INDEX('1.2 Sub-Con Application'!$B$13:$V$1012,MATCH(1,('1.2 Sub-Con Application'!$B$13:$B$1012=B472)*('1.2 Sub-Con Application'!$V$13:$V$1012<>\"\"),0),21),\"\")","v":""}]
[null,461,{"$f":"IFERROR(INDEX(table_subconApp,MATCH($B473,row_subconApp,0),MATCH(C$12,col_subconApp,0)),\"\")","v":""},"","","","","","","",{"$f":"IF(B473=\"\",\"\",SUMIF('1.2 Sub-Con Application'!$B$13:$B$1012,B473,'1.2 Sub-Con Application'!$P$13:$P$1012))","v":0},{"$f":"IF(B473=\"\",\"\",SUMIF('1.2 Sub-Con Application'!$B$13:$B$1012,B473,'1.2 Sub-Con Application'!$R$13:$R$1012))","v":0},{"$f":"IF(B473=\"\",\"\",SUMIF('1.2 Sub-Con Application'!$B$13:$B$1012,B473,'1.2 Sub-Con Application'!$S$13:$S$1012))","v":0},{"$f":"IFERROR(INDEX('1.2 Sub-Con Application'!$B$13:$U$1012,MATCH(1,('1.2 Sub-Con Application'!$B$13:$B$1012=B473)*('1.2 Sub-Con Application'!$U$13:$U$1012=\"Rejected\"),0),20),\"\")","v":""},{"$f":"IFERROR(INDEX('1.2 Sub-Con Application'!$B$13:$V$1012,MATCH(1,('1.2 Sub-Con Application'!$B$13:$B$1012=B473)*('1.2 Sub-Con Application'!$V$13:$V$1012<>\"\"),0),21),\"\")","v":""}]
[null,462,"","","","","","","","",{"$f":"IF(B474=\"\",\"\",SUMIF('1.2 Sub-Con Application'!$B$13:$B$1012,B474,'1.2 Sub-Con Application'!$P$13:$P$1012))","v":0},{"$f":"IF(B474=\"\",\"\",SUMIF('1.2 Sub-Con Application'!$B$13:$B$1012,B474,'1.2 Sub-Con Application'!$R$13:$R$1012))","v":0},{"$f":"IF(B474=\"\",\"\",SUMIF('1.2 Sub-Con Application'!$B$13:$B$1012,B474,'1.2 Sub-Con Application'!$S$13:$S$1012))","v":0},{"$f":"IFERROR(INDEX('1.2 Sub-Con Application'!$B$13:$U$1012,MATCH(1,('1.2 Sub-Con Application'!$B$13:$B$1012=B474)*('1.2 Sub-Con Application'!$U$13:$U$1012=\"Rejected\"),0),20),\"\")","v":""},{"$f":"IFERROR(INDEX('1.2 Sub-Con Application'!$B$13:$V$1012,MATCH(1,('1.2 Sub-Con Application'!$B$13:$B$1012=B474)*('1.2 Sub-Con Application'!$V$13:$V$1012<>\"\"),0),21),\"\")","v":""}]
[null,463,"","","","","","","","",{"$f":"IF(B475=\"\",\"\",SUMIF('1.2 Sub-Con Application'!$B$13:$B$1012,B475,'1.2 Sub-Con Application'!$P$13:$P$1012))","v":0},{"$f":"IF(B475=\"\",\"\",SUMIF('1.2 Sub-Con Application'!$B$13:$B$1012,B475,'1.2 Sub-Con Application'!$R$13:$R$1012))","v":0},{"$f":"IF(B475=\"\",\"\",SUMIF('1.2 Sub-Con Application'!$B$13:$B$1012,B475,'1.2 Sub-Con Application'!$S$13:$S$1012))","v":0},{"$f":"IFERROR(INDEX('1.2 Sub-Con Application'!$B$13:$U$1012,MATCH(1,('1.2 Sub-Con Application'!$B$13:$B$1012=B475)*('1.2 Sub-Con Application'!$U$13:$U$1012=\"Rejected\"),0),20),\"\")","v":""},{"$f":"IFERROR(INDEX('1.2 Sub-Con Application'!$B$13:$V$1012,MATCH(1,('1.2 Sub-Con Application'!$B$13:$B$1012=B475)*('1.2 Sub-Con Application'!$V$13:$V$1012<>\"\"),0),21),\"\")","v":""}]
[null,464,"","","","","","","","",{"$f":"IF(B476=\"\",\"\",SUMIF('1.2 Sub-Con Application'!$B$13:$B$1012,B476,'1.2 Sub-Con Application'!$P$13:$P$1012))","v":0},{"$f":"IF(B476=\"\",\"\",SUMIF('1.2 Sub-Con Application'!$B$13:$B$1012,B476,'1.2 Sub-Con Application'!$R$13:$R$1012))","v":0},{"$f":"IF(B476=\"\",\"\",SUMIF('1.2 Sub-Con Application'!$B$13:$B$1012,B476,'1.2 Sub-Con Application'!$S$13:$S$1012))","v":0},{"$f":"IFERROR(INDEX('1.2 Sub-Con Application'!$B$13:$U$1012,MATCH(1,('1.2 Sub-Con Application'!$B$13:$B$1012=B476)*('1.2 Sub-Con Application'!$U$13:$U$1012=\"Rejected\"),0),20),\"\")","v":""},{"$f":"IFERROR(INDEX('1.2 Sub-Con Application'!$B$13:$V$1012,MATCH(1,('1.2 Sub-Con Application'!$B$13:$B$1012=B476)*('1.2 Sub-Con Application'!$V$13:$V$1012<>\"\"),0),21),\"\")","v":""}]
[null,465,"","","","","","","","",{"$f":"IF(B477=\"\",\"\",SUMIF('1.2 Sub-Con Application'!$B$13:$B$1012,B477,'1.2 Sub-Con Application'!$P$13:$P$1012))","v":0},{"$f":"IF(B477=\"\",\"\",SUMIF('1.2 Sub-Con Application'!$B$13:$B$1012,B477,'1.2 Sub-Con Application'!$R$13:$R$1012))","v":0},{"$f":"IF(B477=\"\",\"\",SUMIF('1.2 Sub-Con Application'!$B$13:$B$1012,B477,'1.2 Sub-Con Application'!$S$13:$S$1012))","v":0},{"$f":"IFERROR(INDEX('1.2 Sub-Con Application'!$B$13:$U$1012,MATCH(1,('1.2 Sub-Con Application'!$B$13:$B$1012=B477)*('1.2 Sub-Con Application'!$U$13:$U$1012=\"Rejected\"),0),20),\"\")","v":""},{"$f":"IFERROR(INDEX('1.2 Sub-Con Application'!$B$13:$V$1012,MATCH(1,('1.2 Sub-Con Application'!$B$13:$B$1012=B477)*('1.2 Sub-Con Application'!$V$13:$V$1012<>\"\"),0),21),\"\")","v":""}]
[null,466,"","","","","","","","",{"$f":"IF(B478=\"\",\"\",SUMIF('1.2 Sub-Con Application'!$B$13:$B$1012,B478,'1.2 Sub-Con Application'!$P$13:$P$1012))","v":0},{"$f":"IF(B478=\"\",\"\",SUMIF('1.2 Sub-Con Application'!$B$13:$B$1012,B478,'1.2 Sub-Con Application'!$R$13:$R$1012))","v":0},{"$f":"IF(B478=\"\",\"\",SUMIF('1.2 Sub-Con Application'!$B$13:$B$1012,B478,'1.2 Sub-Con Application'!$S$13:$S$1012))","v":0},{"$f":"IFERROR(INDEX('1.2 Sub-Con Application'!$B$13:$U$1012,MATCH(1,('1.2 Sub-Con Application'!$B$13:$B$1012=B478)*('1.2 Sub-Con Application'!$U$13:$U$1012=\"Rejected\"),0),20),\"\")","v":""},{"$f":"IFERROR(INDEX('1.2 Sub-Con Application'!$B$13:$V$1012,MATCH(1,('1.2 Sub-Con Application'!$B$13:$B$1012=B478)*('1.2 Sub-Con Application'!$V$13:$V$1012<>\"\"),0),21),\"\")","v":""}]
[null,467,"","","","","","","","",{"$f":"IF(B479=\"\",\"\",SUMIF('1.2 Sub-Con Application'!$B$13:$B$1012,B479,'1.2 Sub-Con Application'!$P$13:$P$1012))","v":0},{"$f":"IF(B479=\"\",\"\",SUMIF('1.2 Sub-Con Application'!$B$13:$B$1012,B479,'1.2 Sub-Con Application'!$R$13:$R$1012))","v":0},{"$f":"IF(B479=\"\",\"\",SUMIF('1.2 Sub-Con Application'!$B$13:$B$1012,B479,'1.2 Sub-Con Application'!$S$13:$S$1012))","v":0},{"$f":"IFERROR(INDEX('1.2 Sub-Con Application'!$B$13:$U$1012,MATCH(1,('1.2 Sub-Con Application'!$B$13:$B$1012=B479)*('1.2 Sub-Con Application'!$U$13:$U$1012=\"Rejected\"),0),20),\"\")","v":""},{"$f":"IFERROR(INDEX('1.2 Sub-Con Application'!$B$13:$V$1012,MATCH(1,('1.2 Sub-Con Application'!$B$13:$B$1012=B479)*('1.2 Sub-Con Application'!$V$13:$V$1012<>\"\"),0),21),\"\")","v":""}]
[null,468,"","","","","","","","",{"$f":"IF(B480=\"\",\"\",SUMIF('1.2 Sub-Con Application'!$B$13:$B$1012,B480,'1.2 Sub-Con Application'!$P$13:$P$1012))","v":0},{"$f":"IF(B480=\"\",\"\",SUMIF('1.2 Sub-Con Application'!$B$13:$B$1012,B480,'1.2 Sub-Con Application'!$R$13:$R$1012))","v":0},{"$f":"IF(B480=\"\",\"\",SUMIF('1.2 Sub-Con Application'!$B$13:$B$1012,B480,'1.2 Sub-Con Application'!$S$13:$S$1012))","v":0},{"$f":"IFERROR(INDEX('1.2 Sub-Con Application'!$B$13:$U$1012,MATCH(1,('1.2 Sub-Con Application'!$B$13:$B$1012=B480)*('1.2 Sub-Con Application'!$U$13:$U$1012=\"Rejected\"),0),20),\"\")","v":""},{"$f":"IFERROR(INDEX('1.2 Sub-Con Application'!$B$13:$V$1012,MATCH(1,('1.2 Sub-Con Application'!$B$13:$B$1012=B480)*('1.2 Sub-Con Application'!$V$13:$V$1012<>\"\"),0),21),\"\")","v":""}]
[null,469,"","","","","","","","",{"$f":"IF(B481=\"\",\"\",SUMIF('1.2 Sub-Con Application'!$B$13:$B$1012,B481,'1.2 Sub-Con Application'!$P$13:$P$1012))","v":0},{"$f":"IF(B481=\"\",\"\",SUMIF('1.2 Sub-Con Application'!$B$13:$B$1012,B481,'1.2 Sub-Con Application'!$R$13:$R$1012))","v":0},{"$f":"IF(B481=\"\",\"\",SUMIF('1.2 Sub-Con Application'!$B$13:$B$1012,B481,'1.2 Sub-Con Application'!$S$13:$S$1012))","v":0},{"$f":"IFERROR(INDEX('1.2 Sub-Con Application'!$B$13:$U$1012,MATCH(1,('1.2 Sub-Con Application'!$B$13:$B$1012=B481)*('1.2 Sub-Con Application'!$U$13:$U$1012=\"Rejected\"),0),20),\"\")","v":""},{"$f":"IFERROR(INDEX('1.2 Sub-Con Application'!$B$13:$V$1012,MATCH(1,('1.2 Sub-Con Application'!$B$13:$B$1012=B481)*('1.2 Sub-Con Application'!$V$13:$V$1012<>\"\"),0),21),\"\")","v":""}]
[null,470,"","","","","","","","",{"$f":"IF(B482=\"\",\"\",SUMIF('1.2 Sub-Con Application'!$B$13:$B$1012,B482,'1.2 Sub-Con Application'!$P$13:$P$1012))","v":0},{"$f":"IF(B482=\"\",\"\",SUMIF('1.2 Sub-Con Application'!$B$13:$B$1012,B482,'1.2 Sub-Con Application'!$R$13:$R$1012))","v":0},{"$f":"IF(B482=\"\",\"\",SUMIF('1.2 Sub-Con Application'!$B$13:$B$1012,B482,'1.2 Sub-Con Application'!$S$13:$S$1012))","v":0},{"$f":"IFERROR(INDEX('1.2 Sub-Con Application'!$B$13:$U$1012,MATCH(1,('1.2 Sub-Con Application'!$B$13:$B$1012=B482)*('1.2 Sub-Con Application'!$U$13:$U$1012=\"Rejected\"),0),20),\"\")","v":""},{"$f":"IFERROR(INDEX('1.2 Sub-Con Application'!$B$13:$V$1012,MATCH(1,('1.2 Sub-Con Application'!$B$13:$B$1012=B482)*('1.2 Sub-Con Application'!$V$13:$V$1012<>\"\"),0),21),\"\")","v":""}]
[null,471,{"$f":"IFERROR(INDEX(table_subconApp,MATCH($B483,row_subconApp,0),MATCH(C$12,col_subconApp,0)),\"\")","v":""},"","","","","","","",{"$f":"IF(B483=\"\",\"\",SUMIF('1.2 Sub-Con Application'!$B$13:$B$1012,B483,'1.2 Sub-Con Application'!$P$13:$P$1012))","v":0},{"$f":"IF(B483=\"\",\"\",SUMIF('1.2 Sub-Con Application'!$B$13:$B$1012,B483,'1.2 Sub-Con Application'!$R$13:$R$1012))","v":0},{"$f":"IF(B483=\"\",\"\",SUMIF('1.2 Sub-Con Application'!$B$13:$B$1012,B483,'1.2 Sub-Con Application'!$S$13:$S$1012))","v":0},{"$f":"IFERROR(INDEX('1.2 Sub-Con Application'!$B$13:$U$1012,MATCH(1,('1.2 Sub-Con Application'!$B$13:$B$1012=B483)*('1.2 Sub-Con Application'!$U$13:$U$1012=\"Rejected\"),0),20),\"\")","v":""},{"$f":"IFERROR(INDEX('1.2 Sub-Con Application'!$B$13:$V$1012,MATCH(1,('1.2 Sub-Con Application'!$B$13:$B$1012=B483)*('1.2 Sub-Con Application'!$V$13:$V$1012<>\"\"),0),21),\"\")","v":""}]
[null,472,"","","","","","","","",{"$f":"IF(B484=\"\",\"\",SUMIF('1.2 Sub-Con Application'!$B$13:$B$1012,B484,'1.2 Sub-Con Application'!$P$13:$P$1012))","v":0},{"$f":"IF(B484=\"\",\"\",SUMIF('1.2 Sub-Con Application'!$B$13:$B$1012,B484,'1.2 Sub-Con Application'!$R$13:$R$1012))","v":0},{"$f":"IF(B484=\"\",\"\",SUMIF('1.2 Sub-Con Application'!$B$13:$B$1012,B484,'1.2 Sub-Con Application'!$S$13:$S$1012))","v":0},{"$f":"IFERROR(INDEX('1.2 Sub-Con Application'!$B$13:$U$1012,MATCH(1,('1.2 Sub-Con Application'!$B$13:$B$1012=B484)*('1.2 Sub-Con Application'!$U$13:$U$1012=\"Rejected\"),0),20),\"\")","v":""},{"$f":"IFERROR(INDEX('1.2 Sub-Con Application'!$B$13:$V$1012,MATCH(1,('1.2 Sub-Con Application'!$B$13:$B$1012=B484)*('1.2 Sub-Con Application'!$V$13:$V$1012<>\"\"),0),21),\"\")","v":""}]
[null,473,"","","","","","","","",{"$f":"IF(B485=\"\",\"\",SUMIF('1.2 Sub-Con Application'!$B$13:$B$1012,B485,'1.2 Sub-Con Application'!$P$13:$P$1012))","v":0},{"$f":"IF(B485=\"\",\"\",SUMIF('1.2 Sub-Con Application'!$B$13:$B$1012,B485,'1.2 Sub-Con Application'!$R$13:$R$1012))","v":0},{"$f":"IF(B485=\"\",\"\",SUMIF('1.2 Sub-Con Application'!$B$13:$B$1012,B485,'1.2 Sub-Con Application'!$S$13:$S$1012))","v":0},{"$f":"IFERROR(INDEX('1.2 Sub-Con Application'!$B$13:$U$1012,MATCH(1,('1.2 Sub-Con Application'!$B$13:$B$1012=B485)*('1.2 Sub-Con Application'!$U$13:$U$1012=\"Rejected\"),0),20),\"\")","v":""},{"$f":"IFERROR(INDEX('1.2 Sub-Con Application'!$B$13:$V$1012,MATCH(1,('1.2 Sub-Con Application'!$B$13:$B$1012=B485)*('1.2 Sub-Con Application'!$V$13:$V$1012<>\"\"),0),21),\"\")","v":""}]
[null,474,"","","","","","","","",{"$f":"IF(B486=\"\",\"\",SUMIF('1.2 Sub-Con Application'!$B$13:$B$1012,B486,'1.2 Sub-Con Application'!$P$13:$P$1012))","v":0},{"$f":"IF(B486=\"\",\"\",SUMIF('1.2 Sub-Con Application'!$B$13:$B$1012,B486,'1.2 Sub-Con Application'!$R$13:$R$1012))","v":0},{"$f":"IF(B486=\"\",\"\",SUMIF('1.2 Sub-Con Application'!$B$13:$B$1012,B486,'1.2 Sub-Con Application'!$S$13:$S$1012))","v":0},{"$f":"IFERROR(INDEX('1.2 Sub-Con Application'!$B$13:$U$1012,MATCH(1,('1.2 Sub-Con Application'!$B$13:$B$1012=B486)*('1.2 Sub-Con Application'!$U$13:$U$1012=\"Rejected\"),0),20),\"\")","v":""},{"$f":"IFERROR(INDEX('1.2 Sub-Con Application'!$B$13:$V$1012,MATCH(1,('1.2 Sub-Con Application'!$B$13:$B$1012=B486)*('1.2 Sub-Con Application'!$V$13:$V$1012<>\"\"),0),21),\"\")","v":""}]
[null,475,"","","","","","","","",{"$f":"IF(B487=\"\",\"\",SUMIF('1.2 Sub-Con Application'!$B$13:$B$1012,B487,'1.2 Sub-Con Application'!$P$13:$P$1012))","v":0},{"$f":"IF(B487=\"\",\"\",SUMIF('1.2 Sub-Con Application'!$B$13:$B$1012,B487,'1.2 Sub-Con Application'!$R$13:$R$1012))","v":0},{"$f":"IF(B487=\"\",\"\",SUMIF('1.2 Sub-Con Application'!$B$13:$B$1012,B487,'1.2 Sub-Con Application'!$S$13:$S$1012))","v":0},{"$f":"IFERROR(INDEX('1.2 Sub-Con Application'!$B$13:$U$1012,MATCH(1,('1.2 Sub-Con Application'!$B$13:$B$1012=B487)*('1.2 Sub-Con Application'!$U$13:$U$1012=\"Rejected\"),0),20),\"\")","v":""},{"$f":"IFERROR(INDEX('1.2 Sub-Con Application'!$B$13:$V$1012,MATCH(1,('1.2 Sub-Con Application'!$B$13:$B$1012=B487)*('1.2 Sub-Con Application'!$V$13:$V$1012<>\"\"),0),21),\"\")","v":""}]
[null,476,"","","","","","","","",{"$f":"IF(B488=\"\",\"\",SUMIF('1.2 Sub-Con Application'!$B$13:$B$1012,B488,'1.2 Sub-Con Application'!$P$13:$P$1012))","v":0},{"$f":"IF(B488=\"\",\"\",SUMIF('1.2 Sub-Con Application'!$B$13:$B$1012,B488,'1.2 Sub-Con Application'!$R$13:$R$1012))","v":0},{"$f":"IF(B488=\"\",\"\",SUMIF('1.2 Sub-Con Application'!$B$13:$B$1012,B488,'1.2 Sub-Con Application'!$S$13:$S$1012))","v":0},{"$f":"IFERROR(INDEX('1.2 Sub-Con Application'!$B$13:$U$1012,MATCH(1,('1.2 Sub-Con Application'!$B$13:$B$1012=B488)*('1.2 Sub-Con Application'!$U$13:$U$1012=\"Rejected\"),0),20),\"\")","v":""},{"$f":"IFERROR(INDEX('1.2 Sub-Con Application'!$B$13:$V$1012,MATCH(1,('1.2 Sub-Con Application'!$B$13:$B$1012=B488)*('1.2 Sub-Con Application'!$V$13:$V$1012<>\"\"),0),21),\"\")","v":""}]
[null,477,"","","","","","","","",{"$f":"IF(B489=\"\",\"\",SUMIF('1.2 Sub-Con Application'!$B$13:$B$1012,B489,'1.2 Sub-Con Application'!$P$13:$P$1012))","v":0},{"$f":"IF(B489=\"\",\"\",SUMIF('1.2 Sub-Con Application'!$B$13:$B$1012,B489,'1.2 Sub-Con Application'!$R$13:$R$1012))","v":0},{"$f":"IF(B489=\"\",\"\",SUMIF('1.2 Sub-Con Application'!$B$13:$B$1012,B489,'1.2 Sub-Con Application'!$S$13:$S$1012))","v":0},{"$f":"IFERROR(INDEX('1.2 Sub-Con Application'!$B$13:$U$1012,MATCH(1,('1.2 Sub-Con Application'!$B$13:$B$1012=B489)*('1.2 Sub-Con Application'!$U$13:$U$1012=\"Rejected\"),0),20),\"\")","v":""},{"$f":"IFERROR(INDEX('1.2 Sub-Con Application'!$B$13:$V$1012,MATCH(1,('1.2 Sub-Con Application'!$B$13:$B$1012=B489)*('1.2 Sub-Con Application'!$V$13:$V$1012<>\"\"),0),21),\"\")","v":""}]
[null,478,"","","","","","","","",{"$f":"IF(B490=\"\",\"\",SUMIF('1.2 Sub-Con Application'!$B$13:$B$1012,B490,'1.2 Sub-Con Application'!$P$13:$P$1012))","v":0},{"$f":"IF(B490=\"\",\"\",SUMIF('1.2 Sub-Con Application'!$B$13:$B$1012,B490,'1.2 Sub-Con Application'!$R$13:$R$1012))","v":0},{"$f":"IF(B490=\"\",\"\",SUMIF('1.2 Sub-Con Application'!$B$13:$B$1012,B490,'1.2 Sub-Con Application'!$S$13:$S$1012))","v":0},{"$f":"IFERROR(INDEX('1.2 Sub-Con Application'!$B$13:$U$1012,MATCH(1,('1.2 Sub-Con Application'!$B$13:$B$1012=B490)*('1.2 Sub-Con Application'!$U$13:$U$1012=\"Rejected\"),0),20),\"\")","v":""},{"$f":"IFERROR(INDEX('1.2 Sub-Con Application'!$B$13:$V$1012,MATCH(1,('1.2 Sub-Con Application'!$B$13:$B$1012=B490)*('1.2 Sub-Con Application'!$V$13:$V$1012<>\"\"),0),21),\"\")","v":""}]
[null,479,"","","","","","","","",{"$f":"IF(B491=\"\",\"\",SUMIF('1.2 Sub-Con Application'!$B$13:$B$1012,B491,'1.2 Sub-Con Application'!$P$13:$P$1012))","v":0},{"$f":"IF(B491=\"\",\"\",SUMIF('1.2 Sub-Con Application'!$B$13:$B$1012,B491,'1.2 Sub-Con Application'!$R$13:$R$1012))","v":0},{"$f":"IF(B491=\"\",\"\",SUMIF('1.2 Sub-Con Application'!$B$13:$B$1012,B491,'1.2 Sub-Con Application'!$S$13:$S$1012))","v":0},{"$f":"IFERROR(INDEX('1.2 Sub-Con Application'!$B$13:$U$1012,MATCH(1,('1.2 Sub-Con Application'!$B$13:$B$1012=B491)*('1.2 Sub-Con Application'!$U$13:$U$1012=\"Rejected\"),0),20),\"\")","v":""},{"$f":"IFERROR(INDEX('1.2 Sub-Con Application'!$B$13:$V$1012,MATCH(1,('1.2 Sub-Con Application'!$B$13:$B$1012=B491)*('1.2 Sub-Con Application'!$V$13:$V$1012<>\"\"),0),21),\"\")","v":""}]
[null,480,"","","","","","","","",{"$f":"IF(B492=\"\",\"\",SUMIF('1.2 Sub-Con Application'!$B$13:$B$1012,B492,'1.2 Sub-Con Application'!$P$13:$P$1012))","v":0},{"$f":"IF(B492=\"\",\"\",SUMIF('1.2 Sub-Con Application'!$B$13:$B$1012,B492,'1.2 Sub-Con Application'!$R$13:$R$1012))","v":0},{"$f":"IF(B492=\"\",\"\",SUMIF('1.2 Sub-Con Application'!$B$13:$B$1012,B492,'1.2 Sub-Con Application'!$S$13:$S$1012))","v":0},{"$f":"IFERROR(INDEX('1.2 Sub-Con Application'!$B$13:$U$1012,MATCH(1,('1.2 Sub-Con Application'!$B$13:$B$1012=B492)*('1.2 Sub-Con Application'!$U$13:$U$1012=\"Rejected\"),0),20),\"\")","v":""},{"$f":"IFERROR(INDEX('1.2 Sub-Con Application'!$B$13:$V$1012,MATCH(1,('1.2 Sub-Con Application'!$B$13:$B$1012=B492)*('1.2 Sub-Con Application'!$V$13:$V$1012<>\"\"),0),21),\"\")","v":""}]
[null,481,{"$f":"IFERROR(INDEX(table_subconApp,MATCH($B493,row_subconApp,0),MATCH(C$12,col_subconApp,0)),\"\")","v":""},"","","","","","","",{"$f":"IF(B493=\"\",\"\",SUMIF('1.2 Sub-Con Application'!$B$13:$B$1012,B493,'1.2 Sub-Con Application'!$P$13:$P$1012))","v":0},{"$f":"IF(B493=\"\",\"\",SUMIF('1.2 Sub-Con Application'!$B$13:$B$1012,B493,'1.2 Sub-Con Application'!$R$13:$R$1012))","v":0},{"$f":"IF(B493=\"\",\"\",SUMIF('1.2 Sub-Con Application'!$B$13:$B$1012,B493,'1.2 Sub-Con Application'!$S$13:$S$1012))","v":0},{"$f":"IFERROR(INDEX('1.2 Sub-Con Application'!$B$13:$U$1012,MATCH(1,('1.2 Sub-Con Application'!$B$13:$B$1012=B493)*('1.2 Sub-Con Application'!$U$13:$U$1012=\"Rejected\"),0),20),\"\")","v":""},{"$f":"IFERROR(INDEX('1.2 Sub-Con Application'!$B$13:$V$1012,MATCH(1,('1.2 Sub-Con Application'!$B$13:$B$1012=B493)*('1.2 Sub-Con Application'!$V$13:$V$1012<>\"\"),0),21),\"\")","v":""}]
[null,482,"","","","","","","","",{"$f":"IF(B494=\"\",\"\",SUMIF('1.2 Sub-Con Application'!$B$13:$B$1012,B494,'1.2 Sub-Con Application'!$P$13:$P$1012))","v":0},{"$f":"IF(B494=\"\",\"\",SUMIF('1.2 Sub-Con Application'!$B$13:$B$1012,B494,'1.2 Sub-Con Application'!$R$13:$R$1012))","v":0},{"$f":"IF(B494=\"\",\"\",SUMIF('1.2 Sub-Con Application'!$B$13:$B$1012,B494,'1.2 Sub-Con Application'!$S$13:$S$1012))","v":0},{"$f":"IFERROR(INDEX('1.2 Sub-Con Application'!$B$13:$U$1012,MATCH(1,('1.2 Sub-Con Application'!$B$13:$B$1012=B494)*('1.2 Sub-Con Application'!$U$13:$U$1012=\"Rejected\"),0),20),\"\")","v":""},{"$f":"IFERROR(INDEX('1.2 Sub-Con Application'!$B$13:$V$1012,MATCH(1,('1.2 Sub-Con Application'!$B$13:$B$1012=B494)*('1.2 Sub-Con Application'!$V$13:$V$1012<>\"\"),0),21),\"\")","v":""}]
[null,483,"","","","","","","","",{"$f":"IF(B495=\"\",\"\",SUMIF('1.2 Sub-Con Application'!$B$13:$B$1012,B495,'1.2 Sub-Con Application'!$P$13:$P$1012))","v":0},{"$f":"IF(B495=\"\",\"\",SUMIF('1.2 Sub-Con Application'!$B$13:$B$1012,B495,'1.2 Sub-Con Application'!$R$13:$R$1012))","v":0},{"$f":"IF(B495=\"\",\"\",SUMIF('1.2 Sub-Con Application'!$B$13:$B$1012,B495,'1.2 Sub-Con Application'!$S$13:$S$1012))","v":0},{"$f":"IFERROR(INDEX('1.2 Sub-Con Application'!$B$13:$U$1012,MATCH(1,('1.2 Sub-Con Application'!$B$13:$B$1012=B495)*('1.2 Sub-Con Application'!$U$13:$U$1012=\"Rejected\"),0),20),\"\")","v":""},{"$f":"IFERROR(INDEX('1.2 Sub-Con Application'!$B$13:$V$1012,MATCH(1,('1.2 Sub-Con Application'!$B$13:$B$1012=B495)*('1.2 Sub-Con Application'!$V$13:$V$1012<>\"\"),0),21),\"\")","v":""}]
[null,484,"","","","","","","","",{"$f":"IF(B496=\"\",\"\",SUMIF('1.2 Sub-Con Application'!$B$13:$B$1012,B496,'1.2 Sub-Con Application'!$P$13:$P$1012))","v":0},{"$f":"IF(B496=\"\",\"\",SUMIF('1.2 Sub-Con Application'!$B$13:$B$1012,B496,'1.2 Sub-Con Application'!$R$13:$R$1012))","v":0},{"$f":"IF(B496=\"\",\"\",SUMIF('1.2 Sub-Con Application'!$B$13:$B$1012,B496,'1.2 Sub-Con Application'!$S$13:$S$1012))","v":0},{"$f":"IFERROR(INDEX('1.2 Sub-Con Application'!$B$13:$U$1012,MATCH(1,('1.2 Sub-Con Application'!$B$13:$B$1012=B496)*('1.2 Sub-Con Application'!$U$13:$U$1012=\"Rejected\"),0),20),\"\")","v":""},{"$f":"IFERROR(INDEX('1.2 Sub-Con Application'!$B$13:$V$1012,MATCH(1,('1.2 Sub-Con Application'!$B$13:$B$1012=B496)*('1.2 Sub-Con Application'!$V$13:$V$1012<>\"\"),0),21),\"\")","v":""}]
[null,485,"","","","","","","","",{"$f":"IF(B497=\"\",\"\",SUMIF('1.2 Sub-Con Application'!$B$13:$B$1012,B497,'1.2 Sub-Con Application'!$P$13:$P$1012))","v":0},{"$f":"IF(B497=\"\",\"\",SUMIF('1.2 Sub-Con Application'!$B$13:$B$1012,B497,'1.2 Sub-Con Application'!$R$13:$R$1012))","v":0},{"$f":"IF(B497=\"\",\"\",SUMIF('1.2 Sub-Con Application'!$B$13:$B$1012,B497,'1.2 Sub-Con Application'!$S$13:$S$1012))","v":0},{"$f":"IFERROR(INDEX('1.2 Sub-Con Application'!$B$13:$U$1012,MATCH(1,('1.2 Sub-Con Application'!$B$13:$B$1012=B497)*('1.2 Sub-Con Application'!$U$13:$U$1012=\"Rejected\"),0),20),\"\")","v":""},{"$f":"IFERROR(INDEX('1.2 Sub-Con Application'!$B$13:$V$1012,MATCH(1,('1.2 Sub-Con Application'!$B$13:$B$1012=B497)*('1.2 Sub-Con Application'!$V$13:$V$1012<>\"\"),0),21),\"\")","v":""}]
[null,486,"","","","","","","","",{"$f":"IF(B498=\"\",\"\",SUMIF('1.2 Sub-Con Application'!$B$13:$B$1012,B498,'1.2 Sub-Con Application'!$P$13:$P$1012))","v":0},{"$f":"IF(B498=\"\",\"\",SUMIF('1.2 Sub-Con Application'!$B$13:$B$1012,B498,'1.2 Sub-Con Application'!$R$13:$R$1012))","v":0},{"$f":"IF(B498=\"\",\"\",SUMIF('1.2 Sub-Con Application'!$B$13:$B$1012,B498,'1.2 Sub-Con Application'!$S$13:$S$1012))","v":0},{"$f":"IFERROR(INDEX('1.2 Sub-Con Application'!$B$13:$U$1012,MATCH(1,('1.2 Sub-Con Application'!$B$13:$B$1012=B498)*('1.2 Sub-Con Application'!$U$13:$U$1012=\"Rejected\"),0),20),\"\")","v":""},{"$f":"IFERROR(INDEX('1.2 Sub-Con Application'!$B$13:$V$1012,MATCH(1,('1.2 Sub-Con Application'!$B$13:$B$1012=B498)*('1.2 Sub-Con Application'!$V$13:$V$1012<>\"\"),0),21),\"\")","v":""}]
[null,487,"","","","","","","","",{"$f":"IF(B499=\"\",\"\",SUMIF('1.2 Sub-Con Application'!$B$13:$B$1012,B499,'1.2 Sub-Con Application'!$P$13:$P$1012))","v":0},{"$f":"IF(B499=\"\",\"\",SUMIF('1.2 Sub-Con Application'!$B$13:$B$1012,B499,'1.2 Sub-Con Application'!$R$13:$R$1012))","v":0},{"$f":"IF(B499=\"\",\"\",SUMIF('1.2 Sub-Con Application'!$B$13:$B$1012,B499,'1.2 Sub-Con Application'!$S$13:$S$1012))","v":0},{"$f":"IFERROR(INDEX('1.2 Sub-Con Application'!$B$13:$U$1012,MATCH(1,('1.2 Sub-Con Application'!$B$13:$B$1012=B499)*('1.2 Sub-Con Application'!$U$13:$U$1012=\"Rejected\"),0),20),\"\")","v":""},{"$f":"IFERROR(INDEX('1.2 Sub-Con Application'!$B$13:$V$1012,MATCH(1,('1.2 Sub-Con Application'!$B$13:$B$1012=B499)*('1.2 Sub-Con Application'!$V$13:$V$1012<>\"\"),0),21),\"\")","v":""}]
[null,488,"","","","","","","","",{"$f":"IF(B500=\"\",\"\",SUMIF('1.2 Sub-Con Application'!$B$13:$B$1012,B500,'1.2 Sub-Con Application'!$P$13:$P$1012))","v":0},{"$f":"IF(B500=\"\",\"\",SUMIF('1.2 Sub-Con Application'!$B$13:$B$1012,B500,'1.2 Sub-Con Application'!$R$13:$R$1012))","v":0},{"$f":"IF(B500=\"\",\"\",SUMIF('1.2 Sub-Con Application'!$B$13:$B$1012,B500,'1.2 Sub-Con Application'!$S$13:$S$1012))","v":0},{"$f":"IFERROR(INDEX('1.2 Sub-Con Application'!$B$13:$U$1012,MATCH(1,('1.2 Sub-Con Application'!$B$13:$B$1012=B500)*('1.2 Sub-Con Application'!$U$13:$U$1012=\"Rejected\"),0),20),\"\")","v":""},{"$f":"IFERROR(INDEX('1.2 Sub-Con Application'!$B$13:$V$1012,MATCH(1,('1.2 Sub-Con Application'!$B$13:$B$1012=B500)*('1.2 Sub-Con Application'!$V$13:$V$1012<>\"\"),0),21),\"\")","v":""}]
[null,489,"","","","","","","","",{"$f":"IF(B501=\"\",\"\",SUMIF('1.2 Sub-Con Application'!$B$13:$B$1012,B501,'1.2 Sub-Con Application'!$P$13:$P$1012))","v":0},{"$f":"IF(B501=\"\",\"\",SUMIF('1.2 Sub-Con Application'!$B$13:$B$1012,B501,'1.2 Sub-Con Application'!$R$13:$R$1012))","v":0},{"$f":"IF(B501=\"\",\"\",SUMIF('1.2 Sub-Con Application'!$B$13:$B$1012,B501,'1.2 Sub-Con Application'!$S$13:$S$1012))","v":0},{"$f":"IFERROR(INDEX('1.2 Sub-Con Application'!$B$13:$U$1012,MATCH(1,('1.2 Sub-Con Application'!$B$13:$B$1012=B501)*('1.2 Sub-Con Application'!$U$13:$U$1012=\"Rejected\"),0),20),\"\")","v":""},{"$f":"IFERROR(INDEX('1.2 Sub-Con Application'!$B$13:$V$1012,MATCH(1,('1.2 Sub-Con Application'!$B$13:$B$1012=B501)*('1.2 Sub-Con Application'!$V$13:$V$1012<>\"\"),0),21),\"\")","v":""}]
[null,490,"","","","","","","","",{"$f":"IF(B502=\"\",\"\",SUMIF('1.2 Sub-Con Application'!$B$13:$B$1012,B502,'1.2 Sub-Con Application'!$P$13:$P$1012))","v":0},{"$f":"IF(B502=\"\",\"\",SUMIF('1.2 Sub-Con Application'!$B$13:$B$1012,B502,'1.2 Sub-Con Application'!$R$13:$R$1012))","v":0},{"$f":"IF(B502=\"\",\"\",SUMIF('1.2 Sub-Con Application'!$B$13:$B$1012,B502,'1.2 Sub-Con Application'!$S$13:$S$1012))","v":0},{"$f":"IFERROR(INDEX('1.2 Sub-Con Application'!$B$13:$U$1012,MATCH(1,('1.2 Sub-Con Application'!$B$13:$B$1012=B502)*('1.2 Sub-Con Application'!$U$13:$U$1012=\"Rejected\"),0),20),\"\")","v":""},{"$f":"IFERROR(INDEX('1.2 Sub-Con Application'!$B$13:$V$1012,MATCH(1,('1.2 Sub-Con Application'!$B$13:$B$1012=B502)*('1.2 Sub-Con Application'!$V$13:$V$1012<>\"\"),0),21),\"\")","v":""}]
[null,491,{"$f":"IFERROR(INDEX(table_subconApp,MATCH($B503,row_subconApp,0),MATCH(C$12,col_subconApp,0)),\"\")","v":""},"","","","","","","",{"$f":"IF(B503=\"\",\"\",SUMIF('1.2 Sub-Con Application'!$B$13:$B$1012,B503,'1.2 Sub-Con Application'!$P$13:$P$1012))","v":0},{"$f":"IF(B503=\"\",\"\",SUMIF('1.2 Sub-Con Application'!$B$13:$B$1012,B503,'1.2 Sub-Con Application'!$R$13:$R$1012))","v":0},{"$f":"IF(B503=\"\",\"\",SUMIF('1.2 Sub-Con Application'!$B$13:$B$1012,B503,'1.2 Sub-Con Application'!$S$13:$S$1012))","v":0},{"$f":"IFERROR(INDEX('1.2 Sub-Con Application'!$B$13:$U$1012,MATCH(1,('1.2 Sub-Con Application'!$B$13:$B$1012=B503)*('1.2 Sub-Con Application'!$U$13:$U$1012=\"Rejected\"),0),20),\"\")","v":""},{"$f":"IFERROR(INDEX('1.2 Sub-Con Application'!$B$13:$V$1012,MATCH(1,('1.2 Sub-Con Application'!$B$13:$B$1012=B503)*('1.2 Sub-Con Application'!$V$13:$V$1012<>\"\"),0),21),\"\")","v":""}]
[null,492,"","","","","","","","",{"$f":"IF(B504=\"\",\"\",SUMIF('1.2 Sub-Con Application'!$B$13:$B$1012,B504,'1.2 Sub-Con Application'!$P$13:$P$1012))","v":0},{"$f":"IF(B504=\"\",\"\",SUMIF('1.2 Sub-Con Application'!$B$13:$B$1012,B504,'1.2 Sub-Con Application'!$R$13:$R$1012))","v":0},{"$f":"IF(B504=\"\",\"\",SUMIF('1.2 Sub-Con Application'!$B$13:$B$1012,B504,'1.2 Sub-Con Application'!$S$13:$S$1012))","v":0},{"$f":"IFERROR(INDEX('1.2 Sub-Con Application'!$B$13:$U$1012,MATCH(1,('1.2 Sub-Con Application'!$B$13:$B$1012=B504)*('1.2 Sub-Con Application'!$U$13:$U$1012=\"Rejected\"),0),20),\"\")","v":""},{"$f":"IFERROR(INDEX('1.2 Sub-Con Application'!$B$13:$V$1012,MATCH(1,('1.2 Sub-Con Application'!$B$13:$B$1012=B504)*('1.2 Sub-Con Application'!$V$13:$V$1012<>\"\"),0),21),\"\")","v":""}]
[null,493,"","","","","","","","",{"$f":"IF(B505=\"\",\"\",SUMIF('1.2 Sub-Con Application'!$B$13:$B$1012,B505,'1.2 Sub-Con Application'!$P$13:$P$1012))","v":0},{"$f":"IF(B505=\"\",\"\",SUMIF('1.2 Sub-Con Application'!$B$13:$B$1012,B505,'1.2 Sub-Con Application'!$R$13:$R$1012))","v":0},{"$f":"IF(B505=\"\",\"\",SUMIF('1.2 Sub-Con Application'!$B$13:$B$1012,B505,'1.2 Sub-Con Application'!$S$13:$S$1012))","v":0},{"$f":"IFERROR(INDEX('1.2 Sub-Con Application'!$B$13:$U$1012,MATCH(1,('1.2 Sub-Con Application'!$B$13:$B$1012=B505)*('1.2 Sub-Con Application'!$U$13:$U$1012=\"Rejected\"),0),20),\"\")","v":""},{"$f":"IFERROR(INDEX('1.2 Sub-Con Application'!$B$13:$V$1012,MATCH(1,('1.2 Sub-Con Application'!$B$13:$B$1012=B505)*('1.2 Sub-Con Application'!$V$13:$V$1012<>\"\"),0),21),\"\")","v":""}]
[null,494,"","","","","","","","",{"$f":"IF(B506=\"\",\"\",SUMIF('1.2 Sub-Con Application'!$B$13:$B$1012,B506,'1.2 Sub-Con Application'!$P$13:$P$1012))","v":0},{"$f":"IF(B506=\"\",\"\",SUMIF('1.2 Sub-Con Application'!$B$13:$B$1012,B506,'1.2 Sub-Con Application'!$R$13:$R$1012))","v":0},{"$f":"IF(B506=\"\",\"\",SUMIF('1.2 Sub-Con Application'!$B$13:$B$1012,B506,'1.2 Sub-Con Application'!$S$13:$S$1012))","v":0},{"$f":"IFERROR(INDEX('1.2 Sub-Con Application'!$B$13:$U$1012,MATCH(1,('1.2 Sub-Con Application'!$B$13:$B$1012=B506)*('1.2 Sub-Con Application'!$U$13:$U$1012=\"Rejected\"),0),20),\"\")","v":""},{"$f":"IFERROR(INDEX('1.2 Sub-Con Application'!$B$13:$V$1012,MATCH(1,('1.2 Sub-Con Application'!$B$13:$B$1012=B506)*('1.2 Sub-Con Application'!$V$13:$V$1012<>\"\"),0),21),\"\")","v":""}]
[null,495,"","","","","","","","",{"$f":"IF(B507=\"\",\"\",SUMIF('1.2 Sub-Con Application'!$B$13:$B$1012,B507,'1.2 Sub-Con Application'!$P$13:$P$1012))","v":0},{"$f":"IF(B507=\"\",\"\",SUMIF('1.2 Sub-Con Application'!$B$13:$B$1012,B507,'1.2 Sub-Con Application'!$R$13:$R$1012))","v":0},{"$f":"IF(B507=\"\",\"\",SUMIF('1.2 Sub-Con Application'!$B$13:$B$1012,B507,'1.2 Sub-Con Application'!$S$13:$S$1012))","v":0},{"$f":"IFERROR(INDEX('1.2 Sub-Con Application'!$B$13:$U$1012,MATCH(1,('1.2 Sub-Con Application'!$B$13:$B$1012=B507)*('1.2 Sub-Con Application'!$U$13:$U$1012=\"Rejected\"),0),20),\"\")","v":""},{"$f":"IFERROR(INDEX('1.2 Sub-Con Application'!$B$13:$V$1012,MATCH(1,('1.2 Sub-Con Application'!$B$13:$B$1012=B507)*('1.2 Sub-Con Application'!$V$13:$V$1012<>\"\"),0),21),\"\")","v":""}]
[null,496,"","","","","","","","",{"$f":"IF(B508=\"\",\"\",SUMIF('1.2 Sub-Con Application'!$B$13:$B$1012,B508,'1.2 Sub-Con Application'!$P$13:$P$1012))","v":0},{"$f":"IF(B508=\"\",\"\",SUMIF('1.2 Sub-Con Application'!$B$13:$B$1012,B508,'1.2 Sub-Con Application'!$R$13:$R$1012))","v":0},{"$f":"IF(B508=\"\",\"\",SUMIF('1.2 Sub-Con Application'!$B$13:$B$1012,B508,'1.2 Sub-Con Application'!$S$13:$S$1012))","v":0},{"$f":"IFERROR(INDEX('1.2 Sub-Con Application'!$B$13:$U$1012,MATCH(1,('1.2 Sub-Con Application'!$B$13:$B$1012=B508)*('1.2 Sub-Con Application'!$U$13:$U$1012=\"Rejected\"),0),20),\"\")","v":""},{"$f":"IFERROR(INDEX('1.2 Sub-Con Application'!$B$13:$V$1012,MATCH(1,('1.2 Sub-Con Application'!$B$13:$B$1012=B508)*('1.2 Sub-Con Application'!$V$13:$V$1012<>\"\"),0),21),\"\")","v":""}]
[null,497,"","","","","","","","",{"$f":"IF(B509=\"\",\"\",SUMIF('1.2 Sub-Con Application'!$B$13:$B$1012,B509,'1.2 Sub-Con Application'!$P$13:$P$1012))","v":0},{"$f":"IF(B509=\"\",\"\",SUMIF('1.2 Sub-Con Application'!$B$13:$B$1012,B509,'1.2 Sub-Con Application'!$R$13:$R$1012))","v":0},{"$f":"IF(B509=\"\",\"\",SUMIF('1.2 Sub-Con Application'!$B$13:$B$1012,B509,'1.2 Sub-Con Application'!$S$13:$S$1012))","v":0},{"$f":"IFERROR(INDEX('1.2 Sub-Con Application'!$B$13:$U$1012,MATCH(1,('1.2 Sub-Con Application'!$B$13:$B$1012=B509)*('1.2 Sub-Con Application'!$U$13:$U$1012=\"Rejected\"),0),20),\"\")","v":""},{"$f":"IFERROR(INDEX('1.2 Sub-Con Application'!$B$13:$V$1012,MATCH(1,('1.2 Sub-Con Application'!$B$13:$B$1012=B509)*('1.2 Sub-Con Application'!$V$13:$V$1012<>\"\"),0),21),\"\")","v":""}]
[null,498,"","","","","","","","",{"$f":"IF(B510=\"\",\"\",SUMIF('1.2 Sub-Con Application'!$B$13:$B$1012,B510,'1.2 Sub-Con Application'!$P$13:$P$1012))","v":0},{"$f":"IF(B510=\"\",\"\",SUMIF('1.2 Sub-Con Application'!$B$13:$B$1012,B510,'1.2 Sub-Con Application'!$R$13:$R$1012))","v":0},{"$f":"IF(B510=\"\",\"\",SUMIF('1.2 Sub-Con Application'!$B$13:$B$1012,B510,'1.2 Sub-Con Application'!$S$13:$S$1012))","v":0},{"$f":"IFERROR(INDEX('1.2 Sub-Con Application'!$B$13:$U$1012,MATCH(1,('1.2 Sub-Con Application'!$B$13:$B$1012=B510)*('1.2 Sub-Con Application'!$U$13:$U$1012=\"Rejected\"),0),20),\"\")","v":""},{"$f":"IFERROR(INDEX('1.2 Sub-Con Application'!$B$13:$V$1012,MATCH(1,('1.2 Sub-Con Application'!$B$13:$B$1012=B510)*('1.2 Sub-Con Application'!$V$13:$V$1012<>\"\"),0),21),\"\")","v":""}]
[null,499,"","","","","","","","",{"$f":"IF(B511=\"\",\"\",SUMIF('1.2 Sub-Con Application'!$B$13:$B$1012,B511,'1.2 Sub-Con Application'!$P$13:$P$1012))","v":0},{"$f":"IF(B511=\"\",\"\",SUMIF('1.2 Sub-Con Application'!$B$13:$B$1012,B511,'1.2 Sub-Con Application'!$R$13:$R$1012))","v":0},{"$f":"IF(B511=\"\",\"\",SUMIF('1.2 Sub-Con Application'!$B$13:$B$1012,B511,'1.2 Sub-Con Application'!$S$13:$S$1012))","v":0},{"$f":"IFERROR(INDEX('1.2 Sub-Con Application'!$B$13:$U$1012,MATCH(1,('1.2 Sub-Con Application'!$B$13:$B$1012=B511)*('1.2 Sub-Con Application'!$U$13:$U$1012=\"Rejected\"),0),20),\"\")","v":""},{"$f":"IFERROR(INDEX('1.2 Sub-Con Application'!$B$13:$V$1012,MATCH(1,('1.2 Sub-Con Application'!$B$13:$B$1012=B511)*('1.2 Sub-Con Application'!$V$13:$V$1012<>\"\"),0),21),\"\")","v":""}]
[null,500,"","","","","","","","",{"$f":"IF(B512=\"\",\"\",SUMIF('1.2 Sub-Con Application'!$B$13:$B$1012,B512,'1.2 Sub-Con Application'!$P$13:$P$1012))","v":0},{"$f":"IF(B512=\"\",\"\",SUMIF('1.2 Sub-Con Application'!$B$13:$B$1012,B512,'1.2 Sub-Con Application'!$R$13:$R$1012))","v":0},{"$f":"IF(B512=\"\",\"\",SUMIF('1.2 Sub-Con Application'!$B$13:$B$1012,B512,'1.2 Sub-Con Application'!$S$13:$S$1012))","v":0},{"$f":"IFERROR(INDEX('1.2 Sub-Con Application'!$B$13:$U$1012,MATCH(1,('1.2 Sub-Con Application'!$B$13:$B$1012=B512)*('1.2 Sub-Con Application'!$U$13:$U$1012=\"Rejected\"),0),20),\"\")","v":""},{"$f":"IFERROR(INDEX('1.2 Sub-Con Application'!$B$13:$V$1012,MATCH(1,('1.2 Sub-Con Application'!$B$13:$B$1012=B512)*('1.2 Sub-Con Application'!$V$13:$V$1012<>\"\"),0),21),\"\")","v":""}]

{"sheet":"2.3 Payment Notice","index":6,"n_rows":48,"n_cols":10,"rows_kept":48,"cut":false,"hidden":true,"merged":[[32,2,32,4],[34,2,34,4],[27,1,29,5],[47,1,50,5],[4,1,4,2],[10,2,14,2],[20,2,24,2],[7,2,8,2],[17,2,18,2],[36,2,36,4],[38,2,38,4],[40,2,40,4],[42,2,42,4],[44,2,44,4]]}
[]
[null,{"$f":"IFERROR(MID(CELL(\"filename\",A2),FIND(\"]\",CELL(\"filename\",A2))+1,LEN(CELL(\"filename\",A2))-FIND(\"]\",CELL(\"filename\",A2))),\"Please Save\")","v":"2.3 Payment Notice"}]
[]
[]
[null,"PLEASE SELECT"]
[]
[]
[null,"Issued By:",{"$f":"mc_Name","v":"Guinness Property"},null,"Notice Number:",{"$f":"cert_Number","v":0}]
[null,null,null,null,"Notice Date:",{"$f":"cert_Date","v":"00:00:00"}]
[]
[null,"Registered Address:","30 Brock Street\nRegents Place\nLondon\nNW1 3FG",null,"Region:",{"$f":"work_Region","v":"South West"}]
[null,null,null,null,"Work Type:",{"$f":"work_Type","v":"Empty Homes"}]
[]
[null,null,null,null,"Generated by:",{"$f":"IF(ISBLANK(mc_User),\"\",mc_User)","v":""}]
[]
[]
[]
[null,"Sub-Contractor Name:",{"$f":"sc_Name","v":"Bath Property Maintenance"},null,"Application Number:",{"$f":"app_Number","v":20},null,null,{"$f":"F18=app_lastNumber","v":false}]
[null,null,null,null,"Application Date:",{"$f":"app_Date","v":"2025-01-09"}]
[]
[null,"Registered Address:","30 Brock Street\nRegents Place\nLondon\nNW1 3FG",null,"Account number:",{"$f":"sc_Account","v":402688}]
[]
[null,null,null,null,"Submitted by:",{"$f":"IF(ISBLANK(sc_User),\"\",sc_User)","v":"Dana Maslenova "}]
[]
[null,null,null,null,"Sub-Contractor  Ref:",{"$f":"IF(ISBLANK(sc_Ref),\"\",sc_Ref)","v":"Sub-Con to Enter"}]
[]
[]
[null,{"$f":"mc_Name&\" considers the below amounts stated to be accurate and correct following a detailed review of you submitted application. The cumulative position has been calculated from the previous appliactions submitted and payment notices issued.\"","v":"Guinness Property considers the below amounts stated to be accurate and correct following a detailed review of you submitted application. The cumulative position has been calculated from the previous appliactions submitted and payment notices issued."}]
[]
[]
[]
[]
[null,1.1000000000000001,"Cumulative Application Value:",null,null,{"$f":"SUM('3.1 Notice Log'!E5,'3.1 Notice Log'!E9)","v":0}]
[]
[null,1.2,"Cumulative Application Rejections:",null,null,{"$f":"SUM('3.1 Notice Log'!F5,'3.1 Notice Log'!F9)","v":0}]
[]
[null,2.1,"Cumulative Certified Value:",null,null,{"$f":"SUM('3.1 Notice Log'!G5,'3.1 Notice Log'!G9)","v":0},null,null,{"$f":"SUM(F33:F35)","v":0},{"$f":"F37=I37","v":true}]
[]
[null,3.1,"Cumulative Pay Less Notice Amount:",null,null,{"$f":"SUM(F41-F37)","v":0}]
[]
[null,3.2,"Cumulative Payment Notice Amount:",null,null,{"$f":"SUM('3.1 Notice Log'!L5,'3.1 Notice Log'!L9)","v":0}]
[]
[null,4.0999999999999996,"Less Previous Cumulative Notice Amount:",null,null,{"$f":"'3.1 Notice Log'!L9","v":0}]
[]
[null,5,{"$f":"\"Total \"&B5&\" (sum due):\"","v":"Total PLEASE SELECT (sum due):"},null,null,{"$f":"SUM(F41-F43)","v":0},null,null,{"$f":"'3.1 Notice Log'!L5","v":0},{"$f":"I45=F45","v":true}]
[]
[]
[null,{"$f":"\"Details of the \"&C45&\" of \"&TEXT(rng_sumDue,\"£0.00\")&\" have been provided at both SoR level, this is against the original Application (number \"&app_Number&\") submitted by \"&sc_Name&\", and at Order/Job level. If you have any questions or queries; please contact your local \"&work_Region&\" Regional Commercial Team (RCT) for assistance on these matters.\"","v":"Details of the Total PLEASE SELECT (sum due): of £0.00 have been provided at both SoR level, this is against the original Application (number 20) submitted by Bath Property Maintenance, and at Order/Job level. If you have any questions or queries; please contact your local South West Regional Commercial Team (RCT) for assistance on these matters."}]

{"sheet":"3.1 Notice Log","index":7,"n_rows":12,"n_cols":16,"rows_kept":12,"cut":false,"hidden":true,"merged":[]}
[]
[null,{"$f":"IFERROR(MID(CELL(\"filename\",A2),FIND(\"]\",CELL(\"filename\",A2))+1,LEN(CELL(\"filename\",A2))-FIND(\"]\",CELL(\"filename\",A2))),\"Please Save\")","v":"3.1 Notice Log"}]
[]
[null,null,"Application Number:","Application Date:","Application Value:","Application Rejections:","Certified Value:","Notice Type:","Notice Number:","Notice Date:",null,"Notice Value:",null,"CIS Tax Deduction",null,"Generated by:"]
[null,"Current:",{"$f":"IF(OR(app_Number=\"\",app_Number=\"Please Enter\"),\"To be Entered\",app_Number)","v":20},{"$f":"IF(OR(app_Date=\"\",app_Date=\"Please Enter\"),\"To be Entered\",app_Date)","v":"2025-01-09"},{"$f":"IF('1.2 Sub-Con Application'!P6=\"\",\"To be Entered\",IF(H5='5.2 Lists'!I26,0,'1.2 Sub-Con Application'!P6))","v":0},{"$f":"IF('2.2 Payment Notice (Detail)'!K9=\"\",\"To be Entered\",IF(H5='5.2 Lists'!I26,0,'2.2 Payment Notice (Detail)'!K9))","v":0},{"$f":"SUM(E5:F5)","v":0},{"$f":"notice_Selection","v":"PLEASE SELECT"},{"$f":"IF(OR(cert_Number=\"\",cert_Number=\"Please Enter\"),\"To be Entered\",cert_Number)","v":"To be Entered"},{"$f":"IF(OR(cert_Date=\"\",cert_Date=\"Please Enter\"),\"To be Entered\",cert_Date)","v":"To be Entered"},null,{"$f":"IF('2.2 Payment Notice (Detail)'!K10=\"\",\"To be Entered\",IF(H5='5.2 Lists'!I26,SUM('2.2 Payment Notice (Detail)'!K10,-L7),'2.2 Payment Notice (Detail)'!K10))","v":0},null,{"$f":"IF('2.2 Payment Notice (Detail)'!O10=\"\",\"To be Entered\",'2.2 Payment Notice (Detail)'!O10)","v":0},null,{"$f":"IF(ISBLANK(mc_User),\"\",mc_User)","v":""}]
[]
[{"$f":"MAX($B$13:$B$16)","v":0},"Last:",{"$f":"MAX(C13:C16)","v":0},{"$f":"IF($A7>0,INDEX(table_appPnLog,MATCH($A$7,$B$13:$B$16,0),MATCH(D4,$C$12:$P$12,0)),\"\")","v":""},{"$f":"IF($A7>0,INDEX(table_appPnLog,MATCH($A$7,$B$13:$B$16,0),MATCH(E4,$C$12:$P$12,0)),0)","v":0},{"$f":"IF($A7>0,INDEX(table_appPnLog,MATCH($A$7,$B$13:$B$16,0),MATCH(F4,$C$12:$P$12,0)),0)","v":0},{"$f":"IF($A7>0,INDEX(table_appPnLog,MATCH($A$7,$B$13:$B$16,0),MATCH(G4,$C$12:$P$12,0)),0)","v":0},{"$f":"IF($A7>0,INDEX(table_appPnLog,MATCH($A$7,$B$13:$B$16,0),MATCH(H4,$C$12:$P$12,0)),0)","v":0},{"$f":"IF($A7>0,INDEX(table_appPnLog,MATCH($A$7,$B$13:$B$16,0),MATCH(I4,$C$12:$P$12,0)),0)","v":0},{"$f":"IF($A7>0,INDEX(table_appPnLog,MATCH($A$7,$B$13:$B$16,0),MATCH(J4,$C$12:$P$12,0)),\"\")","v":""},null,{"$f":"IF($A7>0,INDEX(table_appPnLog,MATCH($A$7,$B$13:$B$16,0),MATCH(L4,$C$12:$P$12,0)),0)","v":0},null,{"$f":"IF($A7>0,INDEX(table_appPnLog,MATCH($A$7,$B$13:$B$16,0),MATCH(N4,$C$12:$P$12,0)),0)","v":0},null,{"$f":"IF($A7>0,INDEX(table_appPnLog,MATCH($A$7,$B$13:$B$16,0),MATCH(P4,$C$12:$P$12,0)),\"\")","v":""}]
[]
[null,"Total:",{"$f":"COUNT(C13:C16)","v":0},null,{"$f":"SUM(E13:E16)","v":0},{"$f":"SUM(F13:F16)","v":0},{"$f":"SUM(E9:F9)","v":0},null,{"$f":"COUNT(I13:I16)","v":0},null,null,{"$f":"SUM(L13:L16)","v":0},null,{"$f":"SUM(N13:N16)","v":0}]
[]
[]
[null,"Log Ref",{"$f":"C4","v":"Application Number:"},{"$f":"D4","v":"Application Date:"},"Application Value:",{"$f":"F4","v":"Application Rejections:"},{"$f":"G4","v":"Certified Value:"},"Notice Type:","Notice Number:","Notice Date:",null,"Notice Value:",null,"CIS Tax Deduction",null,"Generated by:"]

{"sheet":"4.1 Uploaded File","index":8,"n_rows":2,"n_cols":2,"rows_kept":2,"cut":false,"hidden":true,"merged":[]}
[]
[null,{"$f":"IFERROR(MID(CELL(\"filename\",A2),FIND(\"]\",CELL(\"filename\",A2))+1,LEN(CELL(\"filename\",A2))-FIND(\"]\",CELL(\"filename\",A2))),\"Please Save\")","v":"4.1 Uploaded File"}]

{"sheet":"5.1 Administrator","index":9,"n_rows":64,"n_cols":17,"rows_kept":64,"cut":false,"hidden":true,"merged":[[34,3,34,6],[4,3,4,6],[32,3,32,6],[30,3,30,6],[18,3,18,6],[8,3,8,6],[6,3,6,6],[20,3,20,6],[16,3,16,6],[28,3,28,6],[25,3,25,6],[26,3,26,6],[14,3,14,6],[22,3,22,6],[23,3,23,6],[24,3,24,6],[10,3,10,6],[12,3,12,6]]}
[]
[null,{"$f":"IFERROR(MID(CELL(\"filename\",A2),FIND(\"]\",CELL(\"filename\",A2))+1,LEN(CELL(\"filename\",A2))-FIND(\"]\",CELL(\"filename\",A2))),\"Please Save\")","v":"5.1 Administrator"}]
[]
[]
[null,"Contractor Name:",null,"Guinness Property",null,null,null,null,null,null,"Tick",null,"Visible",null,"Go To"]
[]
[null,"Sub-Con Name:",null,"Bath Property Maintenance",null,null,null,null,{"$f":"'2.1 Internal Guidance'!B2","v":"2.1 Internal Guidance"},null,false,null,{"$f":"IF(K7=TRUE,\"Yes\",\"No\")","v":"No"},null,"Here"]
[]
[null,"Account No.:",null,402688,null,null,null,null,{"$f":"'2.2 Payment Notice (Detail)'!B2","v":"2.2 Payment Notice (Detail)"},null,false,null,{"$f":"IF(K9=TRUE,\"Yes\",\"No\")","v":"No"},null,"Here"]
[]
[null,"Sub-Con Email:",null,"tom.sharples@bpm-cs.co.uk",null,null,null,null,{"$f":"'2.3 Payment Notice'!B2","v":"2.3 Payment Notice"},null,false,null,{"$f":"IF(K11=TRUE,\"Yes\",\"No\")","v":"No"},null,"Here"]
[]
[null,"Region:",null,"South West",null,null,null,null,{"$f":"'4.1 Uploaded File'!B2","v":"4.1 Uploaded File"},null,false,null,{"$f":"IF(K13=TRUE,\"Yes\",\"No\")","v":"No"},null,"Here",null,"Not currently used due to system restrictions"]
[]
[null,"Region Email:",null,{"$f":"IFERROR(VLOOKUP(work_Region,'5.2 Lists'!I11:J16,2,FALSE),\"Select Region\")","v":"SWCommercial@guinness .org uk"},null,null,null,null,{"$f":"'5.2 Lists'!B2","v":"5.2 Lists"},null,false,null,{"$f":"IF(K15=TRUE,\"Yes\",\"No\")","v":"No"},null,"Here"]
[]
[null,"Work Type:",null,"Empty Homes",null,null,null,null,{"$f":"'5.3 Schedule of Rates'!B2","v":"5.3 Schedule of Rates"},null,false,null,{"$f":"IF(K17=TRUE,\"Yes\",\"No\")","v":"No"},null,"Here"]
[]
[null,"CIS Status:",null,"Gross Payment"]
[]
[null,"Application Frequency:",null,"Monthly"]
[]
[null,"Application Dates:",null,{"$f":"IF(app_Frequency=\"Weekly\",'5.2 Lists'!N10&\", \"&'5.2 Lists'!O10&\", \"&'5.2 Lists'!P10&\", \"&'5.2 Lists'!Q10,IF(app_Frequency=\"Fortnightly\",'5.2 Lists'!O10&\", \"&'5.2 Lists'!Q10,'5.2 Lists'!Q10))&\" of each Month\"","v":"25 of each Month"}]
[null,"Due Dates:",null,{"$f":"IF(app_Frequency=\"Weekly\",'5.2 Lists'!N11&\", \"&'5.2 Lists'!O11&\", \"&'5.2 Lists'!P11&\", \"&'5.2 Lists'!Q11,IF(app_Frequency=\"Fortnightly\",'5.2 Lists'!O11&\", \"&'5.2 Lists'!Q11,'5.2 Lists'!Q11))&\" of each Month\"","v":"13 of each Month"}]
[null,"Payment Notice Dates:",null,{"$f":"IF(app_Frequency=\"Weekly\",'5.2 Lists'!N12&\", \"&'5.2 Lists'!O12&\", \"&'5.2 Lists'!P12&\", \"&'5.2 Lists'!Q12,IF(app_Frequency=\"Fortnightly\",'5.2 Lists'!O12&\", \"&'5.2 Lists'!Q12,'5.2 Lists'!Q12))&\" of each Month\"","v":"18 of each Month"}]
[null,"PayLess Notice Deadline Dates:",null,{"$f":"IF(app_Frequency=\"Weekly\",'5.2 Lists'!N13&\", \"&'5.2 Lists'!O13&\", \"&'5.2 Lists'!P13&\", \"&'5.2 Lists'!Q13,IF(app_Frequency=\"Fortnightly\",'5.2 Lists'!O13&\", \"&'5.2 Lists'!Q13,'5.2 Lists'!Q13))&\" of each Month\"","v":"9 of each Month"}]
[null,"Final Dates for Payment:",null,{"$f":"IF(app_Frequency=\"Weekly\",'5.2 Lists'!N14&\", \"&'5.2 Lists'!O14&\", \"&'5.2 Lists'!P14&\", \"&'5.2 Lists'!Q14,IF(app_Frequency=\"Fortnightly\",'5.2 Lists'!O14&\", \"&'5.2 Lists'!Q14,'5.2 Lists'!Q14))&\" of each Month\"","v":"14 of each Month"}]
[]
[null,"Payment Terms (Days):",null,32]
[]
[null," Contract Agreement:",null,"Received"]
[]
[null,"Date of Contract Agreement:",null,"2021-06-01"]
[]
[null,"SoR:",null,"NHF v 6.1"]
[]
[null,"SoR % Adjustments:",null,null,null,"Repairs","Empty Homes"]
[]
[null,null,null,"All","Empty Homes",null,0]
[null,null,null,"GR","Groundworks",0,{"$f":"IF($G$39=\"\",\"\",$G$39)","v":0}]
[null,null,null,"FE","Fencing & Gates",0,{"$f":"IF($G$39=\"\",\"\",$G$39)","v":0}]
[null,null,null,"DR","Drainage",0,0]
[null,null,null,"PL","Plumbing",0,0]
[null,null,null,"JR","Carpentry & Joinery",0,0]
[null,null,null,"WAD","Windows PVCu & Doors",0,0]
[null,null,null,"BL","Brickwork",0,0]
[null,null,null,"SM","Masonry",0,0]
[null,null,null,"SP","Specialist Treatments",0,0]
[null,null,null,"AS","Asphalt",0,0]
[null,null,null,"RF","Roofing",0,0]
[null,null,null,"PT","Plasterwork & Finishes ",0,0]
[null,null,null,"WF","Wall, floor, tile, sheet ",0,0]
[null,null,null,"FL","Flooring",0,0]
[null,null,null,"PA","Painting & Decorating",0,0]
[null,null,null,"CC","Clean & Clear",0,0]
[null,null,null,"GL","Glazing",0,0]
[null,null,null,"HE","Heating & Gas",0,0]
[null,null,null,"EL","Electrical ",0,0]
[null,null,null,"DA","Disabled Adaptations",0,0]
[null,null,null,"SC","Scaffolding",0,0]
[null,null,null,"AP","Height and Aerial plats",0,0]
[null,null,null,"QU","Quoted Works",0,0]
[null,null,null,"DW","Day Work Rates",0,0]
[null,null,null,null,null,0,0]

{"sheet":"5.2 Lists","index":10,"n_rows":410,"n_cols":17,"rows_kept":410,"cut":false,"hidden":true,"merged":[]}
[]
[null,{"$f":"IFERROR(MID(CELL(\"filename\",A2),FIND(\"]\",CELL(\"filename\",A2))+1,LEN(CELL(\"filename\",A2))-FIND(\"]\",CELL(\"filename\",A2))),\"Please Save\")","v":"5.2 Lists"}]
[]
[null,"Postcode","Region",null,"Work Type",null,"Payment Terms",null,"CIS Status","Rate"]
[null,"N1","London",null,null,null,14,null,"Check with Finance"]
[null,"N16","London",null,"Repairs",null,28,null,"Registered",0.2]
[null,"N19","London",null,"Empty Homes",null,32,null,"Unregistered",0.3,null,null,null,null,null,null,{"$f":"$I$21","v":"Monthly"}]
[null,"N4","London",null,null,null,45,null,"Gross Payment",0,null,null,null,null,{"$f":"$I$20","v":"Fortnightly"},null,{"$f":"$I$20","v":"Fortnightly"}]
[null,"N7","London",null,null,null,60,null,null,null,null,null,null,{"$f":"$I$19","v":"Weekly"},{"$f":"$I$19","v":"Weekly"},{"$f":"$I$19","v":"Weekly"},{"$f":"$I$19","v":"Weekly"}]
[null,"NW8","London",null,null,null,90,null,"Region","Email Address",null,"Application Dates:",null,{"$f":"O10-7","v":4},{"$f":"P10-7","v":11},{"$f":"Q10-7","v":18},25]
[null,"SW10","London",null,null,null,null,null,"London","CommercialLondon@guinness.org.uk",null,"Due Dates:",19,{"$f":"SUM(N10,$M11,IF(SUM(N10,$M11)>31,-31,0))","v":23},30,6,{"$f":"SUM(Q10,$M11,IF(SUM(Q10,$M11)>31,-31,0))","v":13}]
[null,"SW1W","London",null,"Reason for Rejection",null,"Framework Status",null,"London South","CommercialLondonSouth@guinness.org.uk",null,"Payment Notice Dates:",5,28,4,11,{"$f":"SUM(Q11,$M12,IF(SUM(Q11,$M12)>31,-31,0))","v":18}]
[null,"SW3","London",null,null,null,"Not Sent to SC",null,"London North","CommercialLondonNorth@guinness.org.uk",null,"PayLess Notice Deadline Dates:",-5,{"$f":"SUM(N14,$M13,IF(SUM(N14,$M13)>31,-31,0))","v":19},{"$f":"SUM(O14,$M13,IF(SUM(O14,$M13)>31,-31,0))","v":26},{"$f":"SUM(P14,$M13,IF(SUM(P14,$M13)>31,-31,0))","v":2},{"$f":"SUM(Q14,$M13,IF(SUM(Q14,$M13)>30,-30,0))","v":9}]
[null,"TW8","London",null,"Invalid Order Number",null,"Sent to SC",null,"South Central","CommercialSE@guinness.org.uk  ",null,"Final Dates for Payment:",32,{"$f":"SUM(N11,$M14,IF(SUM(N11,$M14)>31,-31,0))","v":24},{"$f":"SUM(O11,$M14,IF(SUM(O11,$M14)>31,-31,0))","v":31},{"$f":"SUM(P11,$M14,IF(SUM(P11,$M14)>31,-31,0))","v":7},{"$f":"SUM(Q11,$M14,IF(SUM(Q11,$M14)>31,-31,0))","v":14}]
[null,"W3","London",null,"Incorrect Region",null,"Received",null,"South West","SWCommercial@guinness .org uk"]
[null,"W6","London",null,"Incorrect SOR applied",null,"Executed",null,"South Coast","CommercialSW@guinness.org.uk     "]
[null,"BR3","London",null,"Incorrect quantity applied"]
[null,"CR0","London",null,"Materials Price Query",null,"Yes No",null,"Frequency"]
[null,"CR3","London",null,"Work not carried out",null,"Yes",null,"Weekly"]
[null,"CR5","London",null,"Failed Post inspection",null,"No",null,"Fortnightly"]
[null,"GU21","London",null,"Unauthorised Variation",null,"N/A",null,"Monthly"]
[null,"GU22","London",null,"Incomplete Job Docs"]
[null,"RH1","London",null,"Before and After pictures required",null,"SoR",null,"Payment Notice Type"]
[null,"RH10","London",null,"Joint Inspection required",null,"NHF v 4",null,"PLEASE SELECT"]
[null,"RH11","London",null,"Duplicated Claim",null,"NHF v 5",null,"Payment Notice"]
[null,"RH12","London",null,null,null,"NHF v 6.1",null,"Pay Less Notice"]
[null,"RH19","London",null,null,null,"NHF v 7"]
[null,"RH6","London",null,"Approval",null,"NSR"]
[null,"RH7","London",null,"Rejected",null,"PSA"]
[null,"RH9","London",null,null,null,"Other"]
[null,"SE1","London"]
[null,"SE11","London"]
[null,"SE15","London"]
[null,"SE17","London"]
[null,"SE25","London"]
[null,"SW14","London"]
[null,"SW9","London"]
[null,"TW11","London"]
[null,"TW12","London"]
[null,"AL10","South Central"]
[null,"AL3","South Central"]
[null,"AL4","South Central"]
[null,"AL7","South Central"]
[null,"AL9","South Central"]
[null,"BR1","South Central"]
[null,"BR5","South Central"]
[null,"CB24","South Central"]
[null,"CB6","South Central"]
[null,"CB7","South Central"]
[null,"CM1","South Central"]
[null,"CM12","South Central"]
[null,"CM2","South Central"]
[null,"CM23","South Central"]
[null,"CM3","South Central"]
[null,"CO1","South Central"]
[null,"CO15","South Central"]
[null,"CO2","South Central"]
[null,"CO3","South Central"]
[null,"CO4","South Central"]
[null,"CO5","South Central"]
[null,"CO9","South Central"]
[null,"CR4","South Central"]
[null,"CT19","South Central"]
[null,"CT20","South Central"]
[null,"CT7","South Central"]
[null,"CV23","South Central"]
[null,"CV3","South Central"]
[null,"DA12","South Central"]
[null,"DA15","South Central"]
[null,"DA16","South Central"]
[null,"DA17","South Central"]
[null,"DA4","South Central"]
[null,"DA7","South Central"]
[null,"DA8","South Central"]
[null,"E12","South Central"]
[null,"E18","South Central"]
[null,"EN6","South Central"]
[null,"HA2","South Central"]
[null,"HA3","South Central"]
[null,"HA6","South Central"]
[null,"HA7","South Central"]
[null,"HA8","South Central"]
[null,"HP1","South Central"]
[null,"HP10","South Central"]
[null,"HP11","South Central"]
[null,"HP12","South Central"]
[null,"HP13","South Central"]
[null,"HP14","South Central"]
[null,"HP15","South Central"]
[null,"HP17","South Central"]
[null,"HP18","South Central"]
[null,"HP19","South Central"]
[null,"HP2","South Central"]
[null,"HP20","South Central"]
[null,"HP21","South Central"]
[null,"HP22","South Central"]
[null,"HP5","South Central"]
[null,"IG8","South Central"]
[null,"IP14","South Central"]
[null,"IP2","South Central"]
[null,"IP4","South Central"]
[null,"LE16","South Central"]
[null,"LE2","South Central"]
[null,"LE5","South Central"]
[null,"LE8","South Central"]
[null,"LU1","South Central"]
[null,"LU2","South Central"]
[null,"LU3","South Central"]
[null,"LU5","South Central"]
[null,"LU6","South Central"]
[null,"LU7","South Central"]
[null,"ME1","South Central"]
[null,"ME17","South Central"]
[null,"ME19","South Central"]
[null,"ME3","South Central"]
[null,"ME4","South Central"]
[null,"ME7","South Central"]
[null,"ME9","South Central"]
[null,"MK10","South Central"]
[null,"MK11","South Central"]
[null,"MK12","South Central"]
[null,"MK13","South Central"]
[null,"MK14","South Central"]
[null,"MK15","South Central"]
[null,"MK16","South Central"]
[null,"MK17","South Central"]
[null,"MK18","South Central"]
[null,"MK19","South Central"]
[null,"MK2","South Central"]
[null,"MK3","South Central"]
[null,"MK4","South Central"]
[null,"MK40","South Central"]
[null,"MK41","South Central"]
[null,"MK42","South Central"]
[null,"MK43","South Central"]
[null,"MK45","South Central"]
[null,"MK46","South Central"]
[null,"MK5","South Central"]
[null,"MK6","South Central"]
[null,"MK7","South Central"]
[null,"MK8","South Central"]
[null,"MK9","South Central"]
[null,"N17","South Central"]
[null,"NN1","South Central"]
[null,"NN11","South Central"]
[null,"NN12","South Central"]
[null,"NN13","South Central"]
[null,"NN14","South Central"]
[null,"NN15","South Central"]
[null,"NN2","South Central"]
[null,"NN29","South Central"]
[null,"NN3","South Central"]
[null,"NN4","South Central"]
[null,"NN5","South Central"]
[null,"NN6","South Central"]
[null,"NN7","South Central"]
[null,"NN8","South Central"]
[null,"NR12","South Central"]
[null,"NR30","South Central"]
[null,"NR31","South Central"]
[null,"NR7","South Central"]
[null,"NR9","South Central"]
[null,"OX14","South Central"]
[null,"OX15","South Central"]
[null,"PE28","South Central"]
[null,"PE29","South Central"]
[null,"PE7","South Central"]
[null,"RG12","South Central"]
[null,"RG9","South Central"]
[null,"RM1","South Central"]
[null,"RM10","South Central"]
[null,"RM11","South Central"]
[null,"RM12","South Central"]
[null,"RM13","South Central"]
[null,"RM15","South Central"]
[null,"RM18","South Central"]
[null,"RM2","South Central"]
[null,"RM3","South Central"]
[null,"RM5","South Central"]
[null,"RM6","South Central"]
[null,"RM7","South Central"]
[null,"RM8","South Central"]
[null,"SE1","South Central"]
[null,"SG1","South Central"]
[null,"SG19","South Central"]
[null,"SG2","South Central"]
[null,"SG4","South Central"]
[null,"SG5","South Central"]
[null,"SG6","South Central"]
[null,"SL6","South Central"]
[null,"SL7","South Central"]
[null,"SM1","South Central"]
[null,"SM5","South Central"]
[null,"SS0","South Central"]
[null,"SS1","South Central"]
[null,"SS14","South Central"]
[null,"SS15","South Central"]
[null,"SS16","South Central"]
[null,"SS2","South Central"]
[null,"SS3","South Central"]
[null,"SS9","South Central"]
[null,"TN24","South Central"]
[null,"TN28","South Central"]
[null,"UB3","South Central"]
[null,"UB7","South Central"]
[null,"UB8","South Central"]
[null,"W13","South Central"]
[null,"WD19","South Central"]
[null,"WD23","South Central"]
[null,"BA1","South Coast"]
[null,"BH12","South Coast"]
[null,"BH2","South Coast"]
[null,"BN1","South Coast"]
[null,"BN11","South Coast"]
[null,"BN12","South Coast"]
[null,"BN13","South Coast"]
[null,"BN14","South Coast"]
[null,"BN15","South Coast"]
[null,"BN17","South Coast"]
[null,"BN2","South Coast"]
[null,"BN25","South Coast"]
[null,"BN3","South Coast"]
[null,"BN41","South Coast"]
[null,"BN43","South Coast"]
[null,"BN6","South Coast"]
[null,"BN7","South Coast"]
[null,"BN9","South Coast"]
[null,"BS16","South Coast"]
[null,"BS41","South Coast"]
[null,"EX16","South Coast"]
[null,"EX2","South Coast"]
[null,"EX8","South Coast"]
[null,"GL2","South Coast"]
[null,"GU14","South Coast"]
[null,"GU21","South Coast"]
[null,"GU29","South Coast"]
[null,"GU46","South Coast"]
[null,"GU9","South Coast"]
[null,"OX18","South Coast"]
[null,"PL26","South Coast"]
[null,"PL6","South Coast"]
[null,"PO1","South Coast"]
[null,"PO10","South Coast"]
[null,"PO11","South Coast"]
[null,"PO12","South Coast"]
[null,"PO13","South Coast"]
[null,"PO14","South Coast"]
[null,"PO16","South Coast"]
[null,"PO19","South Coast"]
[null,"PO2","South Coast"]
[null,"PO20","South Coast"]
[null,"PO21","South Coast"]
[null,"PO22","South Coast"]
[null,"PO3","South Coast"]
[null,"PO4","South Coast"]
[null,"PO5","South Coast"]
[null,"PO6","South Coast"]
[null,"PO7","South Coast"]
[null,"PO8","South Coast"]
[null,"PO9","South Coast"]
[null,"RG21","South Coast"]
[null,"RG22","South Coast"]
[null,"RG24","South Coast"]
[null,"RG26","South Coast"]
[null,"RG30","South Coast"]
[null,"RG45","South Coast"]
[null,"RH15","South Coast"]
[null,"RH17","South Coast"]
[null,"RH19","South Coast"]
[null,"SN1","South Coast"]
[null,"SN10","South Coast"]
[null,"SN11","South Coast"]
[null,"SN13","South Coast"]
[null,"SN14","South Coast"]
[null,"SN15","South Coast"]
[null,"SN16","South Coast"]
[null,"SN2","South Coast"]
[null,"SN25","South Coast"]
[null,"SN26","South Coast"]
[null,"SN3","South Coast"]
[null,"SN4","South Coast"]
[null,"SN5","South Coast"]
[null,"SN6","South Coast"]
[null,"SN8","South Coast"]
[null,"SN9","South Coast"]
[null,"SO16","South Coast"]
[null,"SO31","South Coast"]
[null,"SO32","South Coast"]
[null,"SO41","South Coast"]
[null,"SO45","South Coast"]
[null,"SP11","South Coast"]
[null,"SP3","South Coast"]
[null,"SP4","South Coast"]
[null,"SP9","South Coast"]
[null,"TA18","South Coast"]
[null,"TQ14","South Coast"]
[null,"TR3","South Coast"]
[null,"BA1","South West"]
[null,"BA11","South West"]
[null,"BA12","South West"]
[null,"BA13","South West"]
[null,"BA14","South West"]
[null,"BA2","South West"]
[null,"BA3","South West"]
[null,"BA4","South West"]
[null,"BS1","South West"]
[null,"BS10","South West"]
[null,"BS11","South West"]
[null,"BS13","South West"]
[null,"BS14","South West"]
[null,"BS15","South West"]
[null,"BS16","South West"]
[null,"BS2","South West"]
[null,"BS21","South West"]
[null,"BS24","South West"]
[null,"BS27","South West"]
[null,"BS3","South West"]
[null,"BS30","South West"]
[null,"BS34","South West"]
[null,"BS36","South West"]
[null,"BS39","South West"]
[null,"BS4","South West"]
[null,"BS48","South West"]
[null,"BS5","South West"]
[null,"BS6","South West"]
[null,"BS7","South West"]
[null,"BS8","South West"]
[null,"DT1","South West"]
[null,"DT3","South West"]
[null,"DT7","South West"]
[null,"EX1","South West"]
[null,"EX10","South West"]
[null,"EX12","South West"]
[null,"EX13","South West"]
[null,"EX14","South West"]
[null,"EX15","South West"]
[null,"EX16","South West"]
[null,"EX17","South West"]
[null,"EX2","South West"]
[null,"EX20","South West"]
[null,"EX23","South West"]
[null,"EX4","South West"]
[null,"EX5","South West"]
[null,"EX6","South West"]
[null,"EX7","South West"]
[null,"EX8","South West"]
[null,"GL1","South West"]
[null,"GL10","South West"]
[null,"GL11","South West"]
[null,"GL13","South West"]
[null,"GL14","South West"]
[null,"GL15","South West"]
[null,"GL16","South West"]
[null,"GL17","South West"]
[null,"GL18","South West"]
[null,"GL19","South West"]
[null,"GL2","South West"]
[null,"GL20","South West"]
[null,"GL3","South West"]
[null,"GL4","South West"]
[null,"GL5","South West"]
[null,"GL50","South West"]
[null,"GL51","South West"]
[null,"GL52","South West"]
[null,"GL54","South West"]
[null,"GL55","South West"]
[null,"GL56","South West"]
[null,"GL6","South West"]
[null,"GL7","South West"]
[null,"GL8","South West"]
[null,"HR1","South West"]
[null,"HR9","South West"]
[null,"NP16","South West"]
[null,"OX7","South West"]
[null,"PL1","South West"]
[null,"PL11","South West"]
[null,"PL12","South West"]
[null,"PL13","South West"]
[null,"PL14","South West"]
[null,"PL15","South West"]
[null,"PL17","South West"]
[null,"PL19","South West"]
[null,"PL2","South West"]
[null,"PL21","South West"]
[null,"PL25","South West"]
[null,"PL27","South West"]
[null,"PL3","South West"]
[null,"PL31","South West"]
[null,"PL5","South West"]
[null,"PL7","South West"]
[null,"PL8","South West"]
[null,"PL9","South West"]
[null,"TQ1","South West"]
[null,"TQ12","South West"]
[null,"TQ13","South West"]
[null,"TQ14","South West"]
[null,"TQ2","South West"]
[null,"TQ3","South West"]
[null,"TQ4","South West"]
[null,"TQ6","South West"]
[null,"TQ7","South West"]
[null,"TQ9","South West"]
[null,"TR1","South West"]
[null,"TR11","South West"]
[null,"TR14","South West"]
[null,"TR15","South West"]
[null,"TR17","South West"]
[null,"TR19","South West"]
[null,"TR27","South West"]
[null,"TR7","South West"]

{"sheet":"5.3 Schedule of Rates","index":11,"n_rows":2746,"n_cols":8,"rows_kept":2746,"cut":false,"hidden":true,"merged":[]}
[]
[null,{"$f":"IFERROR(MID(CELL(\"filename\",A2),FIND(\"]\",CELL(\"filename\",A2))+1,LEN(CELL(\"filename\",A2))-FIND(\"]\",CELL(\"filename\",A2))),\"Please Save\")","v":"5.3 Schedule of Rates"},null,null,{"$f":"sor_Version","v":"NHF v 6.1"}]
[]
[null,"Code","Trade Code","Short","Medium","UOM","Rate","Materials"]
[null,"001101","GR","KERB:LAY NEW 127X254MM PCC KERB","Kerb:Excavate, remove spoil, later backfill level, compact bottoms, supply and lay 127x254mm pcc kerb, straight or curved, including concrete bed and haunch, pointing, formwork make good.","LM",34.53,8.27]
[null,"001103","GR","KERB:RENEW 127X254MM PCC KERB","Kerb:Renew pcc kerb, straight or curved, take up existing including haunching, remove spoil, clean bed, supply and lay new 127x254mm pcc kerb haunch pointing, formwork and make good to finishes.","LM",26.02,6.32]
[null,"001105","GR","KERB:REBED ANY TYPE OF PCC KERB","Kerb:Rebed 127x254mm pcc kerb, straight or curved take up existing kerb and haunch, clean up bed, rebed and haunch existing kerb to both sides, pointing, formwork and make good to finishes.","LM",21.27,1.57]
[null,"001301","GR","CHANNEL:RENEW NE 250X125MM","Channel:Renew pcc channel, take up existing complete, remove spoil, clean up existing bed, supply, lay new up to 250x125mm pcc channel and haunch both sides, pointing, formwork, make good.","LM",25.88,6.19]
[null,"001303","GR","CHANNEL:REBED NE 250X125MM","Channel:Rebed pcc channel, take up channel and haunching, remove spoil, clean up existing bed, clean, relay up to 250x125mm pcc channel, haunch both sides, pointing, formwork make good.","LM",21.27,1.57]
[null,"001501","GR","EDGING:LAY 50X152MM PCC EDGING","Edging:Excavate, remove spoil, backfill, level, compact excavations lay concrete bed 200x100mm, lay 50x152mm pcc edging, straight or curved, haunch to both sides, point, formwork, make good.","LM",26.19,6.5]
[null,"001503","GR","EDGING:RENEW 50X152MM PCC EDGING","Edging:Renew pcc edging, straight or curved, take up existing edging complete, remove spoil, clean concrete bed, bed up to 50x152mm pcc edging, haunch both sides, point, formwork, make good.","LM",19.11,3.79]
[null,"001505","GR","EDGING:REBED STRAIGHT AND CURVED PCC EDGING","Edging:Rebed any straight or curved pcc edging, take up existing edging and haunching, remove spoil, clean up concrete bed and edging, relay and haunch both sides, point, formwork, make good.","LM",16.510000000000002,1.2]
[null,"001507","GR","EDGING:RENEW 25X150MM TIMBER","Edging:Renew or supply new 25x150mm tanalised softwood edging board including 50x50x600mm long tanalised pegs at 900mm centres driven firmly into ground including all excavation and make good.","LM",7.76,2.5]
[null,"003003","GR","PATH:EXCAVATE LAY NE 100MM CONCRETE BED","Path:Excavate 250mm below finished level remove spoil, level and compact bottoms, 150mm hardcore bed, blinded, ne 100mm concrete trowelled smooth, dishing to gullies and the like and all formwork","SM",71.319999999999993,27.55]
[null,"003007","GR","PATH:RENEW NE 100MM CONCRETE BED AND SUB-BASE","Path:Renew concrete path, break up concrete, excavate, remove spoil, fill soft spots, level and compact, 150mm hardcore bed, blinded, ne 100mm concrete trowelled smooth, all labours, formwork","SM",82.26,27.55]
[null,"003009","GR","FINISH:EXTRA FOR NON-SLIP FINISH TO PATH","Finish:Extra for non-slip surface to concrete, carborundum grains at the rate of 1kg per sm.","SM",3.97,2.66]
[null,"003011","GR","PATH:REMOVE AND INFILL WITH TOPSOIL","Path:Break up and remove any thickness existing path and bed under and remove from site, import topsoil and deposit to make up levels and grade to suit existing contours.","SM",51.69,21.06]
[null,"005001","GR","MACADAM:EXCAVATE AND LAY 70MM PAVING","Macadam:Excavate 145mm below finished level, remove spoil, level and compact bottoms, fill in layers, 75mm crusher run stone blinding, 50mm base macadam and 20mm wearing macadam, all labours.","SM",49.45,21]
[null,"005003","GR","MACADAM:RENEW 70MM PAVING","Macadam:Renew macadam, break out up to 145mm, remove spoil, fill soft spots, level and compact bottoms, fill in layers, 75mm stone, 50mm base macadam, 20mm wearing course macadam, all labours.","SM",53.82,21]
[null,"007001","GR","FLAG:EXCAVATE AND LAY NEW PRECAST CONCRETE","Flag:Excavate 150mm below finished level, remove spoil lay 75mm stone blinding, lay 50mm standard size pcc paving flags on 25mm bed of cement mortar (1:4) point up joints and all labours.","SM",55.95,20.94]
[null,"007005","GR","FLAG:LIFT AND REBED SINGLE PCC PAVING","Flag:Lift any size existing precast concrete paving flag, fill and compact hardcore to soft spots and rebed existing flag on 25mm bed of cement mortar (1:4) and point up joints.","NO",8.56,2]
[null,"007007","GR","FLAGS:LIFT AND REBED PCC PAVING","Flag:Lift any size existing precast concrete paving flag, fill and compact hardcore to soft spots and rebed existing flags on 25mm bed of cement mortar (1:4) and point up joints.","SM",23.26,3.57]
[null,"007009","GR","FLAG:RENEW SINGLE PCC PAVING","Flag:Lift remnants of existing 50mm standard size pcc paving flag, remove spoil, fill and compact hardcore to soft spots, lay new flag on 25mm mortar (1:4), point up joints and all labours.","NO",12.54,5.98]
[null,"007011","GR","FLAGS:RENEW PCC PAVING","Flag:Lift remnants of existing 50mm standard size pcc paving flags, remove spoil, fill and compact hardcore to soft spots, lay new flags on 25mm mortar (1:4), point up joints and all labours.","SM",36.5,16.809999999999999]
[null,"007019","GR","FLAG:REPOINT PCC PAVING","Flag:Repoint pcc paving, rake out joints, repoint with cement mortar (1:4).","SM",10.56,1.8]
[null,"007021","GR","FLAG:FILLET POINT JOINT TO WALL","Flag:Rake out existing and or fillet point in cement mortar (1:4), joint between edges of paving and wall and abutment.","LM",2.33,0.14000000000000001]
[null,"009001","GR","PAVING:REBED BRICK PAVING-MORTAR OR SAND","Paving:Take up loose brick paving, set aside, make up levels and soft spots, clean bed and bricks, relay brick paving, joint and point in cement mortar (1:4) or joint filling sand, all bonding.","SM",79.11,4.71]
[null,"009005","GR","PAVING:RENEW BRICK PAVING-MORTAR OR SAND","Paving:Renew brick paving, take up and remove spoil, fill and compact hardcore to soft spots and lay new paving on 25mm bed of mortar (1:4) , or 50mm sand bed, all pointing, bonding and labours.","SM",87.16,32.450000000000003]
[null,"009009","GR","PAVING:LAY NEW BRICK PAVING-MORTAR OR SAND","Paving:Supply and lay new brick paving including excavate to level, lay 100mm hardcore bed and new paving on 25mm bed of cement mortar (1:4) or 50mm sand bed, all pointing and cutting and bonding.","SM",103.11,37.46]
[null,"009013","GR","PAVING:RENEW GRAVEL PAVING 30MM","Paving:Renew gravel paving to paths and driveways ne 30mm thick including take up and clear away existing, supply, spread and level washed gravel to existing surfaces.","SM",7.01,3.07]
[null,"011001","GR","PAVING:TEMPORARY CONCRETE REPAIR","Paving:Break out existing defective paving of any type if necessary ne 100mm thick and clear away, fill in void with lean mix concrete ensuring flush edges to existing finishes in areas ne 1.00sm.","IT",33.07,13.37]
[null,"011101","GR","HARDCORE:ADDITIONAL SUB-BASE OR BED NE 150","Hardcore:Extra for additional hardcore sub-base or bed ne 150mm thick laid under any type of paving excavate, remove spoil, level, compact bottoms, clear spoil (to be specifically ordered by CA).","SM",30.53,8.65]
[null,"013001","GR","STEP:FORM OR RENEW STEP IN CONCRETE PAVING","Step:Form or renew step up to 1000x300x00mm in concrete paving including all necessary excavation, hardcore, extra concrete, formwork, surfaces trowelled smooth, make good, remove spoil.","IT",38.93,9.17]
[null,"013005","GR","STEP:FORM OR RENEW PCC STEP IN PAVING","Step:Form or renew step in pcc paving up to 1000x300x200mm including all extra excavation, hardcore, blinding bed pcc flags to steps and risers on 25mm mortar bed, all cutting, make good, remove spoil","IT",45.6,11.46]
[null,"013009","GR","STEP:FORM BRICK-ON-EDGE STEP","Step:Form step with approved brick-on-edge, bedded and pointed in cement mortar (1:4).","LM",20.239999999999998,7.11]
[null,"013011","GR","STEP:REPAIR DAMAGED CONCRETE","Step:Cut out damaged section and repair step as necessary with concrete (1:1:5:3) or cement and sand polymer enhanced cementitious mortar including formwork and trowel finish.","IT",19.68,2.17]
[null,"013013","GR","STEP:REFIX AND BED LOOSE STEP","Step:Rebed loose precast concrete step or loose bricks to brick step including remove existing, clean off as necessary and rebed in cement mortar (1:4) (per step).","IT",7.42,0.86]
[null,"013015","GR","RAMP:CONSTRUCT CONCRETE RAMP","Ramp:Construct insitu concrete ramp average 150mm thick, ne 1.5m wide 100mm high kerbs both sides, laid to 1:12 gradient, pinked finish including all excavation, hardcore, reinforcement and formwork.","LM",100.82,48.3]
[null,"015003","GR","FLOOR:RENEW INTERNAL CONCRETE INSULATION","Floor:Break up existing floor complete, excavate lay ne 175mm hardcore, sand blinding, 1200 dpm 50mm Jablite, 150mm concrete, mesh, ne 65mm screed, remove refix skirtings, make good.","SM",146.91,65.5]
[null,"015007","GR","FLOOR:NEW INTERNAL CONCRETE WITH INSULATION","Floor:Excavate as necessary, lay ne 175mm hardcore, sand blinding, lay 1200 dpm 50mm Jablite 150mm concrete, mesh, ne 65mm screed trowelled smooth, remove refix skirtings, make good.","SM",134.66999999999999,68.14]
[null,"015501","GR","FLOOR:HARDCORE FILL UNDER FLOOR","Floor:Fill under floor with clean broken and graded hardcore or other filling to approval of CR, to receive pvc membrane and concrete floor, all in conjunction with injected dpc treatment.","CM",76.819999999999993,19.920000000000002]
[null,"017110","FE","FENCING:RENEW 1.2M BOARD PCC POST GRAVEL BOARD","Fencing:Renew or provide new 1.05m timber vertical board fencing, take down existing, remove spoil set pcc posts at ne 1.80m centres, two rails fixed to posts, vertical boards, pcc gravel board.","LM",86.16,44.58]
[null,"017111","FE","FENCING:RENEW 1.2M BOARD TIMBER POST","Fencing:Renew or provide new 1.05m timber vertical board fencing, take down existing, remove spoil set timber posts at ne 1.80 centres, two rails fixed to posts vertical boards gravel board.","LM",80.89,41.5]
[null,"017113","FE","FENCING:RENEW 1.8M BOARD PCC POST","Fencing:Renew or provide new 1.65m timber vertical board fencing, take down existing, remove spoil set timber or pcc posts at ne 1.80 centres, two rails fixed to posts vertical boards gravel board.","LM",122.63,76.67]
[null,"017114","FE","FENCING:RENEW 1.8M BOARD PCC POST GRAVEL BOARD","Fencing:Renew or provide new 1.65m timber vertical board fencing, take down existing, remove spoil set pcc posts at ne 1.80m centres, two rails fixed to posts, vertical boards, gravel board","LM",123.91,77.95]
[null,"017117","FE","FENCING:RENEW SOFTWOOD RAIL","Fencing:Renew 69x44mm softwood rail ne 2.00m long bolted to concrete or timber post, carefully remove vertical boards, renew rail, renail existing vertical boards remove spoil.","NO",23.91,4.21]
[null,"017119","FE","FENCING:RENEW 2ND AND 3RD RAIL","Fencing:Renew second or third 69x44mm softwood rail ne 2.00m long, whilst vertical boards removed, remove spoil.","NO",7.71,4.21]
[null,"017121","FE","FENCING:RENEW VERTICAL BOARD 1.05M","Fencing:Renew 144x20mm softwood vertical board 1.05m high, remove spoil.","NO",5.44,2.81]
[null,"017122","FE","FENCING:RENEW RUN OF VERTICAL BOARD-1.05M","Fencing:Renew 144x20mm softwood vertical boarding 1.05m high to closeboarded fence high complete with fixing, wire clipped to boards, remove spoil.","LM",53.4,27.14]
[null,"017123","FE","FENCING:RENEW VERTICAL BOARD 1.675M","Fencing:Renew 144x20mm softwood vertical board 1.65m high, remove spoil.","NO",7.29,4.2300000000000004]
[null,"017124","FE","FENCING:RENEW RUN OF VERTICAL BOARD-1.675M","Fencing:Renew 144x20mm softwood vertical boarding 1.65m high to closeboarded fence high complete with fixing, wire clipped to boards, remove spoil.","LM",70.06,41.61]
[null,"017125","FE","FENCING:REMOVE BOARD FENCE","Fencing:Take down and remove any height vertical board fence with concrete and or timber posts set in concrete, softwood rails, gravel board and vertical boards, remove spoil, fill post holes","LM",9.27,1.39]
[null,"017127","FE","FENCING:RENEW TIMBER GRAVEL BOARD","Fencing:Renew or supply and fix new 25x150mm tanalised gravel board and centre prop, remove existing, excavate, cut, trim existing fence boards as necessary, fix board, remove spoil.","NO",15.53,4.58]
[null,"017128","FE","FENCING:RENEW PCC GRAVEL BOARD","Fencing:Renew or supply and fix new ne 50x225mm pcc gravel board and centre prop, remove existing, excavate as necessary, cut and or trim existing fence boards as necessary, fix board remove spoil.","NO",17.13,6.19]
[null,"017201","FE","FENCING:RENEW CHESTNUT NE 1.5M AND POSTS","Fencing:Renew chestnut pale fencing ne 1.50m high take down existing, remove spoil, renew 60mm dia chestnut posts at 2.22m centres and chestnut pales at 75mm centres, with galvanised straining wire.","LM",18.25,7.31]
[null,"017205","FE","FENCING:RENEW CHESTNUT NE 1.5M","Fencing:Renew existing pales and wire on existing posts by carefully removing and remove from site renew with chestnut pales ne 1.50m high at 75mm centres fixed with galvanised straining wire.","LM",12.97,6.41]
[null,"017209","FE","FENCING:REMOVE DAMAGED CHESTNUT","Fencing:Remove damaged chestnut pale fencing and remove from site to approved tip.","LM",8.75,0]
[null,"017211","FE","FENCING:RENEW INDIVIDUAL CHESTNUT PALE","Fencing:Renew cleft chestnut pale to fence including remove existing and clear away and fix new to match existing.","NO",6.22,1.84]
[null,"017213","FE","FENCING:LINE WIRE SUPPORT","Fencing:Renew or fix new galvanised or pvc coated line wire to support chestnut pale fence, fix wire to posts and fencing with galvanised staples and ties, remove, refix fencing as necessary.","LM",2.85,0.66]
[null,"017215","FE","FENCING:RENEW 75MM STRAIN POST","Fencing:Renew 75mm timber sweet chestnut straining post 1.60m long to chestnut pale fencing including connecting bolt strainers.","NO",15.15,6.4]
[null,"017301","FE","FENCING:RENEW 1.8M HIGH PANEL","Fencing:Renew any interwoven or overlap fence panel ne 1.80x1.80m fixed with galvanised metal support brackets to existing posts, remove and dismantle existing and remove spoil.","NO",52.53,35.020000000000003]
[null,"017302","FE","FENCING:RENEW 1.2M HIGH PANEL","Fencing:Renew any interwoven or overlap fence panel ne 1.80x1.20m fixed with galvanised metal support brackets to existing posts, remove and dismantle existing and remove spoil.","NO",50.19,32.69]
[null,"017303","FE","FENCING:ERECT 1.8M HIGH PANEL WITH TIMBER POSTS","Fencing:Erect 1.80m high interwoven or overlap panel fencing complete with panels fixed to 75x75mm posts, capping, gravel board, excavation, concrete, backfill, remove spoil, reinstatement.","LM",59.63,33.369999999999997]
[null,"017304","FE","FENCING:ERECT 1.2M HIGH PANEL WITH TIMBER POSTS","Fencing:Erect 1.20m high interwoven or overlap panel fencing complete with panels fixed to 75x75mm posts, capping, gravel board, excavation, concrete, backfill, remove spoil, reinstatement.","LM",54.11,30.04]
[null,"017305","FE","FENCING:ERECT 1.8M HIGH PANEL WITH PCC POSTS","Fencing:Erect 1.80m high interwoven or overlap panel fencing with panels fixed to 100x100mm pcc posts, gravel board, capping, excavation concrete, backfill, remove spoil, reinstatement.","LM",65.67,37.22]
[null,"017306","FE","FENCING:ERECT 1.2M HIGH PANEL WITH PCC POSTS","Fencing:Erect 1.20m high interwoven or overlap panel fencing with panels fixed to 100x100mm pcc posts, gravel board, capping, excavation concrete, backfill, remove spoil, reinstatement.","LM",59.48,33.22]
[null,"017307","FE","FENCING:REMOVE PANEL FENCE COMPLETE","Fencing:Remove any panel fencing complete including timber or concrete posts, gravel boards etc, remove spoil, fill post holes with top soil and reinstate paths and gardens.","LM",7.96,1.39]
[null,"017308","FE","FENCING:RENEW 1.2M WIDE PANEL","Fencing:Renew any interwoven or overlap fence panel ne 1.20x1.80m fixed with galvanised metal support brackets to existing posts, remove and dismantle existing and remove spoil.","NO",50.19,32.69]
[null,"017314","FE","FENCING:RENEW 0.9M HIGH PANEL","Fencing:Renew any interwoven or overlap fence panel ne 1.80x0.90m fixed with galvanised metal support brackets to existing posts, remove and dismantle existing and remove spoil.","NO",48,32.69]
[null,"017316","FE","FENCING:ERECT 0.9M HIGH PANEL WITH TIMBER POSTS","Fencing:Erect 0.90m high interwoven or overlap panel fencing complete with panels fixed to 75x75mm posts, capping, gravel board, excavation, concrete, backfill, remove spoil, reinstatement.","LM",48.51,28.82]
[null,"017318","FE","FENCING:ERECT 0.9M HIGH PANEL WITH PCC POSTS","Fencing:Erect 0.90m high interwoven or overlap panel fencing with panels fixed to 100x100mm pcc posts, gravel board, capping, excavation concrete, backfill, remove spoil, reinstatement.","LM",53.57,31.69]
[null,"017401","FE","FENCING:ERECT CHAINLINK FENCE AND POSTS 1.2M","Fencing:Erect new chainlink fencing 1.20m high with pcc posts cast into concrete, three 2.5mm dia galvanised mild steel line wires and galvanised or plastic coated steel chainlink fencing complete.","LM",41.78,15.52]
[null,"017403","FE","FENCING:ERECT CHAINLINK FENCE AND POSTS 1.8M","Fencing:Erect new chainlink fencing 1.80m high with pcc posts cast into concrete, three 2.5mm dia galvanised mild steel line wires and galvanised or plastic coated steel chainlink fencing complete.","LM",47.39,16.75]
[null,"017405","FE","FENCING:RENEW CHAINLINK ON EXISTING POSTS 1.2M","Fencing:Renew chainlink fencing 1.20m high to existing posts, remove spoil, fix new galvanised or plastic coated steel chainlink fencing, three galvanised line wires, all fittings ties etc.","LM",13.02,6.01]
[null,"017407","FE","FENCING:RENEW CHAINLINK ON EXISTING POSTS 1.8M","Fencing:Renew chainlink fencing 1.80m high to existing posts, remove spoil, fix new galvanised or plastic coated steel chainlink fencing, three galvanised line wires, all fittings ties etc.","LM",15.12,7.24]
[null,"017409","FE","FENCING:REMOVE CHAINLINK COMPLETE","Fencing:Remove any height chainlink fencing complete with concrete posts and remove spoil, fill holes with topsoil and reinstate paving and gardens as necessary.","LM",7.96,1.39]
[null,"017411","FE","FENCING:RESECURE LOOSE CHAINLINK FENCE","Fencing:Resecure any height loose chainlink fencing including tightening straining wires as necessary.","LM",1.46,0.14000000000000001]
[null,"017501","FE","FENCING:RENEW GARDEN RAIL 0.575M HIGH","Fencing:Renew with or supply and fix 575mm high timber garden rail fencing with 50x225mm rail bolted to 75x75mmx0.90m timber posts set in concrete bases at ne 2.00m centres complete.","LM",33.1,13.41]
[null,"017503","FE","FENCING:REMOVE GARDEN RAIL 0.575M HIGH","Fencing:Remove 575mm high garden rail fencing including posts and remove spoil, including fill in post holes with top soil and reinstate paving, gardens and the like as necessary.","LM",5.77,1.39]
[null,"017601","FE","FENCING:RENEW HIT AND MISS 1.35M HIGH","Fencing:Renew with or supply and fix timber hit and miss fence 1.35m high, 100x100mm posts at ne 1.80m centres, 100x50mm rails, 100x25mm pales, excavation, concrete, backfill, remove spoil etc.","LM",49.07,22.81]
[null,"017603","FE","FENCING:RENEW HIT AND MISS 1.8M HIGH","Fencing:Renew with or supply and fix timber hit and miss fence 1.80m high, 100x100mm posts at ne 1.80m centres, 100x50mm rails, 100x25mm pales, excavation, concrete, backfill, remove spoil etc.","LM",56.4,27.95]
[null,"017604","FE","FENCING:RENEW HORIZONTAL HIT AND MISS 1.8M HIGH","Fencing:Renew with or supply and fix timber horiz. hit and miss fence 1.80m high, 100x100mm posts at ne 1.20m centres, 100x50mm pales, 150x25mm rails excavation, concrete, backfill etc.","LM",65.12,36.67]
[null,"017605","FE","FENCING:RENEW PALISADE 1.35M HIGH","Fencing:Renew with or supply and fix timber palisade fence 1.35m high, with 100x100mm posts at ne 1.80m centres, 100x50mm rails, 75mm pales at 125mm centres excavation, concrete, backfill etc.","LM",54.01,25.56]
[null,"017607","FE","FENCING:RENEW PALISADE 1.8M HIGH","Fencing:Renew with or supply and fix timber palisade fence 1.80m high, with 100x100mm posts at ne 1.80m centres, 100x50mm rails, 75mm pales at 125mm centres excavation, concrete, backfill etc.","LM",62.86,32.22]
[null,"017609","FE","FENCING:REMOVE HIT AND MISS","Fencing:Remove any softwood hit and miss type of fencing including posts and remove spoil, fill post holes with top soil and reinstate paving and gardens as necessary.","LM",10.15,1.39]
[null,"017611","FE","FENCING:REMOVE PALISADE","Fencing:Remove any palisade type of fencing including posts and remove spoil, fill post holes with top soil and reinstate paving and gardens as necessary.","LM",11.28,2.5299999999999998]
[null,"017651","FE","FENCING:RENEW POST AND 2 RAIL","Fencing:Renew with or supply and fix timber post and two rail fence, with 75x125mm posts at ne 1.80m centres, 100x38mm rails, excavation, concrete, backfill, remove spoil, reinstatement.","LM",38.76,10.31]
[null,"017653","FE","FENCING:RENEW POST AND 3 RAIL","Fencing:Renew with or supply and fix timber post and three rail fence, with 75x125mm posts at ne 1.80m centres, 100x38mm rails, excavation, concrete, backfill, remove spoil, reinstatement.","LM",42.91,12.28]
[null,"017701","FE","FENCING:REMOVE PCC POST AND SLAB","Fencing:Remove pcc post and slab fencing 1.20m high and remove spoil, fill post holes with top soil and reinstate paving gardens and the like as necessary.","LM",10.15,1.39]
[null,"017801","FE","FENCING:MAKE SAFE FENCING","Fencing:Make safe any unstable fence and or gate including but not limited to resecure and or refix fencing, brace and or reset and or refix post, rehang gate or resecure.","LM",14.58,1.45]
[null,"017803","FE","FENCING:RENEW TIMBER PALE AND LAG","Fencing:Renew any type of fencing pale or lag with ne 25x150mm tanalised timber including all labours.","NO",7.02,3.51]
[null,"017805","FE","FENCING:REFIX TIMBER PALE AND LAG","Fencing:Refix any type of fencing pale or lag including remove and refix as necessary.","NO",2.33,0.14000000000000001]
[null,"017807","FE","FENCING:FIX GALVANISED REPAIR BRACKET","Fencing:Supply and fix galvanised repair bracket to rail and post including all cutting and fitting to suit.","NO",7.36,2.98]
[null,"017901","FE","FENCING:ERECT POST AND WIRE 1.2M","Fencing:Erect post and wire fencing 1.20m high with 100x100 pcc posts with three 2.5mm diameter galvanised mild or plastic coated steel line wires including all fittings, ties etc. complete","LM",25.91,8.4]
[null,"017903","FE","FENCING:RENEW WIRES TO EXISTING POSTS 1.2M","Fencing:Renew wire fencing 1.20m high on existing posts, remove old, supply and fix three new galvanised or plastic coated steel 2.50mm diameter line wires and all fittings, ties etc.","LM",5.77,2.27]
[null,"017905","FE","FENCING:RENEW OR FIX LINE WIRE","Fencing:Renew or fix new galvanised or pvc coated line wire to post and wire fence, fix wire to posts including remove and refix fencing as found expedient (measured per run of line wire).","LM",2.06,0.75]
[null,"019001","FE","FENCE POST:EXCAVATE REMOVE AND MAKE GOOD","Fence Post:Excavate and remove remnants of damaged post with earth or concrete surround, fill hole with top soil, remove spoil, reinstate paving, gardens and the like.","NO",9.09,2.5299999999999998]
[null,"019003","FE","FENCE POST:REFIX LOOSE POST","Fence Post:Refix any type of loose post including reset any post set in earth or concrete without removing and refixing any post fixed to brickwork, concrete and make good.","NO",10.199999999999999,1.45]
[null,"019005","FE","FENCE POST:RENEW TIMBER TO HARDCORE OR CONCRETE","Fence Post:Renew timber 100x100mm fence post set in hardcore or concrete ne 2.40m long, excavate hardcore and or concrete, backfill, remove refix fencing, remove spoil, reinstatement.","NO",33.85,16.34]
[null,"019007","FE","FENCE POST:RENEW TIMBER TO BRICKWORK","Fence Post:Renew tanalised softwood fence post fixed to brickwork size 100x100mm and ne 2.40m long including remove and refix fencing and or gates and drill plug and screw and make good.","NO",30.61,17.48]
[null,"019009","FE","FENCE POST:RENEW TIMBER IN METPOST","Fence Post:Renew 75x75mm timber fence post ne 2.40m long with post fixed into driven or bolted Metpost, remove and refix fencing, remove spoil reinstate paving, gardens and the like.","NO",29.39,18.45]
[null,"019011","FE","FENCE POST:RENEW PCC NE 1.5M","Fence Post:Renew pcc fence post or spur set in hardcore or concrete ne 100x100mm ne 1.50m long excavate, hardcore or concrete, backfill, remove, refix fencing, remove spoil, reinstatement.","NO",36.81,14.93]
[null,"019013","FE","FENCE POST:RENEW PCC OVER 1.5M","Fence Post:Renew pcc fence post or spur set in hardcore or concrete ne 100x100mm and over 1.50m long, excavate, hardcore or concrete, backfill, remove, refix fencing, remove spoil, reinstate.","NO",47.31,21.05]
[null,"019015","FE","FENCE POST:FIX 50X100MM SW BATTEN","Fence Post:Supply and fix 50x100mm tanalised softwood batten to pcc post ne 1.80m long including drill and bolt batten to post.","NO",17.559999999999999,8.8000000000000007]
[null,"019018","FE","GATE POST AND GATE:RENEW AND REPAIR ANY FITTING","Gate Post and Gate:Renew or repair any single fitting to post or timber or metal gate including hinge, gudgeon, band, pivot plate or pivot socket, spring, gate catch or bolt (measured per fitting).","NO",14.55,5.8]
[null,"019021","FE","FENCE POST:REPAIR WITH METSPUR","Fence Post:Repair broken post with Metspur fitting including driving spur into ground and bolting to existing post, supply all necessary struts, reinstate paths and gardens on completion.","NO",19.96,6.83]
[null,"021001","FE","GATE:RENEW TIMBER NE 1.0SM","Gate:Renew timber single leaf gate ne 1.00sm overall, including galvanised steel strap hinges and hangers fixed to post, new galvanised mild steel auto catch, decorate, remove spoil.","NO",87.01,65.13]
[null,"021002","FE","GATE:INSTALL TIMBER NE 1.0SM AND POSTS","Gate:Install timber single leaf gate ne 1.00sm overall, galvanised steel strap hinges and hangers fixed to and including pcc posts ne 1.65m long, ironmongery, decorate, reinstatement.","NO",163.41999999999999,97.77]
[null,"021003","FE","GATE:RENEW TIMBER NE 1.5SM","Gate:Renew timber single leaf gate ne 1.50sm overall, including galvanised steel strap hinges and hangers fixed to post, new galvanised mild steel auto catch, decorate, remove spoil.","NO",104.18,75.739999999999995]
[null,"021004","FE","GATE:INSTALL TIMBER NE 1.5SM AND POSTS","Gate:Install timber single leaf gate ne 1.50sm overall, galvanised steel strap hinges and hangers fixed to and including pcc posts ne 1.65m long, ironmongery, decorate, reinstatement.","NO",187.4,115.18]
[null,"021005","FE","GATE:RENEW PAIR TIMBER NE 2.5SM OVERALL","Gate:Renew timber two leaved gate ne 2.50sm overall, including galvanised steel strap hinges and hangers fixed to post, new galvanised mild steel auto catch, decorate, remove spoil.","NO",241.15,193.01]
[null,"021006","FE","GATES:INSTALL PAIR TIMBER NE 2.5SM AND POST","Gates:Install timber two leaved gate ne 2.5sm overall, galvanised steel strap hinges and hangers fixed to and including pcc posts ne 1.65m long, ironmongery, decorate, reinstatement.","NO",317.56,225.65]
[null,"021007","FE","GATE:REPAIR AND EASE AND ADJUST TIMBER GATE","Gate:Repair any damaged timber gate including ease and adjust, remove and rehang as necessary including adjust stop, supply and fix new timbers and scarf new sections as required and redecorate.","NO",26.93,0.67]
[null,"021011","FE","GATE:RENEW 50X25MM STOP NE 2.0M","Gate:Renew 50x25mm tanalised softwood gate stop ne 2.00m long fixed to gate frame and redecorate to match existing.","NO",8.39,1.82]
[null,"021013","FE","GATE:RENEW GATE AND FENCE CAPPING","Gate:Renew any type and size of gate or fence capping with softwood tanalised capping to match and redecorate to match existing.","LM",5.0599999999999996,1.55]
[null,"021021","FE","GATE:INSTALL TIMBER PANEL 1.2M HIGH","Gate:Install timber single leaf gate comprising 0.90m wide x 1.20m high interwoven or overlap panel, galvanised hinges including 100x100mm timber posts 1.85m long, ironmongery, decorate.","NO",102.75,63.36]
[null,"021023","FE","GATE:INSTALL TIMBER PANEL 1.8M HIGH","Gate:Install timber single leaf gate comprising 0.90m wide x 1.80m high interwoven or overlap panel, galvanised hinges including 100x100mm timber posts 2.45m long, ironmongery, prepare to decorate.","NO",116.78,77.39]
[null,"023001","FE","GATE:RENEW METAL NE 1.0SM","Gate:Renew galvanised mild steel gate ne 1.00sm, overall including sliding bolt, stop and one pair of hanging lugs fixed to brickwork or concrete, decorate, remove spoil.","NO",85.86,55.23]
[null,"023003","FE","GATE:RENEW METAL NE 2.0SM","Gate:Renew galvanised mild steel gate ne 2.00sm overall including sliding bolt, stop and one pair of hanging lugs fixed to brickwork or concrete, decorate, remove spoil.","NO",177.56,138.16999999999999]
[null,"023009","FE","GATE:REPAIR AND EASE AND ADJUST METAL GATE","Gate:Ease and adjust any metal gate including remove and refix and carry out any minor repairs and or adjustments as necessary, make good paintwork to match existing.","NO",18.96,1.45]
[null,"025001","FE","GATE POST:RENEW TIMBER","Gate Post:Renew gate post with timber post size 100x125mm, set in concrete, excavation, concrete, backfill and remove spoil, reinstatement, remove refix fencing and gates as necessary, redecorate.","NO",59.08,39.39]
[null,"025003","FE","GATE POST:RENEW PCC","Gate Post:Renew gate post with pcc post ne 1.65m long, set in concrete, excavation, concrete, backfill and remove spoil, reinstatement, remove refix fencing and gates as necessary.","NO",40,18.12]
[null,"025005","FE","GATE FRAME:RENEW TIMBER","Gate Frame:Renew gate frame with tanalised softwood gate frame, including plug and screw frame to brickwork and redecorate to match existing.","LM",32.25,12.55]
[null,"025011","FE","GATE POST:RENEW OR SUPPLY ANCHOR POST","Gate Post:Renew or supply and fix new gate anchor post of any type and size complete with all clips and fastenings, set in concrete, excavation, concrete, backfill, remove spoil, reinstatement.","NO",44.2,17.940000000000001]
[null,"027101","FE","BALUSTRADE:TAKE DOWN AND REMOVE","Balustrade:Take down existing balustrade, clear away and prepare mortices to receive new balustrade.","LM",7.88,0]
[null,"027103","FE","BALUSTRADE:SUPPLY AND FIX 1.2M HIGH","Balustrade:Supply and fix galvanised mild steel balustrade 1200mm high, 6x50mm horizontal rails, 25x25mm standards, 12x12mm balusters all welded set in mortices in mortar, and decorate.","LM",195.57,164.93]
[null,"027105","FE","BALUSTRADE:SUPPLY AND FIX KEE KLAMP","Balustrades:Supply and fix galvanised mild steel tubular kee-klamp balustrade, ne 1100mm high comprising 48mm diameter horizontal rails and standards at 1m centres, set in mortices, decorate.","LM",70.650000000000006,39.58]
[null,"027303","GR","HANDRAIL:6X50MM RAIL ON BRACKETS","Handrail:Supply and fix 6x50mm galvanised mild steel rail welded to and including handrail brackets, fixed to brickwork, rub down, prepare for and decorate to all surfaces.","LM",36.36,18.850000000000001]
[null,"027305","GR","HANDRAIL:48MM GALVANISED STEEL TUBULAR ON BRACKETS","Handrail:Supply and fix 48mm diameter galvanised mild steel tubular handrail welded to and including handrail brackets, fixed to brickwork, rub down, prepare for and decorate to all surfaces.","LM",37.6,15.72]
[null,"027307","GR","HANDRAIL:PVC TO CORE RAIL","Handrail:Supply and fix PVC handrail to core rail including all ends, bends and ramps etc.","LM",15.61,9.0500000000000007]
[null,"027309","GR","HANDRAIL:RENEW MOPSTICK HANDRAIL","Handrail:Renew or supply and fix new softwood mopstick handrail to existing brackets including all ends and refix handrail brackets including replugging if necessary, redecorate and make good.","LM",10.19,5.81]
[null,"027501","GR","BALUSTRADE:REFIX ANY LOOSE TYPE","Balustrade:Refix any type of loose balustrade including remove if necessary, clean and prepare mortices including reforming if required, refix balustrade and make good decorations and finishes.","LM",17.87,0.36]
[null,"027503","GR","HANDRAIL:REFIX ANY LOOSE TYPE","Handrail:Refix any type of loose handrail including remove if necessary, clean and prepare mortices including reforming if required or replug refix handrail, make good decorations and finishes","LM",13.31,0.18]
[null,"029101","GR","LINE:NEW DOMESTIC ROTARY AND BASE","Line:Erect Domestic rotary clothes line with loose socket, excavate for and including concrete base and remove spoil and reinstate paving or garden areas.","NO",102.89,83.19]
[null,"029103","GR","LINE:NEW COMMUNAL/HEAVY DUTY ROTARY AND BASE","Line:Erect communal or heavy duty rotary clothes line with loose socket, excavate for and including concrete base and remove spoil and reinstate paving or garden areas.","NO",197.89,178.2]
[null,"029105","GR","LINE:RENEW DOMESTIC ROTARY","Line:Renew domestic rotary clothes line, set in existing socket and clear away existing to approved tip.","NO",73.41,69.03]
[null,"029107","GR","LINE:RENEW COMMUNAL/HEAVY DUTY ROTARY","Line:Renew communal or heavy duty rotary clothes line, set in existing socket and clear away existing to approved tip.","NO",168.42,164.04]
[null,"029109","GR","LINE:RE-STRING CLOTHES LINE","Line:Re-string any clothes line including remove remains of existing line.","NO",22.42,9.73]
[null,"029111","GR","LINE:NEW PCC CLOTHES POST AND BASE","Line:Erect 150x150x2700mm pcc clothes post, excavate for and including concrete base, and remove spoil and reinstate paving or garden areas.","NO",57.1,37.409999999999997]
[null,"029115","GR","LINE:NEW STEEL CLOTHES POST-NE 3.0M","Line:Erect 50mm diameter galvanised steel clothes post up to 3.00m long with pulleys, excavate for and including concrete base, clear away debris to approved tip and reinstate path or garden areas.","NO",69.260000000000005,49.56]
[null,"029117","GR","LINE:RELOCATE ROTARY DRIER","Line:Relocate rotary drier in new position, break out or renew aluminium tube socket, remove existing base, excavate for and including new concrete base, remove spoil, make good.","NO",42.16,15.9]
[null,"029119","GR","LINE:RELOCATE PCC OR STEEL CLOTHES POST","Line:Relocate pcc or steel clothes post in new position, break out existing post and base, excavate for and including new concrete base and remove spoil, reinstate paving or garden areas","NO",38.229999999999997,14.16]
[null,"029123","GR","LINE:RENEW PULLEY","Line:Renew pulley wheel and bracket to clothes line, including fixing to any background.","IT",18.71,9.9600000000000009]
[null,"029125","GR","LINE:RENEW RESTRAINING BRACKET","Line:Renew restraining bracket to clothes Line including fixing to any background.","IT",11.74,2.98]
[null,"029301","GR","SIGN:COLLECT AND FIX","Sign:Collect sign from Client's Office and screw to timber, plug and screw to masonry or bolt to metal posts.","NO",13.85,0.72]
[null,"029303","GR","SIGN:NEW NO PARKING","Sign:Supply standard No Parking sign and screw to timber, plug or screw to masonry or bolt to metal posts.","NO",60.79,34.53]
[null,"029305","GR","SIGN:NEW NO BALL GAMES","Sign:Supply standard No Ball Games sign and screw to timber, plug or screw to masonry or bolt to metal posts.","NO",60.79,34.53]
[null,"029307","GR","SIGN:NEW NO DOGS","Sign:Supply standard No Dogs sign and screw to timber, plug or screw to masonry or bolt to metal posts.","NO",60.79,34.53]
[null,"031001","GR","BOLLARD:RENEW OR FIX NEW LOCKABLE STEEL","Bollard:Renew with or supply and fix new lockable steel bollard including remove old, position and set foundation bolts in concrete or brick paving, fix bollard, make good, remove spoil, two keys.","NO",184.99,158.72999999999999]
[null,"031005","GR","BOLLARD:RENEW OR FIX NEW 914MM HIGH STEEL","Bollard:Renew with or supply and fix new 76mm dia x914mm high steel bollard bedded in concrete, remove old, excavate, fix new bollard including concrete foundation, make good, remove spoil.","NO",125.11,90.1]
[null,"031009","GR","BOLLARD:RENEW OR FIX NEW PCC 900MM HIGH","Bollard:Renew with or supply and fix new 225-150mm dia tapered pcc bollard 900mm high above ground including remove existing, excavate, fix bollard, concrete foundation, make good, remove spoil.","NO",97.04,64.22]
[null,"031013","GR","BOLLARD:RENEW OR FIX NEW 800MM TIMBER","Bollard:Renew with or supply and fix new 150x150mm timber bollard, 800mm high above ground including remove existing, excavate, fix bollard concrete foundation, make good, remove spoil.","NO",63.4,34.950000000000003]
[null,"033101","DR","DRAIN:INSTALL 100MM CLAY NE 1M DEEP","Drain:Excavate ne 1.00m deep, compact bottoms 150mm concrete bed, lay 100mm clay pipe haunch in concrete, backfill, remove spoil and all fittings, connections, remove any existing drains, testing.","LM",120.99,31.27]
[null,"033103","DR","DRAIN:INSTALL 100MM CLAY 1-2M DEEP","Drain:Excavate over 1m and ne 2m deep, compact bottoms, 150mm concrete bed, lay 100mm clay pipe haunch up, backfill, remove spoil, all fittings, connections, remove any existing drains, testing","LM",204.89,32.01]
[null,"033301","DR","DRAIN:INSTALL 110MM PVCU NE 1M DEEP","Drain:Excavate ne 1.00m deep, compact bottoms 100mm gravel bed, and 110mm diameter PVCu pipe and 210mm select backfill, backfill, remove spoil, all fittings, connections etc, remove existing drains.","LM",117.95,30.42]
[null,"033303","DR","DRAIN:INSTALL 110MM PVCU 1-2M DEEP","Drain:Excavate over 1m and ne 2m deep, compact bottoms, 100mm gravel bed, 110mm dia PVCu pipe 210mm select backfill, backfill, remove spoil, all fittings, connections etc, remove existing drains.","LM",198.92,30.42]
[null,"033501","DR","DRAIN:REPAIR 100MM PIPE NE 1M DEEP","Drain:Repair by locating damaged pipe, excavate ne 1.00mm deep, ne 3.00m long, remove pipe, bed and surround, compact bottoms, 150mm concrete, bed, lay 100mm dia clay pipe, backfill, all fittings.","NO",272.07,94.82]
[null,"033503","DR","DRAIN:REPAIR 100MM PIPE 1-2M DEEP","Drain:Repair by locating damaged pipe, excavate ne 2.00m deep, ne 3.00m, long, remove pipe, bed and surround, compact bottoms, 150mm concrete, bed, lay 100mm dia clay pipe, backfill, all fittings.","NO",442.76,94.82]
[null,"033505","DR","DRAIN:REPAIR 150MM PIPE NE 1M DEEP","Drain:Repair by locating damaged pipe, excavate ne 1.00mm deep, ne 3.00m long, remove pipe, bed and surround, compact bottoms, 150mm concrete, bed, lay 150mm dia clay pipe, backfill, all fittings.","NO",312.87,124.67]
[null,"033507","DR","DRAIN:REPAIR 150MM PIPE 1-2M DEEP","Drain:Repair by locating damaged pipe, excavate ne 2.00m deep, ne 3.00m, long, remove pipe, bed and surround, compact bottoms, 150mm concrete, bed, lay 150mm dia clay pipe, backfill, all fittings.","NO",476.99,124.67]
[null,"035001","DR","GULLY:INSTALL CLAY BACK INLET GULLY","Gully:Excavate, level, compact bottoms and set any type of vitrified clay gully with 100mm back inlet and grating including set and surround in concrete, backfill, remove spoil, reinstatement.","NO",146.22999999999999,93.71]
[null,"035003","DR","GULLY:INSTALL PVCU BACK INLET GULLY","Gully:Excavate, level, compact bottoms and set any type of PVCu gully with 100mm back inlet and grating including set and surround in concrete, backfill, remove spoil, reinstatement.","NO",88.71,49.32]
[null,"035005","DR","GULLY:REMOVE AND SEAL OFF AND MAKE GOOD","Gully:Excavate, remove existing gully (any type) seal pipe, backfill and make good, remove spoil, and reinstate paving, gardens and the like as necessary.","NO",15.88,2.75]
[null,"035007","DR","GULLY:RENEW ANY TYPE SURROUND AND KERB","Gully:Renew precast concrete or brick gully surround or kerb bedded in cement mortar (1:4) including breaking up existing and remove spoil and reinstate paving, gardens and the like.","NO",21.34,8.2100000000000009]
[null,"035009","DR","GULLY:RENEW GRATING","Gully:Renew missing or damaged any size or type of gully grating.","NO",15.6,12.97]
[null,"035013","DR","GULLY:RENEW INSPECTION PLATE","Gully:Renew missing or damaged any size or type of screwed down inspection plate to gully or rodding eye.","NO",33.729999999999997,28.48]
[null,"037001","DR","MANHOLE:CONSTRUCT NEW BRICK NE 1.35M DEEP","Manhole:Construct manhole ne 1.35m deep to invert in semi engineering bricks 225mm thick with 150mm thick concrete base, 100mm thick reinforced pcc cover slab, cover with frame, complete.","IT",974.5,461.12]
[null,"037003","DR","MANHOLE:RENEW BRICK NE 1.35M DEEP","Manhole:Renew manhole ne 1.35m deep to invert level in semi engineering bricks 225mm thick with 150mm thick concrete base, 100mm thick reinforced pcc cover slab, cover with frame, complete.","IT",1011.15,450.93]
[null,"037005","DR","INSPECTION CHAMBER:NEW SHALLOW POLYPROPYLENE","Inspection Chamber:Construct polypropylene shallow inspection chamber ne 600mm deep for 110mm dia PVCu pipe including cover and frame, excavation, backfill, remove spoil, reinstatement, testing.","IT",118.93,62.03]
[null,"037007","DR","INSPECTION CHAMBER:RENEW SHALLOW POLYPROPYLENE","Inspection Chamber:Renew polypropylene shallow inspection chamber ne 600mm deep for 110mm dia PVCu pipe including cover and frame, excavation, backfill, remove spoil, reinstatement, testing.","IT",142.55000000000001,59.39]
[null,"037009","DR","INSPECTION CHAMBER:NEW UNIVERSAL POLYPROPYLENE","Inspection Chamber:Construct polypropylene universal inspection chamber ne 1.00m deep for 110mm dia PVCu pipe including cover and frame, excavation, backfill, remove spoil, reinstatement.","IT",216.76,144.55000000000001]
[null,"037011","DR","INSPECTION CHAMBER:RENEW UNIVERSAL POLYPROPY","Inspection Chamber:Renew polypropylene universal inspection chamber ne 1.0m deep for 110mm dia PVCu pipe including cover and frame, excavation, backfill, remove spoil, reinstatement, testing.","IT",235.86,137.38]
[null,"037013","DR","MANHOLE:RENEW PCC COVER SLAB","Manhole:Renew precast cover slab ne 1000x1500x100mm thick including bed in cement mortar (1:3), remove spoil, and reinstate paving, gardens and the like as necessary.","NO",80.650000000000006,47.83]
[null,"037017","DR","MANHOLE:REBED COVER AND OR FRAME","Manhole:Lift and rebed existing cover and frame, bed frame in mortar (1:3) including break out of foundation required to ensure correct levels clean off and refix cover including reset in grease.","NO",18.989999999999998,1.48]
[null,"037019","DR","MANHOLE:RENEW COVER LIGHT GRADE","Manhole:Renew manhole cover and frame, light duty single seal, any size, including bed frame in mortar (1:3), remove spoil, and reinstate paving, gardens and the like as necessary.","NO",25.91,12.78]
[null,"037021","DR","MANHOLE:RENEW COVER MEDIUM GRADE","Manhole:Renew manhole cover and frame, medium duty, single seal, any size, including bed frame in mortar (1:3), remove spoil, reinstate paving, gardens and the like as necessary","NO",36.409999999999997,18.899999999999999]
[null,"037027","DR","MANHOLE:RENEW COVER LIGHT INTERNAL","Manhole:Renew manhole cover and frame with stainless steel double seal light duty recessed inspection cover and frame any size including bed frame in mortar (1:3) fill cover.","NO",75.78,42.95]
[null,"037029","DR","INSPECTION COVER:RENEW-300X300MM","Inspection Cover:Renew galvanised inspection cover and frame size 300x300mm including bed frame in cement mortar (1:3), remove spoil, and reinstate paving, gardens and the like as necessary.","NO",47.65,34.520000000000003]
[null,"039003","DR","GULLY:CLEAN FLUSH OUT CLEAR BLOCKAGE","Gully:Clear blockage to gully including rodding as necessary, flush with clean water and removal of debris to approved tip.","NO",11.82,0]
[null,"039004","DR","DRAIN:JET BLOCKAGE","Drain:Clear blocked drain run by pressure jet, remove and refix manhole covers and gratings, includes all hire charges, flush out, test and remove spoil.","HR",68.25,0]
[null,"039006","DR","DRAIN:ROD BLOCKAGE","Drain:Clear blocked drain run by rodding, remove and refix manhole covers and gratings as necessary, flush out, test and remove spoil.","IT",26.26,0]
[null,"039009","DR","MANHOLE:CLEAR BLOCKAGE NE 3.0M DEEP","Manhole:Clear out debris to manhole ne 3.00m deep and remove from site, and flush out and test and remove spoil.","IT",13.13,0]
[null,"039015","DR","DRAIN:CCTV SURVEY","Drain:Undertake CCTV survey of drain runs to identify fault or following repairs or jetting, remove and refix manhole covers and gratings, includes all hire charges supply report and video.","HR",68.25,0]
[null,"039018","DR","TEST:SMOKE OR PRESSURE TEST","Test:Carry out smoke or pressure test to existing drain run and report to Client Representative (not to be claimed in association with any other works).","IT",32.44,0.93]
[null,"041001","DR","LAND DRAIN:75MM NE 2.0M DEEP","Land Drain:Excavate trench maximum 630mm wide over 1.00m ne 2.00m deep, remove spoil, lay 50mm granular bed, 75mm concrete or PVCu land drain pipe and matting, backfill trench in stone and topsoil,","LM",263.58999999999997,132.29]
[null,"041005","DR","SOAKAWAY:EXCAVATE NEW","Soakaway:Excavate for new soakaway ne 2.00m deep, lift/set aside/relay turf, remove excavated material, fill with hard, dry, broken, masonry, stone or gravel backfill remove spoil.","CM",204.65,64.599999999999994]
[null,"041007","DR","SOAKAWAY:CLEAR EXISTING","Soakaway:Excavate to locate soakaway ne 2.00m deep, lift/set aside/relay turf, remove excavated material, clear debris from soakaway, refill with new and existing soakaway medium, backfill.","CM",204.65,64.599999999999994]
[null,"043101","PL","MAIN:LAY 19MM ALKATHENE NE 1M DEEP","Main:Excavate ne 1.00m deep, compact bottoms, lay 150mm thick gravel bed and haunch, lay 19mm diameter alkathene pipe including all fittings backfill and dispose of waste.","LM",98.79,13.05]
[null,"043103","PL","MAIN:LAY 19MM ALKATHENE 1-2M DEEP","Main:Excavate over 1.00m ne 2.00m deep, compact bottoms, lay 150mm thick gravel bed and haunch, lay 19mm diameter alkathene pipe including all fittings, backfill and dispose of waste.","LM",166.24,15.54]
[null,"043301","PL","MAIN:REPAIR UNDERGROUND BURST","Main:Renew up to 22mm copper underground main ne 1.00m long in trench, connectors, bends and fittings, wrap with tape, turn off/on water, test, all excavation, backfill/cart away, reinstatement.","NO",100.68,1.94]
[null,"043503","PL","BURST:EXCAVATE AND REPAIR BURST PIPE NE 28 MM","Burst:Turn off/on water supply, drain down/refill, renew length of upto 28mm diameter alkathene pipe ne 1.00m long with couplings and fittings, test all excavation, backfill/cart away, reinstatement.","NO",111.73,13]
[null,"045001","PL","STOPCOCK:RENEW EXTERNAL BOX AND PIPE","Stopcock:Renew stopcock box and salt glazed pipe ne 750mm deep including all necessary excavation and backfill and make good to existing finishes.","NO",82.59,19.13]
[null,"045003","PL","STOPCOCK:RENEW EXTERNAL BOX","Stopcock:Renew stopcock box including remove existing and bed new in cement mortar (1:3) and make good existing finishes.","NO",19.43,10.68]
[null,"045007","PL","STOPCOCK:RENEW COPPER TO COPPER NE 22MM","Stopcock:Renew copper to copper mains stopcock ne 22mm diameter including turn water off/on, fix new stopcock including all couplings and connections and test.","NO",28.21,7.42]
[null,"047001","GR","MAIN AND DRAIN:REINSTATE CONCRETE PAVING","Main and Drain:Extra for breaking up, remove spoil subsequently reinstate up to 150mm thick concrete with hardcore sub-base under, up to 600mm wide including joints, make good to existing finishes.","LM",56.55,19.350000000000001]
[null,"047003","GR","MAIN AND DRAIN:REINSTATE MACADAM PAVING","Main and Drain:Extra for breaking up, remove spoil subsequently reinstate up to 100mm thick macadam with hardcore sub-base under, up to 600mm wide including joints, make good to existing finishes.","LM",33.11,17.79]
[null,"047005","GR","MAIN AND DRAIN:REINSTATE FLAG PAVING","Main and Drain:Extra for lifting, set aside and subsequently relaying flag paving and sub-base grout and point, up to 600mm wide including any extra cutting and bonding to existing paving.","LM",10.73,2.85]
[null,"047007","GR","MAIN AND DRAIN:REINSTATE BRICK PAVING","Main and Drain:Extra for lifting, set aside and subsequently relaying brick paviors and sub-base grout and point, up to 600mm wide including all bonding to existing paving.","LM",46.62,2.85]
[null,"048001","GR","PAVING:LOWER FLAG PAVING PRIOR TO DPC INJECTION","Paving:Take up paving flag, set aside, excavate to lower paving to 150mm below new floor, relay flag paving on 50mm sand, 75mm compacted stone, all in conjunction with injected dpc treatment.","SM",73.17,18.46]
[null,"048003","GR","PAVING:LOWER INSITU PAVING PRIOR TO DPC INJECTION","Paving:Break up insitu paving, excavate to lower paving to 150mm below new floor and lay new pcc flag paving on 50mm sand on 75mm compacted stone, all in conjunction with injected dpc treatment.","SM",98.3,32.65]
[null,"048005","GR","GARDEN:LOWER GARDEN PRIOR TO DPC INJECTION","Garden:Excavate in earth to reduce levels to 150mm below new floor level and distribute surplus earth over garden areas or remove to tip, all in conjunction with injected dpc treatment.","SM",18.79,5.66]
[null,"048007","GR","PAVING:LOWER MACADAM PAVING BEFORE DPC INJECTION","Paving:Break up existing macadam, excavate to lower paving to 150mm below new floor, 75mm stone, blinding, 50mm base course 20mm wearing macadam all in conjunction with injected dpc treatment.","SM",94.33,33.06]
[null,"049001","GR","FOUNDATIONS:EXCAVATE CONCRETE TRENCH","Foundations:Excavate trench 600mm wide ne 1m deep lay concrete to depth ne 775mm, build cavity wall in engineering bricks and facings, including dpc, build in ties, fill cavity of wall, all labours.","LM",279.45999999999998,121.9]
[null,"070101","GR","SHED:INSTALL PROPRIETARY STORAGE INCLUDING SLAB","Shed:Supply and install proprietary storage shed (PC Sum for Supply £300.00) plan size 2400x1800mm with door, all ironmongery, locks etc., 150mm concrete slab, dpm, and sub-base, remove spoil.","IT",658.11,118.03]
[null,"070102","GR","SHED:INSTALL PROPRIETARY STORAGE EXCLUDING SLAB","Shed:Supply and install proprietary storage shed (PC Sum for Supply £300.00)plan size 2400x1800mm complete with door, all ironmongery, locks etc., shed fixed to existing hardstanding.","IT",519.80999999999995,32.25]
[null,"070105","JR","SHED DOOR:RENEW L AND B DOOR","Shed Door:Renew shed or bin store door with any size softwood ledged and braced door with 20mm tongued, grooved and v jointed boarding, all ironmongery, decorate and make good.","NO",177.21,124.69]
[null,"070107","JR","SHED DOOR:RENEW F L AND B DOOR","Shed Door:Renew shed or bin store door with any size softwood framed, ledged, braced door, 20mm tongued, grooved and v jointed boarding, all ironmongery, decorate and make good.","NO",198.41,139.33000000000001]
[null,"070109","JR","SHED LOCK:RENEW COMPLETE","Shed Lock:Renew rimlock, keep and set of rimlock furniture to shed or bin store door, including altering door as necessary for new lock and housing out existing frame as necessary.","NO",72.040000000000006,56.72]
[null,"070111","JR","SHED DOOR:RENEW OR FIX NEW PADLOCK","Shed Door:Renew or supply and fix 50mm galvanised Squire 440 or other equal and approved padlock to shed or bin store door, supply two keys and hand to Tenant or Client Representative.","NO",10.52,6.15]
[null,"070113","JR","SHED DOOR:RENEW WITH HASP AND STAPLE","Shed Door:Renew any type of hasp and staple to shed or bin store door.","NO",19.79,4.4800000000000004]
[null,"070115","JR","SHED DOOR:RENEW HASP AND PADLOCK","Shed Door:Renew any type of hasp, staple and 50mm galvanised Squire 440 or other equal and approved padlock to shed or bin store door, supply two keys and hand to Tenant or CR.","NO",24.63,10.62]
[null,"080001","GR","COAL BUNKER:REMOVE EXISTING","Coak Bunker:Take down existing damaged coal bunker and remove from site to approved tip.","NO",45.13,18.87]
[null,"080003","GR","COAL BUNKER:RENEW WOODEN TOP","Coal Bunker:Take off existing wooden top and remove from site to approved tup, fix new wooden top.","NO",57.06,50.49]
[null,"080005","GR","COAL BUNKER:RENEW CONCRETE TOP","Coal Bunker:Take off existing concrete top and remove from site to approved tip, fix new concrete top.","NO",51.45,44.88]
[null,"080007","GR","COAL BUNKER:FIX NEW TO EXISTING BASE","Coal Bunker: Supply and fix new precast concrete sectional coal bunker, 12 cwt capacity complete to existing base.","NO",201.11,161.72]
[null,"080009","GR","COAL BUNKER:PREPARE BASE","Coal Bunker:Excavate to reduce levels, lay 100mm granular sub base, lay 2 No. 900x600mm pcc paving slabs, solid bedded on cement mortar (1:3), remove all compacted materials from site to approved tip.","NO",63.65,24.26]
[null,"098001","GR","CLIENT INSPECTION:GROUNDWORKS","Client Inspection:Undertake client inspection, testing etc in connection with groundworks, report to Client Representative (any repairs required to be ordered must be instructed by CR).","IT",13.13,0]
[null,"098003","FE","CLIENT INSPECTION:FENCING","Client Inspection:Undertake client inspection, testing etc in connection with fencing, report to Client Representative (any repairs required to be ordered must be instructed by CR) ","IT",13.13,0]
[null,"098005","DR","CLIENT INSPECTION:DRAINAGE","Client Inspection:Undertake client inspection, testing etc in connection with drainage,report to Client Representative (any repairs required to be ordered must be instructed CR).","IT",13.13,0]
[null,"101101","BL","WALL:DEMOLISH EXTERNAL 1/2B WALL","Wall:Take down external half brick wall and remove spoil.","SM",19.350000000000001,4.91]
[null,"101103","BL","WALL:DEMOLISH EXTERNAL 1B WALL","Wall:Take down external one brick wall and remove spoil.","SM",32.07,10.19]
[null,"101105","BL","WALL:DEMOLISH EXTERNAL 1-1/2B WALL","Wall:Take down external one and a half brick wall and remove spoil.","SM",52.24,15.47]
[null,"101107","BL","WALL:DEMOLISH EXTERNAL CAVITY WALL","Wall:Take down external cavity wall and remove spoil.","SM",30.44,9.43]
[null,"101109","BL","WALL:DEMOLISH EXTERNAL BLOCKWORK NE 100MM","Wall:Take down ne 100mm thick external block wall and remove spoil.","SM",13.28,4.53]
[null,"101111","BL","WALL:DEMOLISH EXTERNAL BLOCKWORK NE 225MM","Wall:Take down exceeding 100mm and ne 225mm thick external block wall and remove spoil.","SM",23.32,10.19]
[null,"101121","BL","WALL:DEMOLISH PLASTERED 1/2B WALL","Wall:Take down half brick or 100mm blockwork non-load bearing wall, remove spoil, including associated doors, frames, skirtings, plaster etc., make good the existing structure and finishes.","SM",33.28,11.4]
[null,"101123","BL","WALL:DEMOLISH PLASTERED 1B WALL","Wall:Take down one brick or over 100mm, ne 225mm blockwork non-load bearing wall, remove spoil, including associated doors, frames, plaster etc., make good the existing structure and finishes.","SM",53.1,20.27]
[null,"101301","BL","WALL:BUILD 1/2B WALL IN COMMONS","Wall:Supply and lay new common bricks in half brick wall bedded and pointed in cement lime mortar (1:1:6).","SM",69.64,21.5]
[null,"101303","BL","WALL:BUILD 1B WALL IN COMMONS","Wall:Supply and lay new common bricks in one brick wall bedded and pointed in cement lime mortar (1:1:6).","SM",121.36,44.76]
[null,"101305","BL","WALL:BUILD 1-1/2B WALL IN COMMONS","Wall:Supply and lay new common bricks in one and a half brick wall in cement lime mortar (1:1:6).","SM",172.91,67.87]
[null,"101307","BL","WALL:BUILD CAVITY WALL IN COMMONS","Wall:Supply and lay new common bricks in cavity wall to match existing, bedded and pointed in cement lime mortar (1:1:6) including form cavity with 5 No. wall ties per square metre.","SM",131.29,43.76]
[null,"101309","BL","WALL:BUILD 1/2B WALL IN FACINGS","Wall:Supply and lay new facing bricks in half brick wall bedded and pointed in cement lime mortar (1:1:6) as the work proceeds.","SM",96.71,31.06]
[null,"101311","BL","WALL:BUILD 1B WALL IN FACINGS","Wall:Supply and lay new facing bricks in one brick wall bedded and pointed in cement lime mortar (1:1:6) as the work proceeds.","SM",173.3,63.88]
[null,"101313","BL","WALL:BUILD CAVITY WALL IN FACINGS","Wall:Supply and lay new facing bricks in cavity wall to match existing, bedded and pointed in mortar (1:1:6) as the work proceeds including form cavity with 5 No. wall ties per square metre.","SM",176.67,62.88]
[null,"101317","BL","WALL:BUILD NE 100MM BLOCK WALL","Wall:Supply and lay new 75 or 100mm thick blockwork in walls, bedded and pointed in cement lime mortar (1:1:6).","SM",41.56,8.73]
[null,"101319","BL","WALL:BUILD 225MM BLOCK WALL","Wall:Supply and lay new 225mm thick blockwork in walls, bedded and pointed in cement lime mortar (1:1:6).","SM",72.17,19.649999999999999]
[null,"101501","BL","WALL:REBUILD 1/2B WALL IN COMMONS","Wall:Demolish as necessary, clean off and clear away, rebuild half brick wall, in common bricks bed and point in mortar (1:1:6) to match existing and remove spoil.","SM",82.77,21.5]
[null,"101503","BL","WALL:REBUILD 1B WALL IN COMMONS","Wall:Demolish as necessary, clean off and clear away, rebuild one brick wall in common bricks, bed and point in cement lime mortar (1:1:6) to match existing and remove spoil.","SM",145.43,44.76]
[null,"101505","BL","WALL:REBUILD 1/2B WALL IN FACINGS","Wall:Demolish as necessary, clean off and clear away, rebuild half brick wall, in facing bricks bed and point in cement lime mortar (1:1:6) to match existing, and remove spoil.","SM",112.03,31.06]
[null,"101507","BL","WALL:REBUILD 1B WALL IN FACINGS","Wall:Demolish as necessary, clean off and clear away, rebuild one brick wall in facing bricks, bed and point in cement lime mortar (1:1:6) to match existing and remove spoil.","SM",195.18,63.88]
[null,"101511","BL","WALL:REBUILD NE 100MM BLOCK WALL","Wall:Demolish as necessary, clean off and clear away, rebuild 75 or 100mm blockwork in cement lime mortar (1:1:6) bed and point to match existing and remove spoil.","SM",48.12,8.73]
[null,"101513","BL","WALL:REBUILD 225MM BLOCK WALL","Wall:Demolish as necessary, clean off and clear away, rebuild 225mm blockwork in cement lime mortar (1:1:6) bed and point to match existing and remove spoil.","SM",78.73,19.649999999999999]
[null,"101515","BL","FIREWALL:REBUILD 1B WALL IN COMMONS","Firewall:Demolish as necessary, clean off, clear away and rebuild one brick firewall in roof space, in common bricks, bed and point in cement lime mortar (1:1:6) to match existing and remove spoil","SM",176.06,44.76]
[null,"101517","BL","CHIMNEY BREAST:REBUILD IN ROOF SPACE","Chimney Breast:Demolish as necessary, clean off, rebuild chimney breast in roof space, in common bricks, bed and point in mortar (1:1:6) to match existing and remove spoil.","SM",176.06,44.76]
[null,"101601","BL","WALLS:REBUILD SLEEPER WALLS","Walls:Take down honeycombed sleeper walls, ne 500mm high, clean off bricks, rebuild cement mortar (1:3) up to 20 per cent new common bricks, bonding end into existing walls, remove spoil.","LM",29.91,8.0299999999999994]
[null,"101603","BL","WALLS:BUILD PIERS FOR WALL PLATE","Walls:Build new 225x225mm common brick piers in cement mortar (1:3) to support new wall plate ne 500mm high.","NO",20.7,5.38]
[null,"101701","BL","PIER:REBUILD 1B WIDE ATTACHED IN COMMONS","Pier:Demolish as necessary, clean off, clear away, rebuild attached pier in commons, one brick wide x half brick projection, bedded, pointed in mortar (1:1:6) to match existing and remove spoil.","LM",27.97,10.46]
[null,"101703","BL","PIER:REBUILD 1B ISOLATED IN COMMONS","Pier:Demolish as necessary, clean off, clear away, rebuild one brick isolated pier in commons with boe coping, bedded, pointed in mortar (1:1:6) to match existing, building in gudgeons etc.","LM",98,10.46]
[null,"101705","BL","PIER:REBUILD 1-1/2B WIDE ATTACHED IN COMMONS","Pier:Demolish as necessary, clean off, clear away, rebuild attached pier in commons, one and a half brick wide, half brick projection, bed, point in mortar (1:1:6) to match existing, remove spoil.","LM",48.67,15.85]
[null,"101707","BL","PIER:REBUILD 1-1/2B ISOLATED IN COMMONS","Pier:Demolish as necessary, clean off, clear away, rebuild one and a half brick isolated pier in common bricks with boe coping, bedded, pointed in mortar (1:1:6) to match, build in gudgeons etc.","LM",132.65,23.23]
[null,"101709","BL","PIER:REBUILD 1B WIDE ATTACHED IN FACINGS","Pier:Demolish as necessary, clean off, clear away, rebuild attached pier in facings, one brick wide x half brick projection, bedded, pointed in mortar (1:1:6) to match existing and remove spoil.","LM",38.979999999999997,14.91]
[null,"101711","BL","PIER:REBUILD 1B ISOLATED IN FACINGS","Pier:Demolish as necessary, clean off, clear away, rebuild one brick isolated pier in facings with boe coping, bedded, pointed in mortar (1:1:6) to match existing, building in gudgeons etc.","LM",111.2,14.91]
[null,"101713","BL","PIER:REBUILD 1-1/2B WIDE ATTACHED IN FACINGS","Pier:Demolish as necessary, clean off, clear away, rebuild attached pier in facings, one and a half brick wide, half brick projection, bed, point in mortar (1:1:6) to match existing, remove spoil.","LM",64.180000000000007,22.6]
[null,"101715","BL","PIER:REBUILD 1-1/2B ISOLATED IN FACINGS","Pier:Demolish as necessary, clean off, clear away, rebuild one and a half brick isolated pier in facings with boe coping, bedded, pointed in mortar (1:1:6) to match, building in gudgeons etc.","LM",157.86000000000001,33.119999999999997]
[null,"101901","BL","WALL:REPAIR FRACTURE","Fracture:Remove any applied finish, cut out bricks as necessary to either side of fracture, one face only, stitch in new bricks, bed and point to match existing in mortar (1:1:6), make good finishes.","LM",60.21,7.69]
[null,"101903","BL","WALL:REPAIR SMALL PATCH IN COMMONS","Wall:Cut out bricks from face of wall, clean and clear away, lay up to 15 No. new common bricks in mortar (1:1:6), bond, bed and point to match existing and remove spoil.","IT",25.73,3.85]
[null,"101905","BL","WALL:REPAIR LARGE PATCH IN COMMONS","Wall:Cut out bricks from face of wall, clean and clear away, lay over 15 No. new common bricks up to 2sm in area in mortar (1:1:6), bond, bed and point to match existing and remove spoil.","IT",132.65,23.23]
[null,"101907","BL","WALL:REPAIR SMALL PATCH IN FACINGS","Wall:Cut out bricks from face of wall, clean and clear away, lay up to 15 No. new facing bricks in cement lime mortar (1:1:6), bond, bed and point to match existing and remove spoil.","IT",29.57,5.49]
[null,"101909","BL","WALL:REPAIR LARGE PATCH IN FACINGS","Wall:Cut out bricks from face of wall, clean and clear away, lay over 15 No. new facing bricks up to 2sm in area in mortar (1:1:6), bond, bed and point to match existing and remove spoil.","IT",153.47999999999999,33.119999999999997]
[null,"101911","BL","WALL:RENEW INDIVIDUAL 100MM BLOCK","Wall:Cut out old 100mm block, clean and clear away, supply and lay new block in cement lime mortar (1:1:6), bond, bed and point to match existing and remove spoil (first block).","NO",7.49,0.92]
[null,"101913","BL","WALL:RENEW SUBSEQUENT 100MM BLOCKS","Wall:Cut out old 100mm block, clean and clear away, supply and lay new block in cement lime mortar (1:1:6), bond, bed and point to match existing and remove spoil (subsequent blocks).","NO",5.3,0.92]
[null,"101915","BL","WALL:RENEW INDIVIDUAL 225MM BLOCK","Wall:Cut out old 225mm block, clean and clear away, supply and lay new block in cement lime mortar (1:1:6), bond, bed and point to match existing and remove spoil (first block).","NO",13.15,2.21]
[null,"101917","BL","WALL:RENEW SUBSEQUENT 225MM BLOCKS","Wall:Cut out old 225mm block, clean and clear away, supply and lay new block in cement lime mortar (1:1:6), bond, bed and point to match existing and remove spoil (subsequent blocks).","NO",10.96,2.21]
[null,"102103","BL","WALL:RAKE OUT AND REPOINT BRICKWORK","Wall:Rake out existing joints of brickwork minimum 12mm deep and repoint brickwork in mortar to match existing and remove spoil.","SM",27.86,1.6]
[null,"102105","BL","WALL:RAKE OUT AND REPOINT JOINT OF BRICKWORK","Wall:Rake out existing mortar joint as necessary min 12mm and repoint in mortar to match existing in joints to cills, sides of door/window frames or concrete cladding joints etc and remove spoil.","LM",3.66,0.16]
[null,"102201","SM","STONE:REBUILD WALL NE 300MM NS IRREGULAR COURSES","Stone:Rebuild irregular coursed natural stone wall ne 300mm thick, take down, clean off, including additional stone to match, bed, joint, point to match in mortar (1:3), all features, remove spoil.","SM",219.1,107.49]
[null,"102203","SM","STONE:REBUILD WALL OVER 300MM NS IRREGULAR","Stone:Rebuild irregular coursed natural stone wall over 300mm thick, take down, clean off, including additional stone to match, bed, joint, point to match in mortar (1:3), all features, remove spoil.","SM",275.38,137.52000000000001]
[null,"102205","SM","STONE:REBUILD WALL NE 300MM NS REGULAR COURSES","Stone:Rebuild regular coursed natural stone wall ne 300mm thick, take down, clean off, including additional stone to match, bed, joint, point to match in mortar (1:3), all features, remove spoil.","SM",260.68,107.49]
[null,"102207","SM","STONE:REBUILD WALL OVER 300MM NS REGULAR COURSES","Stone:Rebuild regular coursed natural stone wall over 300mm thick, take down, clean off, including additional stone to match, bed, joint, point to match in mortar (1:3), all features, remove spoil.","SM",327.9,137.52000000000001]
[null,"102211","SM","STONE:REBUILD WALL NE 300MM RS IRREGULAR COURSES","Stone:Rebuild irregular coursed reconstructed stonework ne 300mm thick, take down, clean off, including additional to match, bed, joint, point to match in mortar, all features, remove spoil.","SM",164.69,94.66]
[null,"102213","SM","STONE:REBUILD WALL OVER 300MM RS IRREGULAR","Stone:Rebuild irregular coursed reconstructed stonework over 300mm thick, take down, clean off, including additional to match, bed, joint, point to match in mortar, all features, remove spoil.","SM",209.47,121.93]
[null,"102215","SM","STONE:REBUILD WALL NE 300MM RS REGULAR COURSES","Stone:Rebuild regular coursed reconstructed stonework ne 300mm thick, take down, clean off, including additional to match, bed, joint, point to match in mortar, all features, remove spoil.","SM",193.13,94.66]
[null,"102217","SM","STONE:REBUILD WALL OVER 300MM RS REGULAR COURSES","Stone:Rebuild regular coursed reconstructed stonework over 300mm thick, take down, clean off, including additional to match, bed, joint, point to match in mortar, all features, remove spoil.","SM",244.48,121.93]
[null,"102219","SM","STONE:REBUILD WALL CAVITY SKIN RS REGULAR COURSES","Stone:Rebuild regular coursed reconstructed stone outer skin of cavity wall, take down, clean off, additional to match, bed, joint, point to match in mortar, ties, dpc, lintols, bonding, remove spoil.","SM",178.95,54.21]
[null,"102221","SM","STONE:REBUILD WALL CAVITY SKIN RS IRREGULAR","Stone:Rebuild irregular coursed reconstructed stone outer skin of cavity wall, take down, clean off, additional stone, bed, joint, point to match, ties, dpc, lintols, bonding, remove spoil.","SM",146.6,54.69]
[null,"102223","SM","WALL:RAKE OUT AND REPOINT STONEWORK","Wall:Rake out existing joints of stonework minimum 20mm deep and repoint in cement or lime mortar to match existing and remove spoil.","SM",27.74,1.48]
[null,"102225","SM","WALL:RAKE OUT REPOINT AND RESET STONEWORK","Wall:Rake out existing joints of stonework minimum 20mm deep, dub out and reset stonework, provision of any new matching stonework, repoint in cement or lime mortar to match existing and remove spoil.","SM",108.07,64.31]
[null,"102301","BL","TELL TALE:BED IN GLASS TELL TALE","Tell Tale:Hack out cement joint in brickwork and provide and bed in glass tell tale in cement mortar (1:3).","NO",13.01,8.6300000000000008]
[null,"102503","BL","WALL:CLEAR CAVITY AREAS NE 1.0SM","Wall:Cut out bricks in areas ne 1sm for access into cavity, clear blockage, make good insulation, remove spoil, clean and replace bricks and bed and point in mortar (1:1:6) to match existing.","IT",71.69,3.85]
[null,"102719","BL","HOLE:MAKE GOOD HOLE ANY DIAMETER","Hole:Make good any diameter hole after removal or around any diameter existing pipe passing through brick/block wall, including make good finishes.","NO",7,0.43]
[null,"102721","BL","HOLE:HOLE FOR CAVITY INSPECTION","Hole:Drill hole through half brick skin of cavity wall for purpose of boroscope inspection of cavity and make good on completion (inspection undertaken by others).","NO",3.79,0.28999999999999998]
[null,"102731","BL","OPENING:FORM IN 1/2B INTERNAL WALL FOR DOOR","Opening:Cut or form opening for internal doorway in plastered half brick wall, insert lintol, quoin up jambs, make good all works disturbed including decorations, temporary propping and remove spoil.","IT",160.21,28.91]
[null,"102733","BL","OPENING:FORM IN 1B INTERNAL WALL FOR DOOR","Opening:Cut or form opening for internal doorway in plastered one brick wall, insert lintol, quoin up jambs, make good all works disturbed including decorations, temporary propping and remove spoil.","IT",216.52,45.83]
[null,"102741","BL","OPENING:BUILD UP INTERNAL IN 100MM BLOCKS","Opening:Build up internal door opening in 100mm blockwork bedded, pointed in mortar to match existing, prepare opening, cut, tooth, bond jambs to receive blockwork, make good, remove spoil.","IT",178.8,34.369999999999997]
[null,"102743","BL","OPENING:BUILD UP INTERNAL IN COMMONS 1/2B THICK","Opening:Build up internal door opening in half brick commons, bedded, pointed in mortar to match existing, prepare opening, cut, tooth, bond jambs to receive brickwork, make good, remove spoil.","IT",234.72,59.65]
[null,"102745","BL","OPENING:BUILD UP INTERNAL IN COMMONS 1B THICK","Opening:Build up internal door opening in one brick commons, bedded, pointed in mortar to match existing, prepare opening, cut, tooth, bond jambs to receive brickwork, make good, remove spoil.","IT",350.94,101.47]
[null,"102751","BL","OPENING:FORM DOOR IN EXTERNAL WALL","Opening:Cut or form opening for door over 1.00sm in cavity wall, insert steel lintol, dpc, quoin up jambs, form arch and step, to match existing, make good, propping, temporary supports, remove spoil.","SM",219.35,88.05]
[null,"102753","BL","OPENING:FORM WINDOW IN EXTERNAL WALL","Opening:Cut or form opening for window over 1.00sm in cavity wall, insert steel lintol, dpc, quoin up jambs, form arch and cill, to match existing, make good, temporary propping, remove spoil.","SM",278.79000000000002,143.11000000000001]
[null,"102761","BL","OPENING:ENLARGE EXISTING WINDOW","Opening:Cut out and reform opening for window over 1.00sm in cavity wall, insert steel lintol, dpc, quoin up jambs, form arch and cill, to match, make good, propping, temporary supports, remove spoil.","SM",248.38,138.96]
[null,"102763","BL","OPENING:ADAPT EXTERNAL DOOR TO WINDOW","Opening:Remove existing door frame, adapt opening for window over 1.00sm in cavity wall, steel lintol, dpc, quoin up jambs, form arch, cill, to match, make good, propping, remove spoil.","IT",175.61,64]
[null,"102765","BL","OPENING:CONVERT OR EXTEND DOOR INTO WINDOW","Opening:Remove existing door frame, cut or form opening for window over 1.00sm in cavity wall, steel lintol, dpc, quoin up jambs, form arch, cill, to match, make good, propping, remove spoil.","SM",271.89,149.34]
[null,"102771","BL","OPENING:BUILD UP EXTERNAL IN COMMONS","Opening:Build up existing opening for door or window, in commons and blockwork skins in mortar, cut, tooth, bond, external 2 coats render, plaster internal, dpc, ties, make good and remove spoil.","SM",147.5,40.270000000000003]
[null,"102773","BL","OPENING:BUILD UP EXTERNAL IN FACINGS","Opening:Build up existing opening for door or window, in facings and blockwork skins in mortar, point to match existing, cut, tooth, bond, plaster internal, dpc, ties, make good and remove spoil.","SM",158.63,47.03]
[null,"102901","BL","LINTEL:RENEW PCC LINTEL","Lintel:Cut out and renew 100x150mm pcc lintel ne 1.50m long with 2 No. 16mm bars, bed ends in mortar (1:1:6), renew dpc, make good brickwork, plasterwork, sealant fillets and remove spoil.","LM",97.63,18.850000000000001]
[null,"102905","BL","LINTEL:RENEW WITH CATNIC NE 2.5M LONG","Lintel:Cut out existing and renew with steel Catnic type lintel ne 2.50m long, fit cavity tray dpc, make good brickwork/blockwork, plasterwork, sealant fillets and remove spoil.","NO",208.9,101.67]
[null,"102907","BL","ARCH:RENEW BRICK ON EDGE","Arch:Renew brick on edge arch in facings, bed and point in mortar to match existing, temporary supports, make good/rebuild as necessary, renew sealant fillets and remove spoil.","LM",59.88,7.36]
[null,"102911","BL","ARCH:RENEW BRICK ON END","Arch:Renew brick on end arch in facings, bed and point in mortar to match existing, temporary supports, make good/rebuild as necessary, renew sealant fillets and remove spoil.","LM",64.260000000000005,7.36]
[null,"103101","BL","CILL:RENEW SINGLE QUARRY TILE","Cill:Renew any quarry tile to cill, bed in mortar and point to match existing including clean off and all cutting and all make good and remove spoil.","NO",11.68,0.74]
[null,"103103","BL","CILL:RENEW WITH 2 COURSE QUARRY TILES","Cill:Renew any cill with quarry tile cill two courses high bedded in cement mortar including carefully cutting out existing cill, insert new dpc, make good and remove spoil.","LM",49.55,12.35]
[null,"103105","BL","CILL:MAKE GOOD DAMAGED CONCRETE CILL","Cill:Hack off defective area of concrete cill, clean, treat any exposed reinforcement, insert new 6mm reinforcing bars, apply bonding agent, reform cill to existing profiles, formwork, make good.","NO",53.21,5.07]
[null,"103107","BL","CILL:RENEW PCC CILL","Cill:Cut out existing cill and renew with pcc cill, bedded in cement lime mortar (1:1:6), renew dpc and make good brickwork, plasterwork, sealant and or cement fillets and remove spoil.","LM",49.81,19.170000000000002]
[null,"103109","BL","CILL:REBED INDIVIDUAL BRICK TO CILL","Cill:Rebed individual brick to any type of brick cill including take off, clean and rebed and point in mortar to match existing and make good to all finishes and fillets, remove spoil.","NO",4.0999999999999996,0.16]
[null,"103111","BL","CILL:REBED BRICK ON EDGE CILL","Cill:Rebed brick on edge cill to one brick wall including take off, clean and rebed and point in mortar to match existing and make good to all finishes and fillets, remove spoil.","LM",29.41,0.96]
[null,"103113","BL","CILL:RENEW BRICK ON EDGE CILL","Cill:Renew brick on edge cill to one brick wall, new dpc, facings to match existing, bed and point in mortar (1:1:6), make good all brickwork, plasterwork, cement fillets, remove spoil.","LM",43.24,8.23]
[null,"103115","BL","CILL:REBED BRICK ON END CILL","Cill:Rebed brick on end soldier course to half brick wall including take off, clean and rebed and point in mortar to match existing and make good to all finishes and fillets, remove spoil.","LM",27.22,0.96]
[null,"103117","BL","CILL:RENEW BRICK ON END CILL","Cill:Renew brick on end soldier course to half brick wall, new dpc, facings to match existing bed, point in mortar (1:1:6), make good fillets brickwork, plasterwork, remove spoil.","LM",41.05,8.23]
[null,"103119","BL","THRESHOLD:RENEW WITH PCC","Threshold:Break out existing and renew with pcc threshold size ne 80x140mm with water bar, finished fair on exposed faces bedded and jointed in cement lime mortar (1:1:6) and remove spoil.","NO",44.11,11.29]
[null,"103121","BL","THRESHOLD:RENEW WITH INSITU CONCRETE","Threshold:Break out existing and renew with insitu concrete (1:2:4), threshold ne 80x140mm with water bar, formwork and finished fair on exposed faces, make good all work disturbed, remove spoil.","NO",61.85,2.76]
[null,"103301","BL","COPING:RENEW ISOLATED BRICK ON EDGE","Coping:Renew isolated brick in brick on edge coping including clean and prepare wall and brick and bed and point new brick in cement lime mortar (1:1:6) all to match existing and remove spoil.","NO",4.57,0.63]
[null,"103303","BL","COPING:REBED BRICK ON EDGE COPING","Coping:Take off brick coping to one brick wall, clean mortar from bricks and top of wall, clear away rubble, rebed bricks in cement lime mortar (1:1:6), point to match existing and remove spoil.","LM",29.41,0.96]
[null,"103305","BL","COPING:LAY NEW BRICK ON EDGE COPING","Coping:Supply and lay facing bricks in brick-on- edge coping to one brick wall in cement lime mortar (1:1:6), and point as the work proceeds.","LM",29.1,7.22]
[null,"103307","BL","COPING:REBED PCC COPING","Coping:Take off precast coping ne 300mm wide, clean mortar from top of wall and coping, bed and point in cement lime mortar (1:1:6) with bonding agent and remove spoil.","LM",8.36,0.48]
[null,"103311","BL","COPING:LAY NEW PCC COPING","Coping:Supply and lay new precast concrete coping ne 300mm wide in section to match existing, bedded and pointed in cement lime mortar (1:1:6) with bonding agent.","LM",17.690000000000001,11.13]
[null,"103315","BL","COPING:RENEW TILE CREASING","Coping:Renew any single tile creasing to wall in conjunction with coping renewal including clean off, lay, bed and point in cement lime mortar (1:1:6) to match existing and remove spoil.","LM",12.71,6.59]
[null,"103317","BL","COPING:RENEW 2 ROW TILE CREASING","Coping:Renew any double tile creasing to wall in conjunction with coping renewal including clean off, lay, bed and point in cement lime mortar (1:1:6) to match existing and remove spoil.","LM",27.61,13.17]
[null,"110001","BL","DPC:INSTALL NEW CAVITY TRAY DPC","DPC:Cut out three courses of brickwork to external skin, chase internal skin, lay polypropylene base cavity tray, relay brickwork in mortar (1:1:6) and treat with waterproof solution and remove spoil.","LM",47.33,1.37]
[null,"110003","BL","DPC:INSTALL PROPRIETARY CAVITY TRAY DPC","DPC:Cut out external skin of brick/block/stone/ reconstructed stone wall, chase internal skin, build in proprietary cavity tray, relay wall in mortar (1:1:6), point to match, remove spoil.","LM",72.930000000000007,13.85]
[null,"112001","SP","WALL 225MM:CHEMICAL INJECTION EXTERNAL DPC","Wall 225mm:Drill external wall and inject chemical dpc, make good holes, all as specified.","LM",51.07,6.43]
[null,"112003","SP","WALL 338MM:CHEMICAL INJECTION EXTERNAL DPC","Wall 338mm:Drill external wall and inject chemical dpc, make good holes, all as specified.","LM",72.06,9.0399999999999991]
[null,"112005","SP","WALL 450MM:CHEMICAL INJECTION EXTERNAL DPC","Wall 450mm:Drill external wall and inject chemical dpc, make good holes, all as specified.","LM",96.44,12.41]
[null,"112007","SP","WALL 563MM:CHEMICAL INJECTION EXTERNAL DPC","Wall 563mm:Drill external wall and inject chemical dpc, make good holes, all as specified.","LM",117.82,15.4]
[null,"112009","SP","WALL 113MM:CHEMICAL INJECTION INTERNAL DPC","Wall 113mm:Drill internal wall and inject chemical dpc, make good holes, all as specified.","LM",27.49,3.86]
[null,"112011","SP","WALL 225MM:CHEMICAL INJECTION INTERNAL DPC","Wall 225mm:Drill internal wall and inject chemical dpc, make good holes, all as specified.","LM",51.07,6.43]
[null,"112013","SP","WALL CAVITY:CHEMICAL INJECT INTERNAL DPC","Wall Cavity:Drill 113mm thick skin of internal wall, and inject chemical dpc, make good holes, all as specified.","LM",27.49,3.86]
[null,"112015","SP","WALL 338MM:CHEMICAL INJECTION INTERNAL DPC","Wall 338mm:Drill internal wall and inject chemical dpc, make good holes, all as specified.","LM",65.489999999999995,9.0399999999999991]
[null,"112018","SP","WALL CAVITY:CHEMICAL INJECT 2 SKINS DPC","Wall Cavity:Drill both 113mm thick skins of hollow wall, and inject chemical dpc, make good holes all as specified.","LM",62.87,7.72]
[null,"112020","SP","DWELLING:CHEMICAL DPC INJECT SURVEY","Dwelling:Undertake initial survey and report, mobilise to undertake dpc treatment, and provide 30 year insurance backed guarantee, demobilise, (in addition to codes 112001 to 112018).","IT",78.75,0]
[null,"112022","SP","DWELLING:ROT ERADICATION SURVEY","Dwelling:Undertake initial survey and report, mobilise to undertake rot eradication treatment, provide 30 year insurance backed guarantee for rot eradication treatment, demobilise, remove spoil.","IT",78.75,0]
[null,"113001","SP","WALL:IRRIGATE WITH FUNGICIDE","Wall:Drill holes as necessary and pressure inject with approved fungicidal solution.","SM",18.79,6.98]
[null,"114001","BL","WALL OR CEILING:APPLY ANTI-FUNGICIDE","Wall or Ceiling:Brush down and apply anti-fungicide solution to walls and or ceilings and wash off traces of fungus.","SM",2.89,0.7]
[null,"114101","AS","FLOORING:RENEW ASPHALT NE 1SM IN PATCH","Flooring:Renew any floor screed with asphalt flooring to horizontal surfaces, ne 1.00sm, renew prepare surface and applying 2 coats 19mm asphalt to horizontal surfaces, and remove spoil.","IT",98.14,15.42]
[null,"114103","AS","FLOORING:RENEW ASPHALT OVER 1SM","Flooring:Renew any floor screed with asphalt flooring to horizontal surfaces, over 1.00sm renew prepare surface and applying 2 coats 19mm asphalt to horizontal surfaces, and remove spoil.","SM",78.36,19.28]
[null,"115001","BL","AIRBRICK:RENEW WITH PVC","Airbrick:Cut out existing airbrick and renew with 225x150mm PVC ventilator, bed and point in cement lime mortar (1:1:6) and make good any finishes, remove spoil.","NO",13.68,2.74]
[null,"115003","BL","AIRBRICK:INSTALL NEW PVC VENT","Airbrick:Cut or form opening in wall and insert 225x150mm PVC ventilator, bed, point in mortar (1:1:6), insert cavity lining and internal vent with flyscreen, make good finishes, remove spoil.","NO",54.76,10.99]
[null,"115005","BL","AIRBRICK:RENEW CLAY OR CONCRETE VENT","Airbrick:Cut out existing airbrick and renew with 225x150mm clay/ concrete ventilator, bed and point in cement lime mortar (1:1:6) and make good any finishes, remove spoil.","NO",14.85,3.9]
[null,"115007","BL","AIRBRICK:INSTALL NEW CLAY OR CONCRETE VENT","Airbrick:Cut or form opening in wall and insert 225x150mm clay/concrete ventilator, bed, point in mortar (1:1:6), insert cavity lining, internal vent with flyscreen, make good, remove spoil.","NO",55.78,12.01]
[null,"115009","BL","AIRBRICK:REBED LOOSE VENT","Vent:Take out loose ventilator or airbrick and rebed and point in cement lime mortar (1:1:6) to match existing.","NO",11.1,0.16]
[null,"115011","BL","VENTILATOR:RENEW PVC OR ALUMINIUM","Ventilator:Supply and fix 225x150mm Hit and Miss PVC or aluminium ventilator grille fixed to any background including remove any existing ventilator, make good to all finishes, remove spoil.","NO",10.77,4.21]
[null,"115012","BL","VENT:INSTALL PROPRIETARY VENT KIT","Vent:Supply and install approx. 125mm diameter proprietary ventilator kit complete including core drill openings through external/internal cavity walls, install vent kit, make good, remove spoil.","NO",66.78,27.39]
[null,"115014","BL","VENT:INSTALL TUMBLE VENT KIT","Vent:Supply and install approx. 100mm diameter tumble drier vent kit complete including 3 metre length of 100mm flexible pvc ducting, cut openings in walls, install kit, make good, remove spoil.","NO",54.08,14.69]
[null,"120001","BL","CHIMNEY:REBUILD 4 COURSE 1 FLUE","Chimney:Take down and rebuild 4 courses to single flue stack, clean/store bricks, rebuild, renew any defective bricks, refix/renew pot, liner, pcc capping, flashings, dpc, make good, remove spoil.","IT",137.52000000000001,85]
[null,"120003","BL","CHIMNEY:REBUILD 1 COURSE 1 FLUE","Chimney:Extra to take down and rebuild single flue stack for each additional course taken down and rebuilt.","IT",17.05,3.05]
[null,"120005","BL","CHIMNEY:REBUILD 4 COURSE 2 FLUE","Chimney:Take down and rebuild 4 courses to two flue stack, clean/store bricks, rebuild, renew any defective bricks, refix/renew pots, liners, pcc capping, flashings, dpc, make good, remove spoil","IT",253.19,151.65]
[null,"120007","BL","CHIMNEY:REBUILD 1 COURSE 2 FLUE","Chimney:Extra to take down and rebuild two flue stack for each additional course taken down and rebuilt.","IT",33.869999999999997,5.86]
[null,"120009","BL","CHIMNEY:REBUILD 4 COURSE 4 FLUE","Chimney:Take down and rebuild 4 courses to four flue stack, clean/store bricks, rebuild, renew any defective bricks, refix/renew pots, liners, pcc capping, flashings, dpc, make good, remove spoil.","IT",430.39,261.01]
[null,"120011","BL","CHIMNEY:REBUILD 1 COURSE 4 FLUE","Chimney:Extra to take down and rebuild four flue stack for each additional course taken down and rebuilt.","IT",57.32,11.37]
[null,"120013","BL","CHIMNEY:REBUILD 4 COURSE 6 FLUE","Chimney:Take down and rebuild 4 courses to six flue stack, clean/store bricks, rebuild, renew any defective bricks, refix/renew pots, liners, pcc capping, flashings, dpc, make good, remove spoil.","IT",687.98,460.4]
[null,"120015","BL","CHIMNEY:REBUILD 1 COURSE 6 FLUE","Chimney:Extra to take down and rebuild six flue stack for each additional course taken down and rebuilt.","IT",77.709999999999994,16.88]
[null,"120017","BL","CHIMNEY:REBUILD 4 COURSE 8 FLUE","Chimney:Take down and rebuild 4 courses to eight flue stack, clean/store bricks, rebuild, renew any defective bricks, refix/renew pots, liners, pcc capping, flashings, dpc, make good, remove spoil.","IT",905.17,583.48]
[null,"120019","BL","CHIMNEY:REBUILD 1 COURSE 8 FLUE","Chimney:Extra to take down and rebuild eight flue stack for each additional course taken down and rebuilt.","IT",97.22,22.38]
[null,"120021","BL","CHIMNEY:DEMOLISH STACK AND MAKE GOOD ROOF","Chimney:Demolish chimney stack complete down to below roof level, cap flues with pcc slab, cut into flues, insert 225x225mm airbricks, extend roof covering to match existing, remove spoil.","IT",303.5,67.16]
[null,"120023","BL","CHIMNEY:SEAL FLUE","Chimney:Remove pot and seal flue opening to chimney stack with slates bedded in mortar (1:1:6) cut out and insert air vent in chimney breast, make good all works disturbed and remove spoil.","IT",66.73,14.21]
[null,"120025","BL","CHIMNEY:RENEW FACING BRICKS NE 6NO","Chimney:Renew facing brick to chimney stack ne 6 No. cut out defective brick, lay new facing bricks bed, point in mortar to match existing, make good all works disturbed, remove spoil (per brick).","NO",5.01,0.63]
[null,"120027","BL","CHIMNEY:RENEW BRICKS NE 0.50SM","Chimney:Renew facing bricks in chimney stack in area ne 0.50sm, cut out bricks, lay new facing bricks bed, point in mortar to match existing, make good all works disturbed remove spoil.","NO",91.03,12.25]
[null,"120029","BL","CHIMNEY:RAKE OUT AND REPOINT STACK","Chimney:Rake out joints to brickwork to chimney stack, minimum 12mm, and repoint in cement lime mortar (1:1:6) to match existing make good all works disturbed and remove spoil.","SM",31.12,0.48]
[null,"120031","BL","CHIMNEY:RENEW TWO COAT RENDER TO STACK","Chimney:Renew any thickness of render to chimney, hack off, rake out, apply 18mm two coats cement and sand render trowelled smooth, all labours, make good all works disturbed and remove spoil.","SM",46.59,2.82]
[null,"125001","BL","CHIMNEY:BALL FLUE AND CLEAR OBSTRUCTION","Chimney:Ball chimney flue, clear obstruction and clean up including all associated work, and remove spoil.","IT",34.89,17.39]
[null,"125003","BL","CHIMNEY:BALL FLUE REMOVE COWL","Chimney:Remove cowl, ball chimney flue, clear obstructions and clean up, refix cowl, including all associated works, and remove spoil.","IT",45.82,19.559999999999999]
[null,"125005","BL","CHIMNEY:CLEAR BLOCKED FLUE IN ROOF","Chimney:Clear blockage from flue in roof area, cut into flue, remove blockage, rebuild and make good flue and stack and remove spoil.","IT",107.33,19.79]
[null,"125007","BL","CHIMNEY:CLEAR BLOCK FLUE IN BREAST","Chimney:Clear blockage from flue in chimney breast, cut hole in breast and flue, remove blockage, make good to flue, breast and wall finishes and remove spoil.","IT",124.08,25.6]
[null,"125010","BL","CHIMNEY:SWEEP FLUE - REGISTERED","Chimney:Sweep flue, including protect carpets, furniture etc., and remove spoil, work to be undertaken by a registered chimney sweep.","IT",60.45,14.49]
[null,"125011","BL","CHIMNEY:SMOKE TEST AND REPORT","Chimney:Smoke test flue including all associated work and written report to Client Representative.","IT",22.23,9.1]
[null,"130003","BL","CHIMNEY:RENEW POT NE 900MM HIGH","Chimney:Renew existing pot with any new pot ne 900mm high including clean off, alter existing opening to suit, bed and flaunch in cement mortar (1:3).","NO",151.57,131.88]
[null,"130007","BL","CHIMNEY:RENEW MARCONE NE 990MM","Chimney:Renew existing pot with Marcone Flue terminal ne 990mm high including clean off, alter existing opening to suit, bed and flaunch in cement mortar (1:3).","NO",137.04,117.35]
[null,"130009","BL","CHIMNEY:REBED POT","Chimney:Remove and refix existing pot including clean off pot and flaunching, prepare and rebed in mortar (1:3) and make good flaunching.","NO",21.18,1.48]
[null,"130011","BL","CHIMNEY:INSTALL COLT COWL","Chimney:Supply and fix new Colt type cowl to chimney pot.","NO",53.19,44.44]
[null,"130013","BL","CHIMNEY:INSTALL AEROCOWL TO POT","Chimney:Supply and fix new 175x150mm diameter Aerocowl to chimney pot.","NO",84.6,75.849999999999994]
[null,"130015","BL","CHIMNEY:450MM VENTED CAP TO POT","Chimney:Supply and fix new terra cotta vented cap 450mm high to chimney pot.","NO",41.09,32.340000000000003]
[null,"130017","BL","CHIMNEY:RENEW GC GAS TERMINAL","Chimney:Supply and fix GC gas terminal including remove old terminal, clean off bed, alter opening to suit and bed and flaunch terminal in mortar (1:3).","NO",59.62,37.729999999999997]
[null,"130019","BL","CHIMNEY:RENEW GALVANISED WIRE BIRDCAGE","Chimney:Renew heavy galvanised wire birdcage to any size chimney pot including removal of old cage","NO",30.11,25.73]
[null,"130021","BL","CHIMNEY:REMOVE AND REFIX TV AERIAL OR DISH","Chimney:Remove and refix TV Aerial or satellite dish to chimney stack including disconnection and later reconnection and testing (in conjunction with associated chimney works).","NO",17.510000000000002,0]
[null,"135001","BL","METER CUPBOARD:RENEW OR SUPPLY AND FIX NEW","Meter Cupboard:Renew or fix new approved meter cupboard size 380x825x210mm complete with locking device and all other ironmongery and plug and screw to walls and make good.","NO",68.31,42.05]
[null,"135003","BL","METER CUPBOARD:RENEW DOOR","Meter Cupboard:Take off existing, clear away and renew any type of meter cupboard door to external meter cupboard.","NO",33.700000000000003,22.76]
[null,"140001","BL","FIREPLACE:RENEW COMPLETE","Firplace:Take out fire surround and hearth complete, build in new firebase, fireback and throat unit, new tiled fireplace surround and tiled hearth, make good, and remove spoil.","NO",358.83,245.04]
[null,"140002","BL","FIRE:RENEW COMPLETE","Fire:Take out fire surround and hearth complete, clear recess, rebuild with back base, firebase, fireback and lintel, build in new fireplace surround,hearth, make good, clear away debris.","NO",444.5,286.94]
[null,"140003","BL","FIRE:RENEW SURROUND","Fire:Take out fire surround and build in new tiled fireplace surround, make good all finishings and remove spoil.","NO",145.47999999999999,92.96]
[null,"140005","BL","FIRE:RENEW SURROUND AND HEARTH","Fire:Remove existing and renew tiled fireplace surround and hearth size ne 1200x900x100mm with opening size 510x575mm complete with shelf, bedded in mortar (1:1:6) make good, remove spoil.","NO",248.52,169.74]
[null,"140007","BL","FIRE:RENEW HEARTH COMPLETE","Fire:Take out tiled hearth, clear away, prepare for, supply and build in tiled hearth bedded in cement mortar, make good finishings, and remove spoil.","NO",122.06,78.3]
[null,"140008","BL","FIRE:ADAPT FOR GAS","Fire:Remove fireplace surround/hearth, fire, backboiler, blank off, modify opening to gas regulation standard to suit fire/bbu (installed by others) make good, clear away debris.","NO",150.83000000000001,19.53]
[null,"140009","BL","FIRE:REMOVE FIRE AND SEAL OPENING","Fire:Take out fire, surround and hearth, seal opening with brickwork or blockwork, plaster vent, render and set wall, make good floor and skirting, and seal chimney cap and remove spoil.","IT",113.63,26.1]
[null,"140010","BL","FIRE:REMOVE REFIX FOR BACKBOILER RENEWAL","Fire:Remove existing fireplace surround, and firebricks, in conjunction with backboiler renewal, (msd sep) set aside, later refix including make good, clear away debris.","NO",194.19,36.630000000000003]
[null,"140011","BL","FIRE:RENEW LINTOL TO OPEN FIRE","Fire:Take out lintol and clear away, prepare for, supply and fix new bevelled concrete fireplace lintol and point with fire cement.","IT",44.34,20.71]
[null,"140013","BL","FIRE:REPOINT TILES WITH FIRE CEMENT","Fire:Clean out and repoint joints of fireclay tiles with fire cement.","IT",8.92,2.35]
[null,"140014","BL","FIRE:RENEW FIRECHEEK","Fire:Take out and renew single fire-cheek including any cutting out and rebuilding of brickwork and point with fire cement, clean off and remove spoil.","IT",14.69,3.75]
[null,"140015","BL","FIRE:RENEW FIRECHEEKS","Fire:Take out and renew pair of fire-cheeks including any cutting out and rebuilding of brickwork and point with fire cement.","IT",25.01,7.5]
[null,"140017","BL","FIRE:RENEW FIRECHEEKS AND ASH PIT","Fire:Take out and renew pair of fire-cheeks and ash pit including any cutting out and rebuilding of brickwork and point with fire cement.","IT",36.340000000000003,16.64]
[null,"140019","BL","FIRE:CLEAN AND RESET DAMPER","Fire:Clean throating and reset damper plate to open fireplace.","NO",6.78,0.22]
[null,"140021","BL","FIRE:RENEW STANDARD SIZE CANOPY","Fire:Take off and renew standard size canopy to any fire and make good finishings and seal joints.","NO",26.74,13.61]
[null,"140023","BL","FIRE:RENEW ALL NIGHT BURNER GRATE","Fire:Take out and renew standard all night burner grate.","IT",36.520000000000003,23.39]
[null,"140025","BL","FIRE:RENEW SINGLE GLAZED TILE","Fire:Hack off tile, prepare and renew individual glazed tile to surround or hearth to match existing, fixed with adhesive, grout in, clean off and clear away.","NO",4.8899999999999997,0.52]
[null,"140027","BL","FIRE:RENEW GLAZED TILES","Fire:Hack off tiles, prepare and renew glazed tiles to surround or hearth to match existing, fixed with an approved adhesive, grout in, clean off and remove spoil.","SM",139.57,19.22]
[null,"140028","BL","FIRE:OVERHAUL DEFECTIVE SOLID FUEL APPLIANCE","Fire:Take out, clean, reset and resecure all night burner bedded in fireproof cement, clean throating and reset damper to open fireplace, check operation of fire and remove spoil.","NO",38.979999999999997,6.15]
[null,"140029","BL","FIRE:RENEW FIRE BASKET","Fire:Take out and renew fire basket to open fire.","NO",26.1,21.72]
[null,"140031","BL","FIRE:RENEW FIRE FRET","Fire:Take out and renew fire fret to open fire.","NO",32.130000000000003,27.75]
[null,"140032","BL","FIRE:RENEW FIRE BASE","Fire:Take out and renew fire base to open fire, bed and point in fire cement and clear away debris to approved tip.","NO",46.41,33.28]
[null,"140033","BL","FIRE:SUPPLY SET OF TOOLS","Fire:Supply and place in position operating tools for all night burner.","NO",18.559999999999999,14.19]
[null,"140035","BL","FIRE:RENEW BOTTOM GRATE","Fire:Take out and renew bottom grate to all night burner.","NO",27.24,18.489999999999998]
[null,"140036","BL","FIRE:RENEW BOTTOM BARS","Fire Take out and renew any bottom bars to all night burner set, and clear away debris to approved tip.","NO",34.869999999999997,26.12]
[null,"140037","BL","FIRE:REFIX ALL NIGHT BURNER","Fire:Take out, clean, reset and resecure all night burner bedded in fireproof cement and remove spoil.","NO",28.23,2.35]
[null,"140038","BL","FIRE:RENEW FIRE BRICKS","Fire:Renew firebricks to any type of fire, cut out existing and bed new firebricks in cement mortar and point with fire cement, and remove spoil.","IT",65.55,39.29]
[null,"140039","BL","FIRE:RENEW GLASS","Fire:Take out and renew glass strip to door of closed room heater, clean out rebates, remove spoil and make good.","IT",52.34,26.08]
[null,"140041","BL","FIRE:RENEW GLASS SET","Fire:Take out and renew set of glass strips to door of closed room heater, clean out rebates, remove spoil and make good.","IT",71.09,57.96]
[null,"140043","BL","FIRE:REFLAUNCH FLUE","Fire:Clean out mortar from throat of flue and remove to approved tip, and reflaunch with fire cement mortar.","IT",29.5,9.8000000000000007]
[null,"140045","BL","FIRE:REPAIR CRACKS TO FIREBRICK","Fire:Rake out cracks in firebrick back, point in flush with fire cement mortar.","IT",15.58,2.4500000000000002]
[null,"140047","BL","FIRE:REBED TILED HEARTH","Fire:Take up existing tiled hearth, clean off old bed and rebed in cement mortar (1:3).","IT",30.11,3.85]
[null,"140049","BL","FIRE:REFIX FIRE SURROUND","Fire:Take off existing tiled fire surround and refix to wall by plugging and screwing, make good plasterwork disturbed.","IT",42.29,2.9]
[null,"140050","BL","FIRE:REMOVE FIRE AND BACKBOILER","Fire:Remove fire surround, hearth and burning appliance, drain down, remove back boiler unit, pipework, sweep flue, seal opening, vent, render and set, make good, pepper pot to chimney.","IT",187.56,30]
[null,"140051","BL","FIRE:RENEW FIREBACK","Fire:Remove existing defective fireback and fix new fireback, ease and clean damper.","IT",79.13,52.87]
[null,"140053","BL","FIRE:RENEW ADJUSTABLE THROAT UNIT","Fire:Remove existing and fix new adjustable throat restrictor unit.","IT",193.1,166.84]
[null,"140055","BL","FIRE:RENEW ASBESTOS TYPE ROPE","Fire:Remove defective asbestos type rope to any type of joint, refix new asbestos type rope, wedge and point in.","IT",14.33,1.2]
[null,"140057","BL","FIRE:REFIX ASBESTOS TYPE ROPE","Fire:Wedge and point existing asbestos type rope to any joint.","IT",9.0399999999999991,0.28999999999999998]
[null,"145001","BL","COOKER:REMOVE SOLID FUEL COOKER COMPLETE","Cooker:Drain down system, disconnect cooker, boiler and flue and remove, build up recess, build in pcc throating block and pcc lintel, make good works disturbed and remove spoil.","IT",354.27,71.97]
[null,"146101","SM","SURFACES:REPAIR CRACKS STONEWORK NE 5MM","Surfaces:Prepare, clean off all dust and debris, fill in or resurface cracks or spalled surfaces with epoxy mortar in surfaces of stone over 300mm wide, repair ne 5mm deep and remove spoil.","SM",129.61000000000001,90.22]
[null,"146103","SM","LINTELS/CILLS:REPAIR CRACKS STONEWORK NE 5MM","Lintels/Cills:Prepare, clean off all dust, debris, fill in or resurface cracks or spalled surfaces of stone with epoxy mortar in surfaces of lintels, cills, ne 300mm girth, repair ne 5mm deep.","LM",26.8,18.04]
[null,"146107","SM","SURFACES:REPAIR CRACKS STONEWORK NE 10MM","Surfaces:Prepare, clean off all dust and debris, fill in or resurface cracks or spalled surfaces with epoxy mortar in surfaces of stone over 300mm wide, repair over 5 and ne 10mm deep.","SM",232.96,180.44]
[null,"146109","SM","LINTELS/CILLS:REPAIR CRACKS STONEWORK NE 10MM","Lintels/Cills:Prepare, clean off all dust, debris, fill in or resurface cracks or spalled surfaces of stone with epoxy mortar in surfaces of lintels, cills, ne 300mm girth, repair ne 10mm deep.","LM",47.03,36.090000000000003]
[null,"146113","SM","SURFACES:REPAIR CRACKS STONEWORK NE 15MM","Surfaces:Prepare, clean off all dust and debris, fill in or resurface cracks or spalled surfaces with epoxy mortar in surfaces of stone over 300mm wide, repair over 10 and ne 15mm deep.","SM",336.31,270.66000000000003]
[null,"146115","SM","LINTELS/CILLS:REPAIR CRACKS STONEWORK NE 15MM","Lintels/Cills:Prepare, clean off all dust, debris, fill in or resurface cracks or spalled surfaces of stone with epoxy mortar in surfaces of lintels, cills, ne 300mm girth, repair over 15mm deep.","LM",67.260000000000005,54.13]
[null,"198001","BL","CLIENT INSPECTION:BRICKWORK AND STRUCTURE","Client Inspection:Undertake client inspection, testing etc in connection with brickwork or structure, report to Client Representative (any repairs required to be ordered must be instructed by CR).","IT",13.13,0]
[null,"201101","RF","ROOF TILE:RENEW CONCRETE INTERLOCKING NE 5 NO","Roof Tile:Renew any size and type of concrete interlocking roof tile (in groups ne 5 No.) including remove defective tile, fix new, replace felt and battens if necessary and remove spoil.","IT",17.7,3.85]
[null,"201103","RF","ROOF TILE:RENEW CONCRETE INTERLOCKING OVER 5 NO","Roof Tile:Renew any size and type of concrete interlocking roof tile (in groups over 5 No.) and remove spoil.","SM",50.24,15.62]
[null,"201107","RF","ROOF TILE:REMOVE AND REFIX INTERLOCKING NE 5 NO","Roof Tile:Remove and refix loose concrete interlocking tiles (in groups ne 5 No.).","IT",13.92,7.0000000000000007E-2]
[null,"201109","RF","ROOF TILE:REMOVE REFIX INTERLOCKING OVER 5 NO","Roof Tile:Remove and refix loose concrete interlocking tile (in groups over 5 No.).","SM",34.83,0.22]
[null,"201113","RF","ROOF TILE:OVERHAUL INTERLOCKING ROOF COMPLETE","Roof Tile:Overhaul interlocking tile roof, refix loose tiles, renew tiles to match existing, redress, rewedge, repoint all flashings, aprons, gutters etc, renew fillets, repoint ridges.","SM",35.5,4.3499999999999996]
[null,"201150","RF","ROOF COVERING:EXTRA TO RENEW FELT AND BATTENS","Roof Covering:Extra over any renewal or refixing of roof tiles or slates for renew roofing felt and battens.","SM",24.77,4]
[null,"201301","RF","ROOF TILE:RENEW PLAIN CONCRETE OR CLAY NE 10 NO","Roof Tile:Renew any plain concrete or clay roof tile (in groups ne 10 No.) including remove defective tile and fix new, replace felt and battens if necessary and remove spoil.","IT",26.29,8.2899999999999991]
[null,"201303","RF","ROOF TILE:RENEW PLAIN CONCRETE OR CLAY OVER 10 NO","Roof Tile:Renew any plain concrete or clay roof tiles (in groups over 10 No.) and remove spoil.","SM",137.99,61.84]
[null,"201307","RF","ROOF TILE:REMOVE AND REFIX PLAIN NE 10 NO","Roof Tile:Remove and refix loose plain concrete or clay roof tile (in groups ne 10 No.).","IT",18.22,0.22]
[null,"201309","RF","ROOF TILE:REMOVE AND REFIX PLAIN OVER 10 NO","Roof Tile:Remove and refix loose plain concrete or clay roof tiles (in groups over 10 No.).","SM",76.37,0.22]
[null,"201313","RF","ROOF TILE:OVERHAUL PLAIN TILE ROOF COMPLETE","Roof Tile:Overhaul plain tile roof, refix loose tiles, renew tiles to match existing, redress, rewedge, repoint all flashings, aprons, gutters etc, renew fillets, repoint ridges.","SM",35.5,4.3499999999999996]
[null,"201501","RF","VERGE:RAKE OUT AND REPOINT IN MORTAR","Verge:Rake out and repoint verge tiles with coloured mortar (1:3) to match existing.","LM",31.9,0.74]
[null,"201503","RF","VERGE:RENEW TILE VERGE","Verge:Renew verge and undercloak to tiles bed, point in coloured mortar (1:3) including all cutting of tiles and refix or renew stainless steel verge clips, remove spoil.","LM",41.17,6.55]
[null,"201505","RF","VERGE:REMOVE AND REFIX TILE","Verge:Remove and refix loose verge tiles bedded and pointed in coloured mortar (1:3) including refix or renew stainless steel verge clips as necessary.","LM",35.49,0.87]
[null,"201703","RF","RIDGE:RENEW BEDDED TILE","Ridge:Renew half round or angled ridge or hip tiles edge bedded onto roofing tiles with solid bedding at butt joints in coloured mortar (1:3) and remove spoil.","LM",78.13,15.82]
[null,"201711","RF","RIDGE:RENEW MONO-PITCH TILES","Ridge:Renew angled monopitch ridge or hip tiles edge bedded onto roofing tiles and with solid bedding at butt joints and mechanically fixed through tile to timber battens and remove spoil.","LM",128.38999999999999,45.31]
[null,"201715","RF","RIDGE:REMOVE AND REFIX TILES","Ridge:Remove and refix any loose ridge or hip tiles edge bedded onto roof tiles and with solid bedding at butt joints in coloured mortar (1:3) and mechanically fixed where necessary.","LM",63.05,0.74]
[null,"201717","RF","RIDGE:RAKE OUT AND REPOINT TILES","Ridge:Rake out and repoint ridge, hip or valley tiles with coloured mortar (1:3).","LM",48.61,0.15]
[null,"201719","RF","RIDGE:RENEW ANY TYPE GAS FLUE TERMINAL TILE","Ridge:Renew any type of gas flue ridge terminal, remove existing, fix new with edges bedded onto roof tiles and with solid bedding at butt joint in coloured mortar (1:3) and remove spoil.","NO",173.41,90.33]
[null,"201725","RF","HIP:RENEW BONNET HIP TILES","Hip:Renew bonnet hip tile nailed to hip rafters with 65mm aluminium alloy nails and with mortar bedding (1:3) under each bonnet tile, struck off smoothly at lower edges of hip tile, remove spoil.","LM",173.32,48.7]
[null,"201727","RF","HIP:RENEW GALVANISED HIP IRON","Hip:Renew galvanised hip iron including remove, rebed and repoint isolated hip tile.","NO",23.43,2.66]
[null,"201731","RF","VALLEY:RENEW VALLEY TILES","Valley:Renew any type of valley tile including remove existing tile, lay new tile to bond with existing roof tiles including take up and relay adjacent tiles as necessary and remove spoil.","LM",121.51,59.2]
[null,"201735","RF","VALLEY:RENEW TROUGH VALLEY TILES","Valley:Renew any type of trough valley tile incl. remove existing tile, lay new tile, renew battens, remove, refix tiles, felt etc., to either sides of valley, remake mortar bedding and remove spoil.","LM",174.99,71.14]
[null,"203101","RF","SLATE:RENEW FIBRE CEMENT NE 5 NO","Slate:Renew fibre cement slate to roof, take out defective slate, fix new with copper nails and disc rivet, renew defective battens and felt as necessary and remove spoil (in group ne 5 No.).","IT",30.97,6.73]
[null,"203103","RF","SLATE:RENEW FIBRE CEMENT OVER 5 NO","Slate:Renew fibre cement slates to roof including remove existing and fix new with copper nails and disc rivet and remove spoil (in group over 5 No.).","SM",64.28,22.74]
[null,"203107","RF","SLATE:REFIX FIBRE CEMENT NE 5 NO","Slate:Remove and refix loose slate including fixing with new copper nails and disc rivet and renew defective felt and battens as necessary (in group ne 5 No.).","IT",24.45,0.22]
[null,"203109","RF","SLATE:REFIX FIBRE CEMENT OVER 5 NO","Slate:Remove and refix loose slates including fixing with copper nails and disc rivet (in group over 5 No.).","SM",42.12,0.57999999999999996]
[null,"203301","RF","SLATE:RENEW NATURAL SLATE NE 5 NO","Slate:Renew any size natural slate to roof fixed with clips or copper nails including renewing defective felt and battens as necessary and remove spoil (in group ne 5 No.).","IT",48.73,24.49]
[null,"203303","RF","SLATE:RENEW NATURAL SLATES OVER 5 NO","Slate:Renew any size natural slates to roof fixed with clips or copper nails and remove spoil (in group over 5 No.).","SM",124.66,83.12]
[null,"203307","RF","SLATE:REFIX NATURAL SLATES NE 5 NO","Slate:Remove and refix any size loose natural slate fixed with clips or copper nails including renewing defective roofing felt and battens as necessary (in group ne 5 No.).","IT",24.38,0.14000000000000001]
[null,"203309","RF","SLATE:REFIX NATURAL SLATES OVER 5 NO","Slate:Remove and refix any size loose natural slates fixed with clips or copper nails (in group over 5 No.).","SM",42.12,0.57999999999999996]
[null,"203503","RF","RIDGE:RENEW HALF ROUND OR ROLL TOP TILE TO SLATING","Ridge:Renew half round or roll top ridge or hip tile fixed with galvanised steel clips and roofing screws with plastic washers including bed in mastic as per manufacturers instructions, remove spoil.","LM",71.040000000000006,39.880000000000003]
[null,"203511","RF","RIDGE:RENEW MONO OR DUO-PITCH TILE TO SLATING","Ridge:Renew mono or duo-pitch ridge or hip tile fixed with roofing screws with plastic washers including bedding in mastic as per manufacturers instructions and remove spoil.","LM",126.71,88.63]
[null,"203517","RF","RIDGE:RENEW GAS VENTILATION TO SLATING","Ridge:Renew duo-pitch gas ventilation ridge, fixed with roofing screws with plastic washers including bedding in mastic as per manufacturers instructions and remove spoil.","NO",119.07,94.84]
[null,"203519","RF","VERGE:RAKE OUT AND REPOINT IN MORTAR TO SLATING","Verge:Rake out and repoint verge tiles to slate roof with coloured mortar (1:3) to match existing.","LM",31.9,0.74]
[null,"205001","RF","TILE:RENEW HANGING TILE NE 10 NO","Tile:Renew any plain concrete or clay hanging tile (in group ne 10 No.) including remove defective tile and fix new, and remove spoil.","IT",26.36,8.36]
[null,"205003","RF","TILE:RENEW HANGING TILES OVER 10 NO","Tile:Renew any plain concrete or clay hanging tiles (in group over 10 No.) and remove spoil.","SM",121.55,62.71]
[null,"205006","RF","VERTICAL COVERING:EXTRA TO RENEW FELT AND BATTENS","Vertical Covering:Extra over any renewal or refixing of roof tiles or slates for renew roofing felt and battens.","SM",24.77,4]
[null,"205007","RF","TILE:REFIX HANGING NE 10 NO","Tile:Remove and refix loose plain concrete or clay hanging tiles (in group ne 10 No.).","IT",18.149999999999999,0.14000000000000001]
[null,"205009","RF","TILE:REFIX HANGING OVER 10 NO","Tile:Remove and refix loose plain concrete or clay hanging tiles (in group over 10 No.).","SM",60.3,1.45]
[null,"205013","RF","TILE:RENEW FEATURE TILE HANGING","Tile:Renew any pattern or feature tile to tile hanging including remove defective tile and fix new, and remove spoil.","NO",16.5,9.58]
[null,"205015","RF","TILE:RENEW ANGLE HANGING TILE","Tile:Renew internal or external angle tile to tile hanging including remove tiles for access, remove defective tile, fix new, reinstate tile hanging, and remove spoil.","LM",99.58,47.65]
[null,"207001","RF","SLATE:RENEW HANGING SLATE NE 5 NO","Slate:Renew fibre cement hanging slate including take out defective slate, fix new, renew defective battens, felt as necessary, remove spoil (in group ne 5 No.).","IT",30.97,6.73]
[null,"207003","RF","SLATE:RENEW HANGING SLATES OVER 5 NO","Slate:Renew fibre cement hanging slates including remove existing and fix new with copper nails and disc rivet or clips and remove spoil (in group over 5 No.).","SM",64.28,22.74]
[null,"207007","RF","SLATE:REFIX HANGING SLATE NE 5 NO","Slate:Remove and refix loose hanging slate incl. fixing with new copper nails and disc rivet or clips, renew defective felt and battens as necessary (in group ne 5 No.).","IT",24.45,0.22]
[null,"207009","RF","SLATE:REFIX HANGING SLATE OVER 5 NO","Slate:Remove and refix loose hanging slates incl. fixing with copper nails and disc rivet or clips (in group over 5 No.).","SM",42.12,0.57999999999999996]
[null,"209001","RF","VERGE:RENEW DRY OR CLOAKED VERGE COMPLETE","Verge:Renew dry or cloaked verge complete, remove/refix tiles as necessary, remove existing, fix new dry or cloaked verge and half tile, end stops, jointing pieces, ridge end units, make good.","LM",42.95,22.18]
[null,"209003","RF","VERGE:REFIX DRY OR CLOAKED VERGE COMPLETE","Verge:Refix dry verge complete, remove/refix tiles as necessary, remove existing and refix dry verge or cloaked verge and half tile including end stops, jointing pieces, ridge end units, make good.","LM",21.49,0.72]
[null,"209005","RF","VERGE:RENEW OR REFIX DRY VERGE RIDGE OR END STOP","Verge:Renew or refix dry verge ridge end or end stop.","NO",9.32,3.78]
[null,"209015","RF","RIDGE:RENEW DRY RIDGE TILES","Ridge:Renew any type of dry ridge tile including remove existing, renew filler units, fix new dry ridge tile to ridge board, ridge to ridge sealing pieces and blocked end ridge tiles, remove spoil.","LM",61.24,33.549999999999997]
[null,"209017","RF","RIDGE:RENEW DRY RIDGE GAS FLUE TERMINAL","Ridge:Renew Gas flue ridge terminal to any dry ridge system including remove existing and fix new with stainless steel nails with neoprene washers to ridge including renew profile filler units.","NO",155.04,110.04]
[null,"210001","RF","GREEN ROOF:ANNUAL MAINTENANCE - SEDUMS","Green Roof:Undertake annual maintenance to green sedum roof , overhaul, remove litter, deweed and replant as necessary, check water retention, water if necessary, remove debris and waste.","SM",7.92,1]
[null,"210003","RF","GREEN ROOF:ANNUAL MAINTENANCE – SEDUMS ROCK PLANTS","Green Roof:Undertake annual maintenance to sedum and rock plant green roof, overhaul, remove litter, deweed, replant as necessary, check water retention, water if necessary, remove debris and waste.","SM",9.81,1.5]
[null,"210101","RF","GREEN ROOF:WATER IN PERIODS OF DROUGHT","Green Roof:Undertake when instructed in periods of drought, watering to any type of green roof and check water retention, remove any litter, debris and waste.","SM",3.46,0]
[null,"211001","RF","VENT:RENEW VENT ROOF TILE UNIT","Vent:Renew or supply and fix new ventilation roof tile unit complete to match existing roof tiles or slates including remove, refix adjacent tiles as necessary.","NO",54.75,40.909999999999997]
[null,"211003","RF","RIDGE:RENEW WITH HALF ROUND OR ANGLE VENT TILE","Ridge:Remove half round or angle ridge tile and renew with ventilator ridge tile, edge bedded onto roof tiles and with solid bedding at butt joints in coloured mortar (1:3) andremove spoil.","NO",106.06,88.75]
[null,"211009","RF","RIDGE:RENEW DRY VENT TILES","Ridge:Renew any type of dry vent ridge tile including remove existing, renew filler units/air flow control units, fix new dry vent ridge tile system complete and remove spoil.","LM",97.57,69.88]
[null,"211011","RF","VENT:RENEW EAVES VENTILATORS","Vent:Renew or supply and fix new eaves ventilators complete including remove and refix tiles and underlay as necessary, and fix in accordance with manufacturers instructions and remove spoil.","LM",37.65,9.9600000000000009]
[null,"213001","RF","SHEETING:RENEW GALVANISED CORRUGATED IRON","Sheeting:Renew 24 gauge galvanised corrugated iron sheeting fixed with hook bolts or drive screws complete with caps and washers and remove spoil.","SM",40.4,19.63]
[null,"213003","RF","SHEETING:RENEW CORRUGATED REINFORCED CEMENT","Sheeting:Renew corrugated reinforced asbestos free cement sheeting fixed with hook bolts or drive screws complete with caps and washers and remove spoil.","SM",37.200000000000003,16.43]
[null,"213005","RF","SHEETING:RENEW CLEAR PLASTIC","Sheeting:Renew clear plastic corrugated sheeting fixed with hook bolts or drive screws complete with caps and washers and remove spoil.","SM",28.57,7.8]
[null,"213007","RF","SHEETING:RENEW COLOURED PLASTIC","Sheeting:Renew coloured plastic corrugated sheeting fixed with hook bolts or drive screws complete with caps and washers and remove spoil.","SM",31.86,11.09]
[null,"213009","RF","SHEETING:RENEW TRANSLUCENT","Sheeting:Renew corrugated fire resisting glass fibre reinforced translucent sheeting fixed with hook bolts or drive screws complete with caps and washers and remove spoil.","SM",51.36,30.59]
[null,"213011","RF","SHEETING:RENEW PVC COLOUR COATED","Sheeting:Renew PVC colour coated both sides galvanised steel profiled sheeting 0.70mm thick fixed with hook bolts and washers and remove spoil.","SM",46.03,25.26]
[null,"213013","RF","SHEETING:RENEW EAVES FILLER PCE","Sheeting:Renew eaves filler piece to corrugated roof sheeting and remove spoil.","LM",23.88,10.029999999999999]
[null,"213015","RF","SHEETING:RENEW TWO PIECE RIDGE","Sheeting:Renew two piece ridge to corrugated roof sheeting and remove spoil.","LM",36.67,12.44]
[null,"215001","RF","ROOF:SWEEP AND APPLY WP COMPOUND","Roof:Sweep off and apply two coats of waterproofing compound and apply sand dressing between coats, remove spoil.","SM",23.05,9.2100000000000009]
[null,"215003","RF","ROOF:SEALING COMPOUND TO CRACKS","Roofing:Apply sealing compound to cracks to roof or leadwork.","LM",5.88,2.42]
[null,"215005","RF","ROOF:SWEEP AND APPLY BITUMEN","Roofing:Brush off loose chippings and clean down roof and apply three coats of bitumen compound, remove spoil.","SM",22.52,5.21]
[null,"215007","RF","ROOF:SWEEP AND APPLY STONE CHIPPINGS","Roofing:Brush off loose chippings from roof and supply and lay limestone chippings bonded with hot bitumen compound, remove spoil.","SM",12.13,5.21]
[null,"215009","RF","ROOF:PREPARE AND PATCH NE 2.0SM","Roofing:Prepare and apply two coats of approved liquid applied roof coating to roofing felt, in patches ne 2.00sm.","IT",48.82,21.13]
[null,"215011","RF","ROOF:PREPARE AND PATCH OVER 2.0SM","Roofing:Prepare and apply two coats of approved liquid applied roof coating to roofing felt, in areas over 2.00sm remove spoil.","SM",29.69,15.84]
[null,"215013","RF","GUTTER:APPLY 2 COATS WATERPROOF TO FINLOCK","Gutter:Clean out gutter, rake out and apply sealant to joints and prepare and apply two coats of proprietary waterproof sealing compound to inside surfaces of Finlock gutter remove spoil.","LM",20.239999999999998,6.4]
[null,"217001","RF","FELT:RENEW HP PLAIN OR MINERAL FINISH 2L","Felt:Renew felt roofing with two layer high performance felt, strip and remove existing covering, prepare and lay roofing with plain or mineral surface finish to top layer, all labours.","SM",42.06,17.829999999999998]
[null,"217003","RF","FELT:RENEW HP STONE CHIPPINGS 2L","Felt:Renew felt roofing with two layer high performance felt, strip and remove existing covering, prepare and lay roofing with stone chippings to top layer, all labours.","SM",54.19,23.04]
[null,"217005","RF","FELT:RENEW HP TORCH ON PLAIN OR MINERAL 2L","Felt:Renew felt roofing with two layer high performance Torch On felt, strip and remove existing covering, prepare and lay roofing with plain or mineral surface finish to top layer.","SM",37.51,13.28]
[null,"217007","RF","FELT:RENEW HP TORCH ON CHIPPINGS 2L","Felt:Renew felt roofing with two layer high performance Torch On felt, strip and remove existing covering, prepare and lay roofing with stone chippings to top layer, all labours.","SM",49.64,18.489999999999998]
[null,"217009","RF","FELT:REPAIR PATCH NE 2.0SM 2L","Felt:Repair patch ne 2.00sm including brush or clear away chippings, cut out top layer of felt, cover with new felt, bond with bitumen to adjacent layers, relay or renew chippings, remove spoil.","IT",40.94,13.25]
[null,"217013","RF","FELT:REPAIR NE 2.0SM (TORCH ON) 2L","Felt:Repair patch ne 2.00sm with Torch On felt roofing system, cut out defective layer of felt, heat new felt and lay and bond over adjacent layers, relay or renew chippings, remove spoil.","IT",50.5,22.81]
[null,"217019","RF","FELT:REPAIR UPSTAND NE 300MM GIRTH 2L","Felt:Repair upstand ne 300mm girth including cut out top layer of felt, cover with new mineral felt bond with bitumen to adjacent layers, rake out chase and repoint in cement mortar, remove spoil.","LM",27.12,2.88]
[null,"217021","RF","FELT:RENEW ANY GIRTH GUTTER 2L","Felt:Renew two layer felt to any girth gutter including remove defective felt and lay new felt bedded in hot bitumen remove spoil.","LM",26.54,5.77]
[null,"217023","RF","FELT:SEAL ROOFING AROUND OUTLET","Felt:Reseal around rainwater outlet with hot bitumen.","NO",8.67,0.36]
[null,"217025","RF","FELT:RENEW ALUMINIUM EDGING","Felt:Take off existing, clear away and renew preformed aluminium edging including all angles and ends, dress felt roofing into groove, remove spoil.","LM",25.16,11.32]
[null,"217027","RF","FELT:FIX FLASHBAND NE 300MM GIRTH","Felt:Fix flashband upstand or skirting ne 300mm girth including prime surface.","LM",15.44,8.51]
[null,"217029","RF","FELT:APPLY SOLAR REFLECT PAINT (PER COAT)","Felt:Prepare and apply solar reflective paint to general surfaces of felt roofing (per coat).","SM",12.31,1.92]
[null,"217031","RF","FELT:RENEW CHIPPINGS","Felt:Renew chippings to roof including remove old chippings and clear away, apply cold compound and spread new chippings (as sole job) remove spoil.","SM",24.99,4.22]
[null,"217101","RF","FELT:RENEW HP PLAIN OR MINERAL FINISH 3L","Felt:Renew felt roofing with three layer high performance felt, strip and remove existing covering, prepare and lay roofing with plain or mineral surface finish to top layer, all labours.","SM",60.55,29.39]
[null,"217103","RF","FELT:RENEW HP STONE CHIPPINGS 3L","Felt:Renew felt roofing with three layer high performance felt, strip and remove existing covering, prepare and lay roofing with stone chippings to top layer, all labours.","SM",72.680000000000007,34.6]
[null,"217105","RF","FELT:RENEW HP TORCH ON PLAIN OR MINERAL 3L","Felt:Renew felt roofing with three layer high performance Torch On felt, strip and remove existing covering, prepare and lay roofing with plain or mineral surface finish to top layer.","SM",53.27,22.12]
[null,"217107","RF","FELT:RENEW HP TORCH ON CHIPPINGS 3L","Felt:Renew felt roofing with three layer high performance Torch On felt, strip and remove existing covering, prepare and lay roofing with stone chippings to top layer, all labours.","SM",65.41,27.33]
[null,"217109","RF","FELT:REPAIR PATCH NE 2.0SM 3L","Felt:Repair patch ne 2.00sm including brush or clear away chippings, cut out top two layers of felt, lay new felt bond with bitumen to adjacent layers, relay or renew chippings, remove spoil.","IT",80.22,46.99]
[null,"217113","RF","FELT:REPAIR NE 2.0SM (TORCH ON) 3L","Felt:Repair patch ne 2.00sm with torch on felt roofing system, cut out top two layers of felt, heat new felt and lay and bond over adjacent layers, relay or renew chippings, remove spoil.","IT",67.92,36.07]
[null,"217119","RF","FELT:REPAIR UPSTAND NE 300MM GIRTH 3L","Felt:Repair upstand ne 300mm girth including cut out top two layers of felt, cover with new mineral felt bond with bitumen to adjacent layers, rake out chase and repoint in mortar, remove spoil.","LM",35.82,8.82]
[null,"217121","RF","FELT:RENEW ANY GIRTH GUTTER 3L","Felt:Renew three layer felt to any size gutter including remove defective felt and lay new felt bedded in hot bitumen, remove spoil.","LM",41.87,17.64]
[null,"219001","RF","ASPHALT:RENEW 20MM IN PATCH NE 2.0SM","Asphalt:Renew 20mm asphalt roof finish in patch ne 2.00sm, cut out defective roof finish, renew membrane, lay asphalt in two layers, bond to existing asphalt, finish smooth to match existing.","IT",239.57,31.87]
[null,"219003","RF","ASPHALT:RENEW IN AREAS","Asphalt:Renew 20mm asphalt roof finish comprising isolating membrane, asphalt laid in two layers and bond to existing asphalt and finish smooth to match existing levels, remove spoil.","SM",99.02,15.94]
[null,"219005","RF","ASPHALT:RENEW 25MM TO BALCONY","Asphalt:Renew asphalt to access balcony including take up existing asphalt and underlay, lay 25mm two coat work to deck and gutter on new isolating membrane, 13mm work to upstands, all labours.","SM",120.4,20.010000000000002]
[null,"219009","RF","ASPHALT:RENEW SKIRTING","Asphalt:Renew asphalt skirting ne 225mm high comprising 13mm two coat asphalt including all angles, coves and fillets, turn top edge into prepared groove, remove spoil.","LM",47.55,2.54]
[null,"219011","RF","ASPHALT:RENEW TO BOX GUTTER","Asphalt:Renew asphalt to any size box gutter, take up existing and relay or renew gutter sole board, form all angle fillets, skirtings etc, turn into groove or metal edge trim, remove spoil.","LM",156.28,31.66]
[null,"219013","RF","ASPHALT:MAKE GOOD CRACK NE 1.0M","Asphalt:Make good crack in asphalt ne 1.00m long, rake out, clean up and iron in crack.","IT",24.49,0.26]
[null,"219015","RF","ASPHALT:MAKE GOOD CRACK OVER 1.0M","Asphalt:Make good crack in asphalt over 1.00m long, rake out, clean up and iron in crack.","LM",21.11,0.34]
[null,"219017","RF","ASPHALT:REFORM COLLAR TO PIPES","Asphalt:Reform collar around pipes, balusters and the like in 20mm two coat asphalt, work ne 140mm diameter and ne 100mm high.","NO",31.84,0.68]
[null,"219019","RF","ASPHALT:MAKE GOOD BLISTER","Asphalt:Cut out isolated blister in existing roof and make good in asphalt to match existing including all bonding to adjacent surfaces.","IT",19.399999999999999,2.09]
[null,"219023","RF","ASPHALT:REFORM INTO OUTLET","Asphalt:Cut out as necessary and reform asphalt into any type and or size of roof outlet including all bonding to adjacent surfaces and dressing into outlet.","NO",52.11,3.65]
[null,"219025","RF","ASPHALT:APPLY SOLAR REFLECTIVE PAINT","Asphalt:Prepare and apply solar reflective paint to asphalt roofing (per coat).","SM",12.31,1.92]
[null,"221001","RF","CLIENT INSPECTION:PROVIDE AND ERECT LADDER","Inspection:Provide and erect ladder for inspection in conjunction with Client Representative to eaves level of roof to property ne 2 storey and remove on completion.","IT",41.54,0]
[null,"221003","RF","CLIENT INSPECTION:REMOVE ALL DEBRIS ETC","Inspection:Remove all debris, plant, moss etc., from roof to allow inspection for leaks by Client Representative.","SM",2.77,0]
[null,"223001","RF","ROOF:TEMPORARY REPAIR SLATE OR TILE ROOF","Roof:Carry out temporary repairs to any type of slate/tiled area of roof as required to ensure area is weatherproof, provide report to Client Representative.","IT",22.54,8.69]
[null,"223003","RF","ROOF:TEMPORARY REPAIR FLAT ROOF","Roof:Carry out temporary repairs to any type of flat roof area as required to ensure area is weatherproof, provide report to Client Representative.","IT",26.57,5.8]
[null,"223005","RF","ROOF:SUPPLY AND FIX AND LATER REMOVE TARPAULIN","Roof:Supply and fix tarpaulin sheet approx 4x3m to roof as temporary repair and later remove and clear away.","NO",59.81,32.119999999999997]
[null,"223009","RF","ROOF:TEMPORARY REPAIR CORRUGATED SHEET","Roof:Carry out temporary repairs to any type of corrugated sheet area of roof as required to ensure area is weatherproof, provide report to Client Representative.","IT",23.67,2.9]
[null,"223011","RF","ROOF:FIX ROOF LEAK TO PITCHED ROOF","Roof:Carry out repair to any type of slate/tiled area of roof as required to ensure area is weatherproof, including renew or refix any size and type of tile or slates in patch to roof.","IT",97.88,50.8]
[null,"223013","RF","ROOF:FIX ROOF LEAK TO FLAT ROOF","Roof:Carry out repairs to any type of flat roof area as required to ensure area is weatherproof, including repair patch ne 2.00sm in Torch On felt roofing system or asphalt roof finish.","IT",142.46,35.15]
[null,"225001","RF","FILLET:RENEW CEMENT MORTAR FILLET","Fillet:Hack off existing and renew cement mortar fillet (1:3).","LM",10.83,0.45]
[null,"225003","RF","ROOFING:SCREED ROOF","Roofing:Screed roof in cement and sand (1:3) including fixing and striking shuttering and applying new bonding agent to surface.","SM",32.81,8.57]
[null,"227005","RF","INSULATION:LAY UPTO 270MM THICK QUILT","Insulation:Supply and lay upto 270mm thick insulation quilt to loft area including gain access and moving/replacing contents within loft area in order to undertake work.","SM",14.84,4.46]
[null,"227007","RF","CLIENT INSPECTION:REMOVE AND RELAY INSULATION","Client Inspection:Remove, set aside, relay insulation quilt to loft area, gain access, move and replace contents in loft in order to undertake CR inspection. (Any repairs required ordered separately).","SM",6.92,0]
[null,"229001","RF","ROOF BOARDING:RENEW WOODWOOL SLABS","Roof Boarding:Renew 50mm woodwool slab finished with cement slurry screed roof boarding, including denail rafters or joists, remove spoil, punch in nails and level to existing and make good.","SM",36.24,5.09]
[null,"229003","RF","ROOF BOARDING:RENEW IN 19MM PLYWOOD","Roof Boarding:Renew 19mm WPB quality plywood roof boarding including denail rafters or joists, remove spoil, punch in nails and level to existing, and make good.","SM",34.299999999999997,10.07]
[null,"229005","RF","ROOF BOARDING:RENEW IN 18MM CHIPBOARD","Roof Boarding:Renew 18mm, V313 grade chipboard roof boarding including denail rafters or joists, remove spoil, punch in nails and level to existing, and make good.","SM",26.44,5.67]
[null,"229007","RF","ROOF BOARDING:RENEW IN 18MM PREFELTED PLYWOOD","Roof Boarding:Renew 19mm thick prefelted plywood decking including denail rafters or joists, remove spoil, punch in nails, level to existing, make good tape joints, prepare to receive felt roofing.","SM",27.98,0.28999999999999998]
[null,"229009","RF","ROOF BOARDING:RENEW TIMBER FIRRINGS","Roof Boarding:Renew ne 50x50mm tapered softwood firrings to roof joists.","LM",4.3499999999999996,0.89]
[null,"231001","RF","SLATE:RENEW LEAD TO PIPE","Slate:Remove existing lead or proprietary slate to ne 150mm diameter pipe and replace with 500x500mm lead slate with 200mm high collar to ne 150mm diameter pipe including all labours.","NO",89.33,20.100000000000001]
[null,"231003","RF","SLATE:RENEW PROPRIETARY TO PIPE","Slate:Remove existing lead or proprietary slate to ne 150mm diameter pipe and replace with proprietary slate with ne 200mm high collar to ne 150mm diameter pipe including all labours.","NO",83.85,28.46]
[null,"231005","RF","FLASHING:RENEW LEAD COVER NE 150MM","Flashing:Renew lead cover flashing ne 150mm girth, clean out groove of brickwork, wedge with lead and repoint in mastic including all necessary labours.","LM",36.25,11.32]
[null,"231009","RF","FLASHING:RENEW LEAD STEPPED NE 225MM","Flashing:Renew lead stepped flashing ne 225mm girth, clean out groove of brickwork, wedge with lead and repoint in mastic including all necessary labours.","LM",71.3,15.91]
[null,"231011","RF","FLASHING:RENEW LEAD APRON NE 300MM","Flashing:Renew lead apron flashing ne 300mm girth, clean out groove of brickwork, wedge with lead and repoint in mastic including all necessary labours.","LM",67.48,19.010000000000002]
[null,"231013","RF","FLASHING:TAKE OFF AND REFIX LEAD","Flashing:Take off lead flashing, set aside, hack out pointing, clean out groove of brickwork, refix flashing and wedge with lead and repoint in mastic.","LM",17.48,3.64]
[null,"231015","RF","FLASHING:RAKE OUT AND REPOINT LEAD","Flashing:Rake out pointing of flashing and repoint in mastic.","LM",10.56,3.64]
[null,"231017","RF","FIREWALL:RENEW LEAD FLASHINGS TO COPINGS","Firewall:Remove existing coping stones and clear away, renew lead flashings to both sides of firewall, all dressings etc point in mastic, lay new pcc coping stones bed, point in mortar (1:3).","LM",87.58,56.43]
[null,"231020","RF","GUTTER:RENEW LEAD LINING NE 500MM GIRTH","Gutter:Renew lead chimney or parapet gutter lining ne 500mm girth, clean out groove of brickwork, wedge with lead and repoint in mastic including all necessary labours.","LM",89.55,35.54]
[null,"231021","RF","VALLEY:RENEW LEAD GUTTER NE 800MM GIRTH","Valley:Renew lead valley gutter ne 800mm girth, remove and refix roof tiles or slates and battens as required, including all necessary labours.","LM",106.44,51.05]
[null,"231023","RF","VALLEY:RENEW LEAD GUTTER AND BOARDS","Valley:Renew lead valley gutter ne 800mm girth, complete with valley boards and tilting fillets, remove and refix roof tiles or slates as required, including all labours.","LM",160.75,63.82]
[null,"231025","RF","VALLEY:REPAIR LEAK TO LEADWORK","Valley:Repair leak in lead valley with wiped joint or soldered on patch, remove and refix tiles and or slates as necessary (measured per valley).","IT",21.78,1.01]
[null,"231027","RF","SOAKER:RENEW OR REFIX LEAD","Soaker:Take off lead soaker, set aside, refix or renew lead soaker ne 250x330mm, including all necessary labours.","NO",16,4.2300000000000004]
[null,"231031","RF","ROOF:RENEW LEAD ROOF COVERING","Roof:Renew lead roof covering including remove old lead, cut, fit and dress new roof covering including all nailing and caps, drips, welted edges, bossed ends and intersections, all labours.","SM",157.57,64.099999999999994]
[null,"231033","RF","PORCH:RENEW LEAD COVERING TO PORCH","Porch:Renew lead covering to porch including remove old lead, cut, fit and dress new covering including all nailing and caps, drips, welted edges, bossed ends, intersections and all labours.","SM",171.41,64.099999999999994]
[null,"231035","RF","DORMERS:RENEW LEAD TO DORMERS","Dormers:Renew lead covering to dormers including remove old lead, cut, fit and dress new covering including all nailing and caps, drips, welted edges, bossed ends, intersections and all labours.","SM",181.8,64.099999999999994]
[null,"231037","RF","BOW/BAY:RENEW LEAD FLAT ROOF NE 3.0SM","Bow/Bay:Renew lead covering to flat bow/bay roof ne 3.00sm, remove old lead, cut, fit dress new covering with all nailing, caps, drips, welted edges, bossed ends, dressings, all labours.","IT",521.64,199.7]
[null,"231039","RF","BOW/BAY:RENEW LEAD SLOPING ROOF NE 3.0SM","Bow/Bay:Renew lead covering to sloping bow/bay roof ne 3.00sm, remove old lead, cut, fit, dress new covering with all nailing caps, drips, welted edges, bossed ends, dressings, all labours.","IT",587.41,199.7]
[null,"298001","RF","CLIENT INSPECTION:ROOFING","Client Inspection:Undertake client inspection, testing etc in connection with roofing, report to Client Representative (any repairs required to be ordered must be instructed by CR).","IT",20.77,0]
[null,"301103","JR","JOIST:RENEW NE 100MM DEEP TO FLOOR","Joist:Renew softwood floor joist ne 100mm deep to match existing, clear away existing, fix with all packings, cleats, hangers, noggins, solid strutting etc., cut out and make good brickwork.","LM",11.84,2.2200000000000002]
[null,"301107","JR","JOIST:RENEW NE 225MM DEEP TO FLOOR","Joist:Renew softwood floor joist ne 225mm deep to match existing, clear away existing, fix with all packings, cleats, hangers, noggins, solid strutting etc., cut out and make good brickwork","LM",21.02,4.3899999999999997]
[null,"301109","JR","JOIST:LEVEL JOIST WITH PACKINGS","Joist:Level joist by inserting packings including take up, refix floorboards, make good any finishes remove, refix any furniture, carpets (msd per joist) (not to be claimed with joist renewal).","NO",33.909999999999997,1.0900000000000001]
[null,"301122","JR","FLOOR:STRIP OUT FLOOR AND SLEEPERS","Floor:Strip out defective timber floor complete with any redundant service installation attached or passing through floor, demolish sleeper walls down to sub-floor level, make good, remove spoil.","SM",16.899999999999999,3.77]
[null,"301123","JR","FLOOR:RENEW GROUND FLOOR COMPLETE","Floor:Strip out existing floor and sleeper walls, remove void debris, build sleeper walls, softwood floor with 22mm floorboards, ne 50x125mm joists, ne 50x100mm wall plates, dpc, remove spoil.","SM",136.34,48.81]
[null,"301125","JR","FLOOR:RENEW SOFTWOOD FLOOR COMPLETE","Floor:Renew softwood floor comprising 22mm floor boards, ne 50x125mm joists, ne 50x100mm wall plates, dpc, galvanised joist hangers, cut in and primed, remove spoil.","SM",82.2,31.87]
[null,"301127","JR","FLOOR:RENEW SOFTWOOD UPPER FLOOR COMPLETE","Floor:Renew softwood upper floor comprising 22mm floorboards, ne 50x175mm joists, and ne 50100mm wall plates, dpc, 25x50mm strutting, galvanised joist hangers, cut in and primed, remove spoil.","SM",86.42,33.9]
[null,"301129","JR","FLOOR:CONSTRUCT SOFTWOOD FLOOR","Floor:Construct softwood floor comprising 22mm floorboards, ne 50x125mm joists and ne 50x100mm wall plates, dpc, galvanised joist hangers, cut and primed in, remove spoil.","SM",66.89,31.87]
[null,"301131","JR","FLOOR:CONSTRUCT SOFTWOOD UPPER FLOOR","Floor:Construct softwood upper floor comprising 22mm floor boards, ne 50x175mm joists and ne 50x100mm wall plates, dpc, 25x50mm strutting, trimming openings, joists hangers, remove spoil.","SM",71.099999999999994,33.9]
[null,"301201","JR","FLOOR:STRIP OUT TIMBER FLOOR","Floor:Strip out defective timber floor complete with any redundant service installation attached or passing through floor in conjunction with dpc wall treatment, remove spoil.","SM",10.94,0]
[null,"301203","JR","FLOOR:CLEAR ALL DEBRIS FROM VOID","Floor:Clear all existing debris from under floor void in conjunction with dpc wall treatment, remove spoil.","CM",34.58,0]
[null,"301205","JR","FLOOR:CUT BACK END ROTTED JOISTS NE 150MM","Floor:Remove remnants of any joists ne 150mm deep and other timber from walls and brick up any pockets remaining, remove spoil.","NO",7.02,0.45]
[null,"301207","JR","FLOOR:CUT BACK END ROTTED JOISTS NE 300MM","Floor:Remove remnants of any joists and other timbers over 150 and ne 300mm deep from walls and brick up any pockets remaining, remove spoil.","NO",9.51,0.76]
[null,"301301","JR","PARTITION:ERECT TIMBER STUD AND PLASTERBOARD BF","Partition:Erect or renew stud partition comprising ne 50x100mm members fixed to walls, pack out, scribe, 12.5mm taper edged plasterboard scrim jointed and all labours to both faces.","SM",73.69,14.61]
[null,"301303","JR","PARTITION:ERECT TIMBER STUD PLASTERBOARD SKIM BF","Partition:Erect or renew stud partition comprising ne 50x100mm members fixed to walls, pack out and scribe, 12.5mm butt jointed plasterboard and 3mm plaster skim coat and all labours to both faces.","SM",84.09,14.07]
[null,"301305","JR","PARTITION:INSTALL INSULATION INFILL NE 100MM","Partition:Supply and install insulation infill ne 100mm thick to stud partition.","SM",4.42,2.23]
[null,"301307","JR","PARTITION:SOUND INFILL 75MM","Partition:Supply and install sound insulation infill 75mm thick to stud partition.","SM",7.51,1.82]
[null,"301311","JR","PARTITION:ERECT METAL STUD AND PLASTERBOARD BF","Partition:Erect or renew proprietary metal stud system fixed to walls, 12.5mm plasterboard scrim joints, all labours to both faces.","SM",50.29,17.46]
[null,"301313","JR","PARTITION:METAL STUD PLASTERBOARD SKIM BF","Partition:Erect or renew proprietary metal stud system fixed to walls, 12.5mm plasterboard and 3mm plaster skim coat and all labours to both faces.","SM",57.1,13.33]
[null,"301315","JR","PARTITION:FILL IN OPENING IN TIMBER STUDDING","Partition:Fill in existing opening in stud partition with ne 50x100mm members fixed to walls, pack out, scribe, 12.5mm taper edged plasterboard scrim jointed, labours, skirting to both faces.","SM",95.5,32.04]
[null,"301317","JR","PARTITION:FORM OPENING IN TIMBER STUDDING","Partition:Cut or form opening in plastered stud partition, frame up opening with 50x100mm members fixed to walls, make good plasterboard, 3mm skim coat, extend flooring make good, remove spoil.","IT",101.01,22.23]
[null,"301401","JR","LARDER:REMOVE AND REFIX INSITU LARDER","Larder:Remove, set aside, store and later refix built insitu, studded larder or storage unit in conjunction with specialist treatment, reinstate unit, make good.","IT",45.22,1.45]
[null,"301403","JR","WALL:RENEW NON LOAD PARTITION","Wall:Renew any non structural partition with softwood studding skim coated 12.5m plasterboard both sides, and skirting, refix any fittings, make good, in conjunction with specialist treatment.","SM",94.37,15.59]
[null,"301501","JR","PLATE:RENEW 75X100MM WALL PLATE","Plate:Renew pressure impregnated sawn softwood wall plate ne 75x100mm, bedded in cement mortar (1:3) and apply preservative to cut ends, remove spoil.","LM",9.31,2.74]
[null,"301503","JR","PLATE:RENEW 75X100MM WALL PLATE AND DPC","Plate:Renew pressure impregnated sawn softwood wall plate ne 75x100mm, bedded in cement mortar (1:3, apply preservative to cut ends, polypropylene dpc 138mm girth, remove spoil.","LM",11.63,3.75]
[null,"301701","JR","RAFTER:RENEW NE 175MM RAFTER OR JOIST","Rafter:Renew rafter/roof joist, ne 175mm deep to match existing in roof space, cut to length, apply preservative to cut ends, cut out, make good brickwork, bolted to existing roof timbers.","LM",11.6,2.85]
[null,"301703","JR","COLLAR/STRUT:RENEW NE 175MM THICK","Collar/Strut:Renew collar or strut, ne 175mm thick in roof space, cut to length, apply preservative to cut ends, cut out make good brickwork, bolted to existing roof timbers.","LM",15.98,2.85]
[null,"301901","JR","HANGER:RENEW GALVANISED JOIST HANGER","Hanger:Renew galvanised joist hanger, cut out, bed in mortar and make good brickwork, renew in conjunction with joist repairs.","NO",6.96,2.59]
[null,"301903","JR","HANGER:CUT OUT AND INSERT JOIST HANGER","Hanger:Cut out and insert galvanised joist hanger to correct floor alignment, bed in mortar, pin, make good brickwork, renew in conjunction with floor or joist repairs.","IT",10.46,2.59]
[null,"303001","JR","FASCIA:RENEW IN SOFTWOOD NE 300MM","Fascia/Barge:Renew fascia or barge with treated softwood, ne 300mm wide, fixed to roof timbers, remove, refix rainwater goods and any cabling, adjust roof tiles and felt, decorate.","LM",36.03,9.77]
[null,"303003","JR","FASCIA:RENEW IN WBP PLYWOOD NE 300MM","Fascia/Barge:Renew fascia or barge with WPB plywood, ne 300mm wide, fixed to roof timbers, remove, refix rainwater goods and any cabling, adjust roof tiles and felt, decorate.","LM",33.94,5.49]
[null,"303005","JR","FASCIA/BARGE:RENEW IN PVCU NE 300MM","Fascia/Barge:Renew fascia or bargeboard with proprietary PVCu board ne 300mm wide fixed to roof timbers, remove, refix rainwater goods and any cabling, adjust roof tiles and felt.","LM",25.67,3.79]
[null,"303007","JR","SOFFIT:RENEW IN SOFTWOOD NE 450MM","Soffit:Renew soffit board with treated softwood ne 450mm wide including renew noggins as necessary fixed to roof timbers and refix cables and decorate to match existing.","LM",35.450000000000003,11.38]
[null,"303009","JR","SOFFIT:RENEW IN PLYWOOD NE 450MM","Soffit:Renew soffit board with WPB plywood ne 450mm wide including renew noggins as necessary fixed to roof timbers and refix cables and decorate to match existing.","LM",34.56,8.3000000000000007]
[null,"303011","JR","SOFFIT:RENEW IN MASTERBOARD NE 450MM","Soffit:Renew soffit board with masterboard ne 450mm wide including renew noggins as necessary fixed to roof timbers and refix cables and decorate to match existing.","LM",48.67,22.41]
[null,"303013","JR","SOFFIT:RENEW IN PVCU NE 450MM","Soffit:Renew soffit board with PVCu board ne 450mm wide including remove existing, renew noggins as necessary and fix new board to roof timbers and refix cables.","LM",30.27,12.76]
[null,"303015","JR","FASCIA/SOFFIT/BARGE:REFIX","Fascia/Soffit/Barge:Refix any size fascia, soffit or bargeboard to existing roof timbers including remove, refix rainwater goods, cabling, renewal of support battens, all cutting, packing, make good.","LM",26.98,0.72]
[null,"303017","JR","BOXED END:RENEW TO FASCIA AND SOFFIT","Boxed End:Renew boxed end to fascia and soffit including renew timber supports, new WPB plywood soffit, fascia etc, all cutting shaping, jointing to existing fascias, soffits etc, decorate.","NO",46,13.17]
[null,"303019","JR","BOXED END:RENEW IN PVCU TO FASCIA AND SOFFIT","Boxed End:Renew boxed end to fascia and soffit including renew timber supports with proprietary PVCu board soffit, fascia etc, all cutting and shaping, jointing to existing fascias, soffits.","NO",45.9,13.08]
[null,"303101","JR","GUTTER:RENEW NE 150X100MM TIMBER","Gutter:Renew in ne 150x100mm moulded timber gutter including support brackets fixed to fascia, all cutting, make joints, line, level and connections to existing guttering.","LM",24.72,11.59]
[null,"303102","JR","GUTTER:REALIGN TIMBER GUTTER","Gutter:Take down any timber gutter, remove and refix brackets to fascia and refix gutter to brackets including all angles, outlets, stop ends and remake all joints.","LM",10.199999999999999,1.45]
[null,"303103","JR","GUTTER:FORM STOP END","Gutter:Form stop end to timber gutter.","NO",8.57,5.07]
[null,"303104","JR","GUTTER:FORM OUTLET","Gutter:Cut hole in timber gutter, form outlet and fix nozzle/spitter.","NO",38.56,14.49]
[null,"303105","JR","GUTTER:RENEW CAST IRON BRACKET TO TIMBER GUTTER","Gutter:Renew cast iron bracket of any profile including remake joints and line and level.","NO",7.85,4.3499999999999996]
[null,"303106","JR","GUTTER:RENEW TIMBER BRACKET","Gutter:Renew timber bracket of any profile including remake joints and line and level.","NO",13.96,6.09]
[null,"305101","JR","FLOORING:RENEW IN 19MM PLYWOOD","Flooring:Renew any flooring with 19mm WBP plywood including denial joists, remove spoil, punch in nails, level to existing and make good including additional noggins/support battens as required.","SM",29.91,10.210000000000001]
[null,"305103","JR","FLOORING:RENEW IN 6MM PLYWOOD","Flooring:Renew any flooring with 6mm WBP plywood including denail joists, remove spoil, punch in nails, level to existing and make good including additional noggins/support battens as required.","SM",20.2,4.88]
[null,"305105","JR","FLOORING:SUPPLY AND LAY 4MM PLYWOOD","Flooring:Supply and lay 4mm WBP plywood nailed to existing floorboard at 150mm centres with wired nails and level as necessary.","SM",20.2,4.88]
[null,"305301","JR","FLOORING:RENEW IN 19MM CHIPBOARD","Flooring:Renew any flooring with 19mm flooring grade V313 waterproof chipboard, denail joists, remove spoil, punch in nails, level to existing, make good, additional noggins/support battens.","SM",27.1,7.4]
[null,"305303","JR","FLOORING:RENEW IN INSULATED CHIPBOARD","Flooring:Renew any flooring with flooring grade V313 waterproof insulating chipboard, denail joists, remove spoil, punch in nails, level to existing, make good, additional noggins/battens.","SM",33.14,13.45]
[null,"305501","JR","FLOORING:SUPPLY AND LAY HARDBOARD","Flooring:Supply and lay 3.2mm flooring grade hardboard nailed to existing floorboard at 150mm centres with wired nails and level as necessary.","SM",9.73,3.16]
[null,"305701","JR","FLOORBOARD:RENEW NE 1.0SM","Floorboard:Renew to match existing flooring with 19mm T and G or square edged flooring in area ne 1.00sm, denail joists, remove spoil, punch in nails, level, make good, extra support noggins.","IT",56.77,23.94]
[null,"305703","JR","FLOORBOARD:RENEW OVER 1.0SM","Floorboard:Renew to match existing flooring with 19mm T and G or square edged flooring in area over 1.00sm, denail joists, remove spoil, punch in nails, level, make good, extra support noggins.","SM",54.62,23.98]
[null,"305704","JR","FLOORBOARDS:REMOVE AND REFIX AREA","Floorboard:Remove and later refix any area of boards, including denail joists, remove spoil, punch in nails, level to existing and make good including any extra noggins required.","SM",18.23,0.72]
[null,"305705","JR","FLOORBOARD:REMOVE AND REFIX SINGLE BOARD","Floorboard:Remove and later refix any boards, including denail joists remove spoil, punch in nails, level to existing and make good including any extra noggins required.","LM",4.42,0.04]
[null,"305706","JR","FLOORBOARD:SCREW DOWN PER ROOM","Floorboard:Screw down any width loose floorboards in any room including providing fixing batten to side of joist where end of board is unsupported (per room).","IT",5.0999999999999996,0.72]
[null,"305709","JR","FLOORING:APPLY 2 COATS PRESERVATIVE","Flooring:Prepare and brush apply two coats of approved preservative to general surfaces of flooring.","SM",9.0500000000000007,4.68]
[null,"305803","JR","FLOOR:TREAT FLOOR INSECTICIDE 10% RENEWAL","Floor:Take up any type floorboards and treat with insecticide all floorboards, joists, plates, bridging and other floor timbers, on completion refix floorboards up to 10% floorboard renewal.","SM",39.81,5.67]
[null,"305804","JR","DWELLING:TREAT FLOOR INSECTICIDE","Dwelling:Take up all floorboards of any type, treat with insecticide all floorboards, joists, plates, bridging, other timbers, on completion refix floorboards up to 10% floorboard renewal.","IT",1150.5,271.66000000000003]
[null,"305805","JR","FLOOR:TREAT FLOOR PRESERVATIVE","Floor:Remove any type of floorboards and treat with three full brush coats of preservative to BS 5707 Type F, all floorboards, joists, plates, etc, refix floorboards over 10% floorboard renewal.","SM",52.1,10.53]
[null,"305806","JR","DWELLING:TREAT FLOOR PRESERVATIVE","Dwelling:Take up all floorboards of any type, treat with 3 coats of preservative to BS 5707 Type F, all floorboards, joists, plates, etc, refix floorboards up to 10% floorboard renewal.","IT",1298.3399999999999,397.19]
[null,"305808","JR","DWELLING:PRESERVATIVE GUARANTEE","Dwelling:Provision of 30 year insurance backed guarantee for floor preservation treatment.","IT",52.5,0]
[null,"305820","JR","DWELLING:TIMBER TREATMENT","Dwelling:Take up 20% of floorboards as necessary to any size dwelling to facilitate access for timber preservative treatment by Specialist, refix floorboards, allow for up to 50% renewal.","IT",919.34,247.52]
[null,"305822","JR","ROOF:CHEMICAL TREAT TIMBER","Roof:Remove and set aside Tenants personal affects stored items, insulation in loft area, pressure spray applications of approved chemical wood preservative, to timber, reinstate.","IT",239.94,82.38]
[null,"305824","JR","ROOF:PRESERVATIVE GUARANTEE","Roof:Provision of 30 year insurance backed guarantee for roof timber preservation treatment.","IT",52.5,0]
[null,"305832","JR","DWELLING:WOODWORM TREATMENT","Dwelling:Take up 20% of floorboards as necessary to any size dwelling to facilitate access, undertake woodworm treatment by approved Sub-Contractor, refix floorboards, allow for up to 50% renewal.","IT",1286.8399999999999,247.52]
[null,"305834","JR","DWELLING:WOODWORM GUARANTEE","Dwelling:Provision of 30 year insurance backed guarantee for woodworm treatment.","IT",52.5,0]
[null,"305836","JR","ROOF:WOODWORM TIMBER","Roof:Remove and set aside Tenants personal affects stored items, insulation in loft area, undertake woodworm treatment by approved Sub-Contractor to accessible structural timbers, reinstate","IT",242.84,0]
[null,"305838","JR","ROOF:WOODWORM GUARANTEE","Roof:Provision of 30 year insurance backed guarantee for roof timber woodworm treatment.","IT",52.5,0]
[null,"305905","JR","JOIST ENDS:DEEP PASTE TREATMENT","Joist Ends:Take up existing floor boarding as necessary, set aside for reuse, take out joist, apply deep paste treatment end of joists, refix joist, relay boarding (msd per joist).","NO",22.12,9.86]
[null,"306001","JR","FLOORING:RENEW WOOD BLOCK NE 2.0SM","Flooring:Renew wood block floor in patches ne 2.00sm, take up existing, lay new 25mm thick flooring with T and G joints fixed with adhesive laid to herring bone pattern, make good.","IT",152.11000000000001,60.2]
[null,"306003","JR","FLOORING:RENEW WOOD BLOCK OVER 2.0SM","Flooing:Renew wood block floor in patches over 2.00sm, take up existing, lay new 25mm thick flooring with T and G joints fixed with adhesive laid to herring bone pattern, make good.","SM",101.4,40.130000000000003]
[null,"307101","JR","CLADDING:RENEW 19MM SHIPLAP NE 2.0SM","Cladding:Remove existing and renew with 19mm treated shiplap boarding in areas ne 2.00sm, all labours, fixed to existing framework, renew defective battens, decorate to match.","IT",69.31,21.17]
[null,"307103","JR","CLADDING:RENEW 19MM SHIPLAP OVER 2.0SM","Cladding:Remove existing and renew with 19mm treated shiplap boarding in areas over 2.00sm, all labours, fixed to existing framework, renew defective battens, decorate to match.","SM",37.64,13.57]
[null,"307105","JR","CLADDING:REFIX LOOSE SHIPLAP FEATHER EDGE OR TG V","Cladding:Refix loose timber shiplap, feather edge or T, G and V jointed boarding to existing framework including renewal of any support battens required and make good decorations.","SM",9.0399999999999991,0.28999999999999998]
[null,"307301","JR","CLADDING:RENEW FEATHER EDGE NE 2.0SM","Cladding:Remove existing and renew with 19mm treated feather edge boarding in areas ne 2.00sm, all labours, fixed to existing framework, renew defective battens, decorate to match.","IT",65.42,17.28]
[null,"307303","JR","CLADDING:RENEW FEATHER EDGE OVER 2.0SM","Cladding:Remove existing and renew with 19mm treated feather edge boarding in areas over 2.00sm, all labours, fixed to existing framework, renew defective battens, decorate to match.","SM",35.51,11.44]
[null,"307501","JR","CLADDING:RENEW T G AND V JOINT NE 2.0SM","Cladding:Remove existing and renew with 19mm treated T, G and V jointed boarding in areas ne 2.00sm, all labours, fixed to existing framework, renew defective battens, decorate to match.","IT",81.78,33.64]
[null,"307503","JR","CLADDING:RENEW T G AND V JOINT OVER 2.0SM","Cladding:Remove existing boarding and renew with 19mm treated T, G and V jointed boarding in areas over 2.00sm, all labours, fixed to existing framework, renew defective battens, decorate to match.","SM",47.21,23.14]
[null,"307701","JR","CLADDING:RENEW PVC SHIPLAP NE 2.0SM","Cladding:Remove existing defective PVC shiplap cladding, renew in areas ne 2.00sm, all trims, channels and jointing, fixed to existing framework, renew defective support battens.","IT",81.37,44.17]
[null,"307703","JR","CLADDING:RENEW PVC SHIPLAP OVER 2.0SM","Cladding:Remove existing and renew with cellular cored PVC shiplap boarding, in areas over 2.00sm, all trims, channels and jointing, fixed to existing framework, renew defective support battens.","SM",44.94,25.24]
[null,"307705","JR","CLADDING:REFIX LOOSE PVC SHIPLAP OR TGV","Cladding:Refix loose PVC shiplap or T, G and V jointed cladding to existing framework including renewal of support battens required and all trims, channels and jointing.","SM",10.199999999999999,1.45]
[null,"310101","JR","WINDOW:RENEW STANDARD SOFTWOOD CASEMENT 1 LIGHT","Window:Renew any window with standard softwood casement window with softwood cill, double glazed weatherstripping, ironmongery, make good, decorate, 1 No. opening light.","SM",275.73,196.95]
[null,"310105","JR","WINDOW:RENEW STANDARD SOFTWOOD CASEMENT 2 LIGHT","Window:Renew any window with standard softwood casement window with softwood cill, double glazed weatherstripping, ironmongery, make good, decorate, 2 No. opening light.","SM",316.47000000000003,237.69]
[null,"310109","JR","WINDOW:RENEW STANDARD SOFTWOOD CASEMENT 3 LIGHT","Window:Renew any window with standard softwood casement window with softwood cill, double glazed weatherstripping, ironmongery, make good, decorate, 3 No. opening light.","SM",392.02,313.24]
[null,"310113","JR","WINDOW:RENEW STANDARD SOFTWOOD CASEMENT 4 LIGHT","Window:Renew any window with standard softwood casement window with softwood cill, double glazed weatherstripping, ironmongery, make good, decorate, 4 No. opening light.","SM",426.27,347.49]
[null,"310301","JR","WINDOW:RENEW PURPOSE SOFTWOOD CASEMENT 1 LIGHT","Window:Renew any window with purpose made softwood casement window with softwood cill, double glazed weatherstripping, ironmongery, make good, decorate 1 No. opening light.","SM",307.06,228.28]
[null,"310305","JR","WINDOW:RENEW PURPOSE SOFTWOOD CASEMENT 2 LIGHT","Window:Renew any window with purpose made softwood casement window with softwood cill, double glazed weatherstripping, ironmongery, make good, decorate 2 No. opening light.","SM",380.51,301.73]
[null,"310309","JR","WINDOW:RENEW PURPOSE SOFTWOOD CASEMENT 3 LIGHT","Window:Renew any window with purpose made softwood casement window with softwood cill, double glazed weatherstripping, ironmongery, make good, decorate 3 No. opening light.","SM",490.84,412.06]
[null,"310313","JR","WINDOW:RENEW PURPOSE SOFTWOOD CASEMENT 4 LIGHT","Window:Renew any window with purpose made softwood casement window with softwood cill, double glazed weatherstripping, ironmongery, make good, decorate 4 No. opening light.","SM",563.80999999999995,485.03]
[null,"310501","JR","WINDOW:RENEW SOFTWOOD BOX SASH","Window:Renew window with purpose made softwood double hung cased box frame and sashes complete with ironmongery, weatherstripping, double glazed, make good, decorate.","SM",474.38,395.6]
[null,"310701","JR","WINDOW:RENEW SOFTWOOD HORIZONTAL PIVOT","Window:Renew window with purpose made softwood horizontal pivot hung window complete with ironmongery, double glazed, weatherstripping, make good, decorate.","SM",384.6,305.82]
[null,"311101","JR","WINDOW:RENEW STANDARD HARDWOOD CASEMENT 1 LIGHT","Window:Renew any window with standard hardwood casement window with hardwood cill, double glazed weatherstripping, ironmongery, make good, decorate, 1 No. opening light.","SM",370.75,291.97000000000003]
[null,"311105","JR","WINDOW:RENEW STANDARD HARDWOOD CASEMENT 2 LIGHT","Window:Renew any window with standard hardwood casement window with hardwood cill, double glazed weatherstripping, ironmongery, make good, decorate, 2 No. opening light.","SM",443.76,364.98]
[null,"311109","JR","WINDOW:RENEW STANDARD HARDWOOD CASEMENT 3 LIGHT","Window:Renew any window with standard hardwood casement window with hardwood cill, double glazed weatherstripping, ironmongery, make good, decorate, 3 No. opening light.","SM",599.61,520.83000000000004]
[null,"311113","JR","WINDOW:RENEW STANDARD HARDWOOD CASEMENT 4 LIGHT","Window:Renew any window with standard hardwood casement window with hardwood cill, double glazed weatherstripping, ironmongery, make good, decorate, 4 No. opening light.","SM",648.62,569.84]
[null,"311301","JR","WINDOW:RENEW PURPOSE HARDWOOD CASEMENT 1 LIGHT","Window:Renew any window with purpose made hardwood casement window with hardwood cill, double glazed weatherstripping, ironmongery, make good, decorate, 1 No. opening light.","SM",404.26,325.48]
[null,"311305","JR","WINDOW:RENEW PURPOSE HARDWOOD CASEMENT 2 LIGHT","Window:Renew any window with purpose made hardwood casement window with hardwood cill, double glazed weatherstripping, ironmongery, make good, decorate, 2 No. opening light.","SM",527.42999999999995,448.65]
[null,"311309","JR","WINDOW:RENEW PURPOSE HARDWOOD CASEMENT 3 LIGHT","Window:Renew any window with purpose made hardwood casement window with hardwood cill, double glazed weatherstripping, ironmongery, make good, decorate, 3 No. opening lights.","SM",770.15,691.37]
[null,"311313","JR","WINDOW:RENEW PURPOSE HARDWOOD CASEMENT 4 LIGHT","Window:Renew any window with purpose made hardwood casement window with hardwood cill, double glazed weatherstripping, ironmongery, make good, decorate, 4 No. opening lights.","SM",889.5,810.72]
[null,"311501","JR","WINDOW:RENEW HARDWOOD BOX SASH","Window:Renew window with purpose made hardwood double hung cased box frame and sashes complete with ironmongery, weatherstripping, double glazed, make good, decorate.","SM",735.7,656.92]
[null,"311701","JR","WINDOW:RENEW HARDWOOD HORIZONTAL PIVOT","Window:Renew window with purpose made hardwood horizontal pivot hung window complete with ironmongery, double glazed, weatherstripping, make good, decorate.","SM",554.80999999999995,476.03]
[null,"312001","JR","WINDOW:RENEW SOFTWOOD FEATURE","Window:Renew any window with standard softwood combination feature window ne 5.00sm with double glazed fixed, opening lights and panels, make good ironmongery, weatherstripping, decorate to match.","SM",320.89999999999998,242.12]
[null,"313001","JR","WINDOW:RENEW HARDWOOD FEATURE","Window:Renew any window with standard hardwood combination feature window ne 5.00sm with double glazed fixed, opening lights and panels, make good ironmongery, weatherstripping, decorate to match.","SM",419.34,338.37]
[null,"313501","WAD","WINDOW:RENEW WITH PVCU PIVOT","Window:Renew any type window with purpose made PVCu factory glazed horizontal pivot hung window complete with cill, double glazed, ironmongery, weatherstripping, make good.","SM",255.36,207.22]
[null,"313601","WAD","WINDOW:RENEW WITH PVCU CASEMENT 1 LIGHT","Window:Renew any type window with purpose made PVCu factory glazed casement window with cill, double glazed, weatherstripping, ironmongery make good, 1 No. opening light.","SM",251.23,203.09]
[null,"313605","WAD","WINDOW:RENEW WITH PVCU CASEMENT 2 LIGHT","Window:Renew any type window with purpose made PVCu factory glazed casement window with cill, double glazed, weatherstripping, ironmongery make good, 2 No. opening lights.","SM",354.43,299.72000000000003]
[null,"313609","WAD","WINDOW:RENEW WITH PVCU CASEMENT 3 LIGHT","Window:Renew any type window with purpose made PVCu factory glazed casement window with cill, double glazed, weatherstripping, ironmongery make good, 3 No. opening lights.","SM",446.24,369.65]
[null,"313613","WAD","WINDOW:RENEW WITH PVCU CASEMENT 4 LIGHT","Window:Renew any type window with purpose made PVCu factory glazed casement window with cill, double glazed, weatherstripping, ironmongery make good, 4 No. opening lights.","SM",486.61,396.88]
[null,"313701","WAD","WINDOW:RENEW WITH PVCU TILT TURN 1 LIGHT","Window:Renew any type window with purpose made PVCu factory glazed tilt/turn window with cill, double glazed, weatherstripping, ironmongery make good, 1 No. opening light,","SM",193.77,145.62]
[null,"313705","WAD","WINDOW:RENEW WITH PVCU TILT TURN 2 LIGHT","Window:Renew any type window with purpose made PVCu factory glazed tilt/turn window with cill, double glazed, weatherstripping, ironmongery make good, 2 No. opening light,","SM",298.14999999999998,243.44]
[null,"313709","WAD","WINDOW:RENEW WITH PVCU TILT TURN 3 LIGHT","Window:Renew any type window with purpose made PVCu factory glazed tilt/turn window with cill, double glazed, weatherstripping, ironmongery make good, 3 No. opening light,","SM",448.34,371.75]
[null,"313713","WAD","WINDOW:RENEW WITH PVCU TILT TURN 4 LIGHT","Window:Renew any type window with purpose made PVCu factory glazed tilt/turn window with cill, double glazed, weatherstripping, ironmongery make good, 4 No. opening light,","SM",460.04,370.31]
[null,"314003","JR","GLAZING:DISCOUNT FOR SINGLE GLAZING","Glazing:Discount for provide and fix any combination of single glazing in lieu of double glazing to timber windows (measured per nett square metre glass area or fraction thereof).","SM",-20.72,-20.72]
[null,"314005","JR","WINDOW:EXTRA FOR DOUBLE GLAZING IN REPAIRS","Window:Extra for provide and fix any combination of double glazed units in lieu of single glazing to renewed timber window sashes, casements and the like (measured per nett square metre glass area).","SM",20.72,20.72]
[null,"315001","JR","WINDOW:EASE AND ADJUST INCLUDING REMOVE","Window:Ease any size and type of opening sash, pivot sash, sliding sash including remove, refix sash, beads etc, oil, adjust hinges, ironmongery, touch up decoration, test for effective operation.","NO",13.49,0.36]
[null,"315007","JR","WINDOW:RENEW NE 0.9X0.6M CASEMENT SINGLE GLAZED","Window:Renew ne 900x600mm casement with single glazed treated softwood casement, any size or profile members to match existing, hang on pair of 50mm steel butt storm hinges, decorate to match.","NO",117.1,83.4]
[null,"315009","JR","WINDOW:RENEW FIXED SASH NE 0.9X0.6M SINGLE GLAZED","Sash:Renew ne 900x600mm fixed sash with single glazed treated softwood sash, any size or profile members to match existing, bed in linseed oil putty, screw fixed to frame, decorate to match","NO",101.86,78.66]
[null,"315011","JR","WINDOW:RENEW PIVOT SASH SINGLE GLAZED","Window:Renew pivot sash with single glazed treated softwood pivot, any size or profile to match existing and hang on new pair of pivot hinges, decorate to match existing.","NO",178.59,137.88999999999999]
[null,"315013","JR","WINDOW:RENEW SLIDING SASH SINGLE GLAZED","Window:Renew single glazed treated softwood sliding sash to box sash window, any size or profile to match existing, complete with cords, ease and adjust, and decorate to match existing.","NO",219.44,166.92]
[null,"315015","JR","WINDOW:RENEW SOFTWOOD PARTING OR STAFF BEAD","Window:Renew softwood parting or staff bead to box sash window complete and decorate to match existing.","LM",9.49,0.74]
[null,"315019","JR","WINDOW:RENEW SET OF SASH CORDS","Window:Renew set of pulley cords complete including remove and refix sliding sash pockets and beads and ease pulley (per sash).","IT",23.86,1.98]
[null,"315021","JR","WINDOW:RENEW PULLEY WHEEL TO BOX SASH","Window:Renew sliding sash pulley wheel including remove and refix sash and renew cords if required, touch up decorations to match existing","NO",33.31,4.8600000000000003]
[null,"315023","JR","WINDOW:RENEW SASH WEIGHT(S) TO BOX SASH","Box Sash:Renew weight(s) to sliding sash including remove and refix sash and renew cords if required, touch up decorations to match existing.","NO",60.58,34.32]
[null,"315025","JR","WINDOW:RENEW SPIRAL BALANCES TO BOX SASH","Balance:Renew any type and size of spiral balances to double hung sash unit including remove/refix sashes, beads, linings etc, renew balances, test and make good decorations to match existing.","IT",105.47,72.650000000000006]
[null,"315027","JR","WINDOW FRAME:CUT OUT AND SPLICE NEW SECTION","Window Frame:Cut out and splice in new section treated softwood frame any size or profile to match existing, plugged to brickwork, point with sealant, make good plasterwork, decorate to match.","LM",47.58,12.56]
[null,"315029","JR","WINDOW CILL:CUT OUT AND SPLICE NEW NE 300MM","Cill:Cut out and splice in new section ne 300mm long any size or profile of preservative hardwood cill to match, plugged to brickwork, point with sealant, make good plasterwork.","IT",39.46,4.45]
[null,"315031","JR","WINDOW CILL:CUT OUT AND SPLICE NEW OVER 300MM","Cill:Cut out and splice in new section over 300mm long any size or profile of preservative hardwood cill to match, plugged to brickwork, point with sealant, make good plasterwork.","LM",54.93,13.35]
[null,"315035","JR","WINDOW:RENEW GLAZING BEAD","Window:Renew with 14x20mm preservative treated softwood or hardwood glazing bead and decorate to match existing.","LM",7.4,1.27]
[null,"315039","JR","WINDOW:REFIX LOOSE GLAZING BEAD","Window:Refix loose glazing bead and bed in sealant.","LM",5.86,1.48]
[null,"315041","JR","WINDOW:RENEW CILL NOSING","Window:Renew front section of cill with any size or profile to match existing, with screws and pellats, bed in sealant, cut out defective section and shape new to match existing, redecorate.","LM",16.149999999999999,5.21]
[null,"315043","JR","WINDOW:RENEW GLAZING BAR","Window:Renew glazing bar, any size or profile to match existing, reglaze with existing glass, splice new section, remove/refix sashes, decorate (refixing of glass is Contractors risk).","LM",49.7,5.94]
[null,"315045","JR","WINDOW:RENEW WEATHER MOULD","Window:Renew weather or parrot mould, cut out old and fix new mould, redecorate to match existing.","LM",7.52,3.14]
[null,"315047","JR","WINDOW:REPAIR SASH RAIL OR STILE","Window:Repair sash rail or stile any size or profile to match existing, reglaze with existing glass, splice new section, remove/refix sashes, decorate (refixing of glass is Contractors risk).","LM",55.32,2.8]
[null,"315049","JR","WINDOW:OVERHAUL CASEMENT","Window:Overhaul timber casement window, dismantle reassemble, ease, adjust, renew sealing gaskets, renew fixing screws, remove, refit or renew ironmongery, renew putty, mastic, touch up.","NO",39.35,6.52]
[null,"315051","JR","WINDOW:OVERHAUL SASH","Window:Overhaul timber sash window, renew staff and parting beads, take out sashes, rehang on new sash cords, ease, adjust sashes, remove, refit or renew ironmongery, renew putty, mastic, touch up.","NO",48.08,8.69]
[null,"315105","JR","TIMBER:EPOXY REPAIR NE 10MM:OVER 300MM","Timber:Cut away defective material, two part epoxy resin based compound filling to joints, cracks, shakes, splits and the like, any width ne 10mm, any depth, over 300mm long, make good.","LM",41.52,8.69]
[null,"315107","JR","TIMBER:EPOXY REPAIR NE 10MM:NE 300MM","Timber:Cut away defective material, two part epoxy resin based compound filling to joints, cracks, shakes, splits and the like, any width ne 10mm, any depth, n.e.300mm long, make good.","NO",29.16,2.9]
[null,"315109","JR","TIMBER:EPOXY REPAIR NE 25MM:NE 300MM PLAIN","Timber:Cut away defective material, two part epoxy resin based compound filling to joints, cracks, shakes, splits and the like, any width ne 25mm, any depth, over 300mm long, make good.","NO",37.85,11.59]
[null,"315111","JR","TIMBER:EPOXY REPAIR NE 50MM:NE 300MM PLAIN","Timber:Cut away defective material, two part epoxy resin based compound filling to joints, cracks, shakes, splits etc, any width over 25mm n.e. 50mm, any depth, n.e. 300mm long,make good.","NO",31.33,5.07]
[null,"315113","JR","TIMBER:EPOXY REPAIR NE 75MM:NE 300MM PLAIN","Timber:Cut away defective material, two part epoxy resin based compound filling to joints, cracks, shakes, splits etc, any width over 50mm n.e. 75mm, any depth, n.e. 300mm long,make good.","NO",34.950000000000003,8.69]
[null,"315115","JR","TIMBER:EPOXY REPAIR NE 25MM:NE 300MM IRREGULAR","Timber:Cut away defective material, two part epoxy resin based compound filling to joints, cracks, shakes, splits and the like, any width ne 25mm, any depth, n.e. 300mm long, make good.","NO",29.88,3.62]
[null,"315117","JR","TIMBER:EPOXY REPAIR NE 50MM:NE 300MM IRREGULAR","Timber:Cut away defective material, two part epoxy resin based compound filling to irregular surfaces, mouldings etc, any width exc 25mm n.e. 50mm, any depth, n.e. 300mm long, make good.","NO",36.4,10.14]
[null,"315119","JR","TIMBER:EPOXY REPAIR NE 75MM:NE 300MM IRREGULAR","Timber:Cut away defective material, two part epoxy resin based compound filling to irregular surfaces, mouldings etc, any width exc 50mm n.e. 75mm, any depth, n.e. 300mm long, make good.","NO",37.85,11.59]
[null,"316209","JR","WINDOW:RENEW TIMBER SUB-FRAME TO METAL","Window:Renew timber sub-frame and cill to any steel window, take out, set aside and refix window remove sub-frame, fix treated softwood frame and treated hardwood cill, make good, decorate.","LM",28.89,11.38]
[null,"316401","JR","WINDOW:EASE OIL BUTTS ADJUST ANY METAL","Window:Ease and oil butts to metal window including force open if necessary, strip paint, file and grind edges.","NO",6.71,0.14000000000000001]
[null,"316405","JR","WINDOW:RENEW WEATHER DRAUGHT PROOFING METAL","Window:Renew proprietary weather/draught proofing to any opening light to metal window and adjust window as necessary to ensure effective operation.","IT",17.21,12.83]
[null,"316407","JR","WINDOW:OVERHAUL METAL","Window:Overhaul any type of metal window, dismantle, reassemble, ease, oil adjust casements, file and grind edges, remove, refit or renew ironmongery, renew putty and mastic, touch up.","NO",38.619999999999997,5.8]
[null,"317201","JR","WINDOW:EASE OIL BUTTS ADJUST ANY ALUMINIUM","Window:Ease and oil butts to any type of aluminium window including renewing runners if necessary.","NO",8.01,1.45]
[null,"317205","JR","WINDOW:OVERHAUL ALUMINIUM","Window:Overhaul any type of aluminium window, dismantle, reassemble, ease, adjust casements, renew fixing screws, remove, refit or renew ironmongery, renew sealants and mastic, make good.","NO",38.619999999999997,5.8]
[null,"318101","WAD","WINDOW:RENEW FANLIGHT PVCU SASH","Window:Renew any size and type of fanlight sash to PVCu window including double glazing and all ironmongery and make good.","NO",47.23,40.659999999999997]
[null,"318103","WAD","WINDOW:RENEW SIDE HUNG PVCU SASH","Window:Renew any size and type of sidehung sash to PVCu window including double glazing and all ironmongery and make good.","NO",86.45,75.5]
[null,"318105","WAD","WINDOW:RENEW TRICKLE VENT TO PVCU","Window:Renew or repair any trickle vent to PVCu window.","IT",11.16,6.78]
[null,"318107","WAD","WINDOW:RENEW HANDLE TO PVCU","Window:Renew any defective or broken handle to PVCu window including remove existing, check, lubricate operating mechanism, renew handle to match existing and test.","NO",16.100000000000001,9.5399999999999991]
[null,"318108","WAD","WINDOW:RENEW LOCKING HANDLE TO PVCU","Window:Renew any defective or broken locking handle to PVCu window including remove existing, check, lubricate operating mechanism, renew handle to match existing and test.","NO",20.88,14.32]
[null,"318109","WAD","WINDOW:RENEW HINGE TO PVCU","Window:Renew any defective or broken hinge to PVCu window including remove existing and renew hinge to match existing.","NO",10.24,3.67]
[null,"318111","WAD","WINDOW:RENEW ESPAGNOLETTE LOCK TO PVCU","Window:Renew any defective or broken espagnolette locking mechanism to PVCu window including remove existing and renew to match existing and and test.","IT",21.94,8.81]
[null,"318113","WAD","WINDOW:RENEW SEALING GASKET TO PVCU","Window:Renew sealing gasket to any opening light of PVCu window (per opening light).","IT",7.17,0.61]
[null,"318115","WAD","WINDOW:CHECK LUBRICATE FITTINGS TO PVCU","Window:Check operation of all fittings and operating mechanisms to PVCu window complete including lubricate and adjust as necessary.","IT",6.71,0.14000000000000001]
[null,"318117","WAD","WINDOW:EASE AND ADJUST PVCU SASH","Window:Ease and adjust PVCu sash including realign as necessary.","IT",11.16,0.22]
[null,"318119","WAD","WINDOW:OVERHAUL TILT TURN MECHANISM TO PVCU","Window:Check operation of tilt and turn mechanism to PVCu window including overhaul, lubricate and adjust as necessary.","NO",18.739999999999998,0.36]
[null,"318121","WAD","WINDOW:RENEW TILT TURN MECHANISM TO PVCU","Window:Renew any tilt and turn mechanism complete to PVCu window of any size to match existing, including remove existing, test and leave in proper working order.","NO",102.05,49.53]
[null,"318123","WAD","WINDOW:CHILD RESTRICTOR TO PVCU","Window:Renew or supply and fix new adjustable child proof restrictor/catch to any type of PVCu window including removing existing fitting.","NO",10.27,3.71]
[null,"318125","WAD","WINDOW:OVERHAUL PVCU","Window:Overhaul any type of PVCu window, dismantle reassemble, ease, adjust casements, remove, refit or renew ironmongery check, lubricate operating mechanism, renew gaskets, make good and test.","NO",38.619999999999997,5.8]
[null,"318151","WAD","WINDOW:RENEW GLAZING BEAD TO PVCU","Window:Renew any type of defective PVCu glazing bead including remove existing, clean, prepare and fit new bead to match existing including all cutting, mitres, sealing with silicone sealant.","LM",6.13,1.75]
[null,"318155","WAD","WINDOW:RENEW OPENER GASKET TO PVCU","Window:Renew gasket to any style of PVCu window opening light.","LM",2.4900000000000002,0.3]
[null,"318157","WAD","WINDOW:RENEW FRICTION STAY TO PVCU","Window:Renew any type of stay with stainless steel friction stay to PVCu window.","NO",8.58,2.0099999999999998]
[null,"318159","WAD","WINDOW:RENEW RESTRAINING WEDGES TO PVCU","Window:Renew plastic restraining wedges to friction stay guide to PVCu window.","NO",3.04,0.85]
[null,"318161","WAD","WINDOW:RENEW RESTRICTOR STAY TO PVCU","Window:Renew restrictor stay to match existing to PVCu window.","NO",10.27,3.71]
[null,"318163","WAD","WINDOW:RENEW LOCKING HANDLE TO PVCU LOCKING PLATE","Window:Renew any type of window handle and striker plate with Securistyle Empress locking plate to PVCu window.","NO",14.31,7.74]
[null,"318165","WAD","WINDOW:RENEW DRIP MOULD BEAD TO PVCU","Window:Renew drip mould bead to PVCu window and make good.","LM",5.43,1.06]
[null,"318167","WAD","WINDOW:PROVIDE DRIP MOULD BEAD TO PVCU","Window:Provide standard section PVCu drip mould bead, fix to PVCu window and make good.","LM",4.12,1.06]
[null,"318169","WAD","WINDOW:PROVIDE 30MM EXTENSION FLANGE TO PVCU","Window:Provide 30mm standard section PVCu extension flange, fix to PVCu window and make good.","LM",5.52,2.4500000000000002]
[null,"318171","WAD","WINDOW:PROVIDE 45MM EXTENSION FLANGE TO PVCU","Window:Provide 45mm standard section PVCu extension flange, fix to PVCu window and make good.","LM",5.8,2.73]
[null,"318173","WAD","WINDOW:PROVIDE 30MM BOX EXTENSION TO PVCU","Window:Provide 30mm PVCu box extension piece, fix to PVCu window and make good.","LM",5.52,2.4500000000000002]
[null,"318175","WAD","WINDOW:PROVIDE 45MM BOX EXTENSION TO PVCU","Window:Provide 45mm PVCu box extension piece fix to PVCu window and make good.","LM",5.8,2.73]
[null,"318177","WAD","WINDOW:RENEW DRAIN CAPS TO PVCU","Window:Renew any missing or broken drain caps to PVCu window (per window).","IT",2.02,0.71]
[null,"318179","WAD","WINDOW:REPOINT SILICONE TO PVCU FRAME","Window:Rake out, prepare and repoint with silicone mastic sealant complete around any external face of PVCu window frame.","LM",3.97,0.47]
[null,"318181","WAD","WINDOW:RENEW QUADRANT FILLET TO PVCU","Window:Renew cellular PVCu quadrant cover fillet fixed with approved adhesive or other approved concealed fixing method internally around windows make good plasterwork and decorations.","LM",5.31,0.93]
[null,"318185","WAD","WINDOW:RENEW CILL TO PVCU","Window:Renew standard section PVCu cill to PVCu window, remove existing, clean, prepare and supply and fit new cill to match existing with end caps, all cutting, mitres, silicone sealant, make good.","LM",18.989999999999998,3.67]
[null,"318187","WAD","WINDOW:PROVIDE CILL TO PVCU","Window:Provide standard section PVCu cill to PVCu window clean, prepare and supply and fit new cill including end caps all cutting, mitres, sealing with silicone sealant as necessary and make good.","LM",14.61,3.67]
[null,"318189","WAD","WINDOW:RENEW CILL ENDS TO PVCU","Window:Renew any missing or broken cill ends to PVCu window (per window).","NO",2.33,0.14000000000000001]
[null,"318201","JR","DOOR FRAME:RAKE OUT AND REPOINT SEALANT","Door Frame:Rake out, prepare and repoint with silicone mastic sealant complete around any door frame of any size (per face).","IT",14.23,3.29]
[null,"318203","JR","WINDOW FRAME:RAKE OUT AND REPOINT","Window Frame:Rake out, prepare and repoint with silicone mastic sealant complete around any window frame (per face).","IT",15.12,4.18]
[null,"318207","WAD","WINDOW FRAME:PROVIDE AND FIX BEAD OR SEALANT","Window Frame:Fix suitable size PVCu quadrant or flexible PVC cover trim with silicone mastic sealant to surround to jambs and head of any window frame, any location (per face).","IT",21.24,8.11]
[null,"318301","WAD","WINDOWS/DOORS:PVCU 1 BED HOUSE CHECK CLEAN","Windows/doors:Check all PVCu windows and doors to 1 bed house or maisonette, including freeing, easing, adjusting, realigning/ rehanging opening sashes/casements and doors, clean all surfaces.","IT",42.29,2.9]
[null,"318303","WAD","WINDOWS/DOORS:PVCU 2 BED HOUSE CHECK CLEAN","Windows/doors:Check all PVCu windows and doors to 2 bed house or maisonette, including freeing, easing, adjusting, realigning/ rehanging opening sashes/casements and doors, clean all surfaces.","IT",53.95,3.62]
[null,"318305","WAD","WINDOWS/DOORS:PVCU 3 BED HOUSE CHECK CLEAN","Windows/doors:Check all PVCu windows and doors to 3 bed house or maisonette, including freeing, easing, adjusting, realigning/ rehanging opening sashes/casements and doors, clean all surfaces.","IT",60.95,4.0599999999999996]
[null,"318307","WAD","WINDOWS/DOORS:PVCU 4 BED HOUSE CHECK CLEAN","Windows/doors:Check all PVCu windows and doors to 4 bed house or maisonette, including freeing, easing, adjusting, realigning/ rehanging opening sashes/casements and doors, clean all surfaces.","IT",70.430000000000007,4.78]
[null,"318309","WAD","WINDOWS/DOORS:PVCU 5 BED HOUSE CHECK CLEAN","Windows/doors:Check all PVCu windows and doors to 5 bed house or maisonette, including freeing, easing, adjusting, realigning/ rehanging opening sashes/casements and doors, clean all surfaces.","IT",77.430000000000007,5.22]
[null,"318311","WAD","WINDOWS/DOORS:PVCU 1 BED FLAT CHECK CLEAN","Windows/doors:Check all PVCu windows and doors to 1 bed flat or bungalow, including freeing, easing, adjusting, realigning/ rehanging opening sashes/casements and doors, clean all surfaces.","IT",33.83,2.3199999999999998]
[null,"318313","WAD","WINDOWS/DOORS:PVCU 2 BED FLAT CHECK CLEAN","Windows/doors:Check all PVCu windows and doors to 2 bed flat or bungalow, including freeing, easing, adjusting, realigning/ rehanging opening sashes/casements and doors, clean all surfaces.","IT",37.549999999999997,2.54]
[null,"318315","WAD","WINDOWS/DOORS:PVCU 3 BED FLAT CHECK CLEAN","Windows/doors:Check all PVCu windows and doors to 3 bed flat or bungalow, including freeing, easing, adjusting, realigning/ rehanging opening sashes/casements and doors, clean all surfaces.","IT",51.62,3.48]
[null,"318317","WAD","WINDOWS/DOORS:PVCU 4 BED FLAT CHECK CLEAN","Windows/doors:Check all PVCu windows and doors to 4 bed flat or bungalow, including freeing, easing, adjusting, realigning/ rehanging opening sashes/casements and doors, clean all surfaces","IT",63.43,4.3499999999999996]
[null,"318319","WAD","WINDOWS/DOORS:PVCU 5 BED FLAT CHECK CLEAN","Windows/doors:Check all PVCu windows and doors to 5 bed flat or bungalow, including freeing, easing, adjusting, realigning/ rehanging opening sashes/casements and doors, clean all surfaces","IT",65.91,4.6399999999999997]
[null,"319001","JR","ROOF WINDOW:RENEW NE 0.78X0.98M","Roof Window:Renew roof window complete size ne 0.78x0.98m with Velux aluminium clad externally roof window with factory fitted clear float double glazed sealed unit, all upstands, flashings etc.","NO",618.91999999999996,245.06]
[null,"319003","JR","ROOF WINDOW:RENEW NE 1.14X1.18M","Roof Window:Renew roof window complete size ne 1.14x1.18m with Velux aluminium clad externally roof window with factory fitted clear float double glazed sealed unit, all upstands, flashings etc.","NO",704.83,289.43]
[null,"319005","JR","ROOF WINDOW:RENEW NE 1.34X1.40M","Roof Window:Renew roof window complete size ne 1.34x1.40m with Velux aluminium clad externally roof window with factory fitted clear float double glazed sealed unit, all upstands, flashings etc.","NO",794.62,337.68]
[null,"319101","JR","ROOF WINDOW:REMEDY LEAK OR REDRESS FLASHINGS","Roof Window:Redress roof flashings around roof window and reseal to prevent water penetration.","NO",31.32,3.62]
[null,"319103","JR","ROOF WINDOW:OVERHAUL OPENING GEAR","Roof Window:Overhaul opening gear to any type of roof window.","NO",28.43,2.17]
[null,"319105","JR","ROOF WINDOW:RENEW CONTROL CORDS","Roof Window:Renew operating control cords to any roof window.","NO",28.37,15.24]
[null,"321105","JR","DOOR:RENEW HW PANELLED OR GLAZED BACK DOOR","Door:Renew back door with any size 44mm hardwood panelled, glazed or part glazed door, hang on 1.5 pair butts, fix ironmongery, weathermould, double glazed, make good and decorate to match existing.","NO",450.52,345.48]
[null,"321107","JR","DOOR:RENEW HW PANELLED OR GLAZED FRONT DOOR","Door:Renew front door with any size 44mm hardwood panelled, glazed or part glazed door hang on 1.5 pair butts, fix ironmongery, weathermould, double glazed, make good and decorate to match.","NO",582.94000000000005,429.32]
[null,"321305","JR","DOOR:RENEW PM HW PANELLED OR GLAZED BACK DOOR","Door:Renew back door with any size 44mm hardwood panelled, glazed or part glazed purpose made door hang on 1.5 pair butts, fix ironmongery, double glazed, weathermould, make good, decorate.","NO",693.67,588.63]
[null,"321307","JR","DOOR:RENEW PM HW PANELLED OR GLAZED FRONT DOOR","Door:Renew front door with any size 44mm hardwood panelled, glazed or part glazed purpose made door hang on 1.5 pair butts, fix ironmongery, double glazed, weathermould, make good, decorate.","NO",826.08,672.46]
[null,"321505","JR","DOOR:RENEW SW PANELLED OR GLAZED BACK DOOR","Door:Renew back door with any size 44mm softwood panelled, glazed or part glazed door, hang on 1.5 pair butts, fix ironmongery, weathermould, double glazed, make good and decorate to match existing.","NO",381.64,256.02999999999997]
[null,"321507","JR","DOOR:RENEW SW PANELLED OR GLAZED FRONT DOOR","Door:Renew front door with any size 44mm softwood panelled, glazed or part glazed door, hang on 1.5 pair butts, fix ironmongery, weathermould, double glazed, make good and decorate to match existing.","NO",509.67,339.86]
[null,"321705","JR","DOOR:RENEW PM SW PANELLED OR GLAZED BACK DOOR","Door:Renew back door with any size 44mm softwood panelled, glazed or part glazed purpose made door hang on 1.5 pair butts, fix ironmongery, double glazed, weathermould, make good, decorate .","NO",616.98,491.37]
[null,"321707","JR","DOOR:RENEW PM SW PANELLED OR GLAZED FRONT DOOR","Door:Renew front door with any size 44mm softwood panelled, glazed or part glazed purpose made door hang on 1.5 pair butts, fix ironmongery, double glazed, weathermould, make good, decorate.","NO",740.64,575.20000000000005]
[null,"322101","JR","DOOR:HIGH PERFORMANCE BACK DOOR","Door:Renew back door with any size proprietary high performance door or similar prefinished and preglazed, hang on 1.5 pair butts, fix ironmongery proprietary weathermould, make good, touch up.","NO",548.95000000000005,452.66]
[null,"322103","JR","DOOR:HIGH PERFORMANCE FRONT DOOR","Door:Renew front door with any size proprietary high performance door or similar prefinished and preglazed, hang on 1.5 pair butts, fix ironmongery proprietary weathermould, make good, touch up.","NO",659.04,536.5]
[null,"322111","JR","DOOR:HIGH PERFORMANCE GRP 1/2 HOUR BACK DOOR","Door:Renew back door with any size  proprietary high performance GRP door, prefinished, preglazed, butts,all ironmongery, weathermould, adjust stops/frame, make good frame, remove waste and debris.","NO",928.78,850]
[null,"322113","JR","DOOR:HIGH PERFORMANCE GRP 1/2 HOUR FRONT DOOR","Door:Renew front door with any size  proprietary high performance GRP door, prefinished, preglazed, butts,all ironmongery, weathermould, adjust stops/frame, make good frame, remove waste and debris.","NO",1053.78,975]
[null,"322115","JR","DOOR:HIGH PERFORMANCE GRP 1/2 HOUR BACK DOORSET","Door:Renew back door with any size proprietary high performance GRP door, frame, cill, prefinished, preglazed, all ironmongery, weathermould, fix  to structure, sealant, make good, waste and debris.","NO",1096.29,1000]
[null,"322117","JR","DOOR:HIGH PERFORMANCE GRP 1/2 HOUR FRONT DOORSET","Door:Renew front door with any size proprietary high performance GRP door, frame, cill, prefinished, preglazed, all ironmongery, weathermould, fix  to structure, sealant, make good, waste and debris.","NO",1247.55,1125]
[null,"323101","JR","DOOR:RENEW 1/2HR FLUSH FRONT DOOR","Door:Renew front door with any size 0.50hr flush firecheck door and hang on 1.5 pair butts, fix ironmongery, weathermould, intumescent strips seals etc, make good, decorate to match existing.","NO",428.92,283.62]
[null,"323103","JR","DOOR:RENEW 1HR FLUSH FRONT DOOR","Door:Renew front door with any size 1.00hr flush firecheck door and hang on 1.5 pair butts, fix ironmongery, weathermould, intumescent strips seals etc, make good, decorate to match existing.","NO",526.34,339.02]
[null,"323105","JR","DOOR:RENEW 1/2HR FLUSH COMMUNAL DOOR","Door:Renew communal door with any size 0.50hr flush firecheck door and hang on 1.5 pair butts, fix ironmongery, weathermould, intumescent strips seals etc, make good, decorate to match existing.","NO",303.74,150.55000000000001]
[null,"323107","JR","DOOR:RENEW 1HR FLUSH COMMUNAL DOOR","Door:Renew communal door with any size 1.00hr flush firecheck door and hang on 1.5 pair butts, fix ironmongery, weathermould, intumescent strips seals etc, make good, decorate to match existing.","NO",361.11,207.92]
[null,"323501","WAD","DOOR:RENEW PVCU PANELLED GLAZED DOOR AND FRAME","Door:Renew any type door and frame with any size PVCu panelled/part glazed door, double glazed PVCu frame, prehung, complete with multipoint locking system, handles, threshold weather seals.","NO",560.30999999999995,481.53]
[null,"323503","WAD","DOOR:RENEW PVCU 2 PANEL DOOR AND FRAME","Door:Renew any type door and frame with any size PVCu two panel/half glazed door, double glazed PVCu frame, prehung, complete with multipoint locking system, handles, threshold weather seals.","NO",642.23,563.45000000000005]
[null,"323505","WAD","DOOR:RENEW PVCU PANELLED GLAZED DOOR","Door:Renew any door with any size PVCu panelled/part glazed door, double glazed hanging to existing PVCu frame on new hinges, multipoint locking system, handles, threshold weather seals.","NO",462.69,383.91]
[null,"323507","WAD","DOOR:RENEW PVCU 2 PANEL DOOR","Door:Renew any door with any size PVCu two panel/half glazed door, double glazed, hang to existing PVCu frame on new hinges, multipoint locking system, handles, threshold weather seals.","NO",462.69,383.91]
[null,"323509","WAD","DOOR:RENEW PVCU TILT AND TURN FRENCH DOOR","DOOR:Renew any type door and frame with pair of any size ne 5.00sm PVCu french tilt/turn door, double glazed, PVCu frame, prehung, multipoint locking system, handles, threshold weather seals.","IT",1413.27,1229.45]
[null,"323601","WAD","DOOR:HIGH PERFORMANCE PVCU BACK DOOR","Door:Renew back door with any size panelled, glazed or partially glazed or similar proprietary high performance PVCu door, prefinished and preglazed, hang on 1.5 pair butts, ironmongery.","NO",576.91999999999996,498.14]
[null,"323603","WAD","DOOR:HIGH PERFORMANCE PVCU FRONT DOOR","Door:Renew front door with any size panelled, glazed or partially glazed or similar proprietary high performance PVCu door, prefinished and preglazed, hang on 1.5 pair butts, ironmongery.","NO",666.59,587.80999999999995]
[null,"323611","WAD","DOOR:HIGH PERFORMANCE PVCU 1/2 HOUR BACK DOORSET","Door:Renew back door with any size proprietary high performance PVCu door, frame, cill, prefinished, preglazed, all ironmongery, weathermould, fix  to structure, sealant, make good, waste and debris.","NO",744.43,648.14]
[null,"323613","WAD","DOOR:HIGH PERFORMANCE PVCU 1/2 HOUR FRONT DOORET","Door:Renew front door with any size proprietary high performance PVCu door, frame, cill, prefinished, preglazed, all ironmongery, weathermould, fix  to structure, sealant, make good, waste and debris.","NO",860.35,737.81]
[null,"324101","JR","DOOR:EASE ADJUST INCLUDING REMOVE","Door:Ease and adjust door, hung on upto 1.5 pairs of butt hinges, including remove and rehang door as necessary and make good to butt recesses to frame and touch up decorations.","NO",13.56,0.43]
[null,"324107","JR","DOOR:REFIX LOOSE GLAZING BEADS","Door:Refix loose glazing beads to door including bedding and sealing with sealant (per door).","NO",7.74,1.17]
[null,"324109","JR","DOOR:RENEW PLYWOOD PANEL","Door:Renew 9mm external quality plywood panel size 610x610mm to door, including remove weatherseal, refix or renew beads, renew weatherseal and decorate to match existing.","NO",28.78,9.09]
[null,"324111","JR","DOOR:PATCH OR REPAIR DOOR STILE","Door:Patch, repair hanging or closing stile of softwood door including cut out and splice in new timber upto 600mm long, and decorate to match existing.","NO",28.81,2.5499999999999998]
[null,"324113","JR","DOOR:RENEW SOFTWOOD DOOR STILE","Door:Renew closing stile to softwood door, take off, rehang door, remove, refix hinges, cut out defective stile, remove, refix panels and beads, remove, refix ironmongery, ease, adjust, redecorate.","IT",66.08,13.56]
[null,"324115","JR","DOOR:SUPPLY AND FIX WEATHERBOARD","Door:Supply and fix preservative treated redwood weatherboard to door, bedded and pointed in sealant, cut out base of door frame to accommodate weatherboard and decorate to match existing.","NO",18.13,9.3699999999999992]
[null,"324117","JR","DOOR:PROVIDE HARDWOOD RAIN DEFLECTOR","Door:Supply and fix 50x19mm hardwood bevelled rain deflector with neoprene or rubber flexible pad at bottom, bedded in sealant and screwed to face of door.","NO",14.03,9.65]
[null,"324119","JR","DOOR:RENEW HARDWOOD GLAZING BEADS","Door:Renew with preservative treated hardwood rebated, splayed, twice rounded glazing beads of any size and profile, mitres and ends to door, bedding/pointing with sealant, decorate to match.","LM",8.9700000000000006,3.72]
[null,"324121","JR","DOOR:RENEW HARDWOOD DOOR STILE","Door:Renew closing stile to hardwood door, take off, rehang door, remove, refix hinges, cut out defective stile, remove, refix panels and beads, remove, refix ironmongery, ease and adjust door.","IT",105.59,46.5]
[null,"324123","JR","DOOR:OVERHAUL EXTERNAL COMPLETE","Door:Overhaul external door and frame complete, refix all ironmongery, piece out, make good, resecure architraves, rehang door on 1.5 pair of butt hinges, ease, adjust, touch up decorations.","NO",87.47,8.69]
[null,"324125","JR","DOOR:OVERHAUL EXTERNAL COMPLETE FANLIGHT","Door:Overhaul external door and frame and fanlight complete, remove all ironmongery, piece out make good, resecure beads, architraves, rehang door on 1.5 pair of hinges, ease, adjust, reglaze fanlight","NO",111.82,33.04]
[null,"325101","WAD","DOOR:RENEW ANY BUTT HINGE TO PVCU","Door:Renew any butt hinge to PVCu door.","NO",13.51,9.1300000000000008]
[null,"325103","WAD","DOOR:OVERHAUL MULTIPOINT LOCK TO PVCU","Door:Overhaul and lubricate multipoint locking system to PVCu door.","IT",11.3,0.36]
[null,"325105","WAD","DOOR:RENEW MULTIPOINT LOCK TO PVCU","Door:Renew any defective or broken multipoint door locking system complete to PVCu door, adapt keep if necessary, including remove existing, test and leave in working proper working order.","NO",107.36,81.099999999999994]
[null,"325107","WAD","DOOR:ADJUST LOCK TO PVCU","Door:Carefully remove existing PVCu door lock, ease and adjust door in order to ensure correct working, refix existing lock.","NO",26.33,7.0000000000000007E-2]
[null,"325109","WAD","DOOR:RENEW LOCK CYLINDER TO PVCU","Door:Renew any type of lock cylinder to PVCu door drilling out old cylinder, replacing with new matching cylinder complete with 2 No. keys, make good, test, leave in proper working order.","NO",32.28,21.34]
[null,"325111","WAD","DOOR:RENEW LOCK CATCH OR KEEP TO PVCU","Door:Renew any door catch or keep to PVCu door including all adjustment and make good necessary.","NO",13.93,2.99]
[null,"325113","WAD","DOOR:REPAIR HANDLES TO PVCU","Door:Repair any type of door handle to PVCu door including carefully removing and refixing as necessary and make good.","NO",14.58,1.45]
[null,"325115","WAD","DOOR:RENEW HANDLES TO PVCU","Door:Carefully remove existing pair of lever handles and plates and remove from site, provide and fix new set of lever handles and plates to PVCu door (per set).","NO",65.400000000000006,54.45]
[null,"325117","WAD","DOOR:OVERHAUL PVCU","Door:Overhaul any PVCu or glazed PVCu door, remove door from frame, ease, adjust foot of door, adjust door locking mechanisms, hinges to ensure door operates correctly, rehang door to existing frame.","NO",43.65,17.39]
[null,"325123","WAD","DOOR:RENEW PANEL NE 0.5SM TO PVCU","Door:Renew composite insulated panel PVCu faced both sides to PVCu door, fixed with PVCu trim and beading, carefully removing existing panel or glazing and make good, any size ne 0.50sm.","NO",87.08,67.39]
[null,"325125","WAD","DOOR:RENEW PANEL 0.5-1.0SM TO PVCU","Door:Renew composite insulated panel PVCu faced both sides to PVCu door, fixed with PVCu trim and beading, carefully removing existing panel or glazing and make good, any size ne 1.00sm.","NO",126.5,106.81]
[null,"326105","JR","DOOR:EASE OIL AND ADJUST STEEL","Door:Ease including force open if necessary, strip paint, file and grind edges, ease and oil hinges to steel door and touch up decorations.","NO",13.27,0.14000000000000001]
[null,"326107","JR","DOOR:RENEW LOCK TO STEEL","Door:Renew lock to any Crittall type of steel door including remove existing and fix new, make all necessary adjustments to door frame, make good decorations and provide 2 No. keys.","NO",71.069999999999993,62.32]
[null,"327101","JR","DOOR:EASE OIL AND ADJUST ALUMINIUM","Door:Ease including force open if necessary, strip paint, file and grind edges, ease and oil hinges to aluminium door and touch up decorations.","NO",8.9,0.14000000000000001]
[null,"327103","JR","DOOR:RENEW LOCK TO ALUMINIUM","Door:Renew lock to any type of aluminium door including remove existing and fix new, make all necessary adjustments to door and frame, make good decorations and provide 2 No. keys.","NO",71.069999999999993,62.32]
[null,"327105","JR","PATIO DOOR:RENEW DOUBLE GLAZED ALUMINIUM DOOR","Patio Door:Renew any glazed doors and frame, with polyester powder coated aluminium double glazed doors and frame, frame built into opening, complete with ironmongery, make good.","NO",1625.16,1467.6]
[null,"328101","JR","DOOR:RENEW L AND B DOOR","Door:Renew external door with any size softwood ledged and braced door faced with 20mm T, G and V jointed boarding, hang new door on one pair of hinges, ironmongery, make good, decorate to match.","NO",230.57,141.72]
[null,"328103","JR","DOOR:RENEW FL AND B DOOR","Door:Renew external door with any size softwood framed, ledged and braced door faced with 20mm T, G and V jointed boarding, hang door on one pair of hinges, ironmongery, make good, decorate to match.","NO",248.1,159.25]
[null,"328105","JR","DOOR:RENEW BOARD TO LEDGED AND BRACED DOOR","Door:Renew 114x25mm preservative treated softwood tongued and grooved board to ledged and braced door and decorate to match existing.","IT",22.49,7.17]
[null,"328107","JR","DOOR:RENEW LEDGE OR BRACE TO DOOR","Door:Renew 105x20mm preservative treated softwood ledge or brace to ledged and braced door, and decorate to match existing.","IT",13.85,5.09]
[null,"328109","JR","GARAGE FRAME:RENEW TO SIDE DOOR","Frame:Renew garage door frame with any size or profile of treated softwood door frame to suit any size single door, remove, rehang door, bed in mortar, pint with sealant, make good, decorate.","NO",168.03,80.5]
[null,"328111","JR","GARAGE FRAME:RENEW 25X75MM FILLET","Frame:Renew fillet any size or profile to garage door frame including remove existing and decorate to match existing.","LM",11.15,4.58]
[null,"330001","JR","DOOR:RENEW INTERNAL PLY FLUSH","Door:Renew internal with any size ne 40mm thick plywood faced single skeleton core flush door, hang on 1 No. pair of 100mm steel butt hinges, all ironmongery, make good, prepare to decorate.","NO",125.55,73.03]
[null,"330003","JR","DOOR:RENEW INTERNAL HARDBOARD FACED","Door:Renew internal with any size ne 40mm thick hardboard faced single skeleton core flush door, hang on 1 No. pair of 100mm steel butt hinges, all ironmongery, make good, prepare to decorate.","NO",108.42,55.9]
[null,"330005","JR","DOOR:RENEW INTERNAL EMBOSSED PANELLED","Door:Renew internal with any size ne 40mm thick single embossed hardboard panelled door, hang on 1 No. pair of 100mm steel butt hinges, all ironmongery, make good and prepare to decorate.","NO",129.88,77.36]
[null,"330007","JR","DOOR:RENEW INTERNAL SOFTWOOD GLAZED","Door:Renew internal with any size ne 40mm thick framed softwood glazed door, hang on 1.5 pair of 100mm steel butt hinges, glazing, all ironmongery, make good, prepare to decorate","NO",286.31,214.09]
[null,"330009","JR","DOOR:RENEW INTERNAL HARDWOOD GLAZED","Door:Renew internal with any size ne 40mm thick framed hardwood glazed door, hang on 1.5 pair of 100mm steel butt hinges, glazing, all ironmongery, make good, prepare to decorate.","NO",428.06,355.84]
[null,"330011","JR","DOOR:RENEW INTERNAL HARDWOOD VENEERED","Door:Renew internal with any size ne 40mm thick hardwood veneered door, hang on 1 No. pair of 100mm steel butt hinges, all ironmongery, make good, prepare to decorate.","NO",120.65,68.13]
[null,"330013","JR","DOOR:RENEW 1/2HR FIRE INTERNAL","Door:Renew internal with any size half hour plywood faced fire check flush door, hang on 1.5 pairs 100mm steel hinges, make good, ironmongery, intumescent strips, smoke seals, prepare to decorate.","NO",179.07,84.1]
[null,"330015","JR","DOOR:RENEW 1HR FIRE INTERNAL","Door:Renew internal with any size one hour plywood faced fire check flush door, hang on 1.5 pairs 100mm steel hinges, make good, ironmongery, intumescent strips, smoke seals, prepare to decorate.","NO",298.8,195.08]
[null,"330017","JR","DOOR:RENEW 1/2HR GLAZED FIRE INTERNAL","Door:Renew internal with any size half-hour plywood faced fire check glazed flush door on 1.5 pairs 100mm steel hinges, make good, ironmongery, intumescent strips, seals, prepare to decorate","NO",226.43,130.13999999999999]
[null,"330019","JR","DOOR:SUPPLY AND FIX SLIDING DOOR GEAR","Door:Supply and fix sliding door gear for hanging of any internal door.","NO",44.22,26.71]
[null,"330021","JR","DOOR:CUT OPENINGS/SUPPLY AND FIX 225X75MM VENTS","Door:Cut opening in solid or hollow core door for 225x75mm aluminium louvre ventilators and screw fix new ventilators to both faces of door.","IT",12.51,3.76]
[null,"330023","JR","DOOR:FORM VISION PANEL TO INTERNAL","Door:Cut opening approx 500x500mm in flush door and form vision panel, glazed in laminated safety glass, bedded in washleather strip with beads fixed with brass cups and screws and decorate.","NO",63.5,30.68]
[null,"330031","JR","DOOR:RENEW INTERNAL PLY FLUSH – DECORATE","Door:Renew internal with any size ne 40mm thick plywood faced single skeleton core flush door, hang on 1 No. pair of 100mm steel butt hinges, all ironmongery, make good, decorate both sides.","NO",158.38999999999999,78.73]
[null,"330033","JR","DOOR:RENEW INTERNAL HARDBOARD FACED – DECORATE","Door:Renew internal with any size ne 40mm thick hardboard faced single skeleton core flush door, hang on 1 No. pair of 100mm steel butt hinges, all ironmongery, make good, decorate both sides.","NO",141.25,61.6]
[null,"330035","JR","DOOR:RENEW INTERNAL EMBOSSED PANELLED – DECORATE","Door:Renew internal with any size ne 40mm thick single embossed hardboard panelled door, hang on 1 No. pair of 100mm steel butt hinges, all ironmongery, make good, decorate both sides.","NO",162.72,83.06]
[null,"330037","JR","DOOR:RENEW INTERNAL SOFTWOOD GLAZED – DECORATE","Door:Renew internal with any size ne 40mm thick framed softwood glazed door, hang on 1.5 pair of 100mm steel butt hinges, glazing, all ironmongery, make good, decorate both sides.","NO",317.13,218.65]
[null,"330039","JR","DOOR:RENEW INTERNAL HARDWOOD GLAZED – DECORATE","Door:Renew internal with any size ne 40mm thick framed hardwood glazed door, hang on 1.5 pair of 100mm steel butt hinges, glazing, all ironmongery, make good, decorate both sides.","NO",458.28,366.37]
[null,"330041","JR","DOOR:RENEW INTERNAL HARDWOOD VENEERED – DECORATE","Door:Renew internal with any size ne 40mm thick hardwood veneered door, hang on 1 No. pair of 100mm steel butt hinges, all ironmongery, make good, decorate both sides.","NO",153.87,81.650000000000006]
[null,"330043","JR","DOOR:RENEW 1/2HR FIRE INTERNAL – DECORATE","Door:Renew internal with any size half hour plywood faced fire check flush door, hang on 1.5 pairs 100mm steel hinges, make good, ironmongery, intumescent strips, smoke seals, decorate both sides.","NO",211.91,89.8]
[null,"330045","JR","DOOR:RENEW 1HR FIRE INTERNAL - DECORATE","Door:Renew internal with any size one hour plywood faced fire check flush door, hang on 1.5 pairs 100mm steel hinges, make good, ironmongery, intumescent strips, smoke seals, decorate both sides.","NO",331.64,200.78]
[null,"330047","JR","DOOR:RENEW 1/2HR GLAZED FIRE INTERNAL - DECORATE","Door:Renew internal with any size half-hour plywood faced fire check glazed flush door on 1.5 pairs 100mm steel hinges, make good, ironmongery, intumescent strips, seals, decorate both sides.","NO",257.25,134.69999999999999]
[null,"330051","JR","DOOR:RENEW 1/2HR FIRE INTERNAL AND STOPS","Door:Renew internal with any size FD30S plywood faced fire check flush door, and stop set, steel hinges,  ironmongery, intumescent strips, smoke seals, make good, prepare for decoration.","NO",197.26,96.6]
[null,"330053","JR","DOOR:RENEW 1HR FIRE INTERNAL AND STOPS","Door:Renew internal with any size FD60S plywood faced fire check flush door, and stop set, steel hinges,  ironmongery, intumescent strips, smoke seals, make good, prepare for decoration.","NO",291.56,182.14]
[null,"330055","JR","DOOR AND FRAME:UPGRADE TO FD30S","Door and Frame:Renew with any size FD30S plywood faced fire check flush door, 32mm door frame, 25x32mm stops, hinges, ironmongery, intumescent strips, smoke seals, make good, prepare for decoration.","NO",175.38,96.6]
[null,"335003","JR","DOOR:EASE ADJUST REHANG INTERNAL NEW BUTTS","Door:Ease, reduce if required and adjust internal door, take off and rehang on new butts, adjust stops or ease rebates, make good to door and lining and touch up paintwork to match.","NO",28.46,2.2000000000000002]
[null,"335005","JR","DOOR:PATCH REPAIR INTERNAL","Door:Patch in and make good as necessary to internal door, prepare to decorate.","IT",43.8,4.41]
[null,"335009","JR","DOOR:RENEW STILE OR RAIL INTERNAL","Door:Renew any rail or stile to any type of softwood door, remove and rehang door, remove, refix hinges, ironmongery in orderin repairs and decorate to match existing.","IT",52.95,13.56]
[null,"335011","JR","DOOR:RENEW HARDWOOD EDGING STRIPS INTERNAL","Door:Renew hardwood edging strips to any door glued, pinned to existing door including remove, rehang door, adjust stops/ease rebates, remove, refix ironmongery. redecorate to match existing.","IT",34.1,14.41]
[null,"335091","JR","DOOR:OVERHAUL INTERNAL COMPLETE","Door:Overhaul door frame/lining complete, remove all iron mongery, piece out, make good, resecure architraves, rehang door on 11/2 pairs of butt hinges, refix ironmongery, touch up.","NO",35.72,2.9]
[null,"341101","JR","FRAME:RENEW EXTERNAL DOOR COMPLETE","Frame:Renew external door frame with rebated softwood door frame to suit any size single door, bed in mortar, fix to brickwork, point in sealant, rehang door, ease, adjust, make good, decorate.","NO",166.48,78.95]
[null,"341103","JR","FRAME:RENEW EXTERNAL DOOR WITH CILL COMPLETE","Frame:Renew external door frame with rebated softwood door frame with cill to suit single door, bed in mortar, fix to brickwork, sealant, rehang door, ease, adjust, make good, decorate.","NO",172.58,85.05]
[null,"341105","JR","FRAME:RENEW EXTERNAL DOOR FANLIGHT COMPLETE","Frame:Renew external door frame with softwood door frame, rebated and with fanlight over, to suit single door, bed in mortar, fix to brickwork, sealant, rehang door, ease, adjust, decorate.","NO",261.91000000000003,161.24]
[null,"341201","JR","FRAME:RENEW EXTERNAL PERMADOR","Frame:Renew external door frame with any rebated proprietary high performance door frame to suit single door, bed in mortar, fix to brickwork, sealant, ease, adjust, make good, architraves.","NO",180.93,75.89]
[null,"341203","JR","FRAME:RENEW PERMADOR FRAME WITH CILL COMPLETE","Frame:Renew external door frame with any rebated proprietary high performance door frame with cill to suit single door, bed in mortar, fix to brickwork, sealant, ease, adjust, make good.","NO",193.27,88.23]
[null,"341205","JR","FRAME:RENEW PERMADOR FANLIGHT COMPLETE","Frame:Renew external door frame with any rebated proprietary high performance door frame and fanlight over, to suit single door, bed in mortar, fix to brickwork, sealant, ease, adjust, make good","NO",302.82,197.78]
[null,"341207","JR","FRAME:RENEW PERMADOR FANLIGHT CILL","Frame:Renew external door frame with any rebated proprietary high performance door frame with cill and fanlight for single door, bed in mortar, fix to brickwork, sealant, ease, adjust, make good.","NO",315.16000000000003,210.12]
[null,"341301","JR","FRAME:RENEW SOFTWOOD COMBINATION UNIT","Frame:Renew window/door frame unit with standard softwood unit, weatherstripping, ironmongery, double glazed, make good, decorate to match, opening lights.","SM",333.23,187.92]
[null,"341501","JR","FRAME:RENEW HARDWOOD COMBINATION UNIT","Frame:Renew window/door frame unit with standard hardwood unit, weatherstripping, ironmongery, double glazed, make good, decorate to match, opening lights.","SM",437.44,305.26]
[null,"341607","WAD","FRAME:RENEW PVCU COMBINATION UNIT","Frame:Renew screen/door frame/screen unit with PVCu factory double glazed combination unit, ironmongery, weatherstripping, make good to all finishes, fixed lights.","SM",267.86,238.97]
[null,"341701","JR","WATERBAR:RENEW","Waterbar:Renew ne 914mm long proprietary waterbar screwed to timber or concrete including plugging and bedded in sealant.","NO",15.6,6.85]
[null,"341705","JR","WATERBAR:REFIX WATERBAR","Waterbar:Lift existing proprietary waterbar, clean and refix, screw to timber and bed in sealant.","NO",9.1199999999999992,0.36]
[null,"341901","JR","WEATHERSTRIP:FIX AA TO DOOR AND FRAME","Weatherstrip:Supply and fix anodised aluminium proprietary weatherstrip to door and frame.","NO",26.05,17.29]
[null,"341903","JR","WEATHERSTRIP:RENEW REBATED TO DOOR","Weatherstrip:Renew proprietary rebated weatherstrip to edge of timber door.","NO",30.42,17.29]
[null,"341905","JR","CILL:RENEW OR SUPPLY AND FIX STORMGUARD CILL","Cill:Renew or supply and fix Stormguard or other specified stormproof cill to existing cill including remove/rehang door, including adapting door and existing cill as necessary and make good.","NO",52.29,17.27]
[null,"341907","JR","CILL:REFIX STORMGUARD THRESHOLD CILL","Cill:Refix Stormguard stormproof cill or proprietary threshold to existing cill including remove and rehang door as necessary, refix cill or threshold and make good.","NO",8.9,0.14000000000000001]
[null,"341921","JR","DRAUGHTPROOF:RENEW FOAM STRIP","Draughtproof:Renew existing or supply and fix new vinyl sheathed compressible polyurethane foam draught strip with adhesive backing to any door or window at any level.","LM",2.54,0.36]
[null,"341923","JR","DRAUGHTPROOF:RENEW PLASTIC BRUSH TYPE","Draughtproof:Renew existing or supply and fix new brush or pile type draught excluder with rigid PVC carrier, to any door or window at any level including fixing with pins to timber.","LM",7.04,4.41]
[null,"342105","JR","FRAME:RENEW INTERNAL WITH STOPS AND ARCHITRAVES","Frame:Renew internal softwood door frame or lining ne 32x144mm for single door, plug to brickwork, 14x27mm softwood door stops, ne 25x75mm softwood architraves both sides, make good, decorate.","NO",105.71,53.19]
[null,"342107","JR","FRAME:RENEW INTERNAL STOPS+ARCHS+DOOR REMOVAL","Frame:Renew internal softwood door frame or lining ne 32x144mm for single door, remove, rehang door, 14x27mm softwood door stops, ne 25x75mm softwood architraves both sides, make good, decorate.","NO",126.12,56.09]
[null,"342115","JR","FRAME:RENEW INTERNAL FANLIGHT ARCHITRAVE STOPS","Frame:Renew internal door frame or lining with fanlight over with 32x144mm softwood door lining with fanlight for single door, plug to brickwork, fanlight glazed, with new architraves and stops.","NO",171.34,90.38]
[null,"342301","JR","FRAME:RENEW CLOSING EXTERNAL JAMB","Frame:Renew closing jamb of single external door frame, joint new any size and profile treated softwood door frame, bed in mortar, fixed to brickwork, take off and refix stop and architrave.","NO",59.47,24.46]
[null,"342303","JR","FRAME:RENEW HANGING EXTERNAL JAMB","Frame:Renew hanging jamb of single external door frame, remove, rehang door, joint new any size profile treated softwood door frame to head frame, bed in mortar, fix to brickwork, make good, decorate.","NO",68.22,24.46]
[null,"342307","JR","FRAME:SPLICE EXTERNAL REPAIR NE 1.0M","Frame:Cut out and splice new piece ne 1.00m long into external door frame, remove, rehang door, remove, refix keep, ease, adjust, make good, point with sealant, and decorate to match existing.","NO",34.590000000000003,8.33]
[null,"342309","JR","FRAME:REFIX LOOSE EXTERNAL FRAME","Frame:Remove and refix loose external door frame, including remove and refix door and one set of architraves, touch up decorations and renew sealant.","NO",33.85,7.59]
[null,"342311","JR","FRAME:REPAIR AFTER FORCED ENTRY","Frame:Repair external door frame after forced access, cut out and splice in new piece to frame, remove and refix keep or hinge, and touch up decoration.","NO",17.940000000000001,0.43]
[null,"342313","JR","FRAME:RAKE OUT AND REPOINT EXTERNAL SEALANT","Frame:Rake out and repoint external door frame with sealant.","LM",2.25,0.94]
[null,"342315","JR","FRAME:RENEW HARDWOOD CILL","Frame:Renew any size hardwood cill to door frame including remove cill, remove, rehang door, fix new cill, bed in mortar, new water bar, decorate, make good to all finishes.","NO",83.4,44.01]
[null,"342317","JR","FRAME:RENEW INTERNAL CLOSING JAMB","Frame:Renew closing jamb of single internal door frame with any size and any profile softwood door frame, jointed to head, plug to brickwork, renew 14x27mm stop and refix architraves, make good.","NO",47.07,18.63]
[null,"342321","JR","FRAME:SPLICE INTERNAL REPAIR","Frame:Cut out and splice new piece ne 1.00mm long into internal door frame, remove/rehang door, ease and adjust, make good butt recesses in frame, remove/refix architraves and stops, decorate.","NO",24.9,5.21]
[null,"342323","JR","FRAME:REFIX LOOSE INTERNAL DOOR FRAME","Frame:Remove and refix loose internal door frame, including remove and refix door and two sets of architraves, make good finishes and touch up decorations.","NO",22.1,0.22]
[null,"342325","JR","FRAME:REPAIR LOOSE INTERNAL FRAME JOINTS","Frame:Repair loose or open joints to internal door frame, glue joints, screw as necessary, clamp up joints, and touch up decorations.","NO",9.0399999999999991,0.28999999999999998]
[null,"342501","JR","STOP:RENEW DOOR STOP SET","Stop:Renew any size up to 25x50mm planted softwood door stop set to door frame and decorate to match existing.","IT",21.21,10.27]
[null,"342505","JR","STOP:REFIX LOOSE DOOR SET","Stop:Refix any loose door stop set to door frame.","IT",3.72,0.22]
[null,"342507","JR","STOP:RENEW OR SUPPLY 25X50MM FIRE DOOR STOP","Stop:Renew or supply any door stop with 25x50mm softwood door stop set to fire check door, fixed to BS459 Part 2 to door frame and decorate to match existing.","IT",22.32,4.8099999999999996]
[null,"343103","JR","INTUMESCENT STRIP:RENEW UPTO 1 HOUR","Intumescent Strip:Renew or supply and fix new intumescent strip, up to one hour application, and setting into groove in timber frame or door.","LM",4.45,1.38]
[null,"343107","JR","INTUMESCENT STRIP:RENEW UPTO 1 HOUR SMOKE SEAL","Intumescent Strip:Renew or supply and fix new intumescent strip, one hour application, with integral cold smoke seal and setting into groove in timber frame or door.","LM",5.16,2.09]
[null,"343111","JR","INTUMESCENT STRIP:RENEW UPTO 1 HOUR TO GLASS","Intumescent Strip:Renew or supply and fix new intumescent strip, upto one hour application, and fixing to glass behind glazing beads.","LM",10.48,6.1]
[null,"343113","JR","SMOKE SEAL:RENEW TO FRAME 1/2 HOUR","Smoke Seal:Renew or supply and fix new cold smoke seal, half hour application, and setting into groove in timber frame or door.","LM",9.39,6.33]
[null,"345201","JR","DOORS:RENEW PAIR L AND B TO GARAGE","Door:Renew garage doors with new pair of softwood ledged, braced and matchboarded doors to suit size of existing opening, hang each on one pair of 450mmm tee hinges, transfer ironmongery, decorate.","IT",711.72,524.83000000000004]
[null,"345203","JR","GARAGE DOOR:EASE ADJUST INCLUDING REMOVE","Garage Door:Ease and adjust pair of doors, each hung on pair of tee hinges, including remove and rehang doors, make good to frame and touch up decorations.","NO",62.72,1.45]
[null,"345401","JR","GARAGE DOOR:RENEW METAL UP AND OVER","Garage Door:Renew any garage door with pre primed metal up and over garage door, overall size ne 2.438x2.055m complete with all ironmongery and hang to existing frame, make good, and decorate.","IT",623.66999999999996,448.6]
[null,"345601","JR","GARAGE DOOR:REMOVE AND REFIX UP AND OVER","Garage Door:Take down and rehang metal up and over garage door, ease and adjust operating mechanism and leave operational, and touch up decorations.","IT",66.08,0.43]
[null,"345603","JR","GARAGE DOOR:REPAIR UP AND OVER METAL","Garage Door:Repair any metal up and over garage door incl remove fittings and door, straighten/repair dents and holes, rehang door, fittings and ease, and touch up decorations.","IT",42.29,2.9]
[null,"345605","JR","GARAGE DOOR:RENEW SPINDLE/ROLLER/CABLE","Garage Door:Renew spindle, roller and cable assembly to metal up and over garage door and adjust.","NO",44.03,24.33]
[null,"345607","JR","GARAGE DOOR:RENEW LOCKING BAR TO UP AND OVER","Garage Door:Renew locking bar to metal up and over garage door and adjust.","NO",25.4,16.649999999999999]
[null,"345609","JR","GARAGE DOOR:RENEW LOCK HANDLE TO UP AND OVER","Garage Door:Renew lock handle to metal up and over garage door, adjust and provide two new keys to tenant.","NO",33.69,24.94]
[null,"345611","JR","GARAGE DOOR:RENEW LOCK TO UP AND OVER","Garage Door:Renew lock to metal up and over garage door, including redrill for fixing bolts and alter door to receive new lock and collect and return keys to tenant.","NO",19.22,6.09]
[null,"345613","JR","GARAGE DOOR:RENEW ROLLERS AND CHANNELS","Garage Door:Renew set of rollers and guide channels to any metal up and over garage door, adjust and leave operational, make good as necessary.","IT",196.09,169.83]
[null,"345615","JR","GARAGE DOOR:SUPPLY COUNTERBALANCE DOOR SPRING","Garage Door:Supply and fix new or renew any counterbalance door spring to up and over garage door including removing existing fitting, adjust and leave operational, make good as necessary.","NO",74.319999999999993,61.19]
[null,"345617","JR","GARAGE DOOR:RENEW KEEP","Garage Door:Renew keep to any type of garage door lock including removing existing fitting and make good as necessary.","NO",20.73,17.23]
[null,"345619","JR","GARAGE DOOR:RENEW SUPPORT ARM","Garage Door:Renew support arm to any metal up and over garage door, adjust and leave operational, make good as necessary.","IT",52.84,39.71]
[null,"345701","JR","GARAGE FRAME:RENEW COMPLETE","Garage Frame:Renew garage door frame with matching treated softwood frame to suit any size or type of door, remove, rehang, fix new frame into position, point with sealant, make good, decorate.","IT",109.17,68.03]
[null,"345703","JR","GARAGE FRAME:RENEW HEAD OR JAMB","Garage Frame:Renew head or jamb member to any type or size garage door frame with matching treated softwood member, remove, rehang door, fix new member, point with sealant, make good, decorate.","NO",40.82,13.69]
[null,"350001","JR","LINING:TAKE DOWN AND CLEAR","Wall:Take down any type of sheet wall linings, clear away and denail studding, areas over 1.00sm.","SM",3.06,0]
[null,"350005","JR","PANELLING:RENEW IN HARDBOARD","Panelling:Remove existing hardboard panelling and renew with 3.2mm faced hardboard panelling fixed to softwood with brass cups and screws.","SM",20.61,5.29]
[null,"350007","JR","PANELLING:RENEW IN MAHOGANY PLYWOOD","Panelling:Remove existing panelling and renew with 6mm mahogany veneered plywood panelling fixed to softwood with brass cups and screws.","SM",18.38,0.87]
[null,"351001","JR","STAIRCASE:RENEW SOFTWOOD NOSING TO TREAD","Staircase:Renew rounded softwood nosing to tread, housed into string including all wedges and blocks glued and screwed to face of existing tread, and decorate to match existing.","NO",23.32,3.63]
[null,"351003","JR","STAIRCASE:RENEW TREAD AND RISER UNIT","Staircase:Renew rounded softwood tread and plywood riser to staircase tread housed into strings and including all wedges and blocks, glued and screwed and decorate to match existing.","NO",49.18,9.7899999999999991]
[null,"351004","JR","STAIRCASE:RENEW TREAD","Staircase:Renew softwood tread to staircase housed into strings, including all wedges and blocks, glued and screwed, prepare to decorate.","NO",48.37,8.98]
[null,"351005","JR","STAIRCASE:RENEW WINDER TREAD-300MM","Staircase:Renew softwood winder tread to staircase 300mm extreme width, including cutting to size and fix in place from underside of staircase and decorate to match existing.","NO",46.25,13.42]
[null,"351007","JR","STAIRCASE:RENEW NEWEL POST","Staircase:Renew ne 100x100mm softwood newel or half newel post ne 1.50m high, including cut to length, fix to place, and decorate to match existing.","NO",112.05,85.79]
[null,"351009","JR","STAIRCASE:RENEW SOFTWOOD BALUSTER","Staircase:Renew 25x25mm softwood baluster housed at each end to string and handrail, and decorate to match existing.","NO",16.149999999999999,5.21]
[null,"351011","JR","STAIRCASE:SPLICE TO STRING NE 0.5M","Staircase:Renew section of wall or outer string to staircase ne 500mm long, splice in new section including remove and refix treads and risers as necessary and decorate to match existing.","NO",40.14,7.32]
[null,"351013","JR","STAIRCASE:REFIX LOOSE TREAD","Staircase:Refix any loose tread by screwing through tread into top edge of riser (where there is no access to underside of staircase).","NO",8.83,7.0000000000000007E-2]
[null,"351015","JR","STAIRCASE:REFIX LOOSE NEWEL POST","Staircase:Refix any loose newel post, any length, including remove and refix treads and risers if necessary, make good decorations to match existing.","NO",15.61,0.28999999999999998]
[null,"351017","JR","STAIRCASE:REFIX LOOSE BALUSTER","Staircase:Refix any loose stair baluster, any size and length including fixing to string and handrail as necessary, make good decorations to match existing.","NO",4.5199999999999996,0.14000000000000001]
[null,"351019","JR","STAIRCASE:OVERHAUL","Staircase:Overhaul existing staircase, clean off stair treads, landings, punch in nail heads, screw down all loose boards etc. securely fix existing balustrades, wedge treads, riser make good","IT",86.03,7.25]
[null,"352001","JR","HANDRAIL:RENEW 44X69MM NEWEL TYPE","Handrail:Renew 44x69mm half round softwood handrail, including ramps and shaped ends, fixed between staircase newel posts, remove and refix balustrading and decorate to match existing.","LM",33.29,11.41]
[null,"352003","JR","HANDRAIL:RENEW 32X119MM NEWEL TYPE","Handrail:Renew 32x119mm rounded softwood handrail including ramps and shaped ends fixed between staircase newel posts, remove and refix balustrading and decorate to match existing.","LM",41.95,13.51]
[null,"352005","JR","HANDRAIL:RENEW 44X69MM ON BRACKETS","Handrail:Renew with 44x69mm half round softwood handrail including ramps and shaped ends, fixed to existing brackets and decorate to match existing.","LM",14.15,6.7]
[null,"352007","JR","HANDRAIL:RENEW 32X119MM ON BRACKETS","Handrail:Renew with 32x119mm rounded softwood handrail, including ramps and shaped ends fixed to existing brackets and decorate to match existing.","LM",16.579999999999998,8.26]
[null,"352009","JR","HANDRAIL:SUPPLY MOPSTICK INCLUDING BRACKETS","Handrail:Supply and fix 50x50mm softwood mopstick handrail on and including brackets, fixed to walls, make good finishes and decorate.","LM",26.68,13.55]
[null,"352011","JR","HANDRAIL:SUPPLY OR RENEW GALVANISED MS BRACKET","Handrail:Supply and fix or renew galvanised mild steel handrail bracket, fix to wall, and including any necessary plugging and make good plasterwork and decorate to match existing.","NO",16.53,7.78]
[null,"352013","JR","HANDRAIL:REFIX LOOSE BRACKET","Handrail:Refix loose handrail bracket and including any necessary plugging to wall and make good plasterwork and decorations to match existing.","NO",8.9700000000000006,0.22]
[null,"352015","JR","HANDRAIL:SUPPLY AND FIX PATTRESS","Handrail:Supply and fix new pattress to wall and including any necessary plugging and make good plasterwork and decorations to match existing.","NO",6.93,0.36]
[null,"352017","JR","HANDRAIL:REFIX ON BRACKETS","Handrail:Refix handrail, fixed to existing brackets and make good decorate to match existing.","LM",7.59,0.14000000000000001]
[null,"361001","JR","STOOL:RENEW TO CYLINDER","Stool:Renew stool for hot water cylinder, with 144x32mm bearers, 50x50mm legs, 69x32mm cross bearers, 19mm plywood top, remove and replace cylinder, test.","NO",69.59,17.07]
[null,"361021","JR","TANK STAND:NEW FOR CWST IN LOFT","Tank Stand:Construct new tank stand in loft to suit any size or type CWST ne 227 litres 19mm thick plywood base on two 150x50mm bearers and 100x38mm cross bearers at 300mm maximum centres.","NO",65.73,13.21]
[null,"361023","JR","TANK STAND:NEW REMOVE AND REFIX TANK IN LOFT","Tank Stand:Construct new or renew tank stand in loft to suit any size or type CWST ne 227 litres 19mm thick plywood base on two bearers and cross bearers, drain supply, disconnect, reconnect tank","NO",148.01,13.21]
[null,"362001","JR","HANGING RAIL:SUPPLY 25MM DIAMETER NE 3.0M LONG","Hanging Rail:Supply and fix 25mm diameter plastic coated steel tubular hanging rail, ne 3.00m long, each end housed into and including 100x38mm softwood bearers or chromium plated sockets.","IT",35.83,27.07]
[null,"362003","JR","HOOK:SUPPLY AND FIX HAT AND COAT HOOK","Hook:Supply and fix anodised aluminium hat and coat hook.","NO",4.63,1.1299999999999999]
[null,"362050","JR","HAT COAT RAIL:RENEW OR SUPPLY COMPLETE","Hat Coat Rail:Renew or supply and fix 20x70mm twice rounded wrot softwood hat and coat rail 1.00m long fixed to structure, decorate and supply and fix 3 No. anodised aluminium hat and coat hooks.","IT",23.02,5.51]
[null,"363001","JR","CURTAIN BATTEN:RENEW OR FIX NEW","Curtain Batten:Renew or supply and fix new ne 25x75mm wrot softwood curtain batten remove/ rehang rails and curtains, fix new batten to any background, make good, decorate to match existing.","IT",18.739999999999998,3.42]
[null,"363011","JR","CURTAIN TRACK:RENEW INCLUDING RUNNERS","Curtain Track:Renew or supply and fix new proprietary plastic curtain track system of any type and fixing to any type of background, plugging, screwing and make good as necessary.","LM",16.87,5.93]
[null,"371001","JR","KITCHEN UNIT:RENEW SINGLE BASE TO MATCH EXISTING","Kitchen Unit:Renew any size or type of pre-finished single base unit to match existing, plug and scribe to walls, any necessary grounds, make good to all finishes.","NO",102.43,69.61]
[null,"371003","JR","KITCHEN UNIT:RENEW DOUBLE BASE TO MATCH EXISTING","Kitchen Unit:Renew any size or type of pre-finished double base unit to match existing, plug and scribe to walls, any necessary grounds, make good to all finishes.","NO",140.16,92.02]
[null,"371005","JR","KITCHEN UNIT:RENEW CORNER BASE TO MATCH EXISTING","Kitchen Unit:Renew any size or type of pre-finished corner base unit to match existing, plug and scribe to walls, any necessary grounds, make good to all finishes.","NO",148.77000000000001,91.87]
[null,"371007","JR","KITCHEN UNIT:RENEW TALL FLOOR TO MATCH EXISTING","Kitchen Unit:Renew any size or type of pre-finished tall floor unit to match existing, plug and scribe to walls, any necessary grounds, make good to all finishes.","NO",156.24,101.53]
[null,"371009","JR","KITCHEN UNIT:RENEW SINGLE WALL TO MATCH EXISTING","Kitchen Unit:Renew any size or type of pre-finished single wall unit, any height to match existing, plug and scribe to walls, any necessary grounds, make good to all finishes.","NO",79.180000000000007,59.49]
[null,"371011","JR","KITCHEN UNIT:RENEW DOUBLE WALL TO MATCH EXISTING","Kitchen Unit:Renew any size or type of pre-finished double wall unit, any height, to match existing, plug and scribe to walls, any necessary grounds, make good to all finishes.","NO",97.07,68.62]
[null,"371013","JR","KITCHEN UNIT:RENEW CORNER WALL TO MATCH EXISTING","Kitchen Unit:Renew any size or type of pre-finished corner wall unit, any height, to match existing, plug and scribe to walls, any necessary grounds, make good to all finishes.","NO",121.55,88.73]
[null,"371021","JR","KITCHEN UNIT:RENEW SINGLE BASE 300X500","Kitchen Unit:Renew any type of pre-finished single 300x500mm base unit including plug and scribe to walls and any necessary grounds and make good all wall and floor finishes disturbed.","NO",89.75,56.93]
[null,"371023","JR","KITCHEN UNIT:RENEW SINGLE BASE 600X500","Kitchen Unit:Renew any type of pre-finished single 600x500mm base unit, plug and scribe to walls, any necessary grounds, make good to all finishes.","NO",98.9,66.069999999999993]
[null,"371025","JR","KITCHEN UNIT:RENEW SINGLE BASE 300X600","Kitchen Unit:Renew any type of pre-finished single 300x600mm base unit, plug and scribe to walls, any necessary grounds, make good to all finishes.","NO",86.7,53.88]
[null,"371027","JR","KITCHEN UNIT:RENEW SINGLE BASE 400X600","Kitchen Unit:Renew any type of pre-finished single 400x600mm base unit, plug and scribe to walls, any necessary grounds, make good to all finishes.","NO",91.46,58.63]
[null,"371029","JR","KITCHEN UNIT:RENEW SINGLE BASE 500X600","Kitchen Unit:Renew any type of pre-finished single 500x600mm base unit, plug and scribe to walls, any necessary grounds, make good to all finishes.","NO",102.43,69.61]
[null,"371031","JR","KITCHEN UNIT:RENEW SINGLE BASE 600X600","Kitchen Unit:Renew any type of pre-finished single 600x600mm base unit, plug and scribe to walls, any necessary grounds, make good to all finishes.","NO",105.24,72.41]
[null,"371033","JR","KITCHEN UNIT:RENEW DOUBLE BASE 800MM","Kitchen Unit:Renew any type of pre-finished double 800x600mm base unit, plug and scribe to walls, any necessary grounds, make good to all finishes.","NO",146.26,98.12]
[null,"371035","JR","KITCHEN UNIT:RENEW DOUBLE BASE 1000MM","Kitchen Unit:Renew any type of pre-finished double 1000x600mm base unit, plug and scribe to walls, any necessary grounds, make good to all finishes.","NO",149.07,100.92]
[null,"371037","JR","KITCHEN UNIT:RENEW DOUBLE BASE 1200MM","Kitchen Unit:Renew any type of pre-finished double 1200x600mm base unit, plug and scribe to walls, any necessary grounds, make good to all finishes.","NO",169.8,121.66]
[null,"371039","JR","KITCHEN UNIT:RENEW CORNER BASE 800MM","Kitchen Unit:Renew any type of pre-finished 800x600mm corner base unit, plug and scribe to walls, any necessary grounds, make good to all finishes.","NO",140.16,92.02]
[null,"371041","JR","KITCHEN UNIT:RENEW CORNER BASE 1000MM","Kitchen Unit:Renew any type of pre-finished 1000x600mm corner base unit, plug and scribe to walls, any necessary grounds, make good to all finishes.","NO",140.16,92.02]
[null,"371043","JR","KITCHEN UNIT:RENEW CORNER BASE 1200MM","Kitchen Unit:Renew any type of pre-finished 1200x600mm corner base unit, plug and scribe to walls, any necessary grounds, make good to all finishes.","NO",181.99,133.85]
[null,"371045","JR","KITCHEN UNIT:RENEW LARDER UNIT","Kitchen Unit:Renew any type of pre-finished tall larder floor unit, plug and scribe to walls, any necessary grounds, make good to all finishes.","NO",149.68,101.53]
[null,"371047","JR","KITCHEN UNIT:RENEW APPLIANCE UNIT 1950MM","Kitchen Unit:Renew any type of pre-finished 600x600x1950mm high appliance housing unit, plug and scribe to walls, any necessary grounds, make good to all finishes.","NO",161.41,122.02]
[null,"371049","JR","KITCHEN UNIT:RENEW APPLIANCE UNIT 600MM","Kitchen Unit:Renew any type of pre-finished 1000x600x600mm high appliance housing unit, plug and scribe to walls, any necessary grounds, make good all wall and floor finishes disturbed.","NO",161.41,122.02]
[null,"371051","JR","KITCHEN UNIT:RENEW SINGLE WALL 300X300","Kitchen Unit:Renew any type of pre-finished single 300x300mm wall unit, 900mm high, plug and scribe to walls, any necessary grounds, make good to all finishes.","NO",57.84,38.14]
[null,"371053","JR","KITCHEN UNIT:RENEW SINGLE WALL 400X300","Kitchen Unit:Renew any type of pre-finished single 400x300mm wall unit, 900mm high, plug and scribe to walls, any necessary grounds, make good to all finishes.","NO",64.06,44.36]
[null,"371055","JR","KITCHEN UNIT:RENEW SINGLE WALL 500X300","Kitchen Unit:Renew any type of pre-finished single 500x300mm wall unit, 900mm high, plug and scribe to walls, any necessary grounds, make good to all finishes.","NO",68.45,48.75]
[null,"371057","JR","KITCHEN UNIT:RENEW SINGLE WALL 600X300","Kitchen Unit:Renew any type of pre-finished single 600x300mm wall unit, 900mm high, plug and scribe to walls, any necessary grounds, make good to all finishes.","NO",74.3,54.61]
[null,"371059","JR","KITCHEN UNIT:RENEW DOUBLE WALL 1000X300 500MM HIGH","Kitchen Unit:Renew any type of pre-finished double 1000x300mm wall unit, 500mm high, plug and scribe to walls, any necessary grounds, make good to all finishes.","NO",97.07,68.62]
[null,"371061","JR","KITCHEN UNIT:RENEW DOUBLE WALL 1000X300 900MM HIGH","Kitchen Unit:Renew any type of pre-finished double 1000x300mm wall unit, 900mm high, plug and scribe to walls, any necessary grounds, make good to all finishes.","NO",101.09,72.64]
[null,"371063","JR","KITCHEN UNIT:RENEW DOUBLE WALL 1200X300 500MM HIGH","Kitchen Unit:Renew any type of pre-finished double 1200x300mm wall unit, 500mm high, plug and scribe to walls, any necessary grounds, make good to all finishes.","NO",136.22,107.77]
[null,"371065","JR","KITCHEN UNIT:RENEW DOUBLE WALL 1200X300 900MM HIGH","Kitchen Unit:Renew any type of pre-finished double 1200x300mm wall unit, 900mm high, plug and scribe to walls, any necessary grounds, make good to all finishes.","NO",152.31,123.87]
[null,"371067","JR","KITCHEN UNIT:RENEW CORNER WALL 500X300","Kitchen Unit:Renew any type of pre-finished 500x300mm corner wall unit, 500mm high, plug and scribe to walls, any necessary grounds, make good to all finishes.","NO",89.97,57.14]
[null,"371069","JR","KITCHEN UNIT:RENEW CORNER WALL 600X300","Kitchen Unit:Renew any type of pre-finished 600x300mm corner wall unit, 500mm high, plug and scribe to walls, any necessary grounds, make good to all finishes.","NO",118.5,85.68]
[null,"371071","JR","KITCHEN UNIT:RENEW DRAWER PACK 500X600","Kitchen Unit:Renew any type of pre-finished 500x600mm drawer pack unit, plug and scribe to walls, any necessary grounds, make good to all finishes.","NO",148.16,104.39]
[null,"371073","JR","KITCHEN UNIT:RENEW DRAWER PACK 600X600","Kitchen Unit:Renew any type of pre-finished 600x600mm drawer pack unit, plug and scribe to walls, any necessary grounds, make good to all finishes.","NO",130.59,86.83]
[null,"372001","JR","WORKTOP:RENEW NE 40MM THICK POST FORMED","Worktop:Renew with high density waterproof MR chipboard worktop ne 40mm thick, 1.3mm laminated sheet, post formed one edge, reverse compensated, veneer edges, silicone seal, splashback.","LM",31.48,16.16]
[null,"372002","JR","WORKTOP:RENEW NE 40MM THICK DOUBLE POST FORMED","Worktop:Renew with high density waterproof MR chipboard worktop ne 40mm thick, 1.3mm laminated sheet, post formed two edges, reverse compensated, veneer edges, silicone seal, splashback.","LM",34.65,19.329999999999998]
[null,"372005","JR","WORKTOP:REMOVE AND REFIX","Worktop:Remove and securely refix any width worktop including seal joint to wall with waterproof sealant and make good damaged and renew any missing wall tiles.","LM",10.51,1.32]
[null,"372007","JR","WORKTOP:RENEW VENEER EDGING","Worktop:Renew 1.3mm laminated sheet veneer edging to worktop or edge of cupboard door fixed with adhesive.","LM",5.57,2.0699999999999998]
[null,"372009","JR","WORKTOP:PROVIDE END PANEL","Worktop:Supply and fix 18mm chipboard end panel melamine faced both sides, PVC lipped on all edges, 600x870mm high, fixed to worktop and floor with plastic angle brackets.","NO",64.42,46.91]
[null,"372011","JR","WORKTOP:RENEW GALLOWS BRACKET","Worktop:Renew gallows bracket overall 305x458mm made out of 50x38mm softwood plugged and screwed to wall and decorate to match existing.","NO",17.600000000000001,4.47]
[null,"372013","JR","WORKTOP:RENEW LEG TO WORKTOP","Worktop:Renew chromium plated metal support leg to worktop with flange plates screwed to floor and worktop.","NO",22.73,13.97]
[null,"372017","JR","WORKTOP:RENEW JOINT STRIP","Worktop:Renew aluminium joint strip between worktops including remove and refix worktops as necessary and make good.","NO",17.28,6.34]
[null,"372019","JR","WORKTOP:25X25MM EDGE TRIM","Worktop:Supply and fix 25x25mm PVC/aluminium edge trim holed and screwed to softwood.","LM",5.41,2.34]
[null,"372021","JR","WORKTOP:PROVIDE COVERBEAD","Worktop:Supply and fix proprietary aluminium L shaped cover bead rounded at end, screwed to edge of chipboard worktop.","NO",12.69,9.6300000000000008]
[null,"373001","JR","KITCHEN UNIT:REMOVE AND REFIX ANY TYPE","Kitchen Unit:Remove and refix any kitchen unit including replug and screw to walls and make good to all finishes.","NO",19.25,0.87]
[null,"373005","JR","KITCHEN UNIT:RENEW BLOCKBOARD DOOR","Kitchen Unit:Renew blockboard door to any kitchen unit fit and hang on pair of 50mm butt hinges, ease and adjust, including housing out unit for hinges and decorate to match existing.","NO",60.66,36.58]
[null,"373007","JR","KITCHEN UNIT:RENEW BASE UNIT DOOR","Kitchen Unit:Renew base unit door with melamine faced and edged chipboard door to match existing, including pair of spring loaded concealed hinges, fit and hang, ease and adjust.","NO",67.36,54.23]
[null,"373009","JR","KITCHEN UNIT:RENEW WALL UNIT DOOR","Kitchen Unit:Renew any height wall unit door with melamine faced and edged chipboard door to match existing, including pair of spring loaded concealed hinges, fit and hang, ease and adjust.","NO",67.22,54.09]
[null,"373011","JR","KITCHEN UNIT:RENEW TALL FLOOR UNIT DOOR","Kitchen Unit:Renew tall floor unit door with melamine faced and edged chipboard door to match existing, including pair of spring loaded concealed hinges, fit and hang, ease and adjust.","NO",82.92,65.42]
[null,"373013","JR","KITCHEN UNIT:RENEW CUPBOARD BACK","Kitchen Unit:Renew cupboard back with 3mm self finished hardboard, size approximately up to 1200mm wide x 900mm high.","NO",27.02,5.14]
[null,"373015","JR","KITCHEN UNIT:RENEW SHELF TO UNIT","Kitchen Unit:Renew shelf to base or wall unit with 19mm thick melamine faced and edged chipboard, fixed to existing bearers or supports.","NO",11.89,7.51]
[null,"373019","JR","KITCHEN UNIT:RENEW BOTTOM SHELF","Kitchen Unit:Renew bottom shelf to base unit with 19mm thick melamine faced and edged chipboard, ne 575mm deep x 1150mm wide overall, cut and fit to unit.","NO",14.08,7.51]
[null,"373021","JR","KITCHEN UNIT:RENEW SIDE PANEL","Kitchen Unit:Renew side panel to any base unit with melamine faced and edged chipboard replacement panel including cut and fit to unit.","NO",53.65,42.71]
[null,"373023","JR","KITCHEN UNIT:RENEW PLINTH","Kitchen Unit:Renew plinth to any base unit with melamine faced and edged chipboard replacement plinth including cut and fit to unit.","NO",4.1900000000000004,2.44]
[null,"373027","JR","KITCHEN UNIT:RENEW DRAWER BOX COMPLETE","Kitchen Unit:Renew drawer to kitchen unit with proprietary plastic drawer box complete with runners, remove existing front from old drawer and refix to new drawer box, test, adjust.","NO",63.95,55.2]
[null,"373045","JR","KITCHEN UNIT:RENEW OR INSTALL CHILD LOCK","Kitchen Unit:Renew or supply and install child proof locks to any type of kitchen unit including removing existing if applicable, cutting out, adjusting door, piecing in and make good.","IT",19.5,6.37]
[null,"373049","JR","KITCHEN UNIT:OVERHAUL ANY TYPE","Kitchen Unit:Overhaul any kitchen unit including refix to wall, ease and adjust doors, renew or refix hinges, pull handles, child locks, drawer fronts, reglue loose veneers, adjust runners, make good.","NO",27.71,1.45]
[null,"374001","JR","WALL:REMOVE AND REFIX BASE UNIT IN ASSOCIATION","Wall:Remove, set aside, store and later refix any kitchen base unit, and worktop in conjunction with specialist treatment works, supply and fix cover mouldings and apply silicone sealant to worktop.","IT",18.059999999999999,0.55000000000000004]
[null,"374003","JR","WALL:REMOVE REFIX SINK BASE UNIT IN ASSOCIATION","Wall:Remove, set aside, store and later refix any sinktop and base unit in conjunction with specialist treatment works, adjust, extend pipe stubs new fittings, earthbond, connect, sealant.","IT",27.8,1.54]
[null,"374005","JR","WALL:REMOVE AND REFIX WORKTOP IN ASSOCIATION","Wall:Remove, set aside and later refix any independent worktop with leg and or cleat supports apply silicone sealant to worktop all in conjunction with specialist treatment works.","LM",14.75,1.62]
[null,"375003","JR","WARDROBE:EASE AND ADJUST INCLUDING REMOVE","Wardrobe:Ease and adjust any hanging, sliding or sliding/folding door, including removing and refixing door, make good and touch up decorations.","NO",17.43,0.36]
[null,"375005","JR","WARDROBE:PATCH OR REPAIR","Wardrobe:Carry out any patch or repair to door, framing or casework of any fitted wardrobe including cut out and splice in new timber upto 600mm long, make good, decorate to match existing.","NO",15.81,2.68]
[null,"375007","JR","WARDROBE:RENEW HINGE","Wardrobe:Renew butt or concealed hinge to door including removing existing, adjustment and realignment of door, make good and touch up decorations as necessary.","NO",8.2100000000000009,1.64]
[null,"375009","JR","WARDROBE:OVERHAUL REPAIR SLIDING GEAR","Wardrobe:Overhaul and repair any existing sliding or sliding/folding door gear to fitted wardrobe, remove and refix door(s), lubricate as necessary and leave in working order.","IT",27.71,1.45]
[null,"375011","JR","WARDROBE:RENEW SLIDING GEAR","Wardrobe:Renew any sliding or sliding/folding door gear to fitted wardrobe, remove and refix door(s), make good and touch up decorations as necessary.","IT",46.77,27.07]
[null,"375013","JR","WARDROBE:RENEW DOOR HANDLE","Wardrobe:Renew any door handle to fitted wardrobe, remove existing fitting, make good and touch up decorations as necessary.","NO",8.39,4.01]
[null,"375015","JR","WARDROBE:RENEW ANY LOCK","Wardrobe:Renew any lock to fitted wardrobe, remove existing fitting, make good and touch up decorations as necessary.","NO",18.03,11.46]
[null,"381001","JR","SKIRTING:RENEW SOFTWOOD SKIRTING","Skirting:Renew any size softwood plain, moulded or chamfered skirting plugged to brickwork, including all ends and angles and decorate to match existing.","LM",20.059999999999999,2.56]
[null,"381003","JR","SKIRTING:TAKE OFF AND REFIX","Skirting:Take off and refix existing skirting including denail skirting and touch up decorations.","LM",6.71,0.14000000000000001]
[null,"382001","JR","RAIL:TAKE OFF EXISTING AND MAKE GOOD","Rail:Take off existing picture rail, clear away and make good plasterwork.","LM",3.65,0.14000000000000001]
[null,"383001","JR","ARCHITRAVE:RENEW SET TO ONE SIDE OF DOOR","Architrave:Renew any size softwood plain, moulded or chamfered architrave set to one side of door frame including all mitres and scribing and decorate to match existing.","IT",25.57,8.06]
[null,"383003","JR","ARCHITRAVE:RENEW LEG OR HEAD ONE SIDE","Architrave:Renew any size softwood plain, moulded or chamfered architrave to leg or head of door frame one side including all mitres and scribing and decorate to match existing.","IT",10.06,3.5]
[null,"383007","JR","ARCHITRAVE:REFIX ANY LOOSE","Architrave:Refix including take off as necessary any loose architrave to both sides of door frame including touch up decorations to match existing.","IT",6.78,0.22]
[null,"384001","JR","THRESHOLD:RENEW TO DOOR OPENING","Threshold:Renew or provide 19x150mm twice splayed and twice rounded hardwood door threshold ne 1.00m long including notch and fit ends, and decorate to match existing.","IT",15.84,7.09]
[null,"384003","JR","THRESHOLD:RESECURE LOOSE","Threshold:Resecure loose door threshold.","IT",8.01,1.45]
[null,"385001","JR","SHELVING:RENEW WROT SOFTWOOD BEARERS","Shelving:Renew ne 20x69mm wrot softwood bearers including plug to walls and make good and decorate to match existing.","LM",5.1100000000000003,2.04]
[null,"385003","JR","SHELVING:RENEW SLATTED COMPLETE","Shelving:Renew slatted shelving consisting of 20x44mm slats at 75mm centres on and including 25x50mm cross bearers at 500mm centres.","IT",42.52,18.02]
[null,"385005","JR","SHELVING:MELAMINE FACED NE 300MM","Shelving:Supply and fix melamine faced chipboard shelving ne 300mm wide cut to length and fix to bearers or brackets.","LM",9.36,4.1100000000000003]
[null,"385007","JR","SHELVING:12MM PLYWOOD HARDWOOD EDGED NE 300MM","Shelving:Renew 12mm plywood ne 300mm wide, cut to length with hardwood edging glued and pinned and fix to bearers or brackets and decorate to match existing.","LM",17.899999999999999,4.7699999999999996]
[null,"385009","JR","SHELVING:18MM BLOCKBOARD HARDWOOD EDGED NE 300MM","Shelving:Renew 18mm blockboard ne 300mm wide, cut to length with hardwood edging glued and pinned and fix to bearers or brackets and decorate to match existing.","LM",18.59,3.27]
[null,"386001","JR","WINDOWBOARD:RENEW SOFTWOOD","Windowboard:Renew ne 25x300mm softwood windowboard plugged, screwed and pellated to brickwork, make good plasterwork and decorations and decorate to match existing.","LM",34.78,12.02]
[null,"386003","JR","WINDOWBOARD:RENEW MDF","Windowboard:Renew ne 25x300mm MDF windowboard plugged, screwed and pellated to brickwork, make good plasterwork and decorations and decorate to match existing.","LM",33.19,10.43]
[null,"386005","JR","WINDOWBOARD:RENEW HARDWOOD","Windowboard:Renew ne 25x300mm hardwood windowboard plugged, screwed and pellated to brickwork, make good plasterwork and decorations and decorate to match existing.","LM",45.72,23.84]
[null,"386007","JR","WINDOWBOARD:REFIX LOOSE","Windowboard:Refix any size or type of loose windowboard to window including removing if necessary, make good and touching up decorations.","NO",6.93,0.36]
[null,"386009","WAD","WINDOWBOARD:RENEW PVCU","Windowboard:Renew with ne 25x200mm PVCu fixed with approved adhesive or other approved concealed fixing method to brickwork, make good plasterwork and decorations.","LM",37.619999999999997,20.12]
[null,"387001","JR","DUCT:RENEW PLYWOOD DUCT CASING SIDE NE 300MM","Duct:Renew pipe duct casing with 6mm plywood casing up to 300mm wide, screw to framing with brass cups and screws and decorate to match existing.","LM",21.52,8.39]
[null,"387003","JR","DUCT:RENEW PLYWOOD SIDED DUCT CASING OVER 300MM","Duct:Renew pipe duct casing with 6mm plywood casing over 300mm wide, screw to framing with brass cups and screws and decorate to match existing.","SM",56.16,21.15]
[null,"387007","JR","DUCT:RENEW PLYWOOD SIDED CASING-450MM","Duct:Renew 2 or 3 sided pipe duct casing ne 450mm girth 6mm plywood casing sides screwed to 38x50mm framing fixed to walls, form access points as necessary and decorate to match existing.","LM",51.03,18.2]
[null,"387009","JR","DUCT:RENEW PLASTERBOARD CASING NE 300MM","Duct:Renew pipe duct casing ne 300mm wide with ne 12.5mm plasterboard casing, fixed to framing and with 3mm plaster skim coat including all angles, joints to existing and decorate to match existing.","LM",27,11.69]
[null,"387011","JR","DUCT:RENEW PLASTERBOARD CASING OVER 300MM","Duct:Renew pipe duct casing over 300mm wide with ne 12.5mm plasterboard casing, fixed to framing and with 3mm plaster skim coat, form all angles and joints to existing and decorate to match existing.","SM",60.22,20.83]
[null,"387015","JR","DUCT:RENEW PLASTERBOARD SIDED NE 450MM","Duct:Renew 2 or 3 sided pipe duct casing ne 450mm girth ne 12.5mm plasterboard fixed to 38x50mm framing fixed to walls, form access points, form all angles, joints to existing and decorate.","LM",55.16,20.14]
[null,"387017","JR","CLIENT INSPECTION:REMOVE AND REFIX DUCT CASING","Client Inspection:Remove pipe duct casing for client inspection access and later refix including all make good and make good decorations to match existing.","LM",9.1199999999999992,0.36]
[null,"387019","JR","DUCT:FORM ACCESS PANEL IN EXISTING","Duct:Form access panel in existing duct casing, remove plywood casing as necessary, cut out, form access panel fixed with brass cups and screws all additional framing and make good decorations.","IT",47.04,7.65]
[null,"388001","JR","BATH PANEL:RENEW HARDBOARD SIDE AND FRAMING","Bath Panel:Renew or supply and fix 4.8mm self finished hardboard side bath panel, securely screwed with chromium plated dome headed screws to and including 38x50mm softwood framing.","IT",64.37,24.98]
[null,"388003","JR","BATH PANEL:RENEW HARDBOARD END AND FRAMING","Bath Panel:Renew or supply and fix 4.8mm self finished hardboard end bath panel, fixed with chromium plated dome headed screws including 38x50mm softwood framing complete with metal bath panel trim.","IT",40.159999999999997,13.9]
[null,"388005","JR","BATH PANEL:RENEW HARDBOARD SIDE END AND FRAMING","Bath Panel:Renew or supply and fix 4.8mm self finished hardboard side and end bath panels securely screwed with cp dome screws, 38x50mm softwood framing complete with metal bath panel trim.","IT",94.75,37.85]
[null,"388007","JR","BATH PANEL:RENEW HARDBOARD SIDE EXISTING FRAMING","Bath Panel:Renew or supply and fix 4.8mm self finished hardboard side bath panel securely screwed with chromium plated dome screws to existing framing.","IT",24.68,11.55]
[null,"388009","JR","BATH PANEL:RENEW HARDBOARD END EXISTING FRAMING","Bath Panel:Renew or supply and fix 4.8mm self finished hardboard end bath panel securely screwed with chromium plated dome screws to existing framing complete with metal bath panel trim.","IT",15.19,6.44]
[null,"388011","JR","BATH PANEL:RENEW HARDBD SIDE END EXISTING FRAMING","Bath Panel:Renew or supply and fix 4.8mm self finished hardboard side and end bath panels securely screwed with chromium plated dome screws to existing framing and metal bath panel trim.","IT",34.04,16.54]
[null,"388013","JR","BATH PANEL:RENEW ACRYLIC SIDE","Bath Panel Panel:Renew or supply and fix proprietary acrylic side bath panel, colour to match, all plinths, trims, corner pieces and the like, securely fixed with brackets and make good.","IT",47.73,28.04]
[null,"388015","JR","BATH PANEL:RENEW ACRYLIC END","Bath Panel Panel:Renew or supply and fix proprietary acrylic end bath panel, colour to match, all plinths, trims, corner pieces and the like, securely fixed with brackets and make good.","IT",29.42,16.29]
[null,"388017","JR","BATH PANEL:RENEW ACRYLIC SIDE AND END","Bath Panel Panel:Renew or supply and fix proprietary acrylic side and end bath panel, colour to match, all plinths, trims, corner pieces etc, securely fixed with brackets, make good.","IT",69.14,42.88]
[null,"388019","JR","BATH PANEL:REMOVE AND REFIX ANY TYPE","Bath Panel Panel:Remove and later refix any bath panel (side or end) including any corner angle trim, skirting etc.","NO",8.9,0.14000000000000001]
[null,"390101","JR","HINGES:RENEW 63MM STORMPROOF","Hinges:Renew pair of 63mm anodised steel stormproof hinges including remove and rehang casement.","PR",9.9700000000000006,1.22]
[null,"390105","JR","HINGES:RENEW PAIR OF FRICTION PIVOTS","Hinges:Renew pair of friction hinges to pivot window including remove and refix casement.","PR",46.99,20.73]
[null,"390107","JR","HINGES:RENEW STEEL BUTT HINGES","Hinges:Renew ne 1.5 pairs 100mm mild steel butt hinges, ease and adjust door, make good to recesses in frame.","IT",15.63,2.5]
[null,"390109","JR","HINGES:RENEW BRASS BUTT HINGES","Hinges:Renew ne 1.5 pairs 100mm brass butt hinges, ease and adjust door, make good to recesses in frame.","IT",25.49,12.36]
[null,"390111","JR","HINGES:RENEW PAIR TEE HINGES","Hinges:Renew pair of 300mm galvanised tee hinges, ease and adjust door, make good to frame.","PR",16.489999999999998,3.36]
[null,"390113","JR","HINGES:RENEW PAIR OF 50MM BUTT HINGES","Hinges:Take off cupboard door and set aside, remove hinges and renew with pair of 50mm butt hinges, rehang door, ease and adjust.","PR",11.4,0.46]
[null,"390301","JR","FASTENER:RENEW ANY TYPE OF SASH FASTENER","Fastener:Renew/supply and fix any type [including Fitch and Brighton patterns] of new sash fastener including make good and touch up decorations.","NO",13.31,5.43]
[null,"390307","JR","LIFT:RENEW SASH LIFT","Lift:Renew or supply and fix new sash lift.","NO",9.08,3.83]
[null,"390309","JR","BOLT:RENEW SASH BOLT","Bolt:Renew or supply and fix new lockable sash bolt to centre rail of sliding sash timber windows including make good and touch up decorations, hand key to Tenant.","NO",19.059999999999999,11.18]
[null,"390311","JR","LOCK:RENEW PAIR OF SASH LOCKS","Lock:Renew or supply and fix new pair of lockable sash locks to restrict opening of sliding sash timber windows, including make good and touch up decoratations, hand key to Tenant.","PR",52.17,36.42]
[null,"390313","JR","SASH PINS:RENEW PAIR SASH PINS","Sash Pins:Renew or supply and fix new pair of dual sash pins to centre rail of sliding sash timber windows, including make good and touch up decorations, hand key to Tenant.","PR",34.39,18.64]
[null,"390501","JR","CLOSER:RENEW LIGHT DUTY OVERHEAD","Closer:Renew light duty overhead door closer screwed to door and frame.","NO",49,33.68]
[null,"390503","JR","CLOSER:RENEW HEAVY DUTY OVERHEAD","Closer:Renew heavy duty overhead door closer screwed to door and frame.","NO",64.459999999999994,44.77]
[null,"390505","JR","CLOSER:RENEW OR SUPPLY PERKO TYPE","Closer:Renew or supply and fix Perko concealed door closer or other equal and approved screwed to door and frame.","NO",12.89,4.13]
[null,"390507","JR","CLOSER:EASE AND ADJUST ANY TYPE","Closer:Ease and adjust any type door closer.","NO",6.71,0.14000000000000001]
[null,"390509","JR","CLOSER:RENEW GIBRALTER TYPE","Closer:Renew Gibralter door closer or other equal and approved screwed to door and frame.","NO",18.22,7.28]
[null,"390601","JR","FLOOR SPRING:RENEW SINGLE ACTION","Floor Spring:Renew or install single action hydraulic check for door maximum 2150x850mm complete, remove existing or form recess in floor, fix as manufacturers instructions, make good.","NO",213.93,161.41]
[null,"390603","JR","FLOOR SPRING:RENEW DOUBLE ACTION","Floor Spring:Renew or install double action hydraulic check for door maximum 2150x850mm complete, remove existing or form recess in floor, fix as manufacturers instructions, make good.","NO",294.33999999999997,230.87]
[null,"390605","JR","FLOOR SPRING:OVERHAUL","Floor Spring:Overhaul and maintain floor spring to door, including ease and adjust, oil moving parts.","NO",22.59,2.9]
[null,"390701","JR","SLIDING DOOR GEAR:REPAIR","Sliding Door Gear:Take off, repair and refix, aluminium or plastic double track sliding door gear to pair of wardrobe doors maximum 1.5m opening, including removing and rehanging doors.","NO",29.16,2.9]
[null,"390703","JR","SLIDING DOOR GEAR:RENEW","Sliding Door Gear:Remove existing sliding door gear and renew with anodised aluminium or plastic double track sliding door gear to pair of wardrobe doors maximum 1.5m opening, remove, rehang doors.","NO",63.17,28.16]
[null,"390901","JR","RIMLOCK:RENEW COMPLETE","Rimlock:Renew rimlock, keep and set of rimlock furniture, including altering door as necessary for new lock and housing out existing frame as necessary and provide two new keys.","NO",88.52,73.2]
[null,"390903","JR","LOCK:RENEW MORTICE COMPLETE","Lock:Renew mortice lock, keep and renew or refix set of anodised aluminium lever handle furniture including altering door as necessary for new lock and provide two new keys.","NO",37.840000000000003,24.71]
[null,"390907","JR","LOCK:RENEW MORTICE KEEP","Lock or Latch:Renew mortice lock or latch or nightlatch keep including housing out existing frame as necessary.","NO",5,0.63]
[null,"390909","JR","LOCK:RENEW MORTICE DEADLOCK","Lock:Renew mortice deadlock, keep and set of escutcheons including altering door as necessary for new lock and provide two new keys.","NO",32.54,19.41]
[null,"390911","JR","LOCK:RENEW 5L MORTICE COMPLETE","Lock:Renew 5 lever mortice lock, keep and renew or refix set of anodised aluminium lever handle furniture including altering door as necessary for new lock and provide two new keys.","NO",29.49,14.17]
[null,"390915","JR","LOCK:RENEW 5L MORTICE DEADLOCK","Lock:Renew 5 lever mortice deadlock, keep and set of escutcheons including altering door as necessary for new lock and provide two new keys.","NO",76.08,60.76]
[null,"390917","JR","LOCK:OVERHAUL ANY LOCK COMPLETE","Lock:Remove any type of lock and furniture, dismantle, overhaul, repair, oil and assemble and refix to door.","NO",10.97,0.03]
[null,"390919","JR","LOCK:RENEW WITH 5L MORTICE","Lock:Renew rimlock with 5 lever mortice lock, keep and set of anodised aluminium lever handle furniture, including altering door as necessary for new lock and provide two new keys.","NO",46.99,14.17]
[null,"390921","JR","DOOR:RENEW MULTIPOINT LOCK","Door:Renew any defective or broken multipoint door locking system complete to any type of door, adapt keep if necessary, including remove existing, test leave in working order, provide two new keys.","NO",168.34,142.08000000000001]
[null,"390923","JR","LOCK:RENEW EUROLOCK COMPLETE","Lock:Renew eurolock lock, keep and renew or refix set of anodised aluminium lever handle furniture including altering door as necessary for new lock and provide two new keys.","NO",41.13,28]
[null,"390925","JR","LOCK:RENEW EUROLOCK CYLINDER","Lock:Renew eurolock lock cylinder and provide two new keys.","NO",22.75,14]
[null,"390927","JR","LOCK:RENEW PATIO DOOR LOCK COMPLETE","Lock:Renew multi point patio door lock and set of anodised aluminium lever handle furniture and provide two new keys.","NO",40.69,23.18]
[null,"390929","JR","LOCK:FULL LOCK CHANGE – FRONT DOOR","Lock;Renew cylinder rim night latch, keep and pull handle, and 5 lever mortice deadlock, keep, set of escutcheons, alter door as necessary for new locks and provide two new keys for each lock.","IT",94.07,70]
[null,"390931","JR","LOCK:FULL LOCK CHANGE – FRONT AND REAR DOOR","Lock;Renew cylinder rim night latch complete, 5 lever mortice deadlockcomplete to front door, 5 lever mortice lock complete to rear door, alter doors for locks, provide two new keys for each lock.","IT",120.26,83.5]
[null,"390933","JR","LOCK:FULL LOCK CHANGE – FRONT AND REAR DOOR MULTI","Lock:Renew multipoint door locking system complete to front door and 5 lever mortice lock  complete to rear door, alter doors for locks, provide two new keys for each lock.","IT",203.14,155]
[null,"391101","JR","LATCH:RENEW MORTICE LATCH COMPLETE","Latch:Renew mortice latch, keep and renew or refix set of anodised aluminium lever handle furniture including altering door as necessary for new latch.","NO",22.21,11.27]
[null,"391107","JR","LATCH:OVERHAUL LATCH AND FURNITURE","Latch:Remove mortice latch and furniture, dismantle, overhaul, repair, oil and assemble and refix to door.","NO",9.0399999999999991,0.28999999999999998]
[null,"391301","JR","NIGHTLATCH:RENEW COMPLETE","Nightlatch:Renew any type of cylinder rim night latch, keep and pull handle, including altering door as necessary for new latch and provide two new keys.","NO",62.84,49.71]
[null,"391305","JR","NIGHTLATCH:RENEW CYLINDER BARREL","Nightlatch:Renew cylinder barrel to night latch and provide two new keys.","NO",23.55,16.989999999999998]
[null,"391307","JR","NIGHTLATCH:RENEW SUITED CYLINDER BARREL","Nightlatch:Renew suited cylinder barrel to nightlatch and provide two new keys.","NO",12.8,6.23]
[null,"391309","JR","NIGHTLATCH:OVERHAUL COMPLETE","Nightlatch:Remove any type of cylinder nightlatch, dismantle, overhaul, repair, oil and assemble and refix to door.","NO",10.97,0.03]
[null,"391313","JR","NIGHTLATCH:RENEW PULL","Nightlatch:Renew nightlatch finger full, dismantle latch, install new pull, oil and reassemble and refix to door.","NO",14.14,5.39]
[null,"391315","JR","LOCK:RENEW WITH KEYPAD TYPE – DOMESTIC STANDARD","Lock:Renew any night latch with domestic standard keypad type lock, keep and pull including altering door as necessary for new lock.","NO",49.7,30]
[null,"391317","JR","LOCK:RENEW WITH KEYPAD TYPE – HEAVY DUTY","Lock:Renew any night latch with heavy duty keypad and key type lock, keep and pull including altering door as necessary for new lock.","NO",106.88,85]
[null,"391501","JR","CATCH:RENEW CATCH AND KEEP","Cupboard:Renew catch and keep including altering door as necessary for new catch and housing out frame for keep.","NO",11.5,2.74]
[null,"391503","JR","CUPBOARD:RENEW 50MM BRASS LOCK","Cupboard:Renew 50mm brass cupboard lock.","NO",17.88,10]
[null,"391505","JR","CUPBOARD:RENEW DOOR CATCH","Cupboard:Renew cupboard door catch (any type).","NO",8.4499999999999993,4.07]
[null,"391507","JR","CUPBOARD:RENEW CATCH KEEP","Cupboard:Renew cupboard catch keep including housing out frame as necessary.","NO",6.88,0.32]
[null,"391701","JR","BOLT:RENEW NE 250MM PADBOLT","Bolt:Renew ne 250mm galvanised Crompton 1A or other equal and approved padbolt.","NO",9.8800000000000008,3.32]
[null,"391703","JR","BOLT:RENEW 200MM TOWER BOLT","Bolt:Renew 200mm tower bolt and keep.","NO",8.18,1.62]
[null,"391705","JR","BOLT:RENEW NE 150MM BARREL BOLT","Bolt:Renew ne 150mm barrel bolt and keep.","NO",4.63,1.57]
[null,"391707","JR","BOLT:RENEW INDICATOR BOLT","Bolt:Renew 175mm SAA bathroom indicator bolt and keep.","NO",13.57,4.82]
[null,"391709","JR","BOLT:RENEW MORTICE SECURITY BOLT","Bolt:Renew or supply and fix new mortice security bolt with key operation and keep","NO",41.27,25.95]
[null,"391711","JR","BOLT:RENEW SINGLE PANIC BOLT","Bolt:Renew Briton 11373 or other equal and approved SAA panic bolt and keep to single door.","NO",60.06,40.369999999999997]
[null,"391713","JR","BOLT:RENEW FIRE SECURITY BOLT","Bolt:Renew fire security bolt, surface fixed to emergency exit doors comprising metal bolt held extended by clear glass tube retained by padlock including keep, hammer and chain.","NO",59.13,41.62]
[null,"391715","JR","BOLT:RENEW GLASS TO FIRE SECURITY BOLT","Bolt:Renew glass tube to fire security bolt including reset.","NO",8.5299999999999994,1.96]
[null,"391719","JR","BOLT AND KEEP:REMOVE EASE AND REFIX","Bolt and Keep:Remove barrel bolt or bolt keep, oil and ease as necessary and refix bolt and or bolt keep in new position.","NO",4.41,0.03]
[null,"391723","JR","PADLOCK:RENEW OR SUPPLY PADLOCK","Padlock:Renew or supply and fix 50mm galvanised Squire 440 or other equal and approved padlock with two keys and hand to Client Representative.","NO",10.52,6.15]
[null,"391725","JR","HASP:RENEW WITH STAPLE","Hasp:Renew any type of hasp and staple.","NO",17.61,4.4800000000000004]
[null,"391727","JR","HASP:RENEW WITH PADLOCK","Hasp:Renew any type of hasp, staple and 50mm galvanised padlock, supply two keys and hand keys to Client Representative.","NO",24.63,10.62]
[null,"391901","JR","WINDOW FITTING:RENEW BRASS CASEMENT CATCH","Window Fitting:Renew brass casement catch and keep to timber window.","NO",14.6,8.0299999999999994]
[null,"391905","JR","WINDOW FITTING:RENEW BRASS STAY AND FASTENER","Window Fitting:Renew any brass casement stay and two pin fastener and fix to timber window.","NO",15.21,6.46]
[null,"391909","JR","WINDOW FITTINGS:RENEW AA CASEMENT CATCH","Window Fitting:Renew anodised aluminium standard or offset casement catch and keep to timber window.","NO",19.010000000000002,12.45]
[null,"391913","JR","WINDOW FITTINGS:RENEW AA STAY AND FASTENER","Window Fitting:Renew any anodised aluminium casement stay and two pin fastener and fix to timber window.","NO",11.63,2.88]
[null,"391917","JR","WINDOW FITTINGS:RENEW ZINC ALLOY CASEMENT CATCH","Window Fitting:Renew epoxy coated zinc alloy standard or offset casement catch and keep to timber window.","NO",10.16,3.59]
[null,"391921","JR","WINDOW FITTINGS:RENEW ZINC ALLOY STAY AND FASTENER","Window Fitting:Renew any epoxy coated zinc alloy casement stay and two pin fastener and fix to timber window","NO",14.56,5.8]
[null,"391925","JR","WINDOW FITTINGS:RENEW GALVANISED SAFETY FASTENER","Window Fitting:Renew galvanised safety window fastener and fix to timber window.","NO",20.78,14.22]
[null,"391927","JR","WINDOW FITTINGS:RENEW PIVOT WINDOW FASTENER","Window Fitting:Renew pivot window fastener and receiver to timber window.","NO",19.579999999999998,10.83]
[null,"391929","JR","WINDOW FITTINGS:RENEW RESTRICTOR STAY","Window Fitting:Renew window restrictor stay to timber window.","NO",25.66,19.100000000000001]
[null,"391931","JR","WINDOW FITTINGS:RENEW MORTICE SECURITY BOLT","Window Fitting:Renew or supply and fix new mortice security bolt with key operation and keep and fix to timber window.","NO",36.96,26.02]
[null,"391933","JR","WINDOW FITTINGS:REFIX EASE ADJUST ANY TYPE","Window Fitting:Refix, ease and adjust any loose window fitting to timber window.","NO",3.57,7.0000000000000007E-2]
[null,"391937","JR","WINDOW FITTINGS:RENEW WITH LOCKABLE TYPE STAY","Window Fitting:Renew any type or supply and fix new anodised aluminium lockable casement stay and two threaded pin fasteners with key operation, fix to timber casement or fanlight, provide two keys.","NO",25.12,16.36]
[null,"391939","JR","WINDOW FITTINGS:RENEW LOCKABLE RESTRICTOR STAY","Window Fitting:Renew any type or supply and fix new anodised aluminium lockable restrictor security stay with key operation, fix to casement or fanlight of timber window, and provide two new keys.","NO",28.56,19.8]
[null,"391941","JR","WINDOW FITTINGS:RENEW LOCKABLE CASEMENT CATCH","Window Fitting:Renew any type or supply and fix new anodised aluminium lockable standard or offset casement catch and keep with key operation, fix to timber casement, and provide two new keys.","NO",25.92,17.170000000000002]
[null,"391943","JR","WINDOW FITTINGS:PROVIDE NEW KEYS","Window Fitting:Supply only window key including all necessary cutting.","NO",3.36,2.0499999999999998]
[null,"392101","JR","WINDOW FITTING:RENEW HINGES EASE ADJUST STEEL","Window Fitting:Renew hinges to casement sash or fanlight to window frame and ease and adjust (casement and fanlight in place).","NO",28.35,8.66]
[null,"392103","JR","WINDOW FITTING:RENEW FASTENER STAY TO STEEL SASH","Window Fitting:Renew casement fastener or fanlight stay or casement stay or stay pin to steel window.","NO",16.14,7.39]
[null,"392109","JR","WINDOW FITTING:REPAIR, EASE, ADJUST TO STEEL SASH","Window Fitting:Repair stay, fastener, catch or stay pin to ease operation of aluminium window and check, ease and adjust.","NO",9.48,0.72]
[null,"392111","JR","WINDOW FITTING:RENEW LOCKABLE STAY TO STEEL SASH","Window Fitting:Renew or supply and fix new lockable type lock or restrictor stay with key operation to casement or fanlight to steel window, and provide two new keys.","NO",23.76,15.01]
[null,"392301","JR","WINDOW FITTINGS:RENEW FRICTION STAY TO ALUM SASH","Window Fitting:Renew friction stay to aluminium casement sash or fanlight to window frame and ease and adjust (casement and fanlight in place).","NO",19.149999999999999,8.1999999999999993]
[null,"392303","JR","WINDOW FITTINGS:RENEW FASTENER STAY TO ALUM SASH","Window Fitting:Renew casement fastener or fanlight stay or casement stay or stay/pin to aluminium window.","NO",13.59,4.84]
[null,"392309","JR","WINDOW FITTINGS:REPAIR, EASE, ADJUST TO ALUM SASH","Window Fitting:Repair stay, fastener, catch or stay pin to ease operation of aluminium window and check, ease and adjust.","NO",9.48,0.72]
[null,"392501","JR","DOOR FURNITURE:RENEW SET OF LEVER HANDLES","Door Furniture:Renew set of anodised aluminium lever latch or lock furniture.","NO",13.39,8.14]
[null,"392505","JR","DOOR FURNITURE:RENEW SET OF KNOBS TO RIMLOCK","Door Furniture:Renew set of rimlock knob furniture.","NO",15.33,11.83]
[null,"392509","JR","DOOR FURNITURE:RENEW OR INSTALL VIEWER","Door Furniture:Renew or supply and fix new security door viewer including drilling/adapting hole through door as necessary and make good.","NO",12.11,3.35]
[null,"392511","JR","DOOR FURNITURE:RENEW OR INSTALL CHAIN","Door Furniture:Renew or supply and fix new door security chain and make good.","NO",9.77,5.39]
[null,"392513","JR","DOOR FURNITURE:REFIX ANY LOOSE FITTING","Door Furniture:Refix any loose door fitting to timber door.","NO",2.77,0.14000000000000001]
[null,"392515","JR","DOOR FURNITURE:SUPPLY AND FIX KICKING PLATE","Door Furniture:Supply and fix 16 gauge SAA kicking plate ne 900x300mm, screw fixed to any door.","NO",60.35,49.4]
[null,"392517","JR","DOOR FURNITURE:RENEW PULL HANDLES","Door Furniture:Renew pull handle, SAA, 150mm.","NO",9.9600000000000009,2.08]
[null,"392519","JR","DOOR FURNITURE:RENEW PUSH PLATES","Door Furniture:Renew push or finger plate, SAA, 225x50mm.","NO",18.27,10.39]
[null,"392521","JR","DOORS:PROVIDE NEW NON-SUITED KEYS","Doors:Supply only non suited key including all necessary cutting.","NO",4.2699999999999996,4.2699999999999996]
[null,"392523","JR","DOORS:PROVIDE NEW SUITED KEYS","Doors:Supply only suited key including all necessary cutting.","NO",5.98,5.98]
[null,"392525","JR","DOOR FURNITURE:RENEW ESCUTCHEON SET","Door Furniture:Renew with set of escutcheons to match existing.","NO",9.86,3.29]
[null,"392527","JR","DOOR FURNITURE:RENEW BATHROOM ESCUTCHEON SET","Door Furniture:Renew with set of escutcheons to match existing complete with turn button, indicator and emergency release.","NO",19.39,10.63]
[null,"392701","JR","LETTERPLATE:RENEW COMPLETE WITH KNOCKER","Letterplate:Renew letter plate and knocker including plugging and redrilling holes and altering opening where necessary and provide and fix new brush type draught overluder.","NO",46.46,33.33]
[null,"392702","JR","LETTERPLATE:SUPPLY AND FIX NEW","Letterplate:Supply and fix new letter plate including cutting opening and provide and fix new brush type draught excluder.","NO",72.72,33.33]
[null,"392703","JR","LETTERPLATE:RENEW FIREPROOF TYPE","Letterplate:Renew fireproof letter plate and knocker to suit appropriate fire resisting door including plugging and redrilling holes and adapting opening where necessry.","NO",50.57,33.06]
[null,"392705","JR","LETTERPLATE:RENEW OR SUPPLY HIGH SECURITY COWL","Letterplate:Renew or supply and fix new high security internal letter cowl screwed to internal face of door.","NO",31.02,26.65]
[null,"392901","JR","DOOR NUMERAL:RENEW NE 3 NO","Door Numeral:Renew or replace ne 3 No. letters or numerals.","IT",8.25,4.75]
[null,"393101","JR","DOOR STOP:PROVIDE RUBBER STOP","Door Stop:Supply and fix 25mm diameter rubber door stop to softwood or masonry.","NO",2.74,0.55000000000000004]
[null,"393301","JR","CUPBOARD:RENEW CUPBOARD PULL","Cupboard:Renew 44mm satin anodised aluminium cupboard pull handle.","NO",7.74,4.24]
[null,"393303","JR","CUPBOARD:RENEW PULL HANDLE","Cupboard:Renew 100mm satin anodised aluminium D pull handle, including plug holes where necessary.","NO",9.8699999999999992,6.36]
[null,"393305","JR","CUPBOARD:REFIX PULL HANDLE","Cupboard:Refix loose pull handle.","NO",2.33,0.14000000000000001]
[null,"393307","JR","CUPBOARD:RENEW KNOB","Cupboard:Renew satin anodised aluminium knob handle.","NO",3.24,0.61]
[null,"395101","JR","CEILING HATCH:FORM OPENING COMPLETE","Ceiling Hatch:Cut opening through ceiling, trim opening with 75x150mm trimmers, 25x38mm stops fixed to trimmers/joists, 19x69mm architraves, 18mm blockboard trap, ironmongery, make good.","IT",149.32,44.28]
[null,"395103","JR","CEILING HATCH:RENEW BLOCKBOARD ACCESS HATCH","Ceiling Hatch:Renew with 18mm blockboard access hatch, fully insulated including fit new draught strips, all ironmongery and decorate to match existing.","IT",71.7,21.37]
[null,"395105","JR","CEILING HATCH:FIX NEW PROPRIETARY HATCH","Ceiling Hatch:Cut opening through ceiling, trim opening as necessary and supply and fix proprietary purpose make ceiling access hatch complete, make good to all finishes and decorations.","IT",194.05,128.4]
[null,"395107","JR","CEILING HATCH:RENEW PROPRIETARY HATCH","Ceiling Hatch:Renew existing proprietary ceiling hatch, remove existing, supply and fix proprietary purpose make ceiling access hatch complete, make good to all finishes and decorations.","IT",138.69,112.43]
[null,"395109","JR","CEILING HATCH:OVERHAUL HATCH","Ceiling Hatch:Repair access hatch including remove and refix hatch and ironmongery as necessary and leave in working order.","IT",13.84,2.9]
[null,"395111","JR","CEILING HATCH:RENEW DRAUGHT INSULATION STRIPS","Ceiling Hatch:Renew or supply and fix draught insulation strips to access hatch.","IT",12.08,5.52]
[null,"395113","JR","CEILING HATCH:UPGRADE FIRE RESISTANCE","Ceiling Hatch:Upgrade fire resistance of ceiling hatch, supply, cut and fit 12.5mm plasterboard screwed to roof space side of hatch.","IT",48.75,30]
[null,"395201","JR","METER CUPBOARD:RENEW DOOR HINGE","Meter Cupboard:Renew hinge to door of any plastic gas or electric meter cupboard.","NO",6.37,0.68]
[null,"395203","JR","METER CUPBOARD:RENEW 3 PORT LOCK","Meter Cupboard:Renew any three port key type lock to plastic door of gas or electric meter cupboard.","NO",17.29,8.5399999999999991]
[null,"396001","JR","DWELLING:GAIN ACCESS – 1 DOOR","Dwelling:Gain access for tenant locked out or emergency works, including force access to door, splice in new piece to frame, touch up decorations provide new barrel and keys.","IT",53.45,18.440000000000001]
[null,"396006","JR","GARAGE:GAIN ACCESS","Garage:Gain access for tenant, including force access including redrill for fixing bolts and alter door, provide new lock and collect and return keys to tenant.","NO",45.08,18.82]
[null,"396020","JR","KEYSAFE:PROVIDE ","Keysafe:Supply and install permanent proprietary keysafe to Client’s property, fixed to walls and make good all finishes.","NO",33.75,25]
[null,"396501","JR","EVICTION ATTENDANCE:NO LOCK CHANGE","Eviction Attendance:Attend dwelling, waiting time to receive  instruction from Housing Officer or Bailiff, no lock change required.","IT",13.13,0]
[null,"396503","JR","EVICTION ATTENDANCE:CHANGE FRONT DOOR MULTIPOINT","Eviction Attendance:Attend dwelling, waiting time for instructions, force access to front door, splice new piece to door frame, touch up decorations, renew multipoint to door and provide two keys.","IT",179.28,142.08000000000001]
[null,"396505","JR","EVICTION ATTENDANCE:CHANGE FRONT REAR DOOR MULTI","Eviction Attendance:Attend dwelling, waiting time for instruction, force access to front, rear doors, splice new pieces to frames, touch up decorations, renew multipoint and two keys to both doors. ","IT",291.27,230]
[null,"396507","JR","EVICTION ATTENDANCE:CHANGE FRONT DOOR LOCKS","Eviction Attendance:Attend dwelling, waiting time for instruction, force access to front door, splice frame, touch up, renew cylinder rim night latch and 5 lever mortice deadlock with keys complete.","IT",107.2,70]
[null,"396509","JR","EVICTION ATTENDANCE:CHANGE FRONT REAR DOOR LOCKS","Eviction Attendance:Attend, waiting instructions, force access to both doors, splice frames, touch up,, renew night latch, 5 lever mortice deadlock to front, 5 lever mortice lock  complete to rear.","IT",133.38999999999999,83.5]
[null,"397001","JR","OPENING:BOARD UP WITH 12MM STERLING OR PLYWOOD","Opening:Board up window or door with 12mm Sterling or plywood board or blockboard including cut to size, nail over window or door (NOT to frame) and leave secure (per opening).","NO",27.89,16.940000000000001]
[null,"397003","JR","OPENING:REMOVE BOARDING TO OPENINGS","Opening:Remove boarding from window or door opening and make good. Leave property secure including refix boarding if required.","NO",7.29,0.72]
[null,"397005","JR","OPENING:NAIL UP WINDOW OR DOOR","Opening:Nail up window or door and leave secure.","NO",5.61,0.36]
[null,"397007","JR","OPENING:REMOVE NAILS FROM OPENING","Opening:Remove nails from window or door and make good (per window or door).","NO",3.21,0.14000000000000001]
[null,"397021","JR","OPENINGS:SECURITY FULL SCREENS FIRST WEEK","Openings:Provide and install for an open period proprietary metal security screens to cover up to 2 doors, 8 windows, any size, type, take down, refix, leave secure (rate for first week only).","IT",64.58,0]
[null,"397023","JR","OPENINGS:SECURITY EXTRA WINDOW FIRST WEEK","Openings:Provide and install for an open period an additional proprietary metal security window screen to suit any size and type, take down, refix, leave secure (rate for first week only).","NO",7.53,0]
[null,"397024","JR","OPENINGS:SECURITY EXTRA WINDOW ADDITIONAL HIRE","Openings:Hire and maintenance of one proprietary metal security screen for additional hire period after first week for any window screen (additional hire week to 397023).","NO",6.48,0]
[null,"397025","JR","OPENINGS:SECURITY EXTRA DOOR FIRST WEEK","Openings:Provide and install for an open period an additional proprietary metal security door screen to suit any size and type, take down, refix, leave secure (rate for first week only).","NO",13.92,0]
[null,"397026","JR","OPENINGS:SECURITY EXTRA DOOR ADDITIONAL HIRE","Openings:Hire and maintenance of one proprietary metal security screen for additional hire period after first week for any door screen (additional hire week to 397025).","NO",7.53,0]
[null,"397027","JR","OPENINGS:SECURITY FULL ADDITIONAL HIRE","Openings:Hire and maintenance of proprietary metal security screens for additional hire period after first week for up to 2 doors and 8 windows (additional hire week to 397021).","NO",25.38,0]
[null,"397029","JR","OPENINGS:SECURITY PARTIAL SCREENS FIRST WEEK","Openings:Provide and install for an open period proprietary metal security screens to cover up to 2 doors, 2 windows, any size and type, take down, refix, leave secure (rate for first week only).","IT",50.93,0]
[null,"397031","JR","OPENINGS:SECURITY PARTIAL ADDITIONAL HIRE","Openings:Hire and maintenance of proprietary metal security screens for additional hire period after first week for up to 2 doors and 2 windows (additional hire week to 397029).","NO",20.13,0]
[null,"397033","JR","OPENINGS:SECURITY INDIVIDUAL FIRST WEEK","Openings:Provide and install for an open period an individual proprietary metal security window or door screen to suit any size and type, take down, refix, leave secure (rate for first week only).","NO",34.92,0]
[null,"397035","JR","OPENINGS:SECURITY INDIVIDUAL ADDITIONAL HIRE","Openings:Hire and maintenance of one proprietary metal security screen for additional hire period for any window or door screen (additional hire week to 397033).","NO",7.53,0]
[null,"398001","JR","CLIENT INSPECTION:EXTERNAL JOINERY","Client Inspection:Undertake client inspection and testing etc and report to CR (any repairs required to be ordered must be instructed by CR)","IT",13.13,0]
[null,"411105","PT","WALL:RENEW APPLY 3MM SKIM PLASTER IN PATCH","Wall:Renew defective or apply new skim coat of plaster in patch including hack off existing and renew including all preparation and joints to existing surfaces.","IT",13.88,0.75]
[null,"411107","PT","WALL:RENEW APPLY 3MM SKIM COAT PLASTER","Wall:Renew defective or apply new skim coat of plaster including hack off existing and renew including all preparation and joints to existing surfaces.","SM",10.82,0.75]
[null,"411113","PT","WALL:FLOAT SET DUB OUT IN PATCH","Wall:Float and set to walls in patch including additional coat or dub out as necessary with cement and sand including all labours.","IT",32.619999999999997,6.36]
[null,"411115","PT","WALL:FLOAT SET DUB OUT","Wall:Float and set to walls including additional coat or dub out as necessary with cement and sand including all labours.","SM",28.24,6.36]
[null,"411121","PT","WALL:HACK REPLASTER DUB OUT IN PATCH","Wall:Hack off plaster, rake out and prepare background, float and set to walls in patch including additional coat or dub out as necessary with cement and sand, all labours, remove spoil.","IT",48.97,7.4]
[null,"411123","PT","WALL:HACK REPLASTER DUB OUT","Wall:Hack off plaster, rake out and prepare background, float and set to walls including additional coat or dub out as necessary with cement and sand, all labours and remove spoil.","SM",42.41,7.4]
[null,"411133","PT","WALL:BOND AND SET WALL IN PATCH","Wall:Bond and set to walls in patch including additional coat or dub out as necessary with cement and sand including all labours.","IT",20.78,3.27]
[null,"411135","PT","WALL:BOND AND SET WALLS","Wall:Bond and set to walls 12mm thick, including additional coat or dub out as necessary with cement and sand including all labours.","SM",17.72,3.27]
[null,"411137","PT","WALL:BONDING AGENT IN PATCH","Wall:Apply bonding agent to wall in patch.","IT",4.3899999999999997,0.54]
[null,"411139","PT","WALL:BONDING AGENT","Wall:Apply bonding agent to wall ","SM",4.04,0.54]
[null,"411201","PT","WALL:HACK OFF REPLASTER 1.0M BAND","Wall:Hack off all plaster to minimum height of 1.00m above new floor level, after treatment works return and replaster ne 25mm thick, fair joint to existing plaster, all as specified.","SM",52.6,4.46]
[null,"411203","PT","WALL:HACK OFF RENDER AND SKIM 1.0M BAND","Wall:Hack off all plaster to minimum height of 1.00m above new floor level, after damp treatment works, return, apply 2 coat waterproof render and skim ne 25mm thick, as specified.","SM",60.8,4.7699999999999996]
[null,"411205","PT","WALL:DUB OUT 25MM PRIOR REPLASTER","Wall:Apply dubbing out coat ne 25mm thick prior to replastering wall, all as specified.","SM",20.34,3.71]
[null,"411207","PT","WALL:HACK OFF AND APPLY RENDER","Wall:Hack off any type plaster or rendered finish and apply two coat waterproof cement render, finished to receive direct fixed dry lining (dry lining not included).","SM",39.869999999999997,2.67]
[null,"411209","PT","WALL:HACK OFF AND APPLY NEW SKIM COAT","Wall:Hack off degraded plaster finish coat and apply new plaster skim coat including fair joint to any existing plaster finish.","SM",10.82,0.75]
[null,"411309","PT","WALL:FIX NE 12.5MM PLASTERBOARD SCRIM JOINTS PATCH","Wall:Supply, cut and fix n.e.12.5mm plasterboard to walls in patch including scrim joints, additional support battens, noggins etc to studding and all labours.","IT",14.8,4.7300000000000004]
[null,"411311","PT","WALL:FIX NE 12.5MM PLASTERBOARD SCRIM JOINTS","Wall:Supply, cut and fix n.e.12.5mm plasterboard to walls and scrim joints, including additional support battens, noggins etc to studding and all labours.","SM",12.24,4.37]
[null,"411313","PT","WALL:FIX NE 12.5MM PLASTERBOARD 3MM SKIM IN PATCH","Wall:Supply, cut and fix n.e.12.5mm plasterboard to walls in patch including scrim joints and 3mm skim plaster, additional support battens, noggins etc. to studding, including all labours.","IT",26.85,5.84]
[null,"411315","PT","WALL:FIX NE 12.5MM PLASTERBOARD 3MM SKIM COAT","Wall:Supply, cut and fix n.e.12.5mm plasterboard to walls, scrim joints and 3mm skim plaster to walls, including additional support battens, noggins etc, to studding, including all labours.","SM",22.18,5.55]
[null,"411321","PT","WALL:RENEW NE 12.5MM PLASTERBOARD SKIM PATCH","Wall:Take down plasterboard or lath and plaster to wall, denail studs etc, fix n.e.12.5mm plasterboard to wall in patch, scrim joints, 3mm skim plaster, additional battens, noggins etc, all labours.","IT",37.35,5.84]
[null,"411323","PT","WALL:RENEW NE 12.5MM PLASTERBOARD 3MM SKIM","Wall:Take down plasterboard or lath and plaster to wall, denail studs etc, fix n.e.12.5mm plasterboard to wall, scrim joints, 3mm skim plaster, additional battens etc, all labours, remove spoil.","SM",29.62,5.55]
[null,"411325","PT","WALL:RENEW DOUBLE PLASTERBOARD 3MM SKIM IN PATCH","Wall:Take down plasterboard or lath and plaster to wall, denail studs, fix double layer n.e.12.5mm plasterboard to wall in patch, scrim joints, 3mm skim plaster, additional battens etc, all labours.","IT",48.11,7.41]
[null,"411327","PT","WALL:RENEW DOUBLE PLASTERBOARD 3MM SKIM COAT","Wall:Take down plasterboard or lath and plaster to wall, denail studs etc, fix double layer n.e.12.5mm plasterboard to wall, scrim joints, 3mm skim plaster, additional battens etc, all labours.","SM",36.880000000000003,7.12]
[null,"413105","PT","CEILING:RENEW APPLY SKIM COAT IN PATCH","Ceiling:Hack off existing and renew defective or apply new skim coat of plaster in patch including all joints to existing surfaces and all labours and remove spoil.","IT",16.07,0.75]
[null,"413107","PT","CEILING:RENEW APPLY SKIM COAT","Ceiling:Hack off existing and renew defective or apply new skim coat of plaster including all joints to existing surfaces and all labours and remove spoil.","SM",13,0.75]
[null,"413109","PT","CEILING:BOND AND FINISH IN PATCH","Ceiling:Bond and finish coat to concrete ceiling in patch, apply bonding agent, including all labours.","IT",24.82,3.81]
[null,"413111","PT","CEILING:BOND AND FINISH","Ceiling:Bond and finish coat to concrete ceiling apply bonding agent, including all labours.","SM",21.76,3.81]
[null,"413117","PT","CEILING:HACK RENEW PLASTER IN PATCH","Ceiling:Hack off defective plaster to ceiling, prepare and replaster ceiling in patch including bonding agent and all joints to existing surfaces and all labours and remove spoil.","IT",30.07,3.81]
[null,"413119","PT","CEILING:HACK RENEW PLASTER","Ceiling:Hack off defective plaster to ceiling, prepare and replaster ceiling including bonding agent and all joints to existing surfaces and all labours and remove spoil.","SM",25.7,3.81]
[null,"413121","PT","CEILING:BONDING AGENT IN PATCH","Ceiling:Apply bonding agent to ceiling in patch","IT",5.57,0.54]
[null,"413122","PT","CEILING:BONDING AGENT","Ceiling:Apply bonding agent to ceiling","SM",5.14,0.54]
[null,"413124","PT","CEILING:APPLY 5MM SKIM TO ARTEX","Ceiling:Prepare and apply 5mm skim coat of plaster to existing artex ceiling, apply bonding agent, including all joints to existing surfaces and all labours and remove waste and debris. ","SM",19.38,1]
[null,"413305","PT","CEILING:FIX NE 12.5MM PLASTERBOARD 3MM SKIM PATCH","Ceiling:Supply, cut and fix n.e.12.5mm plasterboard, scrim joints and 3mm skim plaster to ceiling in patch including additional support battens, noggins etc.to joists, including all labours.","IT",29.04,5.84]
[null,"413307","PT","CEILING:FIX NE 12.5MM PLASTERBOARD 3MM SKIM COAT","Ceiling:Supply, cut and fix n.e.12.5mm plasterboard, scrim joints and 3mm skim plaster to ceiling, including additional support battens, noggins to joists, including all labours.","SM",23.49,5.55]
[null,"413309","PT","CEILING:FIX DOUBLE NE 12.5MM PLASTERBOARD IN PATCH","Ceiling:Supply, cut and fix double layer of n.e. 12.5mm plasterboard to ceiling in patch including scrim joints and 3mm skim plaster, additional support battens etc. to joists, including all labours.","IT",44.32,7.12]
[null,"413311","PT","CEILING:FIX DOUBLE NE 12.5MM PLASTERBOARD 3MM SKIM","Ceiling:Supply, cut and fix double layer of n.e. 12.5mm plasterboard to ceiling with scrim joints and 3mm skim plaster including additional support battens etc. to joists, including all labours.","SM",35.28,6.83]
[null,"413317","PT","CEILING:RENEW NE 12.5MM PLASTERBOARD SKIM IN PATCH","Ceiling:Take down existing ceiling, denail joists, fix n.e.12.5mm plasterboard to ceiling in patch, scrim joints, 3mm skim plaster, additional battens, all labours, remove spoil.","IT",44.35,5.84]
[null,"413319","PT","CEILING:RENEW NE 12.5MM PLASTERBOARD 3MM SKIM COAT","Ceiling:Take down existing ceiling, denail joists, fix n.e.12.5mm plasterboard to ceiling, scrim joints, 3mm skim plaster, additional battens, all labours, remove spoil.","SM",35.31,5.55]
[null,"413321","PT","CEILING:RENEW DOUBLE PLASTERBOARD SKIM IN PATCH","Ceiling:Take down existing ceiling, denail joists fix double layer n.e.12.5mm plasterboard to ceiling in patch, scrim joints and 3mm skim plaster, additional battens etc, all labours.","IT",53.08,7.12]
[null,"413323","PT","CEILING:RENEW DOUBLE PLASTERBOARD 3MM SKIM COAT","Ceiling:Take down existing ceiling, denail joists fix double layer n.e.12.5mm plasterboard to ceiling, scrim joints and 3mm skim plaster, additional battens etc, all labours.","SM",41.84,6.83]
[null,"413325","PT","CEILING:OVERLAY NE 12.5MM PLASTERBOARD 3MM SKIM","Ceiling:Prepare existing ceiling, and overlay with n.e.12.5mm plasterboard nailed to joists, all necessary packings, battens, noggins etc, scrim joints, 3mm skim plaster, all labours and remove spoil.","SM",25.71,4.7]
[null,"413327","PT","CEILING:REMOVE COLLAPSED CEILING AFTER WATER LEAK","Ceiling:Attend dwelling, remove collapsed water damaged ceiling take down any remaining damaged ceiling, denail joists and prepare for new plasterboard, remove waste, debris [new ceiling item 413307].","SM",17.510000000000002,0]
[null,"413329","PT","CEILING:TAKE DOWN CEILING AFTER WATER DAMAGE","Ceiling:Attend dwelling, take down water damaged ceiling,denail joists and prepare for new plasterboard, remove waste and debris [new ceiling to be claimed seperately item 413307].","SM",11.82,0]
[null,"415001","PT","PLASTER REPAIR:REPAIR CRACKS AROUND FRAME","Plaster Repair:Repair cracks around door and window frame including hack out loose plaster and make good with plaster, make good decorations.","LM",4.67,0.28999999999999998]
[null,"415003","PT","PLASTER REPAIR:RENEW REVEAL TO FRAME","Plaster Repair:Renew plastered reveal complete to any door or window frame, hack off defective plaster, render and set, remake arris, joints to existing, make good decorations and remove spoil.","LM",9.44,0.69]
[null,"415005","PT","PLASTER REPAIR:REPAIR CRACKS AROUND FITTING","Plaster Repair:Repair crack around any fitting, including hack out loose plaster and make good with plaster.","LM",3.79,0.28999999999999998]
[null,"415011","PT","PLASTER REPAIR:RENEW PLASTER BAND","Plaster Repair:Cut out defective plaster, and make good with plaster to match existing up to 300mm wide, including all joints to existing surfaces/adjacent fittings, remove spoil.","LM",8.81,0.93]
[null,"415013","PT","PLASTER REPAIR:REPAIR CRACK TO WALL OR CEILING","Plaster Repair:Repair cracks to wall or ceiling plaster, cut out cracks and apply finish plaster, trowel off flush with existing surfaces.","LM",9.1199999999999992,0.36]
[null,"415015","PT","PLASTER REPAIR:RENEW METAL PROFILE BEAD","Plaster Repair:Renew any type of expanded metal profile bead in conjunction with plasterwork repairs.","LM",8,1.43]
[null,"415017","PT","PLASTER REPAIR:MAKE GOOD AROUND PIPE ETC","Plaster Repair:Make good any type of plasterwork around any size or type of pipe, projection and the like (only to be claimed where not part of schedule item for make good etc.).","NO",5.61,0.36]
[null,"415019","PT","PLASTER REPAIR:RENEW PLASTER VENT","Plaster Repair:Renew or fix new plaster vent size 225x150mm with flyscreen including remove existing and fix new to wall incl all make good.","NO",11.55,2.8]
[null,"415021","PT","WALL:REMOVE ARTEX FINISHES","Wall:Remove artex textured coating from walls, including all make good and remove spoil.","SM",7.44,0]
[null,"421001","PT","WALL:HACK OFF RENDER IN PATCH","Wall:Hack off any thickness of render from walls in patch, rake out and prepare brickwork or blockwork to receive rendering.","IT",21.88,0]
[null,"421003","PT","WALL:HACK OFF RENDER","Wall:Hack off any thickness of render from walls, rake out and prepare brickwork or blockwork to receive rendering.","SM",17.510000000000002,0]
[null,"421021","PT","WALL:APPLY RENDER DUB OUT IN PATCH","Wall:Apply 12mm cement and sand render (1:3) with waterproofing agent to external walls in patch trowelled smooth, dub out as necessary with cement and sand including all labours.","IT",30.77,4.51]
[null,"421023","PT","WALL:APPLY RENDER DUB OUT","Wall:Apply 12mm cement and sand render (1:3) with waterproofing agent to external walls trowelled smooth, dub out as necessary with cement and sand, including all labours.","SM",27.7,4.51]
[null,"421025","PT","WALL:APPLY WET DASH RENDER DUB OUT IN PATCH","Wall:Apply 12mm cement and sand render (1:3) with waterproofing agent and wet dash finish to external walls in patch, dub out as necessary with cement and sand, including all labours.","IT",36.44,5.8]
[null,"421027","PT","WALL:APPLY WET DASH RENDER DUB OUT","Wall:Apply 12mm cement and sand render (1:3) with waterproofing agent and wet dash finish to external walls, dub out as necessary with cement and sand, including all labours.","SM",33.81,6.23]
[null,"421029","PT","WALL:APPLY DRY DASH RENDER DUB OUT IN PATCH","Wall:Apply 12mm cement and sand render (1:3) with waterproofing agent and dry dash finish to external walls in patch, dub out as necessary with cement and sand, including all labours.","IT",43.09,5.89]
[null,"421031","PT","WALL:APPLY DRY DASH RENDER DUB OUT","Wall:Apply 12mm cement and sand render (1:3) with waterproofing agent and dry dash finish to external walls, dub out as necessary with cement and sand, including all labours.","SM",39.06,6.23]
[null,"421033","PT","WALL:APPLY DECORATIVE RENDER DUB IN PATCH","Wall:Apply 12mm cement and sand render (1:3) with waterproofing agent to external walls in patch with Decorative finish, dub out as necessary with cement and sand, including all labours.","IT",45.62,12.79]
[null,"421035","PT","WALL:APPLY DECORATIVE RENDER DUB","Wall:Apply 12mm cement and sand render (1:3) with waterproofing agent to external walls with Decorative finish, dub out as necessary with cement and sand and all labours.","SM",41.24,12.79]
[null,"423001","PT","RENDER REPAIRS:REPAIR CRACK","Render Repairs:Repair crack in any external render incl. carefully hack out and make good with cement and sand including applying finish to match existing.","LM",9.48,0.72]
[null,"423003","PT","RENDER REPAIRS:REPAIR CRACK AROUND FRAME","Render Repairs:Repair cracks to render and applied finishes around door or window frame including hack out loose render and make good including make good sealant joint to frame.","LM",12.75,1.81]
[null,"423005","PT","RENDER REPAIRS:RENEW REVEAL TO FRAME","Render Repairs:Renew rendered door or window frame reveal complete, hack off external finish, remake arris and rerender, dubbing out and waterproofing agent, make good applied finishes, remove spoil.","LM",15.16,2.0299999999999998]
[null,"423007","PT","RENDER REPAIRS:RENEW BELLCAST FEATURE","Render Repairs:Renew bellcast to any render over openings or above dampcourse, hack off, fix bellcast bead and form bellcast externally and remove spoil.","LM",14.92,1.79]
[null,"425001","PT","CEILING:APPLY ARTEX TYPE FINISH","Ceiling:Prepare and apply Artex type textured coating with stipple or comb finish to ceiling, caulk joints in plasterboard and or cracks in plaster finish.","SM",11.17,0.67]
[null,"425002","PT","CEILING:APPLY ARTEX TYPE FINISH IN PATCH","Ceiling:Prepare and apply Artex type textured coating with stipple or comb finish to ceiling in patch, caulk joints in plasterboard and or cracks in plaster finish, prime as necessary, make good.","IT",9.42,0.67]
[null,"425003","PT","CEILING:REMOVE ARTEX FINISH","Ceiling:Remove artex textured coating from ceiling, including all make good.","SM",9.6300000000000008,0]
[null,"425005","PT","TEST:SAMPLE OF ARTEX","Test:Collect sample of artex texture coating removed from ceiling or walls, arrange and test asbestos content, provide Client Representative with written report.","IT",110.26,0]
[null,"427003","PT","WALL:DRY LINE NE 12.5MM PLASTERBOARD PADS AND DABS","Wall:Strip existing walls, clean down mould and fungi, line wall with ne 12.5mm plasterboard fixed to plaster pads and dabs in accordance with manufacturers directions, make good, remove spoil.","SM",33.270000000000003,4.82]
[null,"427005","PT","CEILING:DRY LINE 12.5MM THERMALBOARD","Ceiling:Strip existing ceiling, clean down mould and fungi, remove coving, fix 50x25mm treated softwood battens, line ceilings with 12.5mm plasterboard faced thermal board, make good.","SM",64.930000000000007,9.35]
[null,"427007","PT","CEILING:DRY LINE 25MM THERMALBOARD","Ceiling:Strip existing ceiling, clean down mould and fungi, remove coving, fix 50x25mm treated softwood battens, line ceilings with 25mm plasterboard faced thermal board, make good.","SM",86.34,14.13]
[null,"427009","PT","WALL:DRY LINE 25MM THERMALBOARD","Wall:Strip existing walls, clean down mould and fungi, line walls with 25mm nominal plasterboard faced thermal board in accordance with manufacturers directions, make good, remove spoil.","SM",62.2,11.87]
[null,"427011","PT","WALL:DRY LINE 45MM THERMALBOARD","Wall:Strip existing walls, clean down mould and fungi, line walls with 45mm nominal plasterboard faced thermal board in accordance with manufacturers directions, make good, remove spoil.","SM",80.099999999999994,16.64]
[null,"429001","PT","COVING:FIX PLASTER COVING","Coving:Supply and fix new Gyproc plaster coving ne 150mm girth.","LM",8.39,1.82]
[null,"429003","PT","COVING:REFIX PLASTER COVING","Coving:Remove, set aside and refix Gyproc plaster coving ne 150mm girth.","LM",6.85,0.28999999999999998]
[null,"431003","WF","WALL TILES:HACK OFF AND MAKE GOOD","Wall Tiles:Hack off glazed wall tiling, make good bed.","SM",11.08,1.45]
[null,"431005","WF","WALL TILES:RENEW OR FIX INDIVIDUAL NEW GLAZED TILE","Wall Tiles:Clean off walls, fix new ne 152x152x 6mm glazed ceramic wall tile in patch to splashbacks, cills with adhesive, grout, cutting, hack off tiling in patch, make good (per tile).","NO",1.76,0.45]
[null,"431007","WF","WALL TILES:RENEW OR FIX NEW GLAZED TILES","Wall Tiles:Clean off walls, fix new ne 152x152x 6mm glazed ceramic wall tiles to splashback and cills with adhesive, grout, edge strips, cutting, hack off glazed wall tiling, make good, remove spoil.","SM",51.56,18.739999999999998]
[null,"431011","WF","WALL TILES:RENEW TO CILL","Wall Tiles:Hack off tiles to cill, clear away, lay new ne 152x152x6mm glazed tiles to cill, ne 150mm wide, bed in mortar or adhesive, make good, grout, cut and form straight edge or edge strips.","LM",20.22,2.71]
[null,"431013","WF","WALL TILES:NEW SPLASHBACK TO BASIN","Wall Tiles:Clean off wall, prepare to receive new tiles, and fix new ne 152x152x6mm glazed ceramic tiles to 750x300mm splashback to wash hand basin with adhesive, grout, edge strips, cutting.","IT",18.03,4.0199999999999996]
[null,"431015","WF","WALL TILES:NEW SPLASHBACK TO BATH","Wall Tiles:Clean off wall, prepare to receive new tiles, and fix new ne 152x152x6mm glazed ceramic wall tiles in 300mm high splashback to side, end of bath with adhesive, grout, edge strips, cutting.","LM",17.010000000000002,6.07]
[null,"431017","WF","WALL TILES:NEW SPLASHBACK TO SINK","Wall Tiles:Clean off wall, prepare to receive new tiles, and fix new ne 152x152x6mm glazed ceramic wall tiles in 300mm high to splashback to sink and worktops, adhesive, grout, edge strips, cutting.","LM",17.899999999999999,6.96]
[null,"431019","WF","WALL TILES:NEW REVEALS NE 150MM WIDE","Wall Tiles:Clean off wall, prepare to receive new tiles, supply and fix new ne 152x152x6mm glazed ceramic wall tiles to reveals ne 150mm wide with adhesive, grout, edge strips and any cutting.","LM",13.68,2.74]
[null,"431021","WF","WALL TILES:REMOVE AND REFIX PER TILE","Wall Tiles:Take off existing wall tile to patch and set aside, clean off and refix to walls with adhesive, make good to bed and grout including all necessary cutting (per tile).","NO",1.05,0.17]
[null,"431023","WF","WALL TILES:REMOVE AND REFIX","Wall Tiles:Take off existing wall tiles and set aside, clean off and refix to walls with adhesive, make good to bed and grout including all necessary cutting.","SM",60.14,6.74]
[null,"431025","WF","WALL TILES:RAKE OUT AND REGROUT","Wall Tiles:Rake out and regrout wall tiling.","SM",11.76,0.82]
[null,"431041","WF","WALL TILES:NEW GLAZED TILES TO KITCHEN","Wall Tiles:Clean off walls, prepare to receive new tiles, fix new ne 152x152x6mm glazed coloured ceramic wall tiles to kitchen worktop, splashback cooker space, cills, grout, edge strips, make good.","SM",56.81,20.05]
[null,"431043","WF","WALL TILES:NEW GLAZED TILES TO BATHROOM","Wall Tiles:Clean off walls, prepare to receive new tiles, fix new ne 152x152x6mm glazed coloured ceramic wall tiles to bathroom, splash-back, cills, adhesive, grout, edge strips, sealing, cutting.","SM",56.81,20.05]
[null,"431301","PT","SCREED:HACK UP SCREED IN PATCH","Screed:Hack up any thickness of floor screed in patch and remove spoil.","IT",26.26,0]
[null,"431303","PT","SCREED:HACK UP SCREED","Screed:Hack up any thickness of floor screed and remove spoil.","SM",19.7,0]
[null,"431305","PT","SCREED:REPAIR CRACK IN FLOOR","Screed:Repair crack in floor screed ne 50mm wide with cement and sand including cutting out to form key and infill to match existing.","LM",7.04,0.47]
[null,"431307","PT","SCREED:LAY 40MM THICK IN PATCH","Screed:Lay cement and sand floor screed in patch, ne 40mm thick, trowel smooth for floor finish, clean off, grout sub-base with cement slurry, apply liquid damp proof membrane and remove spoil.","IT",30.56,15.24]
[null,"431309","PT","SCREED:LAY 40MM THICK SCREED","Screed:Lay cement and sand floor screed ne 40mm thick, trowel smooth for floor finish, clean off, grout sub-base with cement slurry, apply liquid damp proof membrane and remove spoil.","SM",26.18,15.24]
[null,"431311","PT","SCREED:OVERLAY WITH CONCRETE NE 65MM","Screed:Overlay any sub-base with fine concrete (1:2:4), ne 65mm thick including clean off sub- base, tamp level to receive floor screed and remove spoil.","SM",23.09,7.77]
[null,"431315","FL","SCREED:LATEX SELF LEVEL","Screed:Lay latex self levelling screed.","SM",17.03,6.08]
[null,"431501","WF","FLOOR TILES:RENEW QUARRY TILE IN PATCH","Floor Tiles:Hack off quarry tiles, clear away, supply and lay new ne 152x152x17mm quarry floor tiles in patch ne 1.00sm on cement and sand bed, grout in tiles and all necessary cutting.","IT",107.45,16.41]
[null,"431503","WF","FLOOR TILES:RENEW QUARRY TILES","Floor Tiles:Hack off quarry tiles, clear away, supply and lay new ne 152x152x17mm quarry tiles, on and including cement and sand bed, grout in tiles, and all necessary cutting.","SM",97.78,27.75]
[null,"431505","WF","FLOOR TILES:NEW QUARRY TILE IN PATCH","Floor Tiles:Supply and lay new ne 152x152x17mm quarry floor tiles in patch ne 1.00sm on and including cement and sand bed, grout in tiles and all necessary cutting.","IT",75.5,16.41]
[null,"431507","WF","FLOOR TILES:NEW QUARRY TILES","Floor Tiles:Supply and lay new ne 152x152x17mm quarry floor tiles on and including cement and sand bed, grout in tiles and all necessary cutting.","SM",75.02,27.75]
[null,"431509","WF","FLOOR TILES:REBED QUARRY PER TILE","Floor Tiles:Take up loose quarry floor tile in patch ne 1.00sm and set aside, clean off floor and tile, refix tile and grout in (per tile).","NO",1.9,0.15]
[null,"431511","WF","FLOOR TILES:REBED QUARRY TILES","Floor Tiles:Take up loose quarry floor tile and set aside, clean off floor and tiles, refix tiles and grout in.","SM",71.510000000000005,1.48]
[null,"431513","WF","FLOOR TILES:RENEW QUARRY PER TILE","Floor Tiles:Hack up individual quarry tile, lay new ne 152x152x17mm quarry floor tile in individual tile replacement on and including cement and sand bed, grout in tile, cutting. (per tile)","NO",2.64,0.89]
[null,"431701","WF","TILE SKIRTING:RENEW QUARRY TILES IN PATCH","Tile Skirting:Hack off quarry tile skirting, clear away, supply and lay new ne 152mm quarry tile skirting, cement and sand backing, grout, cutting, angles and ends, lengths ne 1.00m (per tile).","NO",4.93,0.55000000000000004]
[null,"431703","WF","TILE SKIRTING:RENEW QUARRY TILES","Tile Skirting:Hack off quarry tile skirting, clear away, supply and lay new ne 152mm quarry tile skirting, on cement and sand backing, grout in tiles, and all necessary cutting, angles and ends.","LM",21.14,3.63]
[null,"431705","WF","TILE SKIRTING:LAY NEW INDIVIDUAL QUARRY TILE","Tile Skirting:Supply and lay new ne 152mm quarry tile skirting, cement and sand backing, grout in tiles and all necessary cutting, angles and ends, lengths ne 1.00m (per tile).","NO",4.05,0.55000000000000004]
[null,"431707","WF","TILE SKIRTING:LAY NEW QUARRY TILES","Tile Skirting:Supply and lay new ne 152mm quarry tile skirting, on cement and sand backing, grout in tiles and all necessary cutting, angles and ends.","LM",16.760000000000002,3.63]
[null,"431709","WF","TILE SKIRTING:REBED INDIVIDUAL QUARRY TILE","Tile Skirting:Take off loose quarry tile skirting and set aside, clean tile and prepare backing, rebed tile in cement and sand, grout in tile, in lengths ne 1.00m (per tile).","NO",5.4,0.15]
[null,"431711","WF","TILE SKIRTING:REBED QUARRY TILES","Tile Skirting:Take off loose quarry tile skirting and set aside, clean tile and prepare backing, rebed tile in cement and sand and grout in tile.","LM",22.18,0.3]
[null,"431901","WF","FLOOR TILES:RENEW CERAMIC TILES IN PATCH","Floor Tile:Hack off ceramic tiles, clear away, supply and lay new ne 300x300x12mm ceramic floor tiles in patch on and including cement and sand bed, grout in tiles and all necessary cutting.","IT",91.13,27.67]
[null,"431903","WF","FLOOR TILES:RENEW CERAMIC TILES","Floor Tiles:Hack off ceramic tiles, clear away, supply and lay new ne 300x300x12mm ceramic floor tiles on and including cement and sand bed, grout in tiles and all necessary cutting.","SM",94.31,46.17]
[null,"431905","WF","FLOOR TILES:NEW CERAMIC TILES IN PATCH","Floor Tiles:Supply and lay new ne 300x300x12mm ceramic floor tiles in patch on and including cement and sand bed, grout in tiles and all necessary cutting.","IT",58.31,27.67]
[null,"431907","WF","FLOOR TILES:NEW CERAMIC TILES","Floor Tiles:Supply and lay new ne 300x300x12mm ceramic floor tiles on and including cement and sand bed, grout in tiles and all necessary cutting.","SM",70.239999999999995,46.17]
[null,"431909","WF","FLOOR TILES:REBED CERAMIC TILES IN PATCH-PER TILE","Floor Tiles:Take up loose ceramic floor tile to patch and set aside, clean off floor and tile, refix tile and grout in (per tile).","NO",1.43,0.12]
[null,"431911","WF","FLOOR TILES:REBED CERAMIC TILES","Floor Tiles:Take up loose ceramic floor tiles and set aside, clean off floor and tiles, refix tiles and grout in.","SM",60.05,5.34]
[null,"432101","WF","TILE SKIRTING:RENEW INDIVIDUAL CERAMIC TILE","Tile Skirting:Hack off ceramic tile skirting, clear away, supply and lay new ne 152mm ceramic tile skirting, on cement and sand backing, grout cutting, angles, lengths ne 1.00m (per tile).","NO",3.95,0.44]
[null,"432103","WF","TILE SKIRTING:RENEW CERAMIC TILES","Tile Skirting:Hack off ceramic tile skirting, clear away, supply and lay new ne 152mm ceramic tile skirting, on cement and sand backing, grout in tiles and all necessary cutting, angles, ends.","LM",17.02,3.01]
[null,"432105","WF","TILE SKIRTING:LAY NEW INDIVIDUAL CERAMIC TILE","Tile Skirting:Supply and lay new ne 152mm ceramic tile skirting, on cement and sand backing, grout in tile and all necessary cutting angles and ends, lengths ne 1.00m (per tile).","NO",3.51,0.44]
[null,"432107","WF","TILE SKIRTING:LAY NEW CERAMIC TILES","Tile Skirting:Supply and lay new ne 152mm ceramic tile skirting, on cement and sand backing, grout in tiles and all necessary cutting angles and ends.","LM",13.52,3.01]
[null,"432109","WF","TILE SKIRTING:REBED SINGLE CERAMIC TILE - PER TILE","Tile Skirting:Take off loose ceramic tile skirting and set aside, clean tile and prepare backing, rebed tile in cement and sand, grout in tile in lengths ne 1.00m (per tile).","NO",4.49,0.12]
[null,"432111","WF","TILE SKIRTING:REBED CERAMIC TILES","Tile Skirting:Take off loose ceramic tile skirting and set aside, clean tiles and prepare backing, rebed tiles in cement and sand and grout in tiles.","LM",18.32,0.81]
[null,"432301","FL","FLOOR TILES:HACK UP SINGLE VINYL TILE PER TILE","Floor Tiles:Hack off vinyl floor tiles in patch and clear away, make good bed under (per tile).","NO",0.93,0.06]
[null,"432303","FL","FLOOR TILES:HACK UP VINYL TILES","Floor Tiles:Hack off vinyl floor tiles and clear away, incl make good bed under.","SM",7.2,0.64]
[null,"432305","FL","FLOOR TILES:RENEW INDIVIDUAL VINYL TILE PER TILE","Floor Tiles:Take up individual vinyl floor tiles, clear away, supply and lay new ne 300x300x2.00mm vinyl tiles with adhesive in patch, cutting, and clean off. (per tile).","NO",2.82,1.07]
[null,"432307","FL","FLOOR TILES:RENEW VINYL TILES","Floor Tiles:Hack off vinyl floor tiles, clear away, supply and lay new ne 300x300x2.00mm vinyl tiles with adhesive in patch including all necessary cutting of tiles and clean off","SM",27.14,11.82]
[null,"432309","FL","FLOOR TILES:RENEW VINYL TILES AND SUB-BASE","Floor Tiles:Hack off vinyl floor tiles, clear away, lay new ne 300x300x2.00mm vinyl floor tiles with adhesive to and supply and lay approved sheet sub-base, all cutting, labours and clean off.","SM",42.97,16.71]
[null,"432311","FL","FLOOR TILES:LAY NEW INDIVIDUAL VINYL TILE PER TILE","Floor Tiles:Supply and lay new ne 300x300x2.00mm vinyl floor tiles with adhesive in patch including all necessary cutting of tiles and clean off (per tile).","NO",2.38,1.07]
[null,"432313","FL","FLOOR TILES:LAY NEW VINYL TILES","Floor Tiles:Supply and lay new ne 300x300x2.00mm vinyl floor tiles with adhesive including all necessary cutting of tiles and clean off.","SM",22.76,11.82]
[null,"432314","FL","FLOOR TILE:LAY NEW VINYL TILES AND SUB-BASE","Floor Tile:Supply and lay new ne 300x300x2.00mm vinyl floor tiles with adhesive to and including approved sheet sub-base including all cutting, labours and clean off.","SM",36.869999999999997,14.98]
[null,"432315","FL","FLOOR TILES:REFIX INDIVIDUAL VINYL TILE","Floor Tile:Take up existing loose vinyl floor tiles in patch and set aside, clean off tiles and bed and refix tiles with adhesive and clean off (per tile).","NO",2.31,0.12]
[null,"432317","FL","FLOOR TILES:REFIX VINYL TILES","Floor Tiles:Take up existing loose vinyl floor tiles, set aside, clean off tiles and bed and refix tiles with adhesive and clean off.","SM",20.95,1.26]
[null,"432501","FL","SHEET FLOORING:RENEW VINYL","Sheet Flooring:Take up any covering, clear away, supply and lay minimum 2.0mm felt backed vinyl sheet flooring with adhesive to cement and sand screed, or sheet sub-base, cutting, labours, clean off.","SM",35.46,17.96]
[null,"432503","FL","SHEET FLOORING:RENEW VINYL AND SUB-BASE","Sheet Flooring:Take up any covering, clear away, supply and lay minimum 2.0mm felt backed vinyl sheet flooring with adhesive to and including approved sheet sub-base, cutting, labours, clean off.","SM",49.1,22.84]
[null,"432505","FL","SHEET FLOORING:LAY NEW VINYL","Sheet Flooring:Supply and lay minimum 2.0mm felt backed vinyl sheet flooring with adhesive to cement and sand screed or sheet sub-base including all necessary cutting, all labours and clean off.","SM",31.09,17.96]
[null,"432507","FL","SHEET FLOORING:LAY NEW VINYL AND SUB-BASE","Sheet Flooring:Supply and lay minimum 2.0mm felt backed vinyl sheet flooring with adhesive to and including approved sheet sub-base including all necessary cutting, all labours and clean off.","SM",44.73,22.84]
[null,"432509","FL","SHEET FLOORING:REFIX FLOORING","Sheet Flooring:Take up any type of existing loose sheet flooring, clean off flooring and bed under and refix flooring with adhesive and clean off.","SM",10.85,2.1]
[null,"432601","FL","SHEET FLOORING:RENEW POLYSAFE","Sheet Flooring:Take up any covering, clear away, supply and lay Polysafe safety flooring with adhesive to cement and sand screed or sub-base, cutting, all labours, upstands and clean off.","SM",42.03,24.53]
[null,"432603","FL","SHEET FLOORING:RENEW POLYSAFE AND SUB-BASE","Sheet Flooring:Take up any covering, clear away, supply and lay Polysafe safety flooring with adhesive to and including approved sheet sub-base, cutting, all labours, upstands and clean off.","SM",55.67,29.41]
[null,"432604","FL","SHEET FLOORING:RENEW NON-SLIP AND SUB-BASE","Sheet Flooring:Take up any covering, clear away, lay any type of approved non-slip vinyl sheet safety flooring with adhesive to and including approved sheet sub-base, cutting, all labours, clean off.","SM",51.76,27.69]
[null,"432605","FL","SHEET FLOORING:LAY NEW POLYSAFE","Sheet Flooring:Supply and lay Polysafe safety flooring with adhesive to cement and sand screed or sub-base including all necessary cutting, all labours, upstands and clean off.","SM",37.659999999999997,24.53]
[null,"432607","FL","SHEET FLOORING:LAY NEW POLYSAFE AND SUB-BASE","Sheet Flooring:Supply and lay Polysafe safety flooring with adhesive to and including supply and lay approved sheet sub-base, including all necessary cutting, all labours, upstands and clean off.","SM",51.3,29.41]
[null,"432608","FL","SHEET FLOORING:LAY NEW NON-SLIP AND SUB-BASE","Sheet Flooring:Supply and lay specified non-slip vinyl sheet safety flooring with adhesive to and supply and lay approved sheet sub-base, cutting, all labours, upstands and clean off, sealant.","SM",48.7,27.69]
[null,"432609","FL","SHEET FLOORING:RENEW POLYSAFE TO STAIRCASE","Sheet Flooring:Take up any covering, clear away, supply and lay Polysafe safety flooring with adhesive to treads, risers and landings of staircase, all cutting, labours, upstands and clean off.","SM",50.79,24.53]
[null,"432611","FL","SHEET FLOORING:LAY NEW POLYSAFE TO STAIRCASE","Sheet Flooring:Supply and lay Polysafe safety flooring with adhesive to treads, risers and landings of staircase including all necessary cutting, all labours, upstands and clean off.","SM",44.22,24.53]
[null,"432613","FL","SHEET FLOORING:LAY NEW NON-SLIP","Sheet Flooring:Supply and lay any type of approved non-slip vinyl sheet safety flooring with adhesive to cement and sand screed including all necessary cutting, all labours, upstands and clean off.","SM",37.659999999999997,24.53]
[null,"432615","FL","SHEET FLOORING:LAY NEW NON-SLIP TO STAIRCASE","Sheet Flooring:Supply and lay specified non-slip vinyl sheet safety flooring with adhesive to treads, risers and landings of staircase, all necessary cutting, all labours, upstands and clean off.","SM",44.22,24.53]
[null,"432617","FL","SHEET FLOORING:REFIX POLYSAFE","Sheet Flooring:Take up any type of existing loose 'Polysafe' or other non-slip sheet flooring, clean off flooring/bed under, refix flooring with adhesive, all cutting, labours, upstands and clean off.","SM",9.77,1.02]
[null,"432701","FL","SKIRTING:RENEW VINYL ETC NE 1.0LM","Skirting:Renew or fix new plastic vinyl lino or rubber skirting including remove existing as necessary, fix new with adhesive including all cutting and labours in lengths ne 1.00m.","IT",9.0299999999999994,2.0299999999999998]
[null,"432703","FL","SKIRTING:RENEW VINYL ETC OVER 1.0M","Skirting:Renew or fix new plastic, vinyl, lino or rubber skirting including remove existing as necessary, fix new with adhesive including all cutting and labours.","LM",11.47,2.71]
[null,"432705","FL","SKIRTING:REFIX VINYL ETC NE 1.0LM","Skirting:Refix loose plastic, vinyl, lino or rubber skirting including remove existing as necessary, refix with adhesive including all labours in lengths ne 1.00m.","IT",7.24,0.23]
[null,"432707","FL","SKIRTING:REFIX VINYL ETC OVER 1.0M","Skirting:Refix loose plastic, vinyl, lino or rubber skirting including remove existing as necessary, refix with adhesive including all labours.","LM",9.07,0.32]
[null,"432801","FL","CARPET:RENEW TO COMMUNAL AREAS","Carpet:Renew tight woven heavy contract grade carpet to communal areas, remove existing to tip, prepare sub-base, gripper or proprietary adhesive tape, cut and fit as necessary, door strips etc.","SM",14.7,0]
[null,"432803","FL","CARPET:RENEW TO COMMUNAL AREAS UNDERLAY","Carpet:Renew tight woven heavy contract grade carpet to communal areas, remove existing to tip, prepare sub-base, lay underlay, gripper or tape, cut and fit as necessary, door strips etc.","SM",18.38,0]
[null,"432805","FL","CARPET:RENEW TO DOMESTIC AREAS","Carpet:Renew tight woven medium contract grade carpet to domestic areas, remove existing to tip, prepare sub-base, lay underlay, gripper or tape, cut and fit as necessary, door strips etc.","SM",17.059999999999999,0]
[null,"432901","FL","NOSING:RENEW NOSING TO STEP","Nosing:Renew any size or type of proprietary alloy nosing to step including drilling and plugging as necessary.","NO",45.74,28.24]
[null,"432903","FL","NOSING:SUPPLY AND FIX NOSING TO STEP","Nosing:Supply and fix any size or type of proprietary alloy nosing to step including all necessary drilling and plugging.","NO",41.37,28.24]
[null,"432905","FL","NOSING:REFIX TO STEP","Nosing:Take off and refix any size or type of nosing to step including drilling and plugging as necessary.","NO",13.42,0.28999999999999998]
[null,"435021","PA","GUTTER:CLEAN OUT PRIOR TO DECORATION","Gutter:Clean out eaves gutter prior to redecoration including flush out and test.","LM",2.19,0]
[null,"435101","PA","SURFACE:STRIP BACK SURFACES OVER 300MM","Surface:Apply paint remover, strip off paint to surfaces or using cyclone stripper, or burn off, or scrape off, wire brush, prepare surfaces over 300mm girth for redecoration.","SM",9.5500000000000007,0.8]
[null,"435103","PA","SURFACE:STRIP BACK SURFACES NE 300MM","Surface:Apply paint remover, strip off paint to surfaces or using cyclone stripper, or burn off, or scrape off, wire brush, prepare surfaces ne 300mm girth for redecoration.","LM",3.3,0.24]
[null,"435113","PA","SURFACE:STRIP BACK WINDOWS","Surfaces:Apply paint remover, strip off paint to general surfaces of windows or using cyclone stripper, or burn off, or scrape off, wire brush, prepare to decorate.","SM",19.97,0.28000000000000003]
[null,"435119","PA","SEALER:APPLY ONE COAT TO WALLS AND CEILINGS","Sealer:Prepare and apply one coat of sealer stabilizer to walls or ceilings in accordance with manufacturers directions.","SM",4.99,0.61]
[null,"435121","PA","STAIN BLOCK:APPLY ONE COAT","Stain Block:Apply one coat of stain block to plastered ceiling strictly in accordance with the manufacturers instructions.","SM",6.27,0.57999999999999996]
[null,"435301","PA","WALLS:BRUSH AND WASH DOWN","Walls:Brush or scrape and wire brush and wash down painted surfaces of walls to remove grime or soot or to remove flaking paint from walls.","SM",2.33,0.14000000000000001]
[null,"435501","PA","SURFACES:REMOVE GRAFFITI RINSE DRY","Surfaces:Clean existing graffiti covered surfaces with proprietary graffiti removal or stripper, apply high pressure hot water rinse to remove all traces of remover or stripper, paint, debris etc.","SM",12.18,3.43]
[null,"435511","PA","SURFACES:APPLY ANTI-GRAFFITTI PAINT","Surfaces: Apply anti-graffitti paint strictly in accordance with the manufacturers instructions to vulnerable external surfaces of brickwork, concrete and timber as directed.","SM",9.4600000000000009,2.9]
[null,"436051","PA","SOFFIT:WASH APPLY 2 COATS SMOOTH MASONRY PAINT","Soffit:Wash down, fill in cracks and holes, sand smooth and apply two coats of smooth or textured masonry paint to rendered or concrete canopies or soffits.","SM",10.84,2.96]
[null,"436053","PA","SOFFITS:WASH APPLY SEALER 2 COATS MASONRY PAINT","Soffit:Wash down, fill in cracks and holes, sand smooth and apply one coat of sealer and two coats of smooth or textured masonry paint to rendered or concrete soffits.","SM",12.32,3.57]
[null,"436061","PA","WALLS:WASH APPLY 2 COATS MASONRY PAINT","Walls:Wash down, fill in cracks and holes, sand smooth and apply two coats of smooth or textured masonry paint to rendered or concrete surfaces of walls.","SM",10.84,2.96]
[null,"436063","PA","WALLS:WASH APPLY SEALER 2 COATS MASONRY PAINT","Walls:Wash down, fill in cracks and holes, sand smooth and apply one coat of sealer, two coats of smooth or textured masonry paint to rendered or concrete surfaces of walls.","SM",12.32,3.57]
[null,"436071","PA","WALLS:APPLY 2 COATS MASONRY PAINT","Walls:Prepare and apply two coats smooth or textured masonry paint to external rendered surfaces of walls.","SM",10.84,2.96]
[null,"436072","PA","WALLS:APPLY 2 COATS MASONRY PAINT - BRICK","Walls:Prepare and apply two coats smooth or textured masonry paint to brickwork or concrete surfaces of walls.","SM",11.71,2.96]
[null,"436073","PA","WALLS:WASH APPLY 2 COATS MASONRY PAINT - RENDER","Walls:Wash down, fill in cracks and holes, sand down and apply two coats of smooth or textured masonry paint to rendered or concrete walls.","SM",12.59,2.96]
[null,"436074","PA","WALLS:WASH APPLY 2 COATS MASONRY PAINT - BRICK","Walls:Wash down, fill in cracks and holes, sand down and apply two coats of smooth or textured masonry paint to brickwork surfaces of walls.","SM",13.46,2.96]
[null,"436081","PA","WALLS:APPLY SEALER 2 COATS MASONRY - RENDER","Walls:Prepare and apply one coat of stabilising solution and two coats smooth or textured masonry paint to external rendered surfaces of walls.","SM",12.32,3.57]
[null,"436082","PA","WALLS:APPLY SEALER 2 COATS MASONRY - BRICK","Walls:Prepare and apply one coat of stabilising solution and two coats smooth or textured masonry paint to brickwork or concrete surfaces of walls.","SM",12.59,2.96]
[null,"436083","PA","WALLS:WASH APPLY SEALER 2 COATS MASONRY - RENDER","Walls:Wash down, fill in cracks and holes, sand down and apply one coat of stabilising solution and two coats of smooth or textured masonry paint to rendered or concrete walls.","SM",14.51,3.57]
[null,"436084","PA","WALLS:WASH APPLY SEALER 2 COATS MASONRY - BRICK","Walls:Wash down, fill in cracks and holes, sand down and apply one coat of stabilising solution and two coats of smooth or textured masonry paint to brickwork surfaces of walls.","SM",15.39,3.57]
[null,"436201","PA","GARAGE DOOR:PREPARE PRIME PAINT 2 GLOSS","Garage Door:Rub down prepare, apply coat of primer, one undercoat, two coats of gloss paint on external surfaces of up and over metal garage door (one side and edges).","IT",98.91,28.88]
[null,"436203","PA","DOOR FRAME:PREPARE PAINT 2 GLOSS NE 300MM","Door Frame :Rub down, prepare, apply coat of primer, one undercoat, two coats of gloss paint on external surfaces of metal frames ne 300mm girth.","LM",6.76,1.07]
[null,"436205","PA","DOOR:PREPARE PRIME PAINT 2 GLOSS METAL DOOR","Door:Rub down, prepare for and apply one coat of primer, one undercoat and two coats of gloss paint on any size single metal door (both sides and edges).","IT",62.68,5.35]
[null,"436207","PA","DOOR:PREPARE PRIME PAINT 2 GLOSS METAL GLAZED","Door:Rub down, prepare for and apply one coat of primer, one undercoat and two coats of gloss paint on any size single glazed metal door (both sides and edges).","IT",74.31,4.28]
[null,"436209","PA","WINDOW:PREPARE PRIME PAINT 2 GLOSS METAL","Window:Rub down, prepare for and apply a coat of primer, one undercoat, and two coats of gloss paint on surface of metal window (one side and edges).","SM",24.73,2.41]
[null,"436215","PA","GATES:PREPARE PRIME PAINT GATE AND POSTS","Gates:Wire brush, prepare for, and apply one coat primer, one undercoat, two coats of gloss paint to both sides of any size type single metal gate including all edges and all surfaces of posts.","IT",28.84,6.95]
[null,"436217","PA","BALUSTRADING:PREPARE PRIME PAINT SURFACES","Balustrading:Wire brush, prepare for and apply one coat of primer, one undercoat, two coats of gloss paint on ornamental metal balustrading, railings or gates (measured both sides).","SM",27.18,7.49]
[null,"436219","PA","STAIRCASE:PREPARE PRIME PAINT METAL STAIRS","Staircase:Wire brush, prepare for and apply one coat of primer, one undercoat, two coats of gloss paint on metal staircase, strings, handrail balustrading (measured both sides).","SM",26.6,9.09]
[null,"436221","PA","GUTTER:PREPARE PRIME PAINT EAVES GUTTER","Gutter:Wire brush, prepare and apply coat of primer, one undercoat and two coats of gloss paint to outside of eaves gutter including brackets.","LM",3.43,0.8]
[null,"436223","PA","PIPEWORK:PREPARE PRIME PAINT NE 300MM","Pipework:Wire brush, prepare for and apply coat of primer, one undercoat, and two coats of gloss paint to external pipework ne 300mm girth including brackets.","LM",2.94,0.75]
[null,"436601","PA","GARAGE DOOR:PREPARE PRIME METALSHIELD","Door:Rub down prepare, apply coat of primer, two coats of metalshield paint on external surfaces of up and over metal garage door (one side and edges).","IT",91.36,21.33]
[null,"436603","PA","DOOR FRAME:PREPARE PRIME METALSHIELD NE 300MM","Door:Rub down, prepare, apply coat of primer, two coats of metalshield paint on external surfaces of metal frames ne 300mm girth.","LM",7.29,1.6]
[null,"436605","PA","DOOR:PREPARE PRIME METALSHIELD METAL","Door:Rub down, prepare for and apply one coat of primer, two coats of metalshield paint on any size single metal door (both sides and edges).","IT",65.489999999999995,8.15]
[null,"436607","PA","DOOR:PREPARE PRIME METALSHIELD METAL GLAZED","Door:Rub down, prepare for and apply one coat of primer, two coats of metalshield paint on any size single glazed metal door (both sides and edges).","IT",76.31,6.28]
[null,"436609","PA","WINDOW:PREPARE METALSHIELD METAL","Window:Rub down, prepare for and apply a coat of primer, two coats of metalshield paint on surface of metal window (one side and edges).","SM",26.47,4.1399999999999997]
[null,"436615","PA","GATES:PREPARE PRIME METALSHIELD GATE AND POSTS","Gates:Wire brush, prepare for, and apply one coat primer, two coats of metalshield paint to both sides of any size type single metal gate including all edges and all surfaces of posts.","IT",32.17,10.29]
[null,"436617","PA","RAILINGS-ORNAMENTAL:PRIME METALSHIELD SURFACES","Balustrading:Wire brush, prepare for and apply one coat of primer, two coats of metalshield paint on ornamental metal balustrading, railings or gates (measured both sides).","SM",30.79,11.09]
[null,"436619","PA","STAIRCASE:PREPARE PRIME METALSHIELD METAL STAIRS","Staircase:Wire brush, prepare for and apply one coat of primer, two coats of metalshield paint on metal staircase, strings, handrail balustrading (measured both sides).","SM",31.01,13.5]
[null,"436621","PA","GUTTER:PREPARE PRIME METALSHIELD EAVES GUTTER","Gutter:Wire brush, prepare and apply coat of primer, two coats of metalshield paint to outside of eaves gutter including brackets.","LM",3.96,1.34]
[null,"436623","PA","PIPEWORK:PREPARE PRIME METALSHIELD NE300MM","Pipework:Wire brush, prepare for and apply coat of primer, two coats of metalshield paint to external pipework ne 300mm girth including brackets.","LM",3.12,0.94]
[null,"436625","PA","RAILINGS-HAIRPIN:PRIME METALSHIELD SURFACES","Railings, Fencing and Gates - Hairpin:Wire brush, prepare for and apply one coat of primer, two coats of metalshield paint on hairpin metal balustrading, railings or gates (measured both sides).","SM",20.28,11.09]
[null,"436627","PA","RAILINGS-PLAIN OPEN:PRIME METALSHIELD SURFACES","Railings, Fencing and Gates - Plain Open:Wire brush, prepare for and apply one coat of primer, two coats of metalshield paint on plain open metal balustrading, railings or gates (measured both sides).","SM",18.97,11.09]
[null,"436629","PA","RAILINGS-CLOSE TYPE:PRIME METALSHIELD SURFACES","Railings, Fencing and Gates - Close Type:Wire brush, prepare for and apply one coat of primer, two coats of metalshield paint on close type metal balustrading, railings or gates (measured both sides).","SM",16.559999999999999,11.09]
[null,"436701","PA","GARAGE DOOR:PREPARE 2 COATS METALSHIELD","Door:Rub down, prepare, spot prime and apply two coats of metalshield paint on existing painted external surfaces of up and over metal garage door (one side and edges).","IT",71.680000000000007,23.54]
[null,"436703","PA","DOOR FRAMES:PREPARE 2 COATS METALSHIELD NE 300MM","Door:Rub down, prepare, spot prime and apply two coats of metalshield paint on existing painted external surfaces of metal frames ne 300mm girth.","LM",7.09,2.27]
[null,"436705","PA","DOOR:PREPARE 2 COATS METALSHIELD METAL","Door:Rub down, prepare, spot prime and apply two coats of metalshield paint on existing painted external surfaces of any size single metal door (both sides and edges).","IT",46.83,12.69]
[null,"436707","PA","DOOR:PREPARE 2 COATS METALSHIELD METAL GLAZED","Door:Rub down, prepare, spot prime and apply two coats of metalshield paint on existing painted external surfaces of any size single glazed metal door (both sides and edges).","IT",37.979999999999997,9.75]
[null,"436709","PA","WINDOW:PREPARE 2 COATS METALSHIELD METAL","Window:Rub down, prepare, spot prime and apply two coats of metalshield paint on existing painted external surface of metal window (one side and edges).","IT",23.92,6.41]
[null,"436715","PA","GATES:PREPARE 2 COATS METALSHIELD GATE AND POSTS","Gates:Wire brush, prepare, spot prime and apply two coats of metalshield paint to both sides of existing painted any size/type single metal gate including all edges and all surfaces of posts.","IT",44.48,16.03]
[null,"436717","PA","RAILINGS-ORNAMENTAL:2 COATS METALSHIELD SURFACES","Balustrading:Wire brush, prepare, spot prime and apply two coats of metalshield paint on existing painted surfaces of ornamental metal balustrading, railings or gates (measured both sides).","SM",34.74,17.239999999999998]
[null,"436719","PA","STAIRCASE:PREPARE 2 COATS METALSHIELD METAL STAIRS","Staircase:Wire brush, prepare, spot prime and apply two coats of metalshield paint on existing painted surfaces of metal staircase, strings, handrail balustrading (measured both sides).","SM",37.61,20.98]
[null,"436721","PA","GUTTER:PREPARE 2 COATS METALSHIELD EAVES GUTTER","Gutter:Wire brush, prepare, spot prime and apply two coats of metalshield paint to existing painted surfaces outside of eaves gutter including brackets.","LM",4.72,1.87]
[null,"436723","PA","PIPEWORK:PREPARE 2 COATS METALSHIELD NE300MM","Pipework:Wire brush, prepare, spot prime and apply two coats of metalshield paint to existing painted surfaces of external pipework ne 300mm girth including brackets.","LM",4.18,1.34]
[null,"436725","PA","RAILINGS-HAIRPIN:2 COATS METALSHIELD SURFACES","Railings, Fencing and Gates - Hairpin:Wire brush, prepare for and apply one coat of primer, two coats of metalshield paint on hairpin metal balustrading, railings or gates (measured both sides).","SM",26.43,17.239999999999998]
[null,"436727","PA","RAILINGS-PLAIN OPEN:2 COATS METALSHIELD SURFACES","Railings, Fencing and Gates - Plain Open:Wire brush, prepare for and apply one coat of primer, two coats of metalshield paint on plain open metal balustrading, railings or gates (measured both sides).","SM",25.11,17.239999999999998]
[null,"436729","PA","RAILINGS-CLOSE TYPE:2 COATS METALSHIELD SURFACES","Railings, Fencing and Gates - Close Type:Wire brush, prepare for and apply one coat of primer, two coats of metalshield paint on close type metal balustrading, railings or gates (measured both sides).","SM",22.93,17.239999999999998]
[null,"438001","PA","SURFACES:PRIME PAINT GENERAL SURFACES TIMBER","Surfaces:Rub down, prepare and apply one coat of primer, one undercoat and two coats of gloss paint on general surfaces of woodwork.","SM",24.66,6.27]
[null,"438002","PA","FASCIAS,SOFFITS ETC:PRIME PAINT TIMBER NE 300MM","Fascias, soffits, Bargeboards and the like:Rub down, prepare for, and apply one coat primer, one undercoat, two coats of gloss paint on surfaces of facias, soffits, bargeboards etcne 300mm girth.","LM",6.66,1.84]
[null,"438003","PA","WINDOW:PREPARE PRIME PAINT TIMBER","Window:Rub down, prepare and apply one coat of primer, one undercoat and two coats of gloss paint on surfaces of wooden windows (one side and edges).","SM",35.86,5.22]
[null,"438009","PA","FRAME:PREPARE PRIME PAINT TIMBER NE 300MM","Frame:Rub down, prepare and apply one coat of primer, one undercoat and two coats of gloss paint on timber frame ne 300mm girth.","LM",8.41,1.84]
[null,"438011","PA","DOOR:PREPARE PRIME PAINT TIMBER GLAZED DOOR (OS)","Door:Rub down, prepare for and apply one coat of primer, one undercoat and two coats of gloss paint to all surfaces of any size or type of single glazed timber door (one sides and edges).","IT",28.54,2.2799999999999998]
[null,"438013","PA","DOOR:PREPARE PRIME PAINT TIMBER GLAZED DOOR (BS)","Door:Rub down, prepare for and apply one coat of primer, one undercoat and two coats of gloss paint to all surfaces of any size or type of single glazed timber door (both sides and edges).","IT",57.08,4.5599999999999996]
[null,"438015","PA","DOOR:PREPARE PRIME PAINT TIMBER DOOR (OS)","Door:Rub down, prepare for and apply one coat of primer, one undercoat and two coats of gloss paint to all surfaces of any type or size of single timber door (one sides and edges).","IT",35.299999999999997,2.91]
[null,"438017","PA","DOOR:PREPARE PRIME PAINT TIMBER DOOR (BS)","Door:Rub down, prepare for and apply one coat of primer, one undercoat and two coats of gloss paint to all surfaces of any type or size of single timber door (both sides and edges).","IT",70.48,5.7]
[null,"438019","PA","FENCING:PREPARE PRIME PAINT TIMBER FENCE NE 300MM","Fencing:Rub down, prepare for, and apply one coat primer, one undercoat, two coats of gloss paint on surfaces of fencing and posts ne 300mm girth.","LM",8.75,2.1800000000000002]
[null,"438020","PA","FENCING ISOLATED:PREPARE PRIME PAINT NE 300MM","Fencing:Rub down, prepare for, and apply one coat primer, one undercoat, two coats of gloss paint on isolated surfaces of fencing and posts ne 300mm girth.","LM",8.41,1.84]
[null,"438021","PA","GATES:PREPARE PRIME PAINT TIMBER GATES POSTS","Gates:Rub down, prepare for, and apply one coat primer, one undercoat, two coats of gloss paint on surfaces of gates and posts (measured both sides).","SM",22.37,3.99]
[null,"438053","PA","FENCING OPEN TYPE:PREPARE PRIME PAINT TIMBER","Fencing:Rub down, prepare for, and apply one coat primer, one undercoat, two coats of gloss paint on isolated surfaces of open type fencing and posts [measured overall face one side].","SM",20.72,4.53]
[null,"438055","PA","FENCING CLOSE TYPE:PREPARE PRIME PAINT TIMBER","Fencing:Rub down, prepare for, and apply one coat primer, one undercoat, two coats of gloss paint on isolated surfaces of close type fencing and posts [measured overall face one side].","SM",18.75,4.53]
[null,"438112","PA","FASCIAS,SOFFITS ETC:PAINT 2 GLOSS TIMBER NE 300MM","Fascias, soffits, Bargeboards and the like:Rub down, prepare for, and apply one undercoat, two coats of gloss paint on existing painted surfaces of facias, soffits, bargeboards etc ne 300mm girth.","LM",6.41,1.34]
[null,"438119","PA","FENCING ISOLATED:PREPARE 2 GLOSS NE 300MM","Fencing:Rub down, prepare for, and apply one undercoat, two coats of gloss paint on existing painted surfaces of ranch fencing and posts ne 300mm girth.","LM",6.46,1.34]
[null,"438121","PA","GATES:PREPARE 2 GLOSS TIMBER GATES POSTS","Gates:Rub down, prepare for, and apply one undercoat, two coats of gloss paint on existing painted surfaces of gates and posts (measured both sides).","SM",16.809999999999999,2.8]
[null,"438123","PA","FENCING OPEN TYPE:PREPARE 2 GLOSS TIMBER","Fencing:Rub down, prepare for, and apply one undercoat, two coats of gloss paint on isolated surfaces of open type fencing and posts [measured overall face one side].","SM",15.16,3.34]
[null,"438125","PA","FENCING CLOSE TYPE:PREPARE 2 GLOSS TIMBER","Fencing:Rub down, prepare for, and apply one undercoat, two coats of gloss paint on isolated surfaces of close type fencing and posts [measured overall face one side].","SM",13.62,3.34]
[null,"438162","PA","FASCIAS,SOFFITS ETC:PAINT 1 GLOSS TIMBER NE 300MM","Fascias, soffits, Bargeboards and the like:Rub down, prepare for, and apply one undercoat, one coats of gloss paint on existing painted surfaces of facias, soffits, bargeboards etc ne 300mm girth.","LM",4.87,0.93]
[null,"438169","PA","FENCING ISOLATED:PREPARE 1 GLOSS NE 300MM","Fencing:Rub down, prepare for, and apply one undercoat, one coat of gloss paint on existing painted surfaces of ranch fencing and posts ne 300mm girth.","LM",5.31,0.93]
[null,"438171","PA","GATES:PREPARE 1 GLOSS TIMBER GATES POSTS","Gates:Rub down, prepare for, and apply one undercoat, one coat of gloss paint on existing painted surfaces of gates and posts (measured both sides).","SM",11.19,2]
[null,"438173","PA","FENCING OPEN TYPE:PREPARE 1 GLOSS TIMBER","Fencing:Rub down, prepare for, and apply one undercoat, one coat of gloss paint on isolated surfaces of open type fencing and posts [measured overall face one side].","SM",10.28,2.4]
[null,"438175","PA","FENCING CLOSE TYPE:PREPARE 1 GLOSS TIMBER","Fencing:Rub down, prepare for, and apply one undercoat, one coat of gloss paint on isolated surfaces of close type fencing and posts [measured overall face one side].","SM",9.19,2.4]
[null,"438201","PA","SURFACES:PREPARE PRIME 3 COATS DECORATIVE STAIN","Surfaces:Rub down, prepare for, and apply touch up primer and three coats of decorative wood stain on external general surfaces of woodwork.","SM",15.45,4.51]
[null,"438203","PA","WINDOW:PREPARE PRIME 3 COATS DECORATIVE STAIN","Window:Rub down, prepare for, and apply touch up primer and apply three coats of decorative wood stain on surfaces of timber window (one side and edges).","SM",19.91,2.41]
[null,"438209","PA","FRAME:PREPARE 3 COATS DECORATIVE FRAME NE 300MM","Frame:Rub down, prepare for, and apply touch up primer and three coats of decorative wood stain to external surfaces timber sub-frame, ne 300mm girth.","LM",6.76,1.5]
[null,"438211","PA","DOOR:PREPARE 3 COATS DECORATIVE STAIN (O/S)","Door:Rub down, prepare for, and apply touch up primer and three coats decorative wood stain on external surfaces of any sizetype of single door (one side and edges).","IT",25.02,7.52]
[null,"438213","PA","DOOR:PREPARE 3 COATS DECORATIVE STAIN (B/S)","Door:Rub down, prepare for, and apply touch up primer and three coats decorative wood stain on external surfaces of any size type of single door (both sides and edges)","IT",44.17,13.53]
[null,"438215","PA","DOOR:PREPARE 3 COAT DECORATIVE STAIN GLAZED (O/S)","Door:Rub down, prepare, apply touch up primer and apply three coats of decorative wood stain on any size type single glazed timber door (one side and edges).","IT",18.39,5.26]
[null,"438217","PA","DOOR:PREPARE 3 COAT DECORATIVE STAIN GLAZED (B/S)","Door:Rub down, prepare, apply touch up primer and three coats of decorative wood stain on any size type single glazed timber door (both sides and edges).","IT",32.409999999999997,10.53]
[null,"438219","PA","FENCING:PREPARE 3 COATS DECORATIVE STAIN NE 300MM","Fencing:Rub down, prepare, apply touch up primer and three coats of decorative wood stain on surfaces of ranch fencing and posts ne 300mm girth.","LM",7.63,1.5]
[null,"438221","PA","GATES:PREPARE 3 COATS DECORATIVE STAIN GATES POSTS","Gates:Rub down, prepare and apply three coats of decorative wood stain to both sides of any size type single timber gate including all edges and on general surfaces of posts.","IT",11.89,7.52]
[null,"438401","PA","WALLS:PREPARE 2 COATS BITUMIN DAMP PROOF","Walls:Brush down and prepare for and apply two coats of bituminous emulsion damp-proofing solution general surfaces of walls.","SM",12.09,3.34]
[null,"438601","PA","PIPEWORK:PREPARE 2 COATS ANTI CLIMB TO PIPES","Pipework:Wire brush, prepare for and apply one coat zinc phosphate primer and one coat of non- drying anti-vandal paint to external pipework, ne 300mm girth including brackets.","LM",10.83,2.08]
[null,"438611","PA","WALLS:PREPARE APPLY 2 COATS ANTI CLIMB","Walls:brush down surfaces of brickwork, concrete or timber, apply one coat of primer and one coat of non-drying anti-vandal paint strictly in accordance with the manufacturers instructions.","SM",15.89,4.95]
[null,"439201","PA","SURFACES:APPLY 1 COAT CUPRINOL TRADE","Surfaces:Rub down, prepare for and apply one coat of cuprinol trade cladding and fence opaque finish on external general surfaces of timber cladding etc.","SM",3.62,0.28999999999999998]
[null,"439203","PA","FENCING OPEN TYPE:APPLY 1 COAT CUPRINOL TRADE","Fencing: Rub down, prepare for and apply one coat of cuprinol trade cladding and fence opaque finish on surfaces of timber open type fencing and posts. [measured overall one side]","SM",3.21,0.32]
[null,"439205","PA","FENCING CLOSE TYPE:APPLY 1 COAT CUPRINOL TRADE","Fencing:Rub down, prepare for and apply one coat of cuprinol trade cladding and fence opaque finish on surfaces of timber close type fencing and posts. [measured overall one side]","SM",3.5,0.35]
[null,"439207","PA","GATES:APPLY 1 COAT CUPRINOL TRADE","Gates:Rub down, prepare for and apply one coat of cuprinol trade cladding and fence opaque finish on surfaces of timber gates and posts (measured both sides).","SM",3.78,0.32]
[null,"439211","PA","SURFACES:APPLY 2 COAT CUPRINOL TRADE","Surfaces:Rub down, prepare for and apply two coats of cuprinol trade cladding and fence opaque finish on external general surfaces of timber cladding etc.","SM",5.36,0.55000000000000004]
[null,"439213","PA","FENCING OPEN TYPE:APPLY 2 COAT CUPRINOL TRADE","Fencing: Rub down, prepare for and apply two coats of cuprinol trade cladding and fence opaque finish on surfaces of timber open type fencing and posts. [measured overall one side]","SM",4.7699999999999996,0.61]
[null,"439215","PA","FENCING CLOSE TYPE:APPLY 2 COAT CUPRINOL TRADE","Fencing:Rub down, prepare for and apply two coats of cuprinol trade cladding and fence opaque finish on surfaces of timber close type fencing and posts. [measured overall one side]","SM",5.13,0.67]
[null,"439217","PA","GATES:APPLY 2 COAT CUPRINOL TRADE","Gates:Rub down, prepare for and apply two coats of cuprinol trade cladding and fence opaque finish on surfaces of timber gates and posts (measured both sides).","SM",5.64,0.61]
[null,"441001","PA","WASH:WASH SURFACES TO ANY ROOM","Wash:Wash down ceiling, walls, woodwork and metalwork to any size room.","IT",21.37,0.36]
[null,"441003","PA","WASH:WASH SURFACES OF HALL LANDING STAIR","Wash:Wash down ceiling, walls, woodwork and metalwork to any size hall, landing and staircase area (classified as a single area).","IT",40.479999999999997,1.0900000000000001]
[null,"441501","PA","CEILINGS:STRIP POLYSTYRENE TILES","Ceilings:Strip polystyrene ceiling tiles and make good surfaces of ceiling and walls.","SM",17.940000000000001,0.43]
[null,"442001","PA","WALLS AND CEILINGS:APPLY MIST 2 COATS EMULSION","Walls and Ceilings:Prepare and apply one mist coat and two full coats of emulsion to walls or ceilings in patch repairs to match existing, all joints to adjacent surfaces and finishes.","SM",11.2,1.57]
[null,"442003","PA","WALLS AND CEILINGS:APPLY 2 COATS EGGSHELL GLOSS","Walls and Ceilings:Prepare and apply two coats of eggshell or undercoat and gloss paint to walls or ceilings in patch repairs to match existing, all joints to adjacent surfaces and finishes.","SM",9.18,1.3]
[null,"442009","PA","WALLS AND CEILINGS:HANG LINING,WOODCHIP IN REPAIR","Walls and Ceilings:Prepare, size and hang lining, woodchip or anaglypta paper, to walls or ceilings in patch repairs to match existing, apply two coats of emulsion paint.","SM",16.690000000000001,3.56]
[null,"442011","PA","WALLS:HANG WALLPAPER IN REPAIR","Walls:Prepare, size and hang approved wallpaper, to walls in patch repairs to match existing including all joints to adjacent finishes and surfaces.","SM",11.92,3.17]
[null,"442501","PA","SURFACES:APPLY BACTDET AND HALOPHEN","Surfaces:Prepare, wash down with RLT Bactdet solution, prepare and apply one coat RLT Halophen solution to walls or ceilings in accordance with manufacturers directions, 2 coats of Biocheck matt.","SM",13.88,7.31]
[null,"442503","PA","SURFACES:ADD MGC ADDITIVE","Surfaces:Add sachet of MGC additive to paint or paste or wall tiling grout as specified (per sachet).","NO",6.02,5.58]
[null,"442505","PA","SURFACES:REDECORATE TREATMENT","Surfaces:Prepare, wash down with RLT Bactdet solution, prepare, apply 1 liberal coat of IDP by brush to any badly stained areas and apply RLT Halophen to walls or ceilings as specified","SM",13.06,8.24]
[null,"442507","PA","SURFACES:APPLY 2 COATS BIOCHECK","Surfaces:Prepare and apply two coats of Biocheck matt or silk emulsion to walls or ceilings as specified and directed.","SM",7.59,4.09]
[null,"442509","PA","SURFACES:SEAL WITH HALOBOND","Surfaces:Prepare, rub down and wash down surfaces and apply one coat of halobond diluted 1:4 to walls and ceilings.","SM",4.92,1.86]
[null,"442511","PA","SURFACES:APPLY BACTDET TO EXISTING SURFACES","Surfaces:Prepare, wash down existing surfaces of mould affected paper or plaster with RLT Bactdet solution, to walls or ceilings in accordance with manufacturers directions.","SM",6.37,4.18]
[null,"442513","PA","SURFACES:APPLY BACTDET TO STRIPPED SURFACES","Surfaces:Prepare, wash down stripped surfaces of plaster with RLT Bactdet solution, to walls or ceilings in accordance with manufacturers directions.","SM",4.46,2.27]
[null,"442515","PA","SURFACES:APPLY HALOPHEN","Surfaces:Prepare, and apply one coat RLT Halophen solution to walls or ceilings in accordance with manufacturers directions.","SM",4.76,2.57]
[null,"442517","PA","WALLS:APPLY SEMPATAP","Surfaces:Wash down surfaces of walls prepare, apply one coat of Sempatap primer, prepare and apply Sempatap to wall with Sempatap adhesive, all labours, fill joints with Sempatap sealant.","SM",38.299999999999997,18.61]
[null,"442519","PA","FLOORS:APPLY SEMPAFLOOR","Floors:Wash down all floors, make good surfaces, fix Sempafloor to floor with Sempafloor adhesive, all labours, fill joints with Sempatap sealant, all as the manufacturers directions.","SM",33.92,18.61]
[null,"450001","PA","ROOM:REDECORATE UPTO 20SM CEILING AREA","Room:Rub down, prepare for and apply two coats of emulsion to ceilings and walls, one undercoat and gloss on all painted surfaces of any room ne 20.00sm ceiling area.","IT",162.55000000000001,40]
[null,"450009","PA","HALLSTAIRS:REDECORATE 2 STOREY","HallStairs:Rub down, prepare, apply two coats emulsion to ceilings, walls, one undercoat and gloss on painted surfaces of 2 storey hall, landing and staircase area (single area).","IT",493.9,100]
[null,"450010","PA","HALLSTAIRS:REDECORATE 3 STOREY","HallStairs:Rub down, prepare, apply two coats emulsion to ceilings, walls, one undercoat and gloss on painted surfaces of 3 storey hall, landing and staircase area (single area).","IT",740.85,150]
[null,"450011","PA","HALL:REDECORATE COMPLETE OVER 3SM CEILING AREA","Hall:Rub down, prepare, apply two coats of emulsion to ceilings, walls, one undercoat and gloss on painted surfaces of corridor, lobby, hall over 3.00sm ceiling area (single area).","IT",276.33999999999997,40]
[null,"450017","PA","LOBBY:REDECORATE COMPLETE NE 3SM CEILING AREA","Lobby:Rub down, prepare, apply two coats of emulsion to ceilings, walls, one undercoat and gloss on painted surfaces of lobby or hall ne 3.00sm ceiling area (class as single area).","IT",140.44,48.53]
[null,"450019","PA","ROOM:REDECORATE 20-25SM CEILING AREA","Room:Rub down, prepare for and apply two coats of emulsion to ceilings and walls, one undercoat and gloss on all previously painted surfaces of room over 20.00 and ne 25.00sm ceiling area.","IT",203.18,50]
[null,"450023","PA","ROOM:REDECORATE 25-30SM CEILING AREA","Room:Rub down, prepare for and apply two coats of emulsion to ceilings and walls, one undercoat and gloss on all previously painted surfaces of room over 15.00 and ne 20.00sm ceiling area.","IT",243.82,60]
[null,"450027","PA","ROOM:REDECORATE OVER 30SM CEILING AREA","Room:Rub down, prepare for and apply two coats of emulsion to ceilings and walls, one undercoat and gloss on all previously painted surfaces of room over 30.00sm ceiling area.","IT",284.45999999999998,70]
[null,"450031","PA","CORRIDOR/COMMUNAL AREA:REDECORATE","Room:Rub down, prepare for and apply two coats of emulsion to ceilings and walls, one undercoat and gloss on all previously painted surfaces of communal areas etc [measured per sm of ceiling area.]","SM",17.73,4.5999999999999996]
[null,"450033","PA","WALK IN CUPBOARD:REDECORATE NE 2SM CEILING AREA","Walk In Cupboard:Rub down, prepare for and apply two coats of emulsion to ceilings and walls, one undercoat and gloss on all previously painted surfaces ne 2.00sm ceiling area complete. ","IT",70.069999999999993,4.42]
[null,"450507","PA","ROOM:WASH REDECORATE UPTO 20SM CEILING AREA","Room:Rub down, prepare, apply two coats of emulsion to ceilings and walls, wash down only to all other previously painted surfaces of any room ne 20.00sm ceiling area.","IT",104.78,26]
[null,"450509","PA","HALLSTAIRS:WASH REDECORATE 2 STOREY","HallStairs:Rub down, prepare, apply two coats of emulsion to ceilings, walls, washdown only to all other painted surfaces of 2 storey hall, landing and staircase area (classed as a single area).","IT",287.58999999999997,60]
[null,"450510","PA","HALLSTAIRS:WASH REDECORATE 3 STOREY","HallStairs:Rub down, prepare, apply two coats of emulsion to ceilings, walls, washdown only to all other painted surfaces of 3 storey hall, landing and staircase area (classed as a single area).","IT",431.38,90]
[null,"450511","PA","HALL:WASH REDECORATE OVER 3SM CEILING AREA","Hall:Rub down, prepare, apply two coats of emulsion to ceilings, walls, wash down only to all other painted surfaces of lobby, hall or corridor over 3.00sm ceiling area (single area).","IT",183.18,30]
[null,"450517","PA","LOBBY:WASH REDECORATE NE 3SM CEILING AREA","Lobby:Rub down, prepare, apply two coats of emulsion to ceilings and walls, wash down only to all other painted surfaces of lobby or hall ne 3.00sm ceiling area (classified as a single area).","IT",72.52,20]
[null,"450519","PA","ROOM:WASH REDECORATE 20-25SM CEILING AREA","Room:Rub down, prepare for and apply two coats of emulsion to ceilings and walls, wash down only to all other previously painted surfaces of room over 20.00 and ne 25.00sm ceiling area.","IT",128.47999999999999,30]
[null,"450523","PA","ROOM:WASH REDECORATE 25-30SM CEILING AREA","Room:Rub down, prepare for and apply two coats of emulsion to ceilings and walls, wash down only to all other previously painted surfaces of room over 25.00 and ne 30.00sm ceiling area.","IT",153.16999999999999,35]
[null,"450527","PA","ROOM:WASH REDECORATE OVER 30SM CEILING AREA","Room:Rub down, prepare for and apply two coats of emulsion to ceilings and walls, wash down only to all other previously painted surfaces of room over 30.00sm ceiling area.","IT",177.87,40]
[null,"450529","PA","CORRIDOR/COMMUNAL AREA:WASH REDECORATE","Room:Rub down, prepare for and apply two coats of emulsion to ceilings and walls, wash down only to all other previously painted surfaces of communal areas etc [measured per sm of ceiling area.].","SM",12.35,3.6]
[null,"450531","PA","WALK IN CUPBOARD:WASH REDECORATE NE 2SM CEILING","Walk In Cupboard:Rub down, prepare for and apply two coats of emulsion to ceilings and walls, wash down only to all other previously painted surfaces ne 2.00sm ceiling area complete.","IT",36.36,3.53]
[null,"450607","PA","ROOM:REDECORATE CEILING UPTO 20SM CEILING AREA","Room:Rub down, prepare for and apply two coats of emulsion to ceilings only of room ne 20.00sm ceiling area.","IT",55.77,12]
[null,"450609","PA","HALLSTAIRS:REDECORATE CEILINGS 2 STOREY","HallStairs:Rub down, prepare for and apply two coats of emulsion to ceilings of hall, landing and staircase area complete (2 storey) (classified as a single area).","IT",125.66,25]
[null,"450610","PA","HALLSTAIRS:REDECORATE CEILINGS 3 STOREY","HallStairs:Rub down, prepare for and apply two coats of emulsion to ceilings of hall, landing and staircase area complete (3 storey) (classified as a single area).","IT",181.43,37]
[null,"450611","PA","HALL:REDECORATE CEILINGS OVER 3SM AREA","Hall:Rub down, prepare for and apply two coats of emulsion to ceilings of lobby, hall or corridor over 3.00sm area complete (classified as a single area).","IT",55.77,12]
[null,"450612","PA","LOBBY:REDECORATE CEILINGS NE 3SM AREA","Lobby:Rub down, prepare for and apply two coats of emulsion to ceilings of lobby or hall ne 3.00sm area complete (classified as a single area).","IT",23.09,3.4]
[null,"450615","PA","ROOM:REDECORATE CEILING 20-25SM AREA","Room:Rub down, prepare for and apply two coats of emulsion to ceilings only of room over 20.00 and ne 25.00sm ceiling area.","IT",69.709999999999994,15]
[null,"450617","PA","ROOM:REDECORATE CEILING 25-30SM AREA","Room:Rub down, prepare for and apply two coats of emulsion to ceilings only of room over 25.00 and ne 30.00sm ceiling area.","IT",85.65,20]
[null,"450619","PA","ROOM:REDECORATE CEILING OVER 30SM AREA","Room:Rub down, prepare for and apply two coats of emulsion to ceilings only of room over 30.00sm ceiling area.","IT",100.59,24]
[null,"450621","PA","CORRIDOR/COMMUNAL ROOMS:REDECORATE CEILING","Corridor/Communal room:Rub down, prepare for and apply two coats of emulsion to ceilings only of corridor or open communal areas. [measured per square metre of ceiling area.]","SM",4.16,1.1000000000000001]
[null,"451007","PA","ROOM:STRIP PAPER UPTO 20SM CEILING AREA","Room:Extra for stripping any number of layers of any type of wallpaper or wallcovering from walls ceilings, any extra preparation to receive new decoration for room ne 20.00sm ceiling area.","IT",209.02,5.07]
[null,"451009","PA","HALLSTAIRS:STRIP PAPER 2 STOREY","HallStairs:Extra for stripping any number of layers of any type of wallpaper or wallcovering from walls and ceilings to any 2 storey hall, landing, stair, extra preparation (single area).","IT",247.54,5.07]
[null,"451010","PA","HALLSTAIRS:STRIP PAPER 3 STOREY","HallStairs:Extra for stripping any number of layers of any type of wallpaper or wallcovering from walls and ceilings to any 3 storey hall, landing, stair, extra preparation (single area).","IT",358.69,7.25]
[null,"451011","PA","HALL:STRIP PAPER OVER 3SM CEILING AREA","Hall:Extra for stripping any number of layers of any type of wallpaper or coverings from walls and ceilings to lobby, hall, or corridor over 3.00sm ceiling area, extra preparation (single area).","IT",171.04,2.54]
[null,"451012","PA","LOBBY:STRIP PAPER NE 3SM CEILING AREA","Lobby:Extra for stripping any number of layers of any type of wallpaper or coverings from walls and ceilings to any lobby or hall ne 3.00sm ceiling area, extra preparation (single area).","IT",53.24,0.72]
[null,"451015","PA","ROOM:STRIP PAPER OVER 20SM CEILING AREA","Room:Extra for stripping any number of layers of wallpaper etc from walls/ceilings, extra preparation for decoration to room over 20.0 clg area. [msd per sm of clg area in excess of 20.0sm.]","SM",11.6,0]
[null,"451017","PA","CORRIDOR/COMMUNAL ROOMS:STRIP PAPER","Corridor:Extra for stripping any number of layers of any type of wallpaper etc., from walls/ceilings of communal areas, any extra preparation to receive new decoration. [msd per sm of ceiling area]","SM",10.72,0]
[null,"451107","PA","ROOM:STRIP PAINTED PAPER UPTO 20SM CEILING AREA","Room:Extra for stripping any number of layers of any type of painted wallpaper or wallcovering from walls, ceilings, extra preparation for decoration for room ne 20.00sm ceiling area.","IT",501.82,5.07]
[null,"451109","PA","HALLSTAIRS:STRIP PAINTED PAPER 2 STOREY","HallStairs:Extra for stripping any number of layers of painted wallpaper or wallcovering from walls, ceilings to any 2 storey hall, landing and stair, extra preparation (single area)","IT",596.36,5.07]
[null,"451110","PA","HALLSTAIRS:STRIP PAINTED PAPER 3 STOREY","HallStairs:Extra for stripping any number of layers of painted wallpaper or wallcovering from walls, ceilings to any 3 storey hall, landing and stair, extra preparation (single area)","IT",864.63,7.25]
[null,"451111","PA","HALL:STRIP PAINTED PAPER OVER 3SM CEILING AREA","Hall:Extra for stripping any number of layers of painted wallpaper or coverings from walls and ceilings to lobby, hall, or corridor over 3.00sm ceiling area extra preparation (single area)","IT",416.13,2.54]
[null,"451112","PA","LOBBY:STRIP PAINTED PAPER NE 3SM CEILING AREA","Lobby:Extra for stripping any number of layers of painted wallpaper or coverings from walls and ceilings to lobby or hall ne 3.00sm total ceiling area extra preparation (single area).","IT",204.6,1.0900000000000001]
[null,"451115","PA","ROOM:STRIP PAINTED PAPER OVER 20SM AREA","Room:Extra for stripping any number of layers of painted wallpaper etc from walls/ceilings, extra preparation for decoration to room over 20.0 clg area. [msd per sm of clg area in excess of 20.0sm.]","SM",28.23,0]
[null,"451117","PA","CORRIDOR/COMMUNAL ROOMS:STRIP PAINTED PAPER","Corridor:Extra for stripping any number of layers of any type of painted wallpaper etc from walls/ceilings of communal areas, any extra preparation for new decoration. [msd per sm of ceiling area]","SM",25.82,0]
[null,"452007","PA","ROOM:PAPER CEILING UPTO 20SM CEILING AREA","Room:Extra for prepare, size and hang lining, woodchip or anaglypta paper to ceilings ne 20.00sm ceiling area.","IT",141.52000000000001,8.0299999999999994]
[null,"452008","PA","HALL:PAPER CEILINGS OVER 3SM CEILING AREA","Hall:Extra for prepare, size and hang lining, woodchip or anaglypta paper to ceilings to any lobby, hall or corridor over 3.00sm ceiling area (classified as a single area).","IT",82.22,3.44]
[null,"452009","PA","HALLSTAIRS:PAPER CEILING 2 STOREY","HallStairs:Extra for prepare, size and hang lining, woodchip or anaglypta paper to ceilings to any hall, landing and staircase area (2 storey) (classified as a single area).","IT",169.72,7.34]
[null,"452010","PA","HALLSTAIRS:PAPER CEILING 3 STOREY","HallStairs:Extra for prepare, size and hang lining, woodchip or anaglypta paper to ceilings to any hall, landing and staircase area (3 storey) (classified as a single area).","IT",258.3,11.02]
[null,"452017","PA","ROOM:ARTEX CEILING UPTO 20SM CEILING AREA","Room:Extra for prepare and apply Artex or similar to ceilings ne 20.00sm ceiling area.","IT",85.21,11.69]
[null,"452018","PA","HALL:ARTEX CEILINGS OVER 3SM CEILING AREA","Hall:Extra for prepare and apply Artex or similar to ceilings of any lobby, hall or corridor over 3.00sm ceiling area (classified as a single area).","IT",74.040000000000006,4.01]
[null,"452019","PA","HALLSTAIRS:ARTEX CEILINGS 2 STOREY","Hallstairs:Extra for prepare and apply Artex or similar to ceilings of any hall, landing and staircase area (classified as a single area) (2 Storey).","IT",75.45,10.68]
[null,"452020","PA","HALLSTAIRS:ARTEX CEILINGS 3 STOREY","HallStairs:Extra for prepare and apply Artex or similar to ceilings of any hall, landing and staircase area (3 storey) (classified as a single area).","IT",112.74,16.02]
[null,"452027","PA","ROOM:EGGSHELL GLOSS CEILING UPTO 20SM CEILING AREA","Room:Extra for prepare and apply two coats of eggshell or undercoat and gloss to ceilings, ne 20.00sm ceiling area.","IT",46.96,23.76]
[null,"452029","PA","HALLSTAIRS:EGGSHELL OR GLOSS CEILING 2 STOREY","HallStairs:Extra for prepare and apply two coats of eggshell or undercoat and gloss to ceilings of any hall, landing and staircase area (2 storey) (classified as a single area).","IT",45.68,25.55]
[null,"452030","PA","HALLSTAIRS:EGGSHELL OR GLOSS CEILING 3 STOREY","HallStairs:Extra for prepare and apply two coats of eggshell or undercoat and gloss to ceilings of any hall, landing and staircase area (3 storey) (classified as a single area).","IT",69.260000000000005,39.06]
[null,"452031","PA","HALL:EGGSHELL GLOSS CEILING OVER 3SM CEILING AREA","Hall:Extra for prepare and apply two coats of eggshell or undercoat and gloss to ceilings of any lobby, hall or corridor over 3.00sm ceiling area (classified as a single area).","IT",57.83,9.68]
[null,"452033","PA","LOBBY:PAPER CEILINGS NE 3SM CEILING AREA","Lobby:Extra for prepare, size and hang lining, woodchip or anaglypta paper to ceilings to any lobby or hall ne 3.00sm ceiling area (classified as a single area).","IT",27.36,1.1000000000000001]
[null,"452037","PA","LOBBY:EGGSHELL GLOSS CEILING NE 3SM CEILING AREA","Lobby:Extra for prepare and apply two coats of eggshell or undercoat and gloss to ceilings of any lobby or hall ne 3.00sm ceiling area (classified as a single area).","IT",18.41,3.09]
[null,"452041","PA","ROOM:PAPER CEILING OVER 20SM CEILING AREA","Room:Extra for prepare, size and hang lining, woodchip or anaglypta paper to ceilings over 20.00sm ceiling area. [measured per square metre of ceiling area in excess of 20.00sm.]","SM",7.66,0]
[null,"452043","PA","CORRIDOR/COMMUNAL ROOMS:PAPER CEILING","Corridor:Extra for prepare, size and hang lining, woodchip or anaglypta paper to ceilings of corridor or open communal areas [measured per square metre of ceiling area]","SM",7,0]
[null,"452045","PA","ROOM:ARTEX CEILING OVER 20SM CEILING AREA","Room:Extra for prepare and apply Artex or similar to ceilings over 20.00sm ceiling area. [measured per square metre of ceiling area in excess of 20.00sm.]","SM",4.38,0]
[null,"452047","PA","CORRIDOR/COMMUNAL ROOMS:ARTEX CEILING","Corridor:Extra for prepare and apply Artex or similar to ceilings to ceilings of corridor or open communal areas [measured per square metre of ceiling area]","SM",4.16,0]
[null,"452049","PA","ROOM:EGGSHELL GLOSS CEILING OVER 20SM CEILING AREA","Room:Extra for prepare and apply two coats of eggshell or undercoat and gloss to ceilings, over 20.00sm ceiling area. [measured per square metre of ceiling area in excess of 20.00sm.]","SM",3.06,0]
[null,"452051","PA","CORRIDOR/COMMUNAL ROOMS:EGGSHELL GLOSS CEILING","Corridor:Extra for prepare and apply two coats of eggshell or undercoat and gloss to ceilings to ceilings of corridor or open communal areas [measured per square metre of ceiling area]","SM",2.93,0]
[null,"453007","PA","ROOM:LINING PAPER WALLS UPTO 20SM CEILING AREA","Room:Extra for prepare, size and hang lining, woodchip or anaglypta paper to walls of room ne 20.00sm ceiling area.","IT",120.55,22.95]
[null,"453008","PA","HALLSTAIRS:LINING PAPER WALLS 3 STOREY","HallStairs:Extra for prepare, size and hang lining, woodchip or anaglypta paper to walls of any size hall, landing and staircase area (3 storey) (classified as a single area).","IT",347.4,82.61]
[null,"453009","PA","HALLSTAIRS:LINING PAPER WALLS 2 STOREY","HallStairs:Extra for prepare, size and hang lining, woodchip or anaglypta paper to walls of any size hall, landing and staircase area. (2 storey) (Classified as a single area).","IT",231.46,55.08]
[null,"453010","PA","HALL:LINING PAPER WALLS OVER 3SM CEILING AREA","Hall:Extra for prepare, size and hang lining, woodchip or anaglypta paper to walls of any lobby, hall or corridor over 3.00sm ceiling area (classified as a single area).","IT",143.96,27.54]
[null,"453017","PA","ROOM:WALLPAPER WALLS UPTO 20SM CEILING AREA","Room:Extra for prepare, size and hang wallpaper in lieu of two coats of emulsion to walls of room ne 20.00sm ceiling area.","IT",132.80000000000001,35.200000000000003]
[null,"453018","PA","HALLSTAIRS:WALLPAPER WALLS 3 STOREY","HallStairs:Extra for prepare, size and hang wallpaper in lieu of two coats of emulsion to walls of any size hall, landing and staircase area (3 storey) (classified as a single area).","IT",355.85,91.06]
[null,"453019","PA","HALLSTAIRS:WALLPAPER WALLS 2 STOREY","HallStairs:Extra for prepare, size and hang wallpaper in lieu of two coats of emulsion to walls of any size hall, landing and staircase area (2 storey) (classified as a single area).","IT",237.1,60.72]
[null,"453020","PA","HALL:WALLPAPER WALLS OVER 3SM CEILING AREA","Hall:Extra for prepare, size and hang wallpaper in lieu of two coats of emulsion to walls of any lobby, hall or corridor over 3.00sm ceiling area (classified as a single area).","IT",146.78,30.36]
[null,"453027","PA","ROOM:EGGSHELL GLOSS WALLS UPTO 20SM CEILING AREA","Room:Extra for prepare and apply two coats eggshell or undercoat and gloss to walls of room ne 20.00sm ceiling area.","IT",76.319999999999993,32.549999999999997]
[null,"453029","PA","HALLSTAIRS:EGGSHELL OR GLOSS WALLS 2 STOREY","HallStairs:Extra for prepare and apply two coats eggshell or undercoat and gloss to walls of any size hall, landing and staircase area (2 storey) (classified as a single area).","IT",149.65,76.12]
[null,"453030","PA","HALLSTAIRS:EGGSHELL OR GLOSS WALLS 3 STOREY","HallStairs:Extra for prepare and apply two coats of eggshell or undercoat and gloss to walls of any hall, landing and staircase area (3 storey) (classified as a single area).","IT",227.47,117.18]
[null,"453031","PA","HALL:EGGSHELL OR GLOSS WALLS OVER 3SM CEILING AREA","Hall:Extra for prepare and apply two coats eggshell or undercoat and gloss to walls of any lobby, hall or corridor over 3.00sm ceiling area (classified as a single area).","IT",85.2,36.619999999999997]
[null,"453032","PA","LOBBY:LINING PAPER WALLS NE 3SM CEILING AREA","Lobby:Extra for prepare, size and hang lining, woodchip or anaglypta paper to walls of any lobby or hall ne 3.00sm ceiling area (classified as a single area).","IT",52.03,8.26]
[null,"453033","PA","LOBBY:WALLPAPER WALLS NE 3SM CEILING AREA","Lobby:Extra for prepare, size and hang wallpaper in lieu of two coats of emulsion to walls of any lobby or hall ne 3.00sm ceiling area (classified as a single area).","IT",61.98,18.22]
[null,"453034","PA","LOBBY:EGGSHELL OR GLOSS WALLS NE 3SM CEILING AREA","Lobby:Extra for prepare and apply two coats eggshell or undercoat and gloss to walls of any lobby or hall ne 3.00sm ceiling area (classified as a single area).","IT",80.33,23.44]
[null,"453037","PA","ROOM:LINING PAPER WALLS OVER 20SM CEILING AREA","Room:Extra for prepare, size and hang lining, woodchip or anaglypta paper to walls of room over 20.00sm ceiling area. [measured per square metre of ceiling area in excess of 20.00sm.]","SM",7.63,1.5]
[null,"453039","PA","CORRIDOR/COMMUNAL ROOMS:LINING PAPER WALLS","Corridor:Extra for prepare, size and hang lining, woodchip or anaglypta paper to walls of corridor or open communal areas [measured per square metre of ceiling area]","SM",12,1.5]
[null,"453041","PA","ROOM:WALLPAPER WALLS OVER 20SM CEILING AREA","Room:Extra for prepare, size and hang wallpaper in lieu of two coats of emulsion to walls of room over 20.00sm ceiling area. [measured per square metre of ceiling area in excess of 20.00sm.]","SM",10.130000000000001,4]
[null,"453043","PA","CORRIDOR/COMMUNAL ROOMS:WALLPAPER WALLS","Corridor:Extra for prepare, size and hang wallpaper in lieu of two coats of emulsion to walls of corridor or open communal areas [measured per square metre of ceiling area]","SM",14.5,4]
[null,"453045","PA","ROOM:EGGSHELL GLOSS WALLS OVER 20SM CEILING AREA","Room:Extra for prepare and apply two coats eggshell or undercoat and gloss to walls of room over 20.00sm ceiling area. [measured per square metre of ceiling area in excess of 20.00sm.]","SM",10.38,1.63]
[null,"453047","PA","CORRIDOR/COMMUNAL ROOMS:EGGSHELL WALLS","Corridor:Extra for prepare and apply two coats eggshell or undercoat and gloss to walls of corridor or open communal areas [measured per square metre of ceiling area]","SM",9.9499999999999993,1.63]
[null,"460003","CC","DWELLING:CLEAR OUT COMPLETE","Dwelling:Clear out, remove all rubbish, furniture, carpets and all non-approved fittings to tip and make ready for incoming tenants (if skip required see 460033 or 460035).","IT",65.22,12.7]
[null,"460004","CC","ROOFSPACE:CLEAR OUT COMPLETE","Roofspace:Clear out, remove all rubbish, debris, previous tenants stored items and all non-approved fittings to tip and make ready for incoming tenants (if skip ordered 460033 or 460035).","IT",69.52,10.43]
[null,"460006","CC","BASEMENT:CLEAR OUT COMPLETE","Basement:Clear out, remove all rubbish, debris, previous tenants stored items and all non-approved fittings to tip and make ready for incoming tenants (if skip required see 460033 or 460035).","IT",62.95,10.43]
[null,"460009","CC","DWELLING:CLEAR EXCEPTIONALLY DIRTY","Dwelling:Clear out exceptionally dirty dwelling, remove all contents to tip, initial wash and scrub with disinfectant all surfaces, dry with de-humidifier (if skip required see 460033 or 460035).","IT",203.57,63.51]
[null,"460010","CC","DWELLING:CLEAR ENVIRONMENTALLY DIRTY","Dwelling:Clear out environmentally dirty dwelling, remove contents to approved tip, dispose of anti-social, medical, human debris, initial wash/scrub disinfectant all surfaces (see 460033 or 460035).","IT",443.11,92.98]
[null,"460012","CC","DWELLING:CLEAN TO LETTABLE STANDARD","Dwelling:Clean, wash down, scrub, clean all kitchen units, sanitary fittings and other landlords fittings, clean windows internally, disinfect toilets, spray airfreshener all to lettable standard.","IT",77.650000000000006,12]
[null,"460025","CC","GARDEN:CLEAR DEBRIS","Garden:Clear away all litter and rubbish including scrap metal, timber, broken glass, garden debris, fallen leaves, dumped materials and stones, load up and remove from site to an approved tip.","IT",37.450000000000003,6.81]
[null,"460026","CC","GARDEN:CLEAR EXCEPTIONAL DEBRIS","Garden:Clear up exceptionally littered overgrown garden, litter, rubbish, scrap metal, timber, broken glass, garden debris, fallen leaves, fly tipping, building debris, remove an approved tip.","IT",112.34,20.43]
[null,"460027","CC","GARDEN:CUT GRASS NE 100MM HIGH","Garden:Litter pick including removal of minor objects and cut grass (ne 100mm high) with rotary or cylinder mower including bag up cut grass and remove.","SM",1.75,0]
[null,"460028","CC","GARDEN:CUT GRASS OVER 100MM HIGH","Garden:Litter pick including removal of minor objects and cut grass (over 100mm high) with rotary or cylinder mower including bag up cut grass and remove.","SM",2.19,0]
[null,"460029","CC","GARAGE:CLEAR DEBRIS","Garage:Clear out, and remove all contents to an approved tip and make ready for new tenant.","IT",50.74,11.35]
[null,"460031","CC","SHED:CLEAR DEBRIS","Shed:Clear out, and remove all contents to an approved tip and make ready for new tenant.","IT",35.18,4.54]
[null,"460033","CC","DWELLING:PROVIDE MINI SKIP FOR RUBBISH","Dwelling:Provide mini skip or equivalent for removal of excessive domestic rubbish etc., to tip, including costs of landfill tax (only to be charged when ordered by CA).","NO",120.75,120.75]
[null,"460035","CC","DWELLING OR GARDEN:PROVIDE SKIP FOR RUBBISH","Dwelling or Garden:Provide skip or equivalent for removal of excessive domestic rubbish, furniture, carpets etc, to tip including costs of landfill tax (only to be charged when ordered by CR).","NO",181.13,181.13]
[null,"460037","CC","DWELLING:MOVE CONTENTS TO STORE","Dwelling:Remove furniture, carpets, other contents as designated by CR to secure storage provided by Contractor, store for up to 42 days later hand over to former Tenant or their representatives.","IT",78.78,0]
[null,"460039","CC","DWELLING:MOVE DISPOSE CONTENTS TO STORE","Dwelling Remove furniture, carpets, other contents as designated by CR to secure storage provided by Contractor, store for up to 42 days and later when instructed, dispose to tip.","IT",135.53,56.75]
[null,"460041","CC","GARDEN:LABOUR AND SKIP FOR RUBBISH","Garden:Provide labour, skip or equivalent for removal of environmentally unsound material, fly tipping, scrap metal, tenants debris etc, from garden areas to tip, landfill tax (per skip).","NO",338.69,181.13]
[null,"460101","CC","GARDEN OR COMMUNAL AREA:LABOUR SKIP RUBBISH","Garden or Communal Area:Provide labour, skip or equivalent to remove from communal areas, fly tipping, environmentally unsound material, etc., to tip, landfill tax, wash, disinfect (per skip).","NO",345.93,188.37]
[null,"460103","CC","GARDEN OR COMMUNAL AREA:LABOUR MINI-SKIP RUBBISH","Garden or Communal Area:Provide labour, mini-skip or equivalent to remove from communal areas, fly tipping, environmentally unsound material, etc., to tip, landfill tax, wash, disinfect (per skip).","NO",203.88,125.1]
[null,"460201","CC","DOMESTIC WASTE CLEARANCE:FRIDGES, FREEZERS","Domestic Waste: Environmental disposal of previous tenants domestic fridges, fridge/freezers, freezers to approved disposal site, landfill tax, (per appliance). [C.R. to instruct]","NO",35,0]
[null,"460203","CC","DOMESTIC WASTE CLEARANCE:CALOR GAS BOTTLES","Domestic Waste: Environmental disposal of previous tenants calor gas bottles to approved disposal site, landfill tax, (per bottle). [MOV applicable ifs sole item on Order] [C.R. to instruct]","NO",10,0]
[null,"460205","CC","DOMESTIC WASTE:TV'S AND COMPUTER MONITORS","Domestic Waste: Environmental disposal of previous tenants TV or computer screens to approved disposal site, landfill tax, (per item). [MOV applicable ifs sole item on Order] [C.R. to instruct]","NO",7,0]
[null,"460207","CC","DOMESTIC WASTE:COMPUTER DESK TOP UNITS","Domestic Waste: Environmental disposal of previous tenants computer desk cpu's to approved disposal site, landfill tax, (per item). [MOV applicable ifs sole item on Order] [C.R. to instruct]","NO",9,0]
[null,"460209","CC","DOMESTIC WASTE CLEARANCE:CAR TYRES","Domestic Waste: Environmental disposal of previous tenants car/van tyres including rims to approved disposal site, landfill tax, (per tyre). [MOV applicable ifs sole item on Order] [C.R. to instruct]","NO",4.5,0]
[null,"460211","CC","DOMESTIC WASTE:CAR OR VAN BATTERIES","Domestic Waste: Environmental waste disposal of previous tenants car or van batteries to approved disposal site, landfill tax, (per battery). [MOV applicable ifs sole item on Order] [C.R. to instruct]","NO",6,0]
[null,"460213","CC","DOMESTIC WASTE CLEARANCE:COOKERS","Domestic Waste:Environmental disposal of previous tenants domestic cookers, etc., to approved disposal site, landfill tax, (per appliance).[MOV applicable ifs sole item on Order] [C.R. to instruct]","NO",12,0]
[null,"460215","CC","DOMESTIC WASTE CLEARANCE:FLUORESCENT TUBES","Domestic Waste:Environmental disposal of previous tenants fluorescent tubes to approved disposal site, landfill tax, (per tube) [MOV applicable ifs sole item on Order] [C.R. to instruct]","NO",1,0]
[null,"460217","CC","DOMESTIC WASTE CLEARANCE:PAINT CANS","Domestic Waste:Environmental waste disposal of previous tenants paint cans to approved disposal site, landfill tax, (per can). [MOV applicable ifs sole item on Order] [C.R. to instruct]","NO",0.5,0]
[null,"460301","CC","COMMUNAL WASTE CLEARANCE:FRIDGES, FREEZERS","Communal Waste: Environmental disposal of fly tipped domestic fridges, fridge/freezers, upright and chest freezers to approved disposal site, landfill tax, (per appliance). [C.R. to instruct]","NO",65.81,0]
[null,"460303","CC","COMMUNAL WASTE CLEARANCE:CALOR GAS BOTTLES","Communal Waste: Environmental disposal of fly tipped calor gas bottles to approved disposal site, landfill tax, (per bottle). [MOV applicable if sole item on Order] [C.R. to instruct]","NO",24.11,0]
[null,"460305","CC","COMMUNAL WASTE:TV'S AND COMPUTER MONITORS","Communal Waste: Environmental disposal of fly tipped television or computer screens to approved disposal site, landfill tax, (per item). [MOV applicable if sole item on Order] [C.R. to instruct]","NO",17.41,0]
[null,"460307","CC","COMMUNAL WASTE:COMPUTER DESK TOP UNITS","Communal Waste: Environmental waste disposal of fly tipped computer cpu's to approved disposal site, andfill tax, (per item). [MOV applicable if sole item on Order] [C.R. to instruct]","NO",14.6,0]
[null,"460309","CC","COMMUNAL WASTE CLEARANCE:CAR TYRES","Communal Waste: Environmental disposal of fly tipped car or van tyres including rims to approved disposal site, landfill tax, (per tyre). [MOV applicable if sole item on Order] [C.R. to instruct]","NO",13.1,0]
[null,"460311","CC","COMMUNAL WASTE:CAR OR VAN BATTERIES","Waste Clearance: Environmental waste disposal of fly tipped car or van batteries to approved disposal site, landfill tax, (per battery). [MOV applicable if sole item on Order] [C.R. to instruct]","NO",15.41,0]
[null,"460313","CC","COMMUNAL WASTE CLEARANCE:COOKERS","Communal Waste:Environmental disposal of fly tipped domestic cookers, hobs etc., to approved disposal site, landfill tax, (per appliance). [MOV applicable if sole item on Order] [C.R. to instruct]","NO",27.81,0]
[null,"460315","CC","COMMUNAL WASTE CLEARANCE:FLUORESCENT TUBES","Communal Waste:Environmental disposal of fly tipped fluorescent tubes to approved disposal site including cost of landfill tax, (per tube). [MOV applicable if sole item on Order] [C.R. to instruct]","NO",3.26,0]
[null,"460317","CC","COMMUNAL WASTE CLEARANCE:PAINT CANS","Communal Waste:Environmental disposal of fly tipped paint cans to approved disposal site, landfill tax, (per can). [MOV applicable if sole item on Order] [C.R. to instruct]","NO",3.76,0]
[null,"460401","CC","TURF:RENEW","Turf:Lift existing mown turf, make good existing area with top soil, remove spoil, lay new Standard quality turves, with broken joints tight to its neighbour, roll and brush-in sandy compost","SM",7.31,2.93]
[null,"460403","CC","TURF:CLEAR BONFIRE LAY NEW TURF","Turf:Clear bonfire and adjacent areas of all debris, metal, timber, broken glass, rubbish, unburnt material, sweep up ashes, remove spoil, dig out area of grass affected, lay new turves.","SM",14.5,3.56]
[null,"460451","CC","SHRUB:PRUNE","Shrub:Prune any variety of shrub, by hand or using power hedge trimmer including raking up cuttings and removal of debris to tip including landfill tax.","NO",4.9800000000000004,0]
[null,"460453","CC","SHRUB:DIG OUT OVERGROWN","Shrub:Dig out any size of overgrown shrub including roots, including levelling ground and remove all old shrub material to tip including landfill tax.","NO",16.309999999999999,0]
[null,"460461","CC","HEDGES:CUT OVERGROWN","Hedges:Cut back and neatly trim top and sides of overgrown hedge and remove all clippings from site to tip including landfill tax.","LM",9.6,0]
[null,"460471","CC","TREE:PRUNE","Trees:Prune base and side growth for a height not exceeding 2.40m high of tree including basal growth and suckers, paint pruning cuts with approved compound, and remove spoil.","IT",22.11,0]
[null,"460473","CC","TREE:CUT DOWN GIRTH UPTO 450MM","Trees:Cut down existing trees of girth up to 450mm, dig out or stump grind out the stump and roots and remove spoil: fill the resultant hole with approved material.","IT",236.48,0]
[null,"460475","CC","TREE:DIG OUT SEEDLING UPTO 150 MM GIRTH","Trees:Dig out seedling trees up to 150mm girth including roots, including levelling ground and remove all debris off site to tip including landfill tax.","IT",39.409999999999997,0]
[null,"460481","CC","FENCE LINE:STRIM TO CLEAR","Fence Line:Strim to clear fence line of undergrowth etc, and remove all debris off site to tip including landfill tax.","LM",3.5,0]
[null,"460507","CC","CARPET:CLEAN TO ROOM UPTO 20SM CEILING AREA","Carpet:Thoroughly clean, scrub as necessary vacuum carpet including dry by dehumidifier to room ne 20.00sm ceiling area.","IT",58.87,6.35]
[null,"460509","CC","CARPET:CLEAN TO HALL STAIRS","Carpet:Thoroughly clean, scrub as necessary vacuum carpet including dry by dehumidifier to hall, landing and staircase area complete.","IT",58.32,5.8]
[null,"460511","CC","CARPET:CLEAN TO HALL","Carpet:Thoroughly clean, scrub as necessary vacuum carpet including dry by dehumidifier to hall area complete.","IT",35.72,2.9]
[null,"461001","SP","DWELLING:DISINFESTATION WORKS","Dwelling:Seal and secure void dwelling and carry out disinfestation works.","IT",104.23,12.32]
[null,"461201","SP","WASPS NEST:REMOVE INTERNAL OR EASY EXTERNAL","Wasps Nest:Remove wasps nest of any size from any internal location or easily accessible external location including engagement of Specialist if necessary.","NO",65,0]
[null,"461203","SP","WASPS NEST:REMOVE EXTERNAL","Wasps Nest:Remove wasps nest of any size from external location or where access possible externally, including engagement of Specialist if necessary.","NO",80,0]
[null,"461205","SP","RODENTS:MICE ERADICATION","Rodents:Eradicate mice internally from any type of dwelling, by Specialist, initally attend property, lay trap bait, reattend, inspect, relocate trap/bait and replenish bait, return and clear.","IT",60,0]
[null,"461209","SP","RODENTS:RATS ERADICATION","Rodents:Eradicate rats internally or within the garden confines of any dwelling, by Specialist, initially attend property, lay trapbait, re attend, inspect, relocate trap/bait, replenish bait, clear.","IT",70,0]
[null,"461213","SP","LICEANTS:ERADICATE","LiceAnts:Eradicate wood lice, ants or similar infestation from any dwelling by Specialist, initially attend property, provide insecticide, reattend, inspect, repeat treatment, clear","IT",20,0]
[null,"461217","SP","RODENTS:SQUIRREL ERADICATION","Rodents:Eradicate squirrels internally or within the garden confines of any dwelling by Specialist, initially attend property, lay trapbait, reattend, inspect, relocate trapbait, replenish bait, clear","IT",60,0]
[null,"461219","SP","NEST:REMOVE ANT NEST","Nest:Locate, kill by approved chemical means and remove Ant nest from interior of building","NO",51,0]
[null,"461221","SP","NEST:REMOVE HORNETS NEST","Nest:Locate, kill by approved chemical means and remove Hornets nest from interior of building","NO",61.75,0]
[null,"461223","SP","NEST:REMOVE BEES NEST","Nest:Locate, kill by approved chemical means and remove Bees nest from interior of building","NO",61.75,0]
[null,"461225","SP","COCKROACH:DISINFEST ROACH INFESTATION","Cockroach:Disinfest roach infestation by approved chemical means,","NO",50,0]
[null,"461227","SP","BEETLE:DISINFEST BEETLE INFESTATION","Beetle:Disinfest beetle infestation by approved chemical means,","NO",50,0]
[null,"461229","SP","PIGEON:DISINFEST PIGEON INFESTATION","Pigeon:Disinfest Pigeon infestation by approved chemical or other means,","NO",50,0]
[null,"461231","SP","RAT:DISINFEST RAT INFESTATION","Rat:Disinfest Rat infestation by approved chemical or other means,","NO",75,0]
[null,"461233","SP","DEBRIS:REMOVE DEBRIS OF INFESTATION AND DISPOSE","Debris:Remove the debris of infestation, carcasses, droppings and other contaminated material by approved means to an approved disposal site.","CM",360,0]
[null,"461235","SP","PIGEONS:INSTALL ANTI-PIGEON SPIKING","Pigeons:Install proprietry anti-pigeon spiking to pipework, parapets, window heads, gutters and the like","LM",17.39,7]
[null,"461237","SP","PIGEONS:INSTALL ANTI-PIGEON NETTING","Pigeons:Install proprietry anti-pigeon netting to walls, windows, rooflights and the like","SM",20.39,10]
[null,"463001","CC","WASTE CHUTE:INSPECT TAKE DOWN REPAIR","Waste Chute:Inspect, take down, repair, overhaul, refix, ease and adjust dust chute hopper.","NO",26.38,0.12]
[null,"463003","CC","WASTE CHUTE:CLEAR OUT BLOCKAGE (PER FLOOR)","Waste Chute:Clean out blocked chute and remove debris (per floor).","IT",19.7,0]
[null,"470001","PA","DWELLING:REDECORATE 1 BEDROOM FLAT","Dwelling:Redecorate complete one bedroom Flat or Bungalow, rub down, prepare, apply two coats of emulsion to ceilings and walls, one undercoat and gloss on all other previously painted surfaces.","IT",659.55,200]
[null,"470002","PA","DWELLING:REDECORATE 2 BEDROOM FLAT","Dwelling:Redecorate complete two bedroom Flat or Bungalow, rub down, prepare, apply two coats of emulsion to ceilings and walls, one undercoat and gloss on all other previously painted surfaces.","IT",787.08,240]
[null,"470003","PA","DWELLING:REDECORATE 3 BEDROOM FLAT","Dwelling:Redecorate complete three bedroom Flat or Bungalow, rub down, prepare, apply two coats of emulsion to ceilings and walls, one undercoat and gloss on all other previously painted surfaces.","IT",914.62,280]
[null,"470010","PA","DWELLING:REDECORATE 2 BEDROOM HOUSE","Dwelling:Redecorate complete two bedroom House or Maisonette, rub down, prepare, apply two coats of emulsion to ceilings and walls, one undercoat and gloss on all other previously painted surfaces.","IT",1013.4,300]
[null,"470011","PA","DWELLING:REDECORATE 3 BEDROOM HOUSE","Dwelling:Redecorate complete three bedroom House or Maisonette, rub down, prepare, apply two coats of emulsion to ceilings and walls, one undercoat and gloss on all other painted surfaces.","IT",1140.93,340]
[null,"470012","PA","DWELLING:REDECORATE 4 BEDROOM HOUSE","Dwelling:Redecorate complete four bedroom House or Maisonette, rub down, prepare, apply two coats of emulsion to ceilings and walls, one undercoat and gloss on all other painted surfaces.","IT",1268.46,380]
[null,"470040","PA","DWELLING:REDECORATE BEDSIT NE 20SM CEILING AREA","Dwelling:Redecorate all rooms of bedsit ne 20.00sm ceiling area, rub down, prepare, apply two coats of emulsion to ceilings walls, one undercoat and gloss on all other painted surfaces.","IT",448.86,160]
[null,"470041","PA","DWELLING:REDECORATE BEDSIT 20 TO 30SM CEILING AREA","Dwelling:Redecorate all rooms of bedsit 20.00 - 30.00sm ceiling area, rub down, prepare, apply two coats of emulsion to ceilings, walls, one undercoat and gloss on all other painted surfaces.","IT",508.25,180]
[null,"470042","PA","DWELLING:REDECORATE BEDSIT OVER 30SM CEILING AREA","Dwelling:Redecorate all rooms of bedsit over 30.00sm ceiling area, rub down, prepare, apply two coats of emulsion to ceilings, walls, one undercoat and gloss on all other painted surfaces.","IT",633.29,200]
[null,"470045","PA","DWELLING:REDECORATE MULTIPLE OCCUPIED 3 BED FLAT","Dwelling:Redecorate all rooms in three bedroom multiple occupancy flat comprising hall, bedrooms, lobby, communal kitchen, bathroom, toilet, shower room, prepare and apply paint as specified.","IT",858.03,300]
[null,"470046","PA","DWELLING:REDECORATE MULTIPLE OCCUPIED 4 BED FLAT","Dwelling:Redecorate all rooms in four bedroom multiple occupancy flat comprising hall, bedrooms, lobby, communal kitchen, bathroom, toilet, shower room prepare and apply paint as specified","IT",1012.76,330]
[null,"470047","PA","DWELLING:REDECORATE MULTIPLE OCCUPIED 5 BED FLAT","Dwelling:Redecorate all rooms in five bedroom multiple occupancy flat comprising hall, bedrooms, lobby, communal kitchen, bathroom, toilet, shower room prepare and apply paint as specified.","IT",1167.5,360]
[null,"470088","PA","ROOM:WHOLE REDECORATION ADDITION HT ABOVE 3.0M","Room:Additional allowance for working in room with ceiling 3.00m above floor level and painting all walls, ceiling and woodwork (measured floor area).","SM",7.57,1]
[null,"470501","PA","DWELLING:WASH 2CT REDECORATION 1 BEDROOM FLAT","Dwelling:Redecoration and washdown complete one bedroom Flat or Bungalow, rub down, prepare, apply two coats of emulsion to ceilings, walls, wash down only to all other painted surfaces.","IT",429.43,134]
[null,"470502","PA","DWELLING:WASH 2CT REDECORATION 2 BEDROOM FLAT","Dwelling:Redecoration and washdown complete two bedroom Flat or Bungalow, rub down, prepare, apply two coats of emulsion to ceilings, walls, wash down only to all other painted surfaces.","IT",512.32000000000005,160]
[null,"470503","PA","DWELLING:WASH 2CT REDECORATION 3 BEDROOM FLAT","Dwelling:Redecoration and washdown complete three bedroom Flat or Bungalow, rub down, prepare, apply two coats of emulsion to ceilings, walls, wash down only to all other painted surfaces.","IT",595.22,186]
[null,"470510","PA","DWELLING:WASH 2CT REDECORATION 2 BEDROOM HOUSE","Dwelling:Redecoration and washdown complete two bedroom House or Maisonette, rub down, prepare, apply two coats of emulsion to ceilings, walls, wash down only to all other painted surfaces.","IT",649.54999999999995,190]
[null,"470511","PA","DWELLING:WASH 2CT REDECORATION 3 BEDROOM HOUSE","Dwelling:Redecoration and washdown complete three bedroom House or Maisonette, rub down, prepare, apply two coats of emulsion to ceilings, walls, wash down only to all other painted surfaces.","IT",732.45,216]
[null,"470512","PA","DWELLING:WASH 2CT REDECORATION 4 BEDROOM HOUSE","Dwelling:Redecoration and washdown complete four bedroom House or Maisonette, rub down, prepare, apply two coats of emulsion to ceilings, walls, wash down only to all other painted surfaces.","IT",813.16,242]
[null,"470520","PA","DWELLING:WASH 1CT REDECORATION 1 BEDROOM FLAT","Dwelling:Redecoration and washdown complete one bedroom Flat or Bungalow, rub down, prepare, apply one coat of emulsion to ceilings, walls, wash down only to all other previously painted surfaces.","IT",244.26,67]
[null,"470521","PA","DWELLING:WASH 1CT REDECORATION 2 BEDROOM FLAT","Dwelling:Redecoration and washdown complete two bedroom Flat or Bungalow, rub down, prepare, apply one coat of emulsion to ceilings, walls, wash down only to all other previously painted surfaces.","IT",292.27,80]
[null,"470522","PA","DWELLING:WASH 1CT REDECORATION 3 BEDROOM FLAT","Dwelling:Redecoration and washdown complete three bedroom Flat or Bungalow, rub down, prepare, apply one coat of emulsion to ceilings, walls, wash down only to all other previously painted surfaces.","IT",338.09,93]
[null,"470530","PA","DWELLING:WASH 1CT REDECORATION 2 BEDROOM HOUSE","Dwelling:Redecoration and washdown complete two bedroom House or Maisonette, rub down, prepare, apply one coat of emulsion to ceilings, walls, wash down only to all other painted surfaces.","IT",370.73,95]
[null,"470531","PA","DWELLING:WASH 1CT REDECORATION 3 BEDROOM HOUSE","Dwelling:Redecoration and washdown complete three bedroom House or Maisonette, rub down, prepare, apply one coat of emulsion to ceilings, walls, wash down only to all other painted surfaces.","IT",418.74,108]
[null,"470532","PA","DWELLING:WASH 1CT REDECORATION 4 BEDROOM HOUSE","Dwelling:Redecoration and washdown complete four bedroom House or Maisonette, rub down, prepare, apply one coat of emulsion to ceilings, walls, wash down only to all other painted surfaces.","IT",464.57,121]
[null,"470540","PA","DWELLING:WASH 2CT REDEC BEDSIT NE 20SM CLG AREA","Dwelling:Redecoration and washdown complete all rooms of bedsit ne 20.00sm ceiling area, rub down, prepare, apply two coats of emulsion to ceilings, walls, wash down to all other surfaces.","IT",279.88,107]
[null,"470541","PA","DWELLING:WASH 2CT REDEC BEDSIT 20 TO 30SM CLG AREA","Dwelling:Redecoration and washdown complete all rooms of bedsit ne 30.00sm ceiling area, rub down, prepare, apply two coats of emulsion to ceilings, walls, wash down to all other surfaces.","IT",333.27,121]
[null,"470542","PA","DWELLING:WASH 2CT REDEC BEDSIT OVER 30SM CLG AREA","Dwelling:Redecoration and washdown complete all rooms of bedsit over 30.00sm ceiling area, rub down, prepare, apply two coats of emulsion to ceilings, walls, wash down to all other surfaces.","IT",394.41,134]
[null,"470545","PA","DWELLING:WASH 2CT REDEC MULTIPLE OCC 3 BED FLAT","Dwelling:Redecoration, washdown three bedroom multiple occupancy flat comprising lobby, hall bedrooms, communal kitchen, bathroom, toilet, shower room, wash down, apply paint as specified","IT",535.82000000000005,201]
[null,"470546","PA","DWELLING:WASH 2CT REDEC MULTIPLE OCC 4 BED FLAT","Dwelling:Redecoration, washdown four bedroom multiple occupancy flat comprising lobby, hall bedrooms, communal kitchen, bathroom, toilet, shower room, wash down, apply paint as specified.","IT",630.22,221]
[null,"470547","PA","DWELLING:WASH 2CT REDEC MULTIPLE OCC 5 BED FLAT","Dwelling:Redecoration, washdown five bedroom multiple occupancy flat comprising lobby, hall bedrooms, communal kitchen, bathroom, toilet, shower room, wash down, apply paint as specified.","IT",724.62,241]
[null,"470601","PA","DWELLING:STRIP PRIOR TO REDECORATE 1 BED FLAT","Dwelling:Strip all layers of wallpaper, wall and ceiling lining paper prior to redecoration complete to  one bed Flat or Bungalow, all additional preparation, rub down, make good,  apply sealing coat.","IT",589.09,42.01]
[null,"470602","PA","DWELLING: STRIP PRIOR TO REDECORATE 2 BED FLAT","Dwelling:Strip all layers of wallpaper, wall and ceiling lining paper prior to redecoration complete to  two bed Flat or Bungalow, all additional preparation, rub down, make good,  apply sealing coat.","IT",798.11,54.08]
[null,"470603","PA","DWELLING: STRIP PRIOR TO REDECORATE 3 BED FLAT","Dwelling:Strip all layers of wallpaper, wall and ceiling lining paper prior to redecoration complete to  3 bed Flat or Bungalow, all additional preparation, rub down, make good,  apply sealing coat.","IT",1007.15,88.05]
[null,"470610","PA","DWELLING: STRIP PRIOR TO REDECORATE 2 BED HOUSE","Dwelling:Strip all layers of wallpaper, wall and ceiling lining paper prior to redecoration complete to  2 bed House or Maisonette, all additional preparation, rub down, make good, apply sealing coat.","IT",874.61,64.930000000000007]
[null,"470611","PA","DWELLING: STRIP PRIOR TO REDECORATE 3 BED HOUSE","Dwelling:Strip all layers of wallpaper, wall and ceiling lining paper prior to redecoration complete to  2 bed House or Maisonette, all additional preparation, rub down, make good, apply sealing coat.","IT",1083.6300000000001,98.88]
[null,"470612","PA","DWELLING: STRIP PRIOR TO REDECORATE 4 BED HOUSE","Dwelling:Strip all layers of wallpaper, wall and ceiling lining paper prior to redecoration complete to  4 bed House or Maisonette, all additional preparation, rub down, make good, apply sealing coat.","IT",1292.6500000000001,110.95]
[null,"490001","AS","TANKING:INSTALL ASPHALT DPM HORIZONTAL","Tanking:Clean off horizontal surface of concrete, prime surface or apply keying mix, apply two coats of asphalt to BS 6925, tanking and damp proofing 20mm thick all internal angle fillets, make good.","SM",49.71,14.7]
[null,"490003","AS","TANKING:INSTALL ASPHALT DPM RAKE FOR KEY","Tanking:Clean off vertical surface of concrete, prime surface or apply keying mix, apply two coats of asphalt to BS 6925, tanking and damp proofing 20mm thick all internal angle fillets, make good.","SM",68.53,14.7]
[null,"490005","AS","TANKING:INSTALL ASPHALT DPM VERTICAL","Tanking:Rake out joints of brickwork to form key, brush surface of brickwork, prime with proprietary bitumen and rubber emulsion, apply two coats 20mm asphalt to BS 6925, tanking and damp proofing.","SM",71.41,14.95]
[null,"515005","GL","PANE:REGLAZE 4MM CLEAR OR OBSCURE UPTO 1.00SM","Pane:Reglaze single pane in 4mm clear or obscure glass, ne 1.00sm, hack out and glaze with putty, sprigs, clips or beads at any level, touch up paintwork to match existing.","NO",77.010000000000005,49.87]
[null,"515007","GL","PANE:REGLAZE 4MM CLEAR OR OBSCURE OVER 1.00SM","Pane:Reglaze single pane in 4mm clear or obscure glass, over 1.00sm, hack out and glaze with putty, sprigs, clips or beads at any level, touch up paintwork to match existing.","SM",84.88,49.87]
[null,"515013","GL","PANE:REGLAZE 6MM CLEAR OR OBSCURE UPTO 1.00SM","Pane:Reglaze single pane in 6mm clear or obscure glass, ne 1.00sm, hack out and glaze with putty, sprigs, clips or beads at any level, touch up decoration to match existing.","NO",103.4,72.77]
[null,"515015","GL","PANE:REGLAZE 6MM CLEAR OR OBSCURE OVER 1.00SM","Pane:Reglaze single pane in 6mm clear or obscure glass, over 1.00sm, hack out and glaze with putty, sprigs, clips or beads at any level, touch up decoration to match existing.","SM",109.97,72.77]
[null,"520005","GL","PANE:REGLAZE 7MM GWCG UPTO 1.00SM","Pane:Reglaze single pane in 7mm georgian wired cast glass, ne 1.00sm, hack out and glaze with putty, sprigs, clips or beads at any level, touch up decoration to match existing.","NO",87.01,54.62]
[null,"520007","GL","PANE:REGLAZE 7MM GWCG OVER 1.00SM","Pane:Reglaze single pane in 7mm georgian wired cast glass, over 1.00sm, hack out and glaze with putty, sprigs, clips or beads at any level, touch up decoration to match existing.","SM",94.01,54.62]
[null,"525005","GL","PANE:REGLAZE 6MM GWPP UPTO 1.00SM","Pane:Reglaze single pane in 6mm georgian wired polished plate glass ne 1.00sm, hack out and glaze with putty, sprigs, clips or beads at any level, touch up decoration to match.","NO",146.09,113.7]
[null,"525007","GL","PANE:REGLAZE 6MM GWPP OVER 1.00SM","Pane:Reglaze single pane in 6mm georgian wired polished plate glass over 1.00sm, hack out and glaze with putty, sprigs, clips or beads at any level, touch up decoration to match existing.","SM",153.09,113.7]
[null,"530005","GL","PANE:REGLAZE 6MM TOUGHENED UPTO 1.00SM","Pane:Reglaze single pane in 6mm toughened safety glass ne 1.00sm, hack out and glaze with putty, sprigs, clips or beads at any level, touch up decoration to match existing.","NO",145.41,111.71]
[null,"530007","GL","PANE:REGLAZE 6MM TOUGHENED OVER 1.00SM","Pane:Reglaze single pane in 6mm toughened safety glass, over 1.00sm, hack out and glaze with putty, sprigs, clips or beads at any level, touch up decoration to match existing.","SM",153.29,111.71]
[null,"535005","GL","PANE:REGLAZE 6.4MM LAMINATED UPTO 1.00SM","Pane:Reglaze single pane in 6.4mm laminated glass ne 1.00sm, hack out and glaze with putty, sprigs, clips or beads at any level, touch up decoration to match.","NO",135.24,98.04]
[null,"535007","GL","PANE:REGLAZE 6.4MM LAMINATED OVER 1.00SM","Pane:Reglaze single pane in 6.4mm laminated glass over 1.00sm, hack out and glaze with putty, sprigs, clips or beads at any level, touch up decoration to match existing.","SM",139.62,98.04]
[null,"535015","GL","PANE:REGLAZE 4.4MM LAMINATED UPTO 1.00SM","Pane:Reglaze single pane in 4.4mm laminated glass, ne 1.00sm, hack out and glaze with putty, sprigs, clips or beads at any level, touch up decoration to match existing.","NO",114.09,86.95]
[null,"535017","GL","PANE:REGLAZE 4.4MM LAMINATED OVER 1.00SM","Pane:Reglaze single pane in 4.4mm laminated glass, over 1.00sm hack out and glaze with putty, sprigs, clips or beads at any level, touch up decoration to match existing.","SM",121.97,86.95]
[null,"535025","GL","PANE:REGLAZE 6.8MM LAMINATED/STIPPOLYTE UPTO 1 SM","Pane:Reglaze single pane in 6.8mm laminated/stippolyte glass upto 1.00sm, hack out, glaze with putty, sprigs, clips or beads at any level, touch up decoration to match, remove waste and debris.","NO",155,117.93]
[null,"535027","GL","PANE:REGLAZE 6.8MM LAMINATED/STIPPOLYTE OVER 1 SM","Pane:Reglaze single pane in 6.8mm laminated/stippolyte glass over 1.00sm, hack out, glaze with putty, sprigs, clips or beads at any level, touch up decoration to match, remove waste and debris.","SM",159.5,117.92]
[null,"540005","GL","PANE:REGLAZE 4MM POLYCARBONATE UPTO 1.00SM","Pane:Reglaze single pane in 4mm polycarbonate ne 1.00sm, hack out and glaze with putty, sprigs, clips or beads at any level, touch up decoration to match existing.","NO",128.66999999999999,98.04]
[null,"540007","GL","PANE:REGLAZE 4MM POLYCARBONATE OVER 1.00SM","Pane:Reglaze single pane in 4mm polycarbonate glass, over 1.00sm hack out and glaze with putty, sprigs, clips or beads at any level, touch up decoration to match existing.","SM",133.05000000000001,98.04]
[null,"541001","GL","PANE:REGLAZE 7MM FIRE SAFETY IMPACT UPTO 1.00SM","Pane:Reglaze single pane in 7mm clear pyrostem or pyroshield fire/safety wired impact glass upto 1.00sm, hack out, glaze with putty, beads, at any level, touch up decoration, remove waste and debris.","NO",215,177.93]
[null,"541003","GL","PANE:REGLAZE 7MM FIRE SAFETY IMPACT GLASS OVER 1SM","Pane:Reglaze single pane in 7mm clear pyrostem or pyroshield fire/safety wired impact glass over 1.00sm, hack out, glaze with putty, beads, at any level, touch up decoration, remove waste and debris.","SM",220,177.94]
[null,"551005","GL","DOUBLE GLAZED UNIT:REGLAZE UPTO 1.00SM-CLEAR LOW E","Double Glazed Unit:Reglaze unit ne 1.00sm, hermetically sealed 4mm clear float low emissivity (Low E) glass flush edge unit, hack out glass, glaze new unit to any frames, touch up decoration.","NO",123.8,88.79]
[null,"551007","GL","DOUBLE GLAZED UNIT:REGLAZE OVER 1.0SM-CLEAR LOW E","Double Glazed Unit:Reglaze unit over 1.00sm with hermetically sealed with 4mm clear float low emissivity (Low E) glass flush edge unit, hack out, glaze new unit to any frames, touch up decoration.","SM",128.18,88.79]
[null,"551055","GL","DOUBLE GLAZED UNIT:REGLAZE 28MM NE 1SM CLEAR LOW E","Double Glazed Unit:Reglaze unit ne 1.00sm with 28mm hermetically sealed 4mm clear float (Low E) flush edge unit,  remove/refix beads etc, hack out, glaze, touch up decoration, remove waste and debris.","NO",123.8,88.79]
[null,"551057","GL","DOUBLE GLAZED UNIT:REGLAZE 28MM EX 1SM CLEAR LOW E","Double Glazed Unit:Reglaze unit over 1.00sm with 28mm hermetically sealed 4mm clear float (Low E) flush edge unit,  remove/refix beads etc, hack out, glaze, touch up decoration, remove waste, debris.","SM",128.18,88.79]
[null,"556005","GL","DOUBLE GLAZED UNIT:REGLAZE UPTO 1 SM SAFETY LOW E","Double Glazed Unit:Reglaze unit ne 1.00sm, hermetically sealed 4mm safety low emissivity (Low E) glass flush edge unit, hack out glass and glaze new unit to any frames, touch up decoartion.","NO",175.88,140.87]
[null,"556007","GL","DOUBLE GLAZED UNIT:REGLAZE OVER 1 SM SAFETY LOW E","Double Glazed Unit:Reglaze unit over 1.00sm with hermetically sealed with 4mm safety low emissivity (Low E) glass flush edge unit, hack out glass and glaze new unit to any frames, touch up decoration.","SM",180.26,140.87]
[null,"556055","GL","DOUBLE GLAZED UNIT:REGLAZE 28MM NE 1SM SAFETY LOWE","Double Glazed Unit:Reglaze unit ne 1.00sm with 28mm hermetically sealed 4mm safety (Low E) flush edge unit,  remove/refix beads etc, hack out, glaze, touch up decoration, remove waste and debris.","NO",175.88,140.87]
[null,"556057","GL","DOUBLE GLAZED UNIT:REGLAZE 28MM EX 1SM SAFETY LOWE","Double Glazed Unit:Reglaze unit over 1.00sm with 28mm hermetically sealed 4mm safety (Low E) flush edge unit,  remove/refix beads etc, hack out, glaze, touch up decoration, remove waste, debris.","SM",180.26,140.87]
[null,"557001","GL","VACUUM DOUBLE GLAZING:REGLAZE UPTO 1.00SM-CLEAR","Vacuum Glazed Unit:Reglaze ne 1.00sm Pilkington energiKare vac DG Clear unit, wood, metal,PVCu frames, inc remove beads etc and set aside, hack out, touch up decoration,remove waste.","NO",201.76,166.75]
[null,"557003","GL","VACUUM DOUBLE GLAZING:REGLAZE OVER 1.00SM-CLEAR","Vacuum Glazed Unit:Reglaze over 1.00sm Pilkington energiKare vac DG Clear unit, wood, metal,PVCu frames, inc remove beads etc and set aside, hack out, touch up decoration,remove waste.","SM",302.83999999999997,263.45]
[null,"557005","GL","VACUUM DOUBLE GLAZING:REGLAZE UPTO 1.00SM-OBSCURE","Vacuum Glazed Unit:Reglaze ne 1.00sm Pilkington energiKare vac DG Obscure unit, wood, metal,PVCu frames, inc remove beads etc and set aside, hack out, touch up decoration,remove waste.","NO",209.76,174.75]
[null,"557007","GL","VACUUM DOUBLE GLAZING:REGLAZE OVER 1.00SM-OBSCURE","Vacuum Glazed Unit:Reglaze over 1.00sm Pilkington energiKare vac DG Obscure unit, wood, metal,PVCu frames, inc remove beads etc and set aside, hack out, touch up decoration,remove waste.","SM",310.83999999999997,271.45]
[null,"557009","GL","VACUUM DOUBLE GLAZING:REGLAZE UPTO 1.00SM-SAFETY","Vacuum Glazed Unit:Reglaze ne 1.00sm Pilkington energiKare vac DG Laminated Safety unit, wood, metal,PVCu frames, inc remove beads etc and set aside, hack out, touch up decoration,remove waste.","NO",504.21,469.2]
[null,"557011","GL","VACUUM DOUBLE GLAZING:REGLAZE OVER 1.00SM-SAFETY","Vacuum Glazed Unit:Reglaze over 1.00sm Pilkington energiKare vac DG Laminated Safety unit, wood, metal,PVCu frames, inc remove beads etc and set aside, hack out, touch up decoration,remove waste.","SM",605.29,565.9]
[null,"559001","GL","TRIPLE GLAZING:REGLAZE UPTO 1.00SM-CLEAR","Triple Glazed Unit:Reglaze ne 1.00sm, with Triple glazed Clear unit, wood, metal,PVCu frames, inc remove beads etc and set aside, hack out , touch up decoration, remove waste.","NO",276.51,241.5]
[null,"559003","GL","TRIPLE GLAZING:REGLAZE OVER 1.00SM-CLEAR","Triple Glazed Unit:Reglaze over 1.00sm, with Triple glazed Clear unit, wood, metal,PVCu frames, inc remove beads etc and set aside, hack out , touch up decoration, remove waste.","SM",437,397.61]
[null,"559005","GL","TRIPLE GLAZING:REGLAZE UPTO 1.00SM-OBSCURE","Triple Glazed Unit:Reglaze ne 1.00sm, with Triple glazed Obscure unit, wood, metal,PVCu frames, inc remove beads etc and set aside, hack out , touch up decoration, remove waste.","NO",284.51,249.5]
[null,"559007","GL","TRIPLE GLAZING:REGLAZE OVER 1.00SM-OBSCURE","Triple Glazed Unit:Reglaze over 1.00sm, with Triple glazed Obscure unit, wood, metal,PVCu frames, inc remove beads etc and set aside, hack out , touch up decoration, remove waste.","SM",445,405.61]
[null,"559009","GL","TRIPLE GLAZING:REGLAZE UPTO 1.00SM-SAFETY","Triple Glazed Unit:Reglaze ne 1.00sm, with Triple glazed Laminated Safety unit, wood, metal,PVCu frames, inc remove beads etc and set aside, hack out , touch up decoration, remove waste.","NO",586.96,551.95000000000005]
[null,"559011","GL","TRIPLE GLAZING:REGLAZE OVER 1.00SM-SAFETY","Triple Glazed Unit:Reglaze over 1.00sm, with Triple glazed Laminated Safety unit, wood, metal,PVCu frames, inc remove beads etc and set aside, hack out , touch up decoration, remove waste.","SM",747.45,708.06]
[null,"560001","GL","DOMELIGHT:REMOVE AND REFIX","Domelight:Take off and refix domelight ne 1219x1219mm including all necessary drilling and plugging and redressing of upstands and flashings.","NO",70.680000000000007,1.45]
[null,"560003","GL","DOMELIGHT:RENEW 610X610MM COMPLETE","Domelight:Renew 610x610mm translucent glass fibre reinforced domelight including all necessary drilling and plugging and renewal as necessary of flashings and upstands.","NO",249.26,180.03]
[null,"560005","GL","DOMELIGHT:RENEW 914X914MM COMPLETE","Domelight:Renew 914x914mm translucent glass fibre reinforced domelight including all necessary drilling and plugging and renewal as necessary of flashings and upstands.","NO",302.18,219.1]
[null,"560007","GL","DOMELIGHT:RENEW 1210X1210MM COMPLETE","Domelight:Renew 1210x1210mm translucent glass fibre reinforced domelight including all necessary drilling and plugging and renewal as necessary of flashings and upstands.","NO",333.54,236.61]
[null,"565001","GL","MIRROR:RENEW 450X450X4MM","Mirror:Renew 450x450x4mm silvered float glass mirror with polished edges and predrilled holes and fix to any background including all drilling and plugging and make good.","NO",38.479999999999997,27.54]
[null,"565003","GL","MIRROR:RENEW 900X600X4MM","Mirror:Renew 900x600x4mm silvered float glass mirror with polished edges and predrilled holes and fix to any background including all drilling and plugging and make good.","NO",73.760000000000005,60.63]
[null,"570001","GL","SHOWER SCREEN:REFIX GLASS OVER BATH SCREEN","Shower Screen:Refix loose framed glass over bath shower screen including all necessary drilling and plugging and make good.","NO",14.22,1.0900000000000001]
[null,"570003","GL","SHOWER SCREEN:RENEW GLASS OVER BATH","Shower Screen:Renew framed glass over bath shower screen including remove existing, drill and plug as necessary and fit new screen including all make good.","NO",187.16,160.9]
[null,"570011","GL","SHOWER SCREEN:RENEW TWO SIDED GLASS SCREEN","Shower Screen:Renew any two sided framed glass shower cubicle screen and door above shower tray, remove existing, drill and plug as necessary and fit new screen including all make good.","IT",502.52,450]
[null,"570013","GL","SHOWER SCREEN:RENEW THREE SIDED GLASS SCREEN","Shower Screen:Renew any three sided framed glass shower cubicle screen and door above shower tray, remove existing, drill and plug as necessary and fit new screen including all make good.","IT",665.65,600]
[null,"570015","GL","SHOWER SCREEN:REFIX GLASS SIDE PANEL","Shower Screen:Refix loose framed glass panel to shower cubicle including all necessary drilling and plugging and make good.","IT",16.13,3]
[null,"570017","GL","SHOWER SCREEN:REFIX OR REPAIR DOOR","Shower Screen:Refix or repair loose framed glass shower door and make good.","IT",20.13,7]
[null,"573091","GL","CONDENSATION DRIP TRAY:RENEW","Condensation Drip Tray: Carefully remove any size of double glazed unit, dismantle and renew condensation drip tray, reinstall double glazed unit including renewing any gaskets as necessary.","IT",34.56,1.74]
[null,"573093","GL","DOUBLE GLAZED UNITS:REFIX","Double Glazed Unit: Carefully remove any size of double glazed unit, renew gaskets as necessary, and refix including rebedding in silicone.","NO",40.479999999999997,1.0900000000000001]
[null,"575001","GL","PUTTY:RENEW DEFECTIVE PUTTY","Putty:Renew loose or defective putty, hack out old, prepare and apply new putty and touch up paintwork to match existing.","LM",4.67,0.28999999999999998]
[null,"575003","GL","BEAD:RENEW DEFECTIVE GLAZING BEAD","Bead:Renew any type of defective glazing bead including remove existing bead, clean, prepare and supply and fit new bead to match existing, sealing with silicone sealant as necessary and decorate.","LM",9.43,0.67]
[null,"575005","GL","BEAD:APPLY SILICONE SEAL TO GLAZING BEAD","Bead:Seal around glazing bead with silicone sealant including remove existing bead, clean and prepare rebate and refix bead including touch up paintwork to match existing.","LM",6.19,0.94]
[null,"575007","GL","WINDOW:BED EDGES IN WASHLEATHER STRIP","Window:Extra for bedding edges of glass in washleather strip including sealing externally with putty.","LM",3.11,1.36]
[null,"575009","GL","GASKETS:EXTRA OVER FOR COMPRESSION GASKET","Gaskets:Extra over reglazing or renewal items for glazing to any metal or PVCu frame with compression gaskets instead of putty or beads.","LM",2.0499999999999998,0.3]
[null,"575011","GL","VENT:RENEW CIRCULAR TO EXISTING OPENING","Vent:Renew circular vent to existing opening including carefully remove existing plastic ventilator and fit new ventilator, glass breakage is contractors risk.","NO",17.93,6.99]
[null,"575013","GL","VENT:FIT NEW CIRCULAR TO EXISTING GLASS","Vent:Fit new circular vent to existing glass including carefully cut hole in glass and fit new ventilator, glass breakage is contractors risk.","NO",33.25,6.99]
[null,"575015","GL","VENT:FIT METAL PERMAVENT","Vent:Supply and fit metal Permavent to window including scribing to line, knock out glass and install vent, glass breakage is contractors risk.","NO",38.92,8.2799999999999994]
[null,"575017","GL","LOUVRE:RENEW BLADE NE 950MM LONG","Louvre:Renew 6mm glass louvre blade ne 950mm long with polished edges including remove existing blade and bed/clip into jamb.","NO",20.8,12.04]
[null,"575019","GL","TEMPORARY GLAZING:FIX PRIOR TO REPLACEMENT UNIT","Temporary Glazing:Provide and fix temporary glazing or boarding prior to the replacement of double glazed unit including hack out, bed and seal as necessary.","NO",28.86,15.73]
[null,"575021","GL","SYLGLAS:FIT TAPE NE 100MM WIDE","Sylglas:Prepare and apply Sylglas tape ne 100mm wide as temporary repair.","LM",7.86,4.79]
[null,"575023","GL","WINDOW:APPLY SOLAR REFLECTIVE FILM","Window:Prepare and apply solar reflective film to glass surfaces including all cutting and fitting to edges.","SM",89.01,82.45]
[null,"575025","GL","WINDOW:APPLY SAFETY FILM","Window:Prepare and apply safety film to glass surfaces including all cutting and fitting to edges.","SM",74.89,68.33]
[null,"575027","GL","SASH:EXTRA OVER GLAZING TO DISMANTLE SASH","Sash:Any reglazing works to windows of any type or size for removing sash or casement, dismantling rebuilding, refitting, make good all disturbed (can only be claimed if instructed by the CR).","NO",72.92,2.9]
[null,"575501","GL","NET CURTAIN:SUPPLY SINGLE WIDTH","Net Curtain:Supply and install new single width, full height net curtains, hemmed all edges, to glazed opening of any type or size, on and including proprietary hanging rods or wire.","SM",7.54,3.16]
[null,"601101","PL","DOWNPIPE:RENEW PVCU NE 2 STOREY","Downpipe:Renew round or square PVCu downpipe to ne 2 storey dwelling complete with new brackets branches, offset projections, hopperhead, shoe, terminal, slate, cut, make joints, make good.","IT",104.48,47.84]
[null,"601103","PL","DOWNPIPE:RENEW PVCU 2-4 STOREY","Downpipe:Renew round or square PVCu downpipe to over 2, ne 4 storey dwelling with new brackets branches, offset projections, hopperhead, shoe, terminal, slate, cut, make joints, make good.","IT",188.95,80.34]
[null,"601105","PL","DOWNPIPE:RENEW PVCU PIPE","Downpipe:Renew round or square PVCu downpipe, remove and refix or renew pipe brackets plugged and screwed to brickwork including cutting and make joints, make good to structure, finishes.","LM",17.98,4.99]
[null,"601107","PL","DOWNPIPE:RENEW NE 300MM PVCU OFFSET","Downpipe:Renew any type of PVCu offset, ne 300mm projection including all cutting and remake joints, make good to structure and finishes.","NO",30.57,20.170000000000002]
[null,"601109","PL","DOWNPIPE:RENEW PVCU HOPPERHEAD","Downpipe:Renew any type of PVCu downpipe hopperhead, plugged and screwed to brickwork including all cutting and remake joints, make good to structure and finishes.","NO",25.37,7.18]
[null,"601111","PL","DOWNPIPE:RENEW PVCU SHOE","Downpipe:Renew any type of PVCu downpipe shoe plugged and screwed to brickwork including all cutting and remake joints, make good to structure and finishes.","NO",9.44,1.64]
[null,"601113","PL","DOWNPIPE:RENEW PVCU BRANCH","Downpipe:Renew round or square PVCu branch including all cutting and make joints, make good to structure and finishes.","NO",30.09,4.0999999999999996]
[null,"601119","PL","DOWNPIPE:RENEW OR REFIX PVCU CLIP","Downpipe:Refix or renew clip to PVCu downpipe plugged and screwed to brickwork and make good to structure and finishes.","NO",5.98,0.78]
[null,"601121","PL","DOWNPIPE:REMOVE AND REFIX PVCU COMPLETE","Downpipe:Take down any PVCu downpipe, remove and refix pipe brackets, fixed to brickwork and refix downpipes including all hopperheads offsets, shoes remake all joints, make good structure, finishes.","LM",15.89,2.9]
[null,"601125","PL","DOWNPIPE:REMAKE PVCU JOINTS OR REFIX FITTING","Downpipe:Remake any loose or leaking PVCu downpipe joint or joints to any fitting, renew drain connection adaptor or remake joint to drain or gully connection, make good (per downpipe)","IT",11.63,3.83]
[null,"601503","PL","DOWNPIPE:RENEW UPTO 100MM CAST IRON PIPE","Downpipe:Renew length of ne 100mm diameter cast iron downpipe, remove, refix or renew pipe brackets fixed to brickwork, cut and make joints, make good to structure, finishes, decorate to match.","IT",103.5,69.72]
[null,"601505","PL","DOWNPIPE:REMOVE AND REFIX CAST IRON COMPLETE","Downpipe:Take down any cast iron downpipe, remove refix pipe brackets fixed to brickwork and refix downpipes, hopper heads, offsets, branches, shoes remake all joints, make good, touch up.","LM",21.51,0.72]
[null,"601507","PL","DOWNPIPE:RENEW CAST IRON PIPE BRACKET","Downpipe:Renew any diameter cast iron downpipe bracket plugged and screwed to brickwork, make good to structure and finishes and decorate to match existing.","NO",30.17,6.78]
[null,"601509","PL","DOWNPIPE:REFIX LOOSE CAST IRON BRACKET","Downpipe:Refix loose cast iron downpipe bracket, including replugging and screwing to brickwork, make good to structure and finishes and decorate to match existing.","NO",5.49,0.28999999999999998]
[null,"601511","PL","DOWNPIPE:REMAKE CAST IRON JOINTS","Downpipe:Remake any loose or leaking cast iron downpipe joint or joints to any fitting, make good to structure and finishes and decorate to match existing.","IT",13.28,0.28999999999999998]
[null,"603101","PL","GUTTER:RENEW 112MM PVCU COMPLETE","Gutter:Renew with ne 112mm PVCu gutter of any profile with support brackets, angles, outlets stop ends, cutting, make gutters line and level, connections to existing guttering and downpipes.","LM",31.73,8.34]
[null,"603103","PL","GUTTER:RENEW 150MM PVCU COMPLETE","Gutter:Renew with 150mm PVCu gutter of any profile with support brackets, angles, outlets stop ends, cutting, make gutters line and level, connections to existing guttering and downpipes.","LM",41.86,16.920000000000002]
[null,"603105","PL","GUTTER:RENEW 112MM PVCU","Gutter:Renew ne 112mm PVCu gutter of any profile, including support brackets fixed to fascia including cutting, make joints, line and level and connection to existing guttering.","LM",20.079999999999998,5.53]
[null,"603107","PL","GUTTER:RENEW 150MM PVCU","Gutter:Renew 150mm PVCu gutter of any profile, including support brackets fixed to fascia including cutting, make joints, line and level and connection to existing guttering.","LM",27.02,11.43]
[null,"603109","PL","GUTTER:REALIGN PVCU GUTTER","Gutter:Take down any PVCu gutter, remove and refix brackets to fascia and refix gutter to brackets to line and level including all angles, outlets and stop ends and remake all joints.","LM",8.52,0.72]
[null,"603111","PL","GUTTER:RENEW PVCU STOP END","Gutter:Renew PVCu gutter stop end of any profile, including remake joints and line and level.","NO",6.89,1.69]
[null,"603115","PL","GUTTER:RENEW PVCU OUTLET","Gutter:Renew PVCu gutter outlet of any profile, including remake joints and line and level.","NO",12.1,4.3]
[null,"603119","PL","GUTTER:RENEW PVCU ANGLE","Gutter:Renew PVCu gutter angle of any profile including remake joints and line and level.","NO",12.56,4.76]
[null,"603123","PL","GUTTER:RENEW PVCU UNION","Gutter:Renew PVCu gutter union or fitting rubbers of any profile including remake joints and line and level.","NO",11.36,3.57]
[null,"603127","PL","GUTTER:RENEW PVCU BRACKET","Gutter:Renew PVCu gutter bracket of any profile including remake joints and line and level.","NO",6.35,1.1499999999999999]
[null,"603131","PL","GUTTER:TAKE DOWN AND REFIX PVCU OUTLET","Gutter:Take down any PVCu gutter outlet and refix and remake joints.","NO",7.85,0.06]
[null,"603133","PL","GUTTER:REMAKE PVCU JOINT","Gutter:Remake any loose or leaking PVCu gutter joint or joints to fittings including break joint, clean out and make joint, and line and level.","NO",5.28,0.09]
[null,"603301","PL","GUTTER:RENEW IN CAST IRON COMPLETE","Gutter:Renew ne 125mm cast iron gutter of any profile with support brackets, angles, outlets and stop ends, cutting, make gutters line and level, connections to existing guttering, decorate","LM",59.21,25.44]
[null,"603303","PL","GUTTER:RENEW LENGTH OF CAST IRON","Gutter:Renew ne 125mm cast iron gutter of any profile with support brackets fixed to fascia including cutting, make joints, line and level, connections to existing guttering, decorate.","LM",66.97,38.39]
[null,"603305","PL","GUTTER:REALIGN CAST IRON GUTTER","Gutter:Take down any cast iron gutter, remove and refix brackets to fascia and refix gutter to brackets, including all angles, outlets and stop ends, remake all joints and touch up decorations.","LM",11.12,0.72]
[null,"603307","PL","GUTTER:RENEW CAST IRON STOP END","Gutter:Renew ne 125mm cast iron gutter stop end of any profile, including remake joint, line and level, decorate to match existing to outside, one coat of bitumastic paint to inside.","NO",18.260000000000002,5.26]
[null,"603309","PL","GUTTER:RENEW CAST IRON OUTLET","Gutter:Renew ne 125mm cast iron gutter outlet of any profile, including remake joint, line and level, decorate to match existing to outside, one coat of bitumastic paint to inside.","NO",38.51,12.52]
[null,"603311","PL","GUTTER:RENEW CAST IRON ANGLE","Gutter:Renew ne 125mm cast iron gutter angle of any profile, including remake joint, line and level, decorate to match existing to outside, one coat of bitumastic paint to inside.","NO",38.36,12.38]
[null,"603313","PL","GUTTER:RENEW CAST IRON UNION","Gutter:Renew ne 125mm cast iron gutter Union of any profile, including remake joint, line and level, decorate to match existing to outside, one coat of bitumastic paint to inside.","NO",33.1,9.7100000000000009]
[null,"603315","PL","GUTTER:RENEW CAST IRON BRACKET","Gutter:Renew gutter bracket for cast iron gutter including line and level, and rub down, prepare for and decorate to match existing.","NO",19.59,4]
[null,"603317","PL","GUTTER:TAKE DOWN AND REFIX CAST IRON OUTLET","Gutter:Take down any cast iron gutter outlet and refix, remake all joints, and touch up decorations.","NO",26.22,0.23]
[null,"603319","PL","GUTTER:REMAKE CAST IRON JOINTS","Gutter:Remake any cast iron gutter joint including break joint, clean out and make joint, and touch up decorations.","NO",11.84,1.45]
[null,"603901","PL","DOWNPIPE:CLEAR BLOCKAGE NE 2 STOREY","Downpipe:Clear blockage from downpipe ne 2 storey including gain access, rod, flush out and test including clean out gulley and remove spoil on completion (not to be claimed with 603903).","IT",11.43,0]
[null,"603902","PL","DOWNPIPE:CLEAR BLOCKAGE 2 TO 4 STOREY","Downpipe:Clear blockage from downpipe any 2 to 4 storey including gain access, rod, flush out and test including clean out gulley and remove spoil on completion (not to be claimed with 603903).","IT",23.39,0]
[null,"603903","PL","GUTTER:CLEAN AND FLUSH OUT PER ELEVATION","Gutter:Clean out debris from gutters to any type of property including flush out and test, rod downpipe including clean out gulley and remove spoil on completion (per elevation).","IT",23.39,0]
[null,"603905","PL","HOPPER:CLEAR OUT BLOCKED HOPPERHEAD","Hopper:Clear out blocked hopperhead including rod if necessary, flush out and test and remove spoil on completion.","NO",9.35,0]
[null,"603907","PL","FLAT ROOF OUTLET:CLEAR BLOCKED","Flat Roof Outlet:Clear out blocked flat roof outlet including rod if necessary, flush out and test and remove spoil on completion.","IT",12.99,0]
[null,"610101","PL","STACK:RENEW EXTERNAL PVCU COMPLETE NE 2 STOREY","Stack:Take down external soil stack complete to any dwelling ne 2 storey, renew with 110mm PVCu pipework with all fittings, make joints, fixed to structure, make good to structure, finishes, test.","IT",333.55,177.65]
[null,"610103","PL","STACK:RENEW EXTERNAL PVCU COMPLETE 2 TO 4 STOREY","Stack:Take down external soil stack complete to any dwelling over 2, ne 4 storey, renew with 110mm PVCu pipework with all fittings, make joints, fixed to structure, make good, test.","IT",515.79,281.94]
[null,"610105","PL","STACK:RENEW EXTERNAL 110MM PVCU SOIL STACK","Stack:Renew 110mm diameter PVCu length or section of external soil stack, renew or refix clips as necessary, including cut and make joints, make good to structure and finishes and test.","LM",20.96,10.57]
[null,"610107","PL","STACK:RENEW EXTERNAL PVCU SOIL STACK BRACKET","Stack:Renew 110mm diameter external PVCu soil stack pipe bracket securely plugged and screwed to any background, make good to structure and finishes and test.","NO",7.56,2.36]
[null,"610109","PL","STACK:RENEW EXTERNAL PVCU WC BRANCH PIPE","Stack:Renew 110mm diameter external PVCu soil stack wc branch pipe with access, connect to pan, including cutting, make joints, cut holes to walls, make good to structure, finishes and test.","NO",83.98,58]
[null,"610111","PL","STACK:RENEW EXTERNAL PVCU OFFSET","Stack:Renew 110mm diameter external PVCu soil stack offset including cutting and make all necessary joints, make good to structure and finishes and test.","NO",20.48,10.09]
[null,"610113","PL","STACK:RENEW EXTERNAL PVCU JUNCTION","Stack:Renew 110mm diameter external PVCu soil stack junction with access including cutting and make all necessary joints, and make good to structure and finishes and test.","NO",43.86,20.47]
[null,"610115","PL","STACK:RENEW EXTERNAL PVCU ACCESS BEND","Stack:Renew 110mm diameter external PVCu soil stack access bend, including cutting and make all necessary joints, make good to structure and finishes and test.","NO",45.29,29.7]
[null,"610117","PL","STACK:RENEW EXTERNAL PVCU ACCESS PIPE","Stack:Renew 110mm diameter external PVCu soil stack access pipe, including cutting and make all necessary joints, make good to structure and finishes and test.","NO",25.47,9.8800000000000008]
[null,"610119","PL","STACK:RENEW EXTERNAL PVCU VENT TERMINAL","Stack:Renew 110mm diameter external PVCu soil stack/vent terminal and weathering slate and make good to roofing.","NO",56.5,33.119999999999997]
[null,"610121","PL","STACK:RENEW EXTERNAL PVCU DOUBLE SOCKET","Stack:Renew 110mm diameter external PVCu soil stack double socket, including cutting and make all necessary joints, make good to structure and finishes and test.","NO",28.15,9.9600000000000009]
[null,"610123","PL","STACK:RENEW EXTERNAL PVCU DRAIN CONNECTOR","Stack:Renew drain connection with 110mm diameter external PVCu soil stack drainage adaptor.","NO",22.14,6.55]
[null,"610125","PL","STACK:RENEW EXTERNAL PVCU 110MM BOSS CONNECTOR","Stack:Renew 110mm diameter external PVCu soil stack boss connector, including cutting and make all necessary joints, make good and test.","NO",23.54,7.95]
[null,"610127","PL","STACK:RENEW EXTERNAL PVCU BOSS ADAPTOR","Stack:Renew 32mm or 40mm diameter external solvent PVCu boss adaptor, including any additional renewal of boss pipe.","NO",15.29,2.2999999999999998]
[null,"610129","PL","STACK:REPAIR FRACTURE ON EXTERNAL PVCU AT SLAB","Stack:Repair fractured external soil outlet at slab level, break up slab, repair pipe-work, fix new pipe or fitting with new clips, remake joints, make good, test (measured per pipe or fitting).","IT",99.81,21.86]
[null,"610131","PL","STACK:ACCESS COVER TO EXISTING EXTERNAL PVCU","Stack:Insert or cut into existing external PVCu soil stack, fix new proprietory bolted removable access covers and seals, maintain integrity of system with compatible seals or solvent welding.","IT",38.43,7.25]
[null,"610133","PL","STACK:RENEW PVCU BALLOON GRATING","Stack:Renew PVCu balloon grating to soil stack.","NO",18.78,3.19]
[null,"610301","PL","STACK:RENEW INTERNAL PVCU COMPLETE NE 2 STOREY","Stack:Take down internal soil stack complete to any dwelling ne 2 storey, renew with 110mm PVCu pipework with all fittings, make joints, fixed to structure, make good, remove, refix casings, test.","IT",411.5,177.65]
[null,"610303","PL","STACK:RENEW INTERNAL PVCU COMPLETE 2-4 STOREY","Stack:Take down internal soil stack complete to any dwelling over 2 ne 4 storey renew with 110mm PVCu pipework, all fittings, make joints, fixed to structure, make good, remove, refix casings, test.","IT",593.74,281.94]
[null,"610305","PL","STACK:RENEW INTERNAL 110MM PVCU SOIL STACK","Stack:Renew 110mm diameter PVCu length or section of internal soil stack, soil stack, renew or refix clips as necessary, including cut, make joints, make good remove, refix duct casings and test.","LM",26.16,10.57]
[null,"610307","PL","STACK:RENEW INTERNAL PVCU SOIL STACK BRACKETS","Stack:Renew 110mm diameter internal PVCu soil stack pipe bracket securely plugged and screwed to any background, make good to structure, finishes remove, refix duct casings and test.","NO",12.75,2.36]
[null,"610309","PL","STACK:RENEW INTERNAL PVCU WC BRANCH PIPE","Stack:Renew 110mm diameter internal PVCu soil stack wc branch pipe with access, connect to pan, including cutting, make joints, cut holes to walls, make good, remove, refix casings, test.","NO",94.37,58]
[null,"610311","PL","STACK:RENEW INTERNAL PVCU OFFSET","Stack:Renew 110mm diameter internal PVCu soil offset including cutting and make all necessary joints, make good, remove, refix casings, test.","NO",25.68,10.09]
[null,"610313","PL","STACK:RENEW INTERNAL PVCU JUNCTION","Stack:Renew 110mm diameter internal PVCu soil stack junction with access including cutting and make all necessary joints, make good, remove, refix casings, test.","NO",51.65,20.47]
[null,"610315","PL","STACK:RENEW INTERNAL PVCU ACCESS BEND","Stack:Renew 110mm diameter internal PVCu soil stack access bend, including cutting and make all necessary joints, make good, remove, refix casings, test.","NO",50.49,29.7]
[null,"610317","PL","STACK:RENEW INTERNAL PVCU ACCESS PIPE","Stack:Renew 110mm diameter internal PVCu soil stack access pipe, including cutting and make all necessary joints, make good, remove, refix casings, test.","NO",30.66,9.8800000000000008]
[null,"610319","PL","STACK:RENEW INTERNAL PVCU DOUBLE SOCKET","Stack:Renew 110mm diameter internal PVCu soil stack double socket, including cutting and make all necessary joints, make good, remove, refix casings, test.","NO",33.869999999999997,9.9600000000000009]
[null,"610321","PL","STACK:RENEW INTERNAL PVCU 110MM BOSS CONNECTOR","Stack:Renew 110mm diameter internal PVCu soil stack boss connector, including cutting and make all necessary joints, make good, remove, refix casings, test.","NO",28.73,7.95]
[null,"610323","PL","STACK:RENEW INTERNAL PVCU BOSS ADAPTOR","Stack:Renew 32mm or 40mm diameter internal solvent PVCu boss adaptor, including any additional renewal of boss pipe, remove and refix duct casings and access panels and the like for access.","NO",19.45,2.2999999999999998]
[null,"610325","PL","STACK:REPAIR FRACTURE ON INTERNAL PVCU AT SLAB","Stack:Repair fractured internal soil outlet at, slab level, break up slab, repair pipe-work, fix new pipe or fitting with new clips, remake joints, make good, remove, refix casings. test.","IT",112.81,21.86]
[null,"610327","PL","STACK:ACCESS COVER TO EXISTING INTERNAL PVCU STACK","Stack:Insert or cut into existing internal PVCu,. soil stack, fix new proprietory bolted removable access covers and seals, maintain integrity of system, remove and refix duct casings.","IT",63.31,21.74]
[null,"610329","PL","STACK:RENEW PVCU AIR ADMITTANCE VALVE","Stack:Renew Air Admittance Valve to PVCu internal soil stack including gain access, remove existing and fix new to existing PVC or CI stack including either socket or adaptor as necessary.","IT",20.48,12.69]
[null,"610331","PL","STACK:REMAKE JOINT PVCU STACK","Stack:Remake ne 100mm diameter PVCu soil stack joint including break joint, clean out and make joint.","NO",16,1.45]
[null,"610501","PL","STACK:RENEW NE 150MM CAST IRON NE 2M","Stack:RenewUp to 150mm diameter cast iron soil stack length ne 2m long with existing or new clips or ears including all cutting, remake joints, make good and decorate to match existing.","NO",135.87,96.9]
[null,"610503","PL","STACK:REMAKE JOINT TO CAST IRON STACK","Stack:Remake ne 150mm diameter cast iron soil stack joint.","NO",24.11,0.72]
[null,"610505","PL","STACK:RENEW CAST IRON OFFSET","Stack:Renew ne 150mm diameter offset to cast iron soil stack including remake joints and decorate to match existing.","NO",68.459999999999994,29.48]
[null,"610507","PL","STACK:RENEW CAST IRON BRANCH","Stack:Renew ne 150mm diameter branch to cast iron soil stack including remake joints and decorate to match existing.","NO",103.59,54.23]
[null,"620101","PL","WASTE:RENEW 32MM PIPE AND TRAP BASIN","Waste:Renew waste to sink or basin in ne 32mm plastic pipework complete with trap, all fittings, clips, cut or form holes, make good, make all connections to stack, gully or hopperhead, test.","NO",48.95,17.77]
[null,"620103","PL","WASTE:RENEW 40MM PIPE AND TRAP SINK","Waste:Renew waste to sink or basin in ne 40mm plastic pipework complete with trap, all fittings, clips, cut or form holes and make good, make all connections to stack, gully or hopperhead, test.","NO",57.32,20.94]
[null,"620105","PL","WASTE:RENEW 40MM PIPE AND TRAP BATH","Waste:Renew waste to any bath in ne 40mm plastic pipework complete with trap, all fittings, clips, cut or form holes and make good, make all connections to stack, gully or hopperhead, test.","NO",69.489999999999995,22.72]
[null,"620107","PL","WASTE:RENEW 40MM PIPE AND TRAP SHOWER","Waste:Renew waste to any shower in ne 40mm plastic pipework complete with sealed trap, all fittings, clips, remove, refix tray, cut, form holes, make good, make all connections, test.","NO",148.56,23.84]
[null,"620109","PL","WASTE:RENEW NE 40MM BEND OR CONNECTOR","Fitting:Renew ne 40mm diameter plastic straight connector or bend, make all necessary joints to waste pipe and trap or stack, and test all joints on completion.","NO",11.48,1.08]
[null,"620111","PL","WASTE:RENEW NE 40MM TEE","Fitting:Renew ne 40mm diameter plastic tee, make all necessary joints and test on completion.","NO",14.07,1.08]
[null,"620113","PL","WASTE:RENEW LEAKING JOINT","Waste:Renew leaking joint of waste fitting, including remove and securely refix and make all necessary joints, and test on completion.","NO",8.01,0.22]
[null,"620115","PL","WASTE:RENEW PLASTIC PIPE CLIP","Waste:Renew or supply and fix pipe clip for any diameter plastic pipe including plugging and screwing as necessary.","NO",2.93,0.33]
[null,"620117","PL","TRAP:RENEW 32MM SINK OR BASIN TRAP","Trap:Renew ne 32mm diameter plastic trap to sink or basin including all adjustments to pipework, make all connections and test on completion.","NO",12.43,4.6399999999999997]
[null,"620119","PL","TRAP:RENEW 40MM SINK OR BASIN TRAP","Trap:Renew ne 40mm diameter plastic trap to sink or basin including all adjustments to pipework, make all connections and test on completion.","NO",12.6,4.8]
[null,"620121","PL","TRAP:RENEW NE 40MM BATH TRAP","Trap:Renew ne 40mm diameter plastic trap to bath including all adjustments to pipework, make all connections and test on completion.","NO",17.79,4.8]
[null,"620123","PL","TRAP:RENEW NE 40MM SHOWER TRAP","Trap:Renew ne 40mm diameter plastic sealed trap to shower including all adjustments to pipework, make all connections, remove and refix tray and test.","NO",87.1,9.15]
[null,"620131","PL","PIPE:RENEW 32MM WASTE","Pipe:Renew any pipe with 32mm plastic waste pipe with all brackets, connections, bends, tees etc, cut/form holes and make good, make all necessary connections to stack, gulley or hopper head and test.","LM",16.68,1.0900000000000001]
[null,"620133","PL","PIPE:RENEW 40MM WASTE","Pipe:Renew any pipe with 40mm plastic waste pipe with all brackets, connections, bends, tees etc, cut/form holes and make good, make all necessary connections to stack, gulley or hopper head and test.","LM",16.8,1.21]
[null,"620135","PL","PIPE:RENEW 50MM WASTE","Pipe:Renew any pipe with 50mm plastic waste pipe with all brackets, connections, bends, tees etc, cut/form holes and make good, make all necessary connections to stack, gulley or hopper head and test","LM",19.68,1.49]
[null,"620137","PL","PIPE:PROVIDE CAPPED END","Pipe:Provide capped end to any UPVC waste pipe not exceeding 63mm diameter.","NO",7.5,1.26]
[null,"620307","PL","WASTE:REPAIR LEAK ON COPPER WASTE","Waste:Repair leaking joint(s) to any copper waste fitting including remove and refix and all adjustments to pipework/fittings as necessary.","NO",11.12,0.72]
[null,"620501","PL","STACK:CLEAR BLOCKAGE NE 2 STOREY","Stack:Clear blockage from soil stack ne 2 storey including gain access remove and refix any duct covers, rod, flush out and test and remove spoil on completion.","IT",26.71,0.72]
[null,"620503","PL","STACK:CLEAR BLOCKAGE 2-4 STOREY","Stack:Clear blockage from soil stack over 2, ne 4 storey including gain access, remove and refix any duct covers, rod, flush out and test and remove spoil on completion.","IT",39.700000000000003,0.72]
[null,"620505","PL","BATH:CLEAR BLOCKAGE TO WASTE","Bath:Clear blockage to waste fitting, pipe or trap, flush out and test, remove and refix any access panels etc., as necessary, remove debris on completion and make good any finishes disturbed.","NO",18.91,0.72]
[null,"620507","PL","BASIN OR SINK:CLEAR BLOCKAGE","Basin or Sink:Clear blockage to waste fitting, pipe or trap, flush out and test, remove and refix any access panels etc. as necessary, remove debris on completion, make good any finishes disturbed.","NO",11.12,0.72]
[null,"620509","PL","WASHING MACHINE:CLEAR BLOCKED WASTE","Washing Machine:Clear blockage to waste pipe or trap, flush out and test, remove and refix any access panels etc., as necessary, remove debris on completion and make good any finishes disturbed.","NO",8.52,0.72]
[null,"620513","PL","WC PAN:CLEAR BLOCKAGE INCLUDING REMOVE","WC Pan:Clear blockage to wc pan including remove refix pan, remake all joints, flush out and test, remove, refix any access panels etc, remove debris on completion, make good any finishes disturbed.","NO",32.630000000000003,1.45]
[null,"620515","PL","SHOWER:CLEAR BLOCKAGE INCLUDING REMOVE","Shower:Clear blockage to shower, flush out and test, remove and refix any access panels etc. as necessary, remove debris on completion and make good any finishes disturbed.","NO",21.51,0.72]
[null,"620517","PL","MACERATOR:CLEAR BLOCKAGE","Macerator:Clear blockage to macerator and associated pipework, disconnect/reconnect electricity, pipework, remove and refix access panels , remove debris, flush out and test, make good.","NO",32.630000000000003,1.45]
[null,"630101","PL","SINK TOP:RENEW SINGLE DRAINER TOP - TAPS","Sink Top:Renew with any size/type stainless steel single drainer sink top complete with taps, waste, plug, chain, trap, service valves, make all connections, splashback, sealant, crossbond, test.","NO",187.12,119.56]
[null,"630102","PL","SINK TOP:RENEW SINGLE DRAINER TOP – MIXER","Sink Top:Renew with any size/type stainless steel single drainer sink top complete with mixer, waste, plug, chain, trap, service valves, make all connections, splashback, sealant, crossbond, test.","NO",236,168.44]
[null,"630103","PL","SINK TOP:RENEW DOUBLE DRAINER TOP - TAPS","Sink Top:Renew any with size/type stainless steel double drainer sink top complete with taps, waste, plug, chain, trap, service valves, make all connections, splashback, sealant, crossbond, test.","NO",238.22,144.68]
[null,"630104","PL","SINK TOP:RENEW DOUBLE DRAINER TOP – MIXER","Sink Top:Renew any with size/type stainless steel double drainer sink top complete with mixer, waste, plug, chain, trap, service valves, make all connections, splashback, sealant, crossbond, test.","NO",287.10000000000002,193.56]
[null,"630105","PL","SINK UNIT:RENEW SINGLE DRAINER TOP TAPS BASE UNIT","Sink Unit:Renew with any size/type stainless steel single drainer sink top and base unit, new taps waste fittings, connect to pipework, valves,chain, trap, splashback, sealant, crossbond, test.","NO",331.41,211.88]
[null,"630106","PL","SINK UNIT:RENEW SINGLE DRAINER TOP MIXER BASE UNIT","Sink Unit:Renew with any size/type stainless steel single drainer sink top and base unit, new mixer, waste fittings, connect to pipework, valves,chain, trap, splashback, sealant, crossbond, test.","NO",380.29,260.76]
[null,"630107","PL","SINK TOP:REFIX ANY LOOSE SINK TOP","Sink Top:Refix any type and size of loose sink top including disconnect, remove and refix taps, pipework and fittings as necessary, remake silicone sealant joints and crossbond.","NO",40.26,3.88]
[null,"630109","PL","SINK:RENEW PLUG AND CHAIN","Sink:Renew rubber plug and chain to sink and securely fix to and including new stud or backplate as necessary.","NO",5.92,0.72]
[null,"630111","PL","SINK:RENEW NE 42MM CP WASTE","Sink:Renew ne 42mm cp waste fitting including disconnect trap, fix new waste fitting, plug and chain and reconnect trap including all adjustments to pipework as necessary and test.","NO",31,18.010000000000002]
[null,"630113","PL","SINK:RENEW NE 42MM CP COMBINED WASTE","Sink:Renew ne 42mm cp waste and combined overflow including disconnect trap, fix new waste fitting, overflow, plug and chain and reconnect trap, adjustment to pipework as necessary, test.","NO",41.24,23.05]
[null,"630115","PL","SINK:REFIX OR RENEW CANTILEVER BRACKETS","Sink:Refix or renew cantilever brackets to any size or type of fireclay sink including disconnect and remove/refix sink if required and reconnect all pipework, all necessary plugging, make good.","NO",41.25,7.47]
[null,"630117","PL","SINK TOP:RENEW SINGLE DRAINER DEEP BOWL TOP TAPS","Sink Top:Renew with any size/type stainless steel deep bowl single drainer sink top with taps, waste, plug, chain, trap, service valves, make all connections, splashback, sealant, crossbond, test.","NO",187.12,119.56]
[null,"630119","PL","SINK TOP:RENEW DOUBLE DRAINER DEEP BOWL TOP TAPS","Sink Top:Renew any with size/type stainless steel deep bowl double drainer sink top with taps, waste, plug, chain, trap, service valves, make all connections, splashback, sealant, crossbond, test.","NO",238.22,144.68]
[null,"630121","PL","SINK UNIT:RENEW SINGLE DRAINER DEEP TOP TAPS BASE","Sink Unit:Renew with any size/type stainless steel deep bowl single drainer sink top and base unit, new taps, waste fittings, pipework, valves,chain, trap, splashback, sealant, crossbond, test.","NO",310.62,211.88]
[null,"630141","PL","SINK TOP:RENEW SINGLE DRAINER DEEP BOWL TOP MIXER","Sink Top:Renew with any size/type stainless steel deep bowl single drainer sink top with mixer, waste, plug, chain, trap, service valves, make all connections, splashback, sealant, crossbond, test.","NO",236,168.44]
[null,"630143","PL","SINK TOP:RENEW DOUBLE DRAINER DEEP BOWL TOP MIXER","Sink Top:Renew any with size/type stainless steel deep bowl double drainer sink top with mixer, waste, plug, chain, trap, service valves, make all connections, splashback, sealant, crossbond, test.","NO",284.88,191.34]
[null,"630145","PL","SINK UNIT:RENEW SINGLE DRAINER DEEP TOP MIXER BASE","Sink Unit:Renew with any size/type stainless steel deep bowl single drainer sink top and base unit, new mixer, waste fittings, pipework, valves,chain, trap, splashback, sealant, crossbond, test.","NO",359.5,260.76]
[null,"630201","PL","SINK TOP:SUPPLY INSET TAPS","Sink Top:Fix 508x935mm stainless steel inset single bowl single drainer sink top, with taps, waste, plug, chain, trap, service valves, make all connections, splashback, sealant, crossbond, test.","NO",171.27,93.32]
[null,"630203","PL","SINK TOP:RENEW INSET TAPS","Sink Top:Renew with 508x935mm stainless steel inset single bowl single drainer sink top, with taps, waste, plug, chain, trap, service valves, make all connections, sealant, crossbond, test.","NO",160.88,93.32]
[null,"630211","PL","SINK TOP:SUPPLY DEEP BOWL INSET TAPS","Sink Top:Fix 508x935mm stainless steel inset single deep bowl single drainer sink top, with taps, waste, plug, chain, trap, service valves, make all connections, splashback, sealant, crossbond, test.","NO",171.27,93.32]
[null,"630213","PL","SINK TOP:RENEW WITH DEEP BOWL INSET TAPS","Sink Top:Renew with 508x935mm stainless steel single deep bowl single drainer sink top, with taps, waste, plug, chain, trap, service valves, make all connections, splashback, sealant, crossbond, test","NO",160.88,93.32]
[null,"630221","PL","SINK TOP:SUPPLY INSET MIXER","Sink Top:Fix 508x935mm stainless steel inset single bowl single drainer sink top, with mixer, waste, plug, chain, trap, service valves, make all connections, splashback, sealant, crossbond, test.","NO",220.15,142.19999999999999]
[null,"630223","PL","SINK TOP:RENEW INSET MIXER","Sink Top:Renew with 508x935mm stainless steel inset single bowl single drainer sink top, with mixer, waste, plug, chain, trap, service valves, make all connections, sealant, crossbond, test.","NO",209.76,142.19999999999999]
[null,"630231","PL","SINK TOP:SUPPLY DEEP BOWL INSET MIXER","Sink Top:Fix 508x935mm stainless steel inset single deep bowl single drainer sink top, with mixer, waste, plug, chain, trap, service valves, make all connections, splashback, sealant, crossbond, test.","NO",220.15,142.19999999999999]
[null,"630233","PL","SINK TOP:RENEW WITH DEEP BOWL INSET MIXER","Sink Top:Renew with 508x935mm stainless steel single deep bowl single drainer sink top, with mixer, waste, plug, chain, trap, service valves, make all connections, splashback, sealant, crossbond, test","NO",209.76,142.19999999999999]
[null,"630301","PL","SINK UNIT:REMOVE SINK TOP AND RENEW 1M BASE TAPS","Sink Unit:Remove stainless steel sink top and set aside, renew 1000mm long sink base unit, refix and reconnect existing sink top, valves, renew taps, sealant, remake connections, crossbond, test.","NO",193.66,92.32]
[null,"630303","PL","SINK UNIT:REMOVE SINK TOP RENEW 1.2M BASE TAPS","Sink Unit:Remove stainless steel sink top and set aside, renew 1200mm long sink base unit, refix and reconnect existing sink top, valves, renew taps, sealant, remake connections, crossbond, test.","NO",248.75,144.82]
[null,"630305","PL","SINK UNIT:REMOVE SINK TOP RENEW 1.5M BASE TAPS","Sink Unit:Remove stainless steel sink top and set aside, renew 1500mm long sink base unit, refix and reconnect existing sink top, valves, renew taps, sealant, remake connections, crossbond, test.","NO",277.06,170.53]
[null,"630311","PL","SINK UNIT:REMOVE SINK TOP AND RENEW 1M BASE MIXER","Sink Unit:Remove stainless steel sink top and set aside, renew 1000mm long sink base unit, refix and reconnect existing sink top, valves, new mixer, sealant, remake connections, crossbond, test.","NO",242.54,141.19999999999999]
[null,"630313","PL","SINK UNIT:REMOVE SINK TOP RENEW 1.2M BASE MIXER","Sink Unit:Remove stainless steel sink top and set aside, renew 1200mm long sink base unit, refix and reconnect existing sink top, valves, new mixer, sealant, remake connections, crossbond, test.","NO",297.63,193.7]
[null,"630315","PL","SINK UNIT:REMOVE SINK TOP RENEW 1.5M BASE MIXER","Sink Unit:Remove stainless steel sink top and set aside, renew 1500mm long sink base unit, refix and reconnect existing sink top, valves, new mixer, sealant, remake connections, crossbond, test.","NO",325.94,219.41]
[null,"630501","PL","WC SUITE:RENEW LOW LEVEL WITH PLASTIC CISTERN","WC Suite:Renew wc suite complete with pan, 6 litre plastic low level cistern, service valve, make flush, soil pipe joints with Easy-Fit connectors, test all joints, plastic seat and lid.","NO",200.61,104.48]
[null,"630503","PL","WC SUITE:RENEW LOW LEVEL WITH CHINA CISTERN","WC Suite:Renew wc suite complete with pan, 6 litre china low level cistern, service valve, make flush, soil pipe joints with Easy-Fit connectors, test all joints, plastic seat and lid.","NO",213.57,117.43]
[null,"630505","PL","WC SUITE:RENEW HIGH LEVEL WITH PLASTIC CISTERN","WC Suite:Renew wc suite complete with pan, 6 litre plastic high level cistern, service valve, make flush, soil pipe joints with Easy-Fit connectors, test all joints, plastic seat and lid.","NO",210.14,106.2]
[null,"630507","PL","WC SUITE:RENEW HIGH LEVEL WITH CHINA CISTERN","WC Suite:Renew wc suite complete with pan, 6 litre china high level cistern, service valve, make flush, soil pipe joints with Easy-Fit connectors, test all joints, plastic seat and lid.","NO",239.09,135.15]
[null,"630509","PL","WC SUITE:RENEW CLOSE COUPLED","WC Suite:Renew vitreous china close coupled wc suite with pan 6 litre china cistern, service valve, make soil pipe joint with Easy-Fit connector, test, plastic seat and lid to pan.","NO",229.07,132.93]
[null,"630511","PL","WC PAN:RENEW COMPLETE","WC Pan:Renew wc pan fixed to floor, including any plugging, renew wc cone, remake flush pipe and soil pipe joints with Easy-Fit connectors, fix new plastic seat and lid to pan, make good.","NO",108.33,61.56]
[null,"630513","PL","WC PAN:RENEW SEAT COMPLETE","WC Pan:Renew single or double flap seat and bracket to wc pan.","NO",32.159999999999997,24.37]
[null,"630515","PL","WC PAN:REMOVE COMPLETE","WC Pan:Remove wc pan complete, including disconnect and seal off, make good existing sub floor and make good to all wall and floor finishes.","NO",19.21,3.62]
[null,"630516","PL","WC PAN:OVERHAUL ANY TYPE","WC Pan:Overhaul any type of pan, renew seat and cover, seat hinges, refix seat, refix pan, renew flush pipe, renew wc cone and flush pipe joint, remake connections, leave wc pan in working order","NO",42.17,5.8]
[null,"630521","PL","WC PAN:RENEW FLUSH PIPE","WC Pan:Renew 32mm diameter low or high level flush pipe, make joint to pan with new cone and to cistern.","NO",13.14,5.34]
[null,"630533","PL","WC CISTERN:RENEW LOW LEVEL PLASTIC","WC Cistern:Renew with 6 litre plastic low level cistern complete plugged to wall reconnect existing supply overflow and flush pipework, service valve, test and make good to all finishes.","NO",64.53,38.549999999999997]
[null,"630535","PL","WC CISTERN:RENEW LOW LEVEL CHINA","WC Cistern:Renew with 6 litre china low level cistern complete plugged to wall reconnect existing supply overflow and flush pipework, service valve, test and make good to all finishes.","NO",80.08,51.5]
[null,"630537","PL","WC CISTERN:RENEW HIGH LEVEL PLASTIC","WC Cistern:Renew with 6 litre plastic high level cistern complete plugged to wall reconnect existing supply overflow and flush pipework, service valve, test and make good to all finishes.","NO",71.8,35.43]
[null,"630539","PL","WC CISTERN:RENEW HIGH LEVEL CHINA","WC Cistern:Renew with 6 litre china high level cistern complete plugged to wall reconnect existing supply overflow and flush pipework, service valve, test and make good to all finishes","NO",103.35,64.38]
[null,"630541","PL","WC CISTERN:RENEW HIGH WITH LOW PLASTIC","WC Cistern:Renew wc high level cistern with 6 litre plastic wc low level cistern plugged to wall reconnect existing supply overflow and flush pipework, service valve, test and make good.","NO",77.13,43.35]
[null,"630543","PL","WC CISTERN:RENEW HIGH WITH LOW CHINA","WC Cistern:Renew wc high level cistern with 6 litre china wc low level cistern plugged to wall reconnect existing supply overflow and flush pipework, service valve, test and make good.","NO",92.68,56.3]
[null,"630545","PL","WC CISTERN:REFIX INCLUDING RENEW BRACKET","WC Cistern:Refix any wc cistern, turn off/on supply, disconnect, reconnect pipework, replug to wall, remove existing and fix new brackets and refix cistern, test and make good to all finishes.","NO",24.83,1.45]
[null,"630551","PL","WC CISTERN:DISCONNECT AND REMOVE","WC Cistern:Remove wc cistern complete including disconnect, cut back and seal off supply and overflow pipework and make good to plasterwork and decorate to match existing.","NO",30.33,4.3499999999999996]
[null,"630559","PL","WC CISTERN:RENEW OVERFLOW","WC Cistern:Renew polypropylene overflow pipe to cistern, disconnect, remove existing overflow pipe fit new overflow pipe, including fittings, clips, cut and make good holes and finishes as necessary.","NO",45.13,6.15]
[null,"630571","PL","WC CISTERN:OVERHAUL ANY TYPE","WC Cistern:Overhaul any type of cistern, if necessary renew any parts including lid, remake joints, including turn off/on water supply, test on completion and leave cistern in working order.","IT",21.99,11.59]
[null,"630573","PL","WC CISTERN/PAN:OVERHAUL ANY TYPE","WC Cistern/Pan:Overhaul any type of wc suite, renew, overhaul or refix any parts, remake connections,  check flushing operation, repair leaks, test, wc suite in working order, remove waste and debris.","IT",58.96,17.39]
[null,"630601","PL","SUITE:RENEW OR INSTALL MACERATOR 5M","Suite:Supply/install or renew proprietary macerator system to wc suite, [PC Sum of £310.00] 20AMP DP fused switch, all cabling, mini trunking, MCB, RCD, pipework to SVP ne 5.0m, test, make good.","IT",601.72,168.81]
[null,"630603","PL","SUITE:RENEW OR INSTALL MACERATOR 10M","Suite:Supply/install or renew proprietary macerator system to wc suite, [PC Sum of £310.00] 20AMP DP fused switch, all cabling, mini trunking, MCB, RCD, pipework to SVP ne 10.0m, test, make good","IT",637.16999999999996,191.13]
[null,"630605","PL","MACERATOR:OVERHAUL ANY TYPE","Macerator:Overhaul any type of macerator in accordance with manufacturer’s instructions, disconnect/reconnect electricity supply, flush out, test and remove waste and debris.","IT",36.18,5]
[null,"630701","PL","BASIN:RENEW ON BRACKETS COMPLETE TAPS","Basin:Renew wash hand basin size ne 560x406mm complete with brackets, taps, waste, service valves,chain, trap, make all connections, test, splashback, silicone sealant, crossbond.","NO",193.75,121]
[null,"630703","PL","BASIN:RENEW COMPLETE WITH PEDESTAL TAPS","Basin:Renew wash hand basin size ne 560x406mm complete with pedestal, taps, waste, service valves,chain, trap, make all connections, test, splashback, silicone sealant, crossbond.","NO",222.81,139.66]
[null,"630705","PL","BASIN:RENEW PEDESTAL ONLY","Basin:Renew any wash hand basin pedestal, turn water off and on, remove, refix wash hand basin renew pedestal, reconnect to pipework, service valves, sealant, make good crossbond.","NO",78.56,47.38]
[null,"630707","PL","BASIN:DISCONNECT AND REMOVE","Basin:Remove basin including brackets/pedestal complete, disconect and seal off pipework.","NO",27.73,4.3499999999999996]
[null,"630713","PL","BASIN:REFIX WASH HAND BASIN","Basin:Refix wash hand basin, turn off water and on disconnect, refix basin onto bracket, renew brackets if necessary, make connections, services valves, and test all joints, remake crossbond.","NO",52.44,16.07]
[null,"630715","PL","BASIN:RENEW PLUG AND CHAIN","Basin:Renew rubber plug and chain to basin and secure to stud.","NO",3.32,0.72]
[null,"630717","PL","BASIN:RENEW CP WASTE FITTING","Basin:Renew 32mm chromium plated waste fitting to wash hand basin, complete with plug and chain, bed and fix new waste and make connection to trap, and test all newly made joints on completion.","NO",14.26,3.86]
[null,"630719","PL","BASIN:RENEW CP POP-UP WASTE","Basin:Renew 32mm chromium plated pop-up waste fitting to basin, with rod cover, fixing rod, bed, fix new waste, make connection to trap, connect pop-up fitting, test, remove/refix pedestal.","NO",25.24,9.65]
[null,"630721","PL","BASIN:OVERHAUL CP POP-UP WASTE","Basin:Overhaul 32mm chromium plated pop-up waste fitting to basin, renew any parts, rebed, remake connection to trap, reconnect pop-up fitting and test, remove and refix pedestal.","NO",19.940000000000001,4.3499999999999996]
[null,"630731","PL","BASIN:RENEW ON BRACKETS COMPLETE MIXERS","Basin:Renew wash hand basin size ne 560x406mm complete with brackets, mixer, waste, service valves,chain, trap, make all connections, test, splashback, silicone sealant, crossbond.","NO",238.55,170.99]
[null,"630733","PL","BASIN:RENEW COMPLETE WITH PEDESTAL MIXER","Basin:Renew wash hand basin size ne 560x406mm complete with pedestal, mixer, waste, service valves,chain, trap, make all connections, test, splashback, silicone sealant, crossbond.","NO",267.60000000000002,189.65]
[null,"630801","PL","WALL:REMOVE AND REFIX WASHBASIN IN ASSOCIATION","Wall:Remove, set aside, store and later refix washbasin and any pedestal in conjunction with specialist treatment works, turn water off/on, splashback, sealant, crossbond, make good.","IT",53.09,1.1299999999999999]
[null,"630901","PL","BATH:RENEW 1700MM STEEL WITH TAPS","Bath:Renew upto 1700mm heavy duty steel bath complete with taps, waste, plug, chain, trap service valves, bath panels, splashback, silicone sealant, make all connections, crossbond, test.","NO",440.07,232.2]
[null,"630909","PL","BATH:RENEW 1700MM ACRYLIC WITH TAPS","Bath:Renew upto 1700mm long 8mm thick Acrylic bath complete with taps, waste, plug, chain, service valves, bath panels, splashback, silicone sealant, connections, crossbond, test.","NO",451.77,259.49]
[null,"630917","PL","BATH:REMOVE AND REFIX","Bath:Remove and refix bath after access for other Contractors, remove/refix panels, framing, skirting, drain/refill system, disconnect, reconnect all pipework, service valves, test, sealant, make good","NO",91.56,24]
[null,"630919","PL","BATH:RENEW PLUG AND CHAIN","Bath:Renew plug and chain to bath and securely fix to stud or overflow fitting.","NO",3.45,0.85]
[null,"630921","PL","BATH:RENEW 42MM CP WASTE","Bath:Renew 42mm chromium plated waste fitting to bath complete with plug and chain, reconnect to trap and overflow, test, remove/refix bath panel framing and skirting etc. as required for access.","NO",33.51,12.73]
[null,"630923","PL","BATH:RENEW 42MM CP WASTE OVERFLOW","Bath:Renew 42mm chromium plated waste and overflow fitting to bath with plug and chain, remove/refix bath, panel, framing etc, bed, fix, connect new waste and overflow, test, make good, renew sealant","NO",61.69,22.71]
[null,"630925","PL","BATH:REGRIND AND REPOLISH NE 1800MM","Bath:Prepare, regrind and repolish completely any steel or cast iron bath ne 1800mm long, including removing/refixing all fittings etc.","NO",96.6,0]
[null,"630927","PL","BATH:TOUCH UP CHIP","Bath:Prepare and touch up chip to any steel or cast iron bath including removing/refixing all fittings as necessary.","IT",39.9,0]
[null,"630929","PL","BATH:RE-ENAMEL","Bath:Prepare, grind, re-enamel and repolish completely any steel or cast iron bath.","IT",85.05,0]
[null,"630931","PL","BATH:RENEW 42MM CP POP-UP WASTE","Bath:Renew 42mm chromium plated pop-up waste to bath complete with rod, cover and fixing rod, bed fix, connect waste, connect pop-up fitting, test, remove/refix bath panel, framing, etc for access.","NO",30.02,14.43]
[null,"630933","PL","BATH:RENEW 42MM CP POP-UP WASTE OVERFLOW","Bath:Renew 42mm chromium plated waste and overflow to bath complete with rod, cover and fixing rod, bed fix, connect waste and pop-up fitting, test, remove/refix bath panel, framing, etc for access.","NO",39.97,16.59]
[null,"630935","PL","BATH:OVERHAUL CP POP-UP WASTE","Bath:Overhaul 42mm chromium plated pop-up waste fitting to bath, renew any parts, rebed, remake connection to trap, reconnect pop-up fitting, test, remove/refix bath panel, etc for access.","NO",19.940000000000001,4.3499999999999996]
[null,"630937","PL","BATH:RENEW 1700MM STEEL WITH SHOWER MIXER","Bath:Renew upto 1700mm heavy duty steel bath complete with shower mixer, waste, plug, chain, trap service valves, bath panels, splashback, silicone sealant, make all connections, crossbond, test.","NO",474.21,274.13]
[null,"630939","PL","BATH:RENEW 1700MM ACRYLIC  WITH SHOWER MIXER","Bath:Renew upto 1700mm long 8mm thick Acrylic bath complete with shower mixer, waste, plug, chain, service valves, bath panels, splashback, silicone sealant, connections, crossbond, test.","NO",485.9,301.42]
[null,"630941","PL","BATH:RENEW 1700MM STEEL SHOWER MIXER - WET AREA","Bath:Renew upto 1700mm heavy duty steel bath complete with shower mixer, waste, plug, chain, trap service valves, bath panels, wet area tiling, silicone sealant, make all connections, crossbond, test.","NO",730.41,364.36]
[null,"630943","PL","BATH:RENEW 1700MM ACRYLIC SHOWER MIXER - WET AREA","Bath:Renew upto 1700mm long 8mm thick Acrylic bath complete with shower mixer, waste, plug, chain, service valves, bath panels, wet area tiling, silicone sealant, connections, crossbond, test.","NO",741.49,391.65]
[null,"631101","PL","SHOWER TRAY:RENEW FIRECLAY COMPLETE","Shower Tray:Renew shower tray with ne 830x830x180mm glazed fireclay shower tray, anti-slip finish with cp waste, connect to waste pipe, seal joint, make good, refix rails, doors etc.","NO",272.27999999999997,147.56]
[null,"631103","PL","SHOWER TRAY:RENEW ACRYLIC COMPLETE","Shower Tray:Renew shower tray with ne 830x830x260mm acrylic shower tray, anti-slip finish with with cp waste, connect to waste pipe, seal joint, make good, refix rails, doors etc.","NO",232.56,123.43]
[null,"631105","PL","SHOWER:OVERHAUL MIXING VALVE","Shower:Overhaul mixing valve complete including disconnect and remove and dismantle, repair and renew parts as necessary, reassemble, reconnect to existing pipework and test, make good to all finishes","NO",21.08,0.28999999999999998]
[null,"631107","PL","SHOWER:RENEW THERMOSTATIC MIXING VALVE","Shower:Renew any thermostatic mixing valve including disconnect and remove existing, fix new including adjust and or extend all pipework and reconnect and test, make good to all finishes.","NO",201.85,183.66]
[null,"631108","PL","SHOWER:RENEW THERMOSTATIC LOW FLOW MIXING VALVE","Shower:Renew any thermostatic mixing valve with 6-9 litres per second aerating low flow type, disconnect, remove existing, fix new  adjust and or extend all pipework, reconnect, test, make good.","NO",328.19,310]
[null,"631109","PL","SHOWER:RENEW NON-THERMOSTATIC MIX VALVE","Shower:Renew any non-thermostatic mixing valve including disconnect and remove existing, fix new, adjust and or extend all pipework and reconnect and test, make good to all finishes.","NO",118.42,100.23]
[null,"631110","PL","SHOWER:RENEW NON-THERMOSTATIC MIX VALVE LOW FLOW","Shower:Renew any non-thermostatic mixing valve with 6-9 litres per second aerating low flow type, disconnect, adjust and or extend all pipework and reconnect and test, make good to all finishes.","NO",223.19,205]
[null,"631111","PL","SHOWER:RENEW HOSE AND SPRAY","Shower:Renew any shower hose and spray including remove old and fix new and connect to mixing valve.","IT",28.37,20.57]
[null,"631113","PL","SHOWER:RENEW ARM AND SPRAY HEAD","Shower:Renew any shower arm and spray head including disconnect and remove old and fix new head and reconnect existing pipework.","IT",29.5,21.71]
[null,"631115","PL","SHOWER:RENEW SWIVEL PATTERN HEAD","Shower:Renew any swivel pattern shower head including disconnect and remove old and fix new head and reconnect existing pipework.","IT",21.33,13.54]
[null,"631117","PL","SHOWER:RENEW ROSE SPRAY HEAD","Shower:Renew any rose spray shower head including disconnect and remove old and fix new head and reconnect existing pipework.","IT",14.47,6.67]
[null,"631119","PL","SHOWER:RENEW SHOWER KIT","Shower:Renew shower kit comprising slide bar, handspray and flexible tube, disconnect and remove old and fit new kit and reconnect existing pipework.","IT",94.25,70.87]
[null,"631121","PL","SHOWER:OVERHAUL SHOWER HEAD","Shower:Overhaul and clean out shower head including remove and refix as necessary.","NO",7.94,0.14000000000000001]
[null,"631123","PL","SHOWER:RENEW RAILS AND CURTAINS","Shower:Renew any size and type of shower rail and curtain, remove any defective rails, fix new rails with plastic plugs and matching non-ferrous screws remove and rehang curtains, make good finishes.","IT",70.22,59.83]
[null,"631125","PL","SHOWER:RENEW CURTAIN","Shower:Renew any type of shower curtain to existing rails including remove and refix rails as found expedient.","IT",27.52,23.37]
[null,"631127","PL","SHOWER:RENEW SHOWER SLIDE BAR","Shower:Renew shower slide bar, disconnect and remove old and fit new slide bar to wall.","IT",30.08,14.49]
[null,"631129","PL","SHOWER:RENEW RAILS","Shower:Renew any size and type of shower rail including remove defective rails, fix new rails with plastic plugs and matching non-ferrous screws, remove and rehang curtains, make good to all finishes.","IT",46.71,36.32]
[null,"631135","PL","SHOWER:INSTALL OR RENEW PUMPED WASTE PREPARATION","Shower:Supply and install or renew pumped waste preparation for any type of shower tray, all to be installed in accordance with the manufacturers instructions.","NO",182.18,161.38999999999999]
[null,"631137","PL","SHOWER:INSTALL OR RENEW AUTOMATIC PUMP KIT","Shower: Supply and install or renew automatic pump kit for any type of shower tray, all to be installed in accordance with the manufacturers instructions.","NO",251.53,230.74]
[null,"631139","PL","SHOWER:INSTALL OR RENEW SURGE DAMPER","Shower: Supply and install or renew surge damper for any type of any type of shower tray, all to be installed in accordance with the manufacturers instructions.","NO",133.72999999999999,112.94]
[null,"631141","PL","SHOWER:INSTALL LEVEL ACCESS SHOWER TRAY ","Shower:Supply and install level access shower tray, curtain, ceiling track, tray recessed into floor, gravity waste,  connections, remove waste and debris. [PC Sum  £320.00 excluding VAT]","NO",550,88.87]
[null,"631301","PL","TAP:RENEW PAIR BASIN PILLAR TAPS","Tap:Renew pair 15mm cp pillar taps to basin, turn off/on water supply, disconnect, remove old, connect new taps, including remove and refix securely basin if required, test on completion.","IT",56.49,30.51]
[null,"631303","PL","TAP:RENEW PAIR BASIN TAPS-CERAMIC DISC","Tap:Renew pair 15mm cp ceramic disc pillar taps to basin, turn off/on water supply, disconnect, remove old, connect new taps, including remove and refix securely basin if required, test.","IT",65.67,39.69]
[null,"631309","PL","TAP:RENEW PAIR BATH PILLAR TAPS","Tap:Renew pair of 22mm cp pillar taps to bath, turn off/on water supply, remove bath panel and studding to gain access, refix on completion, test and made good.","IT",71.48,32.51]
[null,"631311","PL","TAP:RENEW PAIR BATH TAPS-CERAMIC DISC","Tap:Renew pair of 22mm cp ceramic disc pillar taps to bath, turn off/on water supply, remove/refix bath panel and studding to gain access, test and made good.","IT",110.46,71.489999999999995]
[null,"631313","PL","TAP:RENEW PAIR HIGHNECK SINK PILLAR TAPS","Tap:Renew pair 15mm cp high neck pillar taps to sink top, turn off/on water supply, remove old, connect new taps, test on completion.","IT",79.47,43.1]
[null,"631315","PL","TAP:RENEW PAIR HIGH NECK SINK TAPS-CERAMIC DISC","Tap:Renew pair 15mm cp ceramic disc high neck pillar taps to sink top, turn off/on water supply, remove old, connect new taps, test on completion.","IT",90.5,54.12]
[null,"631319","PL","TAP:RENEW BRASS BIB TAP","Tap:Renew 15mm brass bib tap and backplate elbow fixed to wall or backboard with hose union loose key head and draincock, non return valve including locate, turn off/on water mains supply, test.","NO",43.9,20.51]
[null,"631321","PL","TAP:OVERHAUL ANY TYPE OF TAP","Tap:Overhaul any type of tap, dismantle and renew any parts, reseating, repacking gland, resecure tap, cleaning down stem, reassemble, and packing gland and test on completion.","NO",10.61,0.22]
[null,"631335","PL","TAP:RENEW BATH MIXER","Tap:Renew mixer tap to bath, turn off/on water supply, remove/refix bath panel and studding to gain access, test and made good.","IT",86.97,58.39]
[null,"631337","PL","TAP:RENEW BATH MIXER WITH SHOWER ATTACHMENT","Tap:Renew mixer tap with shower hose attachment to bath, turn off/on water supply, remove/refix bath panel and studding to gain access, test and made good.","IT",105.62,74.44]
[null,"631339","PL","TAP:RENEW SINK MIXER","Tap:Renew mixer tap to sink top, turn off/on water supply, make all necessary connections to existing pipework, and test on completion.","IT",67.28,43.89]
[null,"631341","PL","TAP:INSTALL EXTERNAL BRASS BIB TAP","Tap:Install external brass bib tap fixed to wall or backboard, hose union, head, draincock and valve, including extend service pipework, lag, builders work, make good etc.","NO",58.27,19.3]
[null,"631353","PL","TAP:RENEW BASIN MIXER","Tap:Renew mixer tap to basin, turn off water supply, make all necessary connections existing pipework, reinstate water supply and test on completion.","IT",69.180000000000007,38]
[null,"631355","PL","TAP:OVERHAUL ANY TYPE OF MIXER","Tap:Overhaul any type of mixer, dismantle and renew any parts, reseating, repacking gland, resecure tap, cleaning down stem, reassemble, and packing gland and test on completion.","IT",36.68,2.9]
[null,"631361","PL","TAPS:CONVERT BASIN TO LEVERS - PAIR","Taps:Convert existing pair of taps to washhand basin to lever taps with proprietary conversion kit, remove old tap heads, connect new tap heads to existing, reinstate water supply, test, make good.","IT",86.76,71.17]
[null,"631363","PL","TAPS:CONVERT SINK TO LEVERS - PAIR","Taps: Convert existing pair of taps to sink to lever taps with proprietary conversion kit, remove old tap heads, connect new tap heads to existing taps, reinstate water supply, test, make good.","IT",75.37,59.78]
[null,"631365","PL","TAPS:CONVERT BATH TO LEVERS - PAIR","Taps: Convert existing pair of taps to bath to lever taps with proprietary conversion kit, remove old tap heads, connect new tap heads to existing taps, reinstate water supply, test, make good.","IT",107.16,91.57]
[null,"631371","PL","TAPS:RENEW KITCHEN SINK PAIR LOW FLOW 3-4 L/S","Taps:Renew pair of 15mm Kitchen sink taps with pair of 3-4 litres per second aerating low flow taps,  turn off/on water, install, seal, test on completion, and remove waste and debris.","NO",128.36000000000001,91.98]
[null,"631373","PL","TAPS:RENEW WASH BASIN PAIR LOW FLOW 2-3 L/S","Taps:Renew pair of 15mm wash basin taps with pair of 2-3 litres per second aerating low flow taps, turn off/on water, install, seal, test on completion, and remove waste and debris.","NO",106.48,80.5]
[null,"631401","PL","MIXER:RENEW THERMOSTATIC TO BATH","Mixer:Renew thermostatic mixer tap to bath, turn off/on water supply, remove/refix bath panel and studding to gain access, adjust thermostat, test and make good.","IT",260.79000000000002,240]
[null,"631403","PL","MIXER:RENEW THERMOSTATIC TO BATH SHOWER ATTACHMENT","Mixer:Renew thermostatic mixer tap with shower hose attachment to bath, turn off/on water supply, remove/refix bath panel and studding for access, adjust thermostat, test and make good.","IT",305.79000000000002,285]
[null,"631405","PL","MIXER:RENEW THERMOSTATIC TO SINK","Mixer:Renew thermostatic mixer tap to sink, turn off /on water supply, adjust thermostat, test and make good.","IT",230.79,210]
[null,"631407","PL","MIXER:RENEW BASIN MIXER","Mixer:Renew thermostatic mixer tap to basin, turn off/on water supply, , adjust thermostat, test and make good.","IT",205.79,185]
[null,"631409","PL","MIXER:OVERHAUL ANY TYPE OF THERMOSTATIC","Mixer:Overhaul any type of thermostatic mixer, dismantle and renew any parts, reseating, repacking gland, resecure mixer, cleaning down stems, reassemble, test on completion.","IT",41.98,3]
[null,"631501","PL","SEALANT:RENEW TO SIDES AND ENDS OF BATH","Sealant:Renew sanitaryware silicone sealant to side and ends of bath providing watertight joint.","IT",8.44,1.88]
[null,"631503","PL","SEALANT:RENEW TO SHOWER TRAY","Sealant:Renew sanitaryware silicone sealant to sides of shower tray providing watertight joint.","IT",8.44,1.88]
[null,"631505","PL","SEALANT:RENEW TO BASIN OR SINK","Sealant:Renew sanitaryware silicone sealant to sides of basin or sink to provide watertight joint","IT",3.13,0.94]
[null,"631507","PL","SEALANT:APPLY TO WORKTOP AND WALL","Sealant:Seal joint between worktop and wall with silicone sealant.","LM",3.13,0.94]
[null,"631515","PL","SEALANT:PVC TRIM TO BATH","Sealant:Replace existing sealant to side and ends of bath with PVCU quadrant or flexible cover trim fixed to bath and tiles with sanitaryware silicone sealant, rake out existing defective sealant.","IT",14.65,3.7]
[null,"631701","PL","WORKTOP:FIT ALUMINIUM JOINT UPSTAND STRIP","Worktop:Provide and fix new proprietary aluminium joint strip between worktop and wall.","LM",12.14,5.57]
[null,"631703","PL","WORKTOP:FIT PVC JOINT UPSTAND STRIP","Worktop:Provide and fix proprietary PVC joint strip between worktop and wall.","LM",6.76,2.38]
[null,"631901","PL","WASHING MACHINE:FORM NEW WASTE OUTLET","Washing Machine:Cut in existing 40mm waste pipe and make connection for waste from washing machine including washing machine trap and securely fixed stand pipe.","IT",57.78,11.01]
[null,"631903","PL","WASHING MACHINE:SUPPLY VALVES OR STOP TAPS","Washing Machine:Supply and fix hot and cold water washing machine valves, adapt and extend existing pipework ne 1m, install in line stop taps to hot and cold water supply pipes, make joints, test.","IT",71.2,8.84]
[null,"631905","PL","WASHING MACHINE:RENEW INDIVIDUAL VALVE","Washing Machine:Renew individual washing machine valve including turn water off/on, drain and refill, remove and connect new valve to existing pipework, adapt pipes, make joints, test.","NO",17.29,1.7]
[null,"631907","PL","WASHING MACHINE:RENEW PAIR STOP TAPS","Washing Machine:Renew or supply and fix new pair of in line stop taps including turn water off/on, drain/refill, fix new stop taps to existing pipework, adapt pipes, make joints, test.","IT",34.57,3.39]
[null,"635001","PL","PIPE:RENEW OR INSTALL 15MM COPPER","Pipe:Renew or fix new any 15mm diameter pipe with copper pipe fixed with clips and including all made bends, connectors, fittings and any adaptors for jointing to pipes of other material.","LM",18.54,2.4300000000000002]
[null,"635003","PL","PIPE:RENEW OR INSTALL 22MM COPPER","Pipe:Renew or fix new any 22mm diameter pipe with copper pipe fixed with clips and including all made bends, connectors, fittings and any adaptors for jointing to pipes of other material.","LM",22.54,4.6100000000000003]
[null,"635005","PL","PIPE:RENEW OR INSTALL 28MM COPPER","Pipe:Renew or fix new any 28mm diameter pipe with copper pipe fixed with clips and including all made bends, connectors, fittings and any adaptors for jointing to pipes of other material.","LM",27.36,6.57]
[null,"635013","PL","PIPE:RENEW PLASTIC CLIP TO COPPER PIPE","Pipe:Renew or supply and fix pipe clip for any diameter copper pipe including plugging and screwing as necessary.","NO",3.48,0.88]
[null,"635015","PL","PIPE:RENEW OR PROVIDE BLANK CAP","Pipe:Renew or provide blank cap to up to 22mm diameter copper pipe, including jointing to pipe, test.","NO",5.29,1.1299999999999999]
[null,"635301","PL","TEE:INSTALL 15MM TO EXISTING COPPER PIPEWORK","Tee:Cut into any existing copper service pipework and fix new 15mm tee for installation extension.","NO",7.26,0.51]
[null,"635303","PL","TEE:INSTALL 22MM TO EXISTING COPPER PIPEWORK","Tee:Cut into any existing copper service pipework and fix new 22mm tee for installation extension.","NO",10.220000000000001,2.95]
[null,"635305","PL","TEE:INSTALL 28MM TO EXISTING COPPER PIPEWORK","Tee:Cut into any existing copper service pipework and fix new 28mm tee for installation extension.","NO",12.07,3.24]
[null,"640001","PL","BURST:REPAIR BURST PIPE NE 28MM","Burst:Turn off/on water supply, drain down, renew ne 1.00m length of any pipe, excluding lead, ne 28mm diameter including all bends, connectors, fittings, reinstate pipe lagging, test.","NO",51.74,30.95]
[null,"640003","PL","BURST:REPAIR LEAKING FITTING NE 28MM","Burst:Turn off/on water supply, drain down, remove leaking/defective fitting of any type ne 28mm diameter, prepare existing pipework and renew fitting reinstate pipe lagging and test.","NO",36.26,25.87]
[null,"640005","PL","BURST:REPAIR TO LEAD PIPE","Burst:Isolate water supply, drain down , cut out section of existing lead pipe, insert proprietary compression couplings and length of PVC pipe in repair to pipe, reinstate water supply, relag, test.","NO",54.04,22.86]
[null,"640101","PL","GREY WATER:ANNUAL INSPECTION 1 WC SYTEM","Grey Water:Annual inspection of 1 WC grey water harvesting system, check operation, check filters and header tank, clean out and flush system, check pump operation, test, remove waste and debris","IT",67.36,5]
[null,"640103","PL","GREY WATER:ANNUAL INSPECTION 2 WC SYTEM","Grey Water:Annual inspection of 2 WC grey water harvesting system, check operation, check filters and header tank, clean out and flush system, check pump operation, test, remove waste and debris","IT",84.95,7]
[null,"640201","PL","GREY WATER:PERIODIC INSPECTION","Grey Water:Periodic inspection of WC grey water harvesting system, check pre-tank, pump and control panel filters, clean out and flush system, check pump operation, test, remove waste and debris","IT",51.77,5]
[null,"640301","PL","RAINWATER:ANNUAL INSPECTION 1 WC SYTEM","Rainwater:Annual inspection of 1 WC rainwater harvesting system, check operation, check filters and header tank, clean out and flush system, check operation","IT",62.16,5]
[null,"640303","PL","RAINWATER:ANNUAL INSPECTION 2 WC SYTEM","Rainwater:Annual inspection of 2 WC rainwater harvesting system, check operation, check filters and header tank, clean out and flush system, check operation of pump, test and remove waste and debris","IT",79.75,7]
[null,"640401","PL","RAINWATER:PERIODIC INSPECTION","Rainwater:Periodic inspection of WC rainwater harvesting system, check pre-tank, pump and control panel filters, clean out and flush system, check operation of pump, test and remove waste and debris","IT",46.57,5]
[null,"640501","PL","RAINWATER:RENEW OR INSTALL NE250 LITRE WATER BUTT","Rainwater: Renew or provide and install ne 250 litre water butt, including tap, reconnect hose, adaptations to existing rainwater pipes, all builders work, test, and remove waste and debris.","NO",170.97,131.99]
[null,"640503","PL","RAINWATER:RENEW OR INSTALL NE500 LITRE WATER BUTT","Rainwater: Renew or provide and install over 250 and ne 500 litre water butt, tap, reconnect hose, adaptations to existing rainwater pipes, all builders work, test, and remove waste and debris.","NO",225.35,162.99]
[null,"640505","PL","RAINWATER:RENEW OR INSTALL 20M HOSE","Rainwater:Renew or provide and install wall mounted plastic hose 20,m long connect to water butt complete with nozzle and remove waste and debris.","IT",35.39,25]
[null,"640601","PL","WALL:REMOVE AND REFIX WC SUITE IN ASSOCIATION","Wall:Remove, set aside, store, later refix WC and cistern in conjunction with specialist treatment works. new service valve new fittings, cone and multikwick, adjust or refix wc seat, make good.","IT",46.91,0.14000000000000001]
[null,"645007","PL","INSULATION:REMOVE EXISTING FROM PIPE","Insulation:Remove existing insulation including securing wires complete to any diameter pipe.","LM",1.04,0]
[null,"645101","PL","INSULATION:RENEW UPTO 22MM PIPE","Insulation:Renew or supply preformed insulation to any pipe not exceeding 22mm diameter, fix preformed split cellular insulation section to pipework with adhesive tape.","LM",4.3899999999999997,1.27]
[null,"645103","PL","INSULATION:RENEW TO 28MM PIPE","Insulation:Renew or supply preformed insulation to any pipe not exceeding 28mm diameter, fix preformed split cellular insulation section to pipework with adhesive tape.","LM",4.58,1.46]
[null,"650001","PL","STOPCOCK:RENEW 15MM DIAMETER","Stopcock:Renew 15mm stopcock connected to any type of pipework including locate supply and turn water off/on, drain down/refill, adjust pipework as necessary and test.","NO",29.65,6.26]
[null,"650003","PL","STOPCOCK:RENEW 20MM DIAMETER","Stopcock:Renew 20mm stopcock connected to any type of pipework including locate supply and turn water off/on, drain down/refill, adjust pipework as necessary and test.","NO",42.4,19.010000000000002]
[null,"650005","PL","STOPCOCK:RENEW 22MM DIAMETER","Stopcock:Renew 22mm stopcock connected to any type of pipework including locate supply and turn water off/on, drain down/refill, adjust pipework as necessary and test.","NO",34.08,10.7]
[null,"650007","PL","STOPCOCK:RENEW 25MM DIAMETER","Stopcock:Renew 25mm stopcock connected to any type of pipework including locate supply and turn water off/on, drain down/refill, adjust pipework as necessary and test.","NO",53.79,30.4]
[null,"650009","PL","STOPCOCK:RENEW 28MM DIAMETER","Stopcock:Renew 28mm stopcock connected to any type of pipework including locate supply and turn water off/on, drain down/refill, adjust pipework as necessary and test.","NO",49.36,25.98]
[null,"650013","PL","STOPCOCK:OVERHAUL ANY SIZE AND TYPE","Stopcock:Overhaul any size and type of stopcock including turn water off/on, drain down/refill as required, repack, reseat stopcock, deburr spindle and test.","NO",21.51,0.72]
[null,"655001","PL","GATEVALVE:RENEW 15MM DIAMETER","Gatevalve:Renew 15mm gatevalve connected to any type of pipework including locate supply and turn water off/on, drain down/refill, adjust pipework as necessary and test.","NO",29.09,5.71]
[null,"655003","PL","GATEVALVE:RENEW 22MM DIAMETER","Gatevalve:Renew 22mm gatevalve connected to any type of pipework including locate supply and turn water off/on, drain down/ refill, adjust pipework as necessary and test.","NO",30.39,7]
[null,"655005","PL","GATEVALVE:RENEW 28MM DIAMETER","Gatevalve:Renew 28mm gatevalve connected to any type of pipework including locate supply and turn water off/on, drain down/ refill, adjust pipework as necessary and test.","NO",31.58,8.1999999999999993]
[null,"655009","PL","GATEVALVE:OVERHAUL ANY SIZE AND TYPE","Gatevalve:Overhaul any size and type of gatevalve including turn water off/on, drain down/refill as required, repack, reseat gatevalve, deburr spindle and test.","NO",21.51,0.72]
[null,"655101","PL","CHECK VALVE:RENEW OR INSTALL 15MM DIAMETER","Check Valve:Renew or install 15mm diameter check valve connected to any type of pipework, locate supply, turn water off/on, drain down/refill, adjust pipework, test.","NO",57.06,33.67]
[null,"656001","PL","SERVICE VALVE:RENEW OR INSTALL 15MM","Service Valve:Renew or install 15mm isolating or slot or screw operated service valve connected to any type of pipework, locate supply, turn water off/on, drain down/refill, adjust pipework, test.","NO",24.78,1.39]
[null,"656003","PL","SERVICE VALVE:RENEW OR INSTALL 22MM","Service Valve:Renew or install 22mm isolating or slot or screw operated service valve connected to any type of pipework, locate supply, turn water off/on, drain down/refill, adjust pipework, test.","NO",25.71,2.33]
[null,"656005","PL","SERVICE VALVE:OVERHAUL ANY SIZE OR TYPE","Service Valve:Overhaul any size and type of service valve including turn water off/on, drain down/refill as required, repack and test.","NO",20.93,0.14000000000000001]
[null,"657001","PL","BALLOFIX VALVE:RENEW OR INSTALL 15MM","Ballofix Valve:Renew or install any type 15mm Ballofix valve with and including handle connected to any type of pipework, locate supply, turn water off/on, drain down/refill, adjust pipework, test.","NO",31.13,7.74]
[null,"657003","PL","BALLOFIX VALVE:RENEW OR INSTALL 22MM","Ballofix Valve:Renew or install any type 22mm Ballofix valve with and including handle connected to any type of pipework, locate supply, turn water off/on, drain down/refill, adjust pipework, test.","NO",31.91,8.52]
[null,"657005","PL","BALLOFIX VALVE:RENEW OR INSTALL 28MM","Ballofix Valve:Renew or install any type 28mm Ballofix valve with and including handle connected to any type of pipework, locate supply, turn water off/on, drain down/refill, adjust pipework, test.","NO",80.239999999999995,49.06]
[null,"660001","PL","DRAINCOCK:RENEW NE 19MM DRAINCOCK","Draincock:Renew ne 19mm copper to copper draincock on service pipework from tank or cylinder in conjunction with associated work or whilst system drained down.","NO",12.06,4.2699999999999996]
[null,"660101","PL","SURESTOP:INSTALL 15MM TO RISING MAIN","Surestop:Install 15mm “surestop” to main, turn off/on water, install surestop valve, fix switch to any surface, fix 2m flexible tubing,  test operation of switch, make good, remove waste and debris.","IT",71.180000000000007,40]
[null,"660103","PL","SURESTOP:INSTALL 22MM TO RISING MAIN","Surestop:Install 22mm “surestop” to main, turn off/on water, install surestop valve, fix switch to any surface, fix 2m flexible tubing,  test operation of switch, make good, remove waste and debris.","IT",85.78,52]
[null,"660105","PL","SURESTOP:INSTALL 15MM TO HOT OR COLD PIPE","Surestop:Install 15mm “surestop” to pipe, turn off/on water, install surestop valve, fix switch to any surface, fix 2m flexible tubing,  test operation of switch, make good, remove waste and debris.","IT",68.58,40]
[null,"660107","PL","SURESTOP:INSTALL 22MM TO HOT OR COLD PIPE","Surestop:Install 22mm “surestop” to pipe, turn off/on water, install surestop valve, fix switch to any surface, fix 2m flexible tubing,  test operation of switch, make good, remove waste and debris.","IT",83.18,52]
[null,"665001","PL","TANK:RENEW WITH NE 113LTR PLASTIC","Tank:Renew any type with ne 113 litres plastic tank, lid, jacket, ballvalve and float Byelaw 30 kit, turn water off/on, drain/refill system, adjust, connect pipework, remove old tank, test.","IT",128.04,65.680000000000007]
[null,"665003","PL","TANK:RENEW WITH NE 227LTR PLASTIC","Tank:Renew any type with over 113 and ne 227 litres plastic tank, lid, jacket, Byelaw 30 kit, turn water off/on, drain/refill system, adjust and connect pipework, remove old tank, test.","IT",144.63,74.47]
[null,"665005","PL","TANK:RENEW 15MM BALLVALVE","Tank:Renew 15mm ballvalve to cold water storage tank and transfer or renew float as necessary.","NO",24.25,8.66]
[null,"665007","PL","TANK:RENEW 22MM BALLVALVE","Tank:Renew 22mm ballvalve to cold water storage tank and transfer or renew float as necessary.","NO",33.83,18.239999999999998]
[null,"665009","PL","TANK:RENEW 28MM BALLVALVE","Tank:Renew 28mm ballvalve to cold water storage tank and transfer or renew float as necessary.","NO",48.24,27.45]
[null,"665011","PL","TANK:REPAIR LEAK TO TANK OR FITTING","Tank:Turn off/on supply, drain off and repair leak to cold water tank or copper service pipe coupling and remake joints with new fitting as necessary, refill tank and test on completion.","NO",21.09,2.9]
[null,"665015","PL","TANK:DRAIN CLEAN OUT AND REFILL CWST TANK","Tank:Isolate supply and drain down ne 227 litre cold water storage tank, thoroughly clean out, reinstate water supply, refill tank and test on completion.","NO",20.79,0]
[null,"665017","PL","TANK:REPAIR BALLVALVE AND FLOAT","Tank:Repair any ballvalve including remove ballvalve, overhaul, renew washer and seat, refix ballvalve and or renew float if defective, refill and test.","NO",10.54,0.14000000000000001]
[null,"665019","PL","TANK:RENEW 19MM OVERFLOW","Tank:Renew tank overflow ne 6m long in roof space with 19mm plastic pipe and fittings including cut any holes in structure or finishes, make good and test.","IT",45.05,6.07]
[null,"665021","PL","TANK:RENEW LID TO NE 18 LITRE FEED AND EXPANSION","Tank:Renew or provide new proprietary tank lid to feed and expansion tank not exceeding 18 litre capacity","IT",17.64,7.25]
[null,"665023","PL","TANK:RENEW LID TO NE 113 LITRE CWST TANK","Tank:Renew or provide new proprietary tank lid to cold water storage tank not exceeding 113litre capacity","IT",23.43,13.04]
[null,"665025","PL","TANK:RENEW LID TO 227 LITRE CWST TANK","Tank:Renew or provide new proprietary tank lid to cold water storage tank 227litre capacity","IT",27.78,17.39]
[null,"670001","PL","TANK:RENEW INSULATION TO NE 113 LITRE","Tank:Renew insulating jacket set fixed securely to cold water storage tank, not overeeding 113 litres.","NO",12.51,5.94]
[null,"670003","PL","TANK:RENEW INSULATION TO NE 227 LITRE","Tank:Renew insulating jacket set fixed securely to cold water storage tank, over 113 and not exceeding 227 litres.","NO",15.98,9.42]
[null,"675001","PL","CYLINDER:RENEW DIRECT INSULATED NEW HEATER","Cylinder:Turn off/on supply, drain down/refill, renew with ne 144 litre direct copper pre-insulated cylinder, remake connections, vent and test system, new immersion, remake all bonding.","NO",374.73,312.37]
[null,"675003","PL","CYLINDER:RENEW DIRECT INSULATED REFIX HEATER","Cylinder:Turn off/on supply, drain down/refill, renew with ne 144 litre direct copper pre-insulated cylinder, remake connections, vent and test system, refix immersion, remake all bonding.","NO",358.79,301.63]
[null,"675005","PL","CYLINDER:RENEW INDIRECT INSULATED NEW HEATER","Cylinder:Turn off/on supply, drain down/refill, renew with ne 140 litre indirect copper pre-insulated cylinder, remake connections, vent and test system, new immersion, remake all bonding.","NO",312.22000000000003,244.66]
[null,"675007","PL","CYLINDER:RENEW INDIRECT INSULATED REFIX HEATER","Cylinder:Turn off/on supply, drain down/refill, renew with ne 140 litre indirect copper pre-insulated cylinder, remake connections, vent and test system, refix immersion, remake all bonding.","NO",296.27999999999997,233.92]
[null,"675009","PL","CYLINDER:RENEW DIRECT JACKET NEW HEATER","Cylinder:Turn off/on supply, drain down/refill, renew with ne 144 litre direct copper cylinder, remake connections, vent and test system, new immersion, new jacket, remake all bonding.","NO",359.76,292.2]
[null,"675011","PL","CYLINDER:RENEW DIRECT JACKET REFIX HEATER","Cylinder:Turn off/on supply, drain down/refill, renew with ne 144 litre direct copper cylinder, remake connections, vent and test system, refix immersion, new jacket, remake all bonding.","NO",343.82,281.45999999999998]
[null,"675013","PL","CYLINDER:RENEW INDIRECT JACKET NEW HEATER","Cylinder:Turn off/on supply, drain down/refill, renew with ne 140 litre indirect copper cylinder, remake connections, vent and test system, new immersion, new jacket, remake all bonding.","NO",304.02999999999997,231.27]
[null,"675015","PL","CYLINDER:RENEW INDIRECT JACKET REFIX HEATER","Cylinder:Turn off/on supply, drain down/refill, renew with ne 140 litre indirect copper cylinder, remake connections, vent and test system, refix immersion, new jacket, remake all bonding.","NO",288.08999999999997,220.53]
[null,"675017","PL","CYLINDER:RENEW PRIMATIC JACKET NEW HEATER","Cylinder:Turn off/on supply, drain down/refill, renew with 117 litre primatic copper cylinder, remake connections, vent and test system, new immersion, new jacket, remake all bonding.","NO",542.13,479.77]
[null,"675019","PL","CYLINDER:RENEW PRIMATIC JACKET REFIX HEATER","Cylinder:Turn off/on supply, drain down/refill, renew with 117 litre primatic copper cylinder, remake connections, vent and test system, refix immersion, new jacket, remake all bonding.","NO",526.19000000000005,469.03]
[null,"675021","PL","CYLINDER:RENEW FORTIC DIRECT NEW HEATER","Cylinder:Turn off/on supply, drain down/refill, renew with ne 115 litre Fortic direct pre-insulated combination tank, remake connections, vent and test system, new immersion, bonding.","NO",484.93,412.18]
[null,"675023","PL","CYLINDER:RENEW FORTIC DIRECT REFIX HEATER","Cylinder:Turn off/on supply, drain down/refill, renew with ne 115 litre Fortic direct pre-insulated combination tank, remake connections, vent and test system, refix immersion, bonding.","NO",467.54,399.98]
[null,"675025","PL","CYLINDER:RENEW FORTIC INDIRECT NEW HEATER","Cylinder:Turn off/on supply, drain down/refill, renew with ne 115 litre Fortic indirect pre-insulated combination tank, remake connections, vent and test system, new immersion, bonding.","NO",507.84,440.28]
[null,"675027","PL","CYLINDER:RENEW FORTIC INDIRECT REFIX HEATER","Cylinder:Turn off/on supply, drain down/refill, renew with ne 115 litre Fortic indirect pre-insulated combination tank, remake connections, vent and test system, refix immersion, bonding.","NO",491.9,429.54]
[null,"675029","PL","CYLINDER:RENEW ECONOMY 7 NEW HEATERS","Cylinder:Turn off/on supply, drain down/refill, renew with Economy 7 hot water cylinder, remake connections, vent and test system, new top and bottom immersions and thermostats, remake bonding.","NO",446.38,368.43]
[null,"675031","PL","CYLINDER:RENEW ECONOMY 7 REFIX HEATERS","Cylinder:Turn off/on supply, drain down/refill, renew with Economy 7 hot water cylinder, remake connections, vent and test system, refix top and bottom immersions and thermostats, remake bonding.","NO",415.34,342.59]
[null,"675033","PL","CYLINDER:RENEW ELSON TANK NEW HEATERS","Cylinder:Turn off/on supply, drain down/refill, renew with ne 144 litre Elson combination tank, remake connections, vent and test system, new top, bottom immersions, thermostats, bonding.","NO",1100.52,1006.98]
[null,"675035","PL","CYLINDER:RENEW ELSON TANK REFIX HEATERS","Cylinder:Turn off/on supply, drain down/refill, renew with ne 144 litre Elson combination tank, remake connections, vent and test system, refix immersions and thermostats, bonding.","NO",1069.49,981.14]
[null,"675037","PL","CYLINDER:RENEW LEAKING FITTING","Cylinder:Renew/remake leaking joint to fitting to copper cylinder and test upon completion.","NO",13.29,2.9]
[null,"675039","PL","CYLINDER:REPAIR LEAK","Cylinder:Drain down copper cylinder, remove jacket, shelves etc., prepare, wipe patch to repair leak, refill, vent and test system, refix jacket, and test on completion.","NO",35.44,3.22]
[null,"675041","PL","CYLINDER:DRAIN DESCALE FLUSH OUT","Cylinder:Isolate electricity supply, drain down/refill cylinder, remove/refix jacket, shelves etc., remove, descale, flush out, refix cylinder, vent and test system, reconnect electricity, test.","NO",54.86,2.9]
[null,"675043","PL","CYLINDER:RENEW FLANGE","Cylinder:Isolate supply, drain down/refill copper cylinder, remove/refix jacket, shelves etc., disconnect, clear away and renew immersion heater flange, vent and test system.","NO",55.57,29.58]
[null,"675045","PL","CYLINDER:SUPPLY PAIR ISOLATING VALVES","Cylinder:Isolate supply, drain down as necessary and insert pair of isolating valves to hot water cylinder circuit, reinstate supply, fill, vent and test.","IT",58.69,11.92]
[null,"675047","PL","CYLINDER:SERVICE PRESSURISED CYLINDER","Cylinder:Carry out service to any size/type of pressurised hot water cylinder.","NO",31.18,0]
[null,"675049","PL","CYLINDER:RENEW JACKET","Cylinder:Renew insulating jacket set fixed securely to cylinder.","NO",15.68,10.48]
[null,"677001","PL","PLUMBUNIT:RENEW STD DIR 227LTR COLD NE 144LTR HOT","Plumbunit:Renew any size or type of proprietary plumbing unit with preplumbed unit comprising ne 227 ltr cold water storage tank ne 144 ltr direct pre-insulated cylinder, complete.","NO",607.30999999999995,560.54]
[null,"677003","PL","PLUMBUNIT:RENEW STD DIR 227LTR COLD NE 210LTR HOT","Plumbunit:Renew any size or type of proprietary plumbing unit with preplumbed unit comprising ne 227 ltr cold water storage tank ne 210 ltr direct pre-insulated cylinder, complete.","NO",761.27,714.5]
[null,"677011","PL","PLUMBUNIT:RENEW STD IND 227LTR COLD NE 140LTR HOT","Plumbunit:Renew any size or type of proprietary plumbing unit with preplumbed unit comprising ne 227 ltr cold water storage tank ne 140 ltr indirect pre-insulated cylinder, complete.","NO",770.76,701.76]
[null,"677013","PL","PLUMBUNIT:RENEW STD IND 227LTR COLD NE 162LTR HOT","Plumbunit:Renew any size or type of proprietary plumbing unit with preplumbed unit comprising ne 227 ltr cold water storage tank ne 162 ltr indirect pre-insulated cylinder, complete.","NO",788.88,719.88]
[null,"677021","PL","PLUMBUNIT:ADAPTATION FOR SHOWER BOOSTER PUMP","Plumbunit:Extra over new proprietary prefabricated plumbing unit any type or size for shower booster pump factory fitted.","NO",483.99,452.81]
[null,"677023","PL","PLUMBUNIT:ADAPTATION FOR HEATING CONTROLS","Plumbunit:Extra over new proprietary prefabricated plumbing unit any type or size with indirect cylinder for central heating controls complete all factory fitted.","NO",192.63,181.13]
[null,"677025","PL","PLUMBUNIT:ADAPTATION FOR SEALED HEATING SYSTEM","Plumbunit:Extra over new proprietary prefabricated plumbing unit any type or size with indirect cylinder for adaptation to sealed central heating system all factory fitted.","NO",177.89,143.38999999999999]
[null,"679001","PL","CYLINDER:RENEW UNVENTED ECO 710 PRE-INSUL 190 LTR","Cylinder:Turn on/off supplies, renew 190 ltr unvented pre-insulated Economy 7 or 10 cylinder, valves, exp. vessel, 2 x 3 KW immersions, thermostat, connections, vent, test system, install , bonding.","NO",624.05999999999995,543.54]
[null,"679003","PL","CYLINDER:RENEW UNVENTED ECO 710 PRE-INSUL 210 LTR","Cylinder:Turn on/off supplies, renew 210 ltr unvented pre-insulated Economy 7 or 10 cylinder, valves, exp. vessel, 2 x 3 KW immersions, thermostat, connections, vent, test system, install , bonding.","NO",665.3,584.78]
[null,"679005","PL","CYLINDER:RENEW UNVENTED ECO 710 PRE-INSUL 250 LTR","Cylinder:Turn on/off supplies, renew 250 ltr unvented pre-insulated Economy 7 or 10 cylinder, valves, exp. vessel, 2 x 3 KW immersions, thermostat, connections, vent, test system, install , bonding.","NO",726.13,645.61]
[null,"679007","PL","CYLINDER:RENEW UNVENTED ECO 710 PRE-INSUL 300 LTR","Cylinder:Turn on/off supplies, renew 300 ltr unvented pre-insulated Economy 7 or 10 cylinder, valves, exp. vessel, 2 x 3 KW immersions, thermostat, connections, vent, test system, install , bonding.","NO",807.88,727.36]
[null,"679009","PL","CYLINDER:RENEW UNVENTED INDIRECT PRE-INSUL 190 LTR","Cylinder:Turn on/off supplies, renew 190 litre unvented pre-insulated cylinder complete with primary coil, dual thermostat, wiring centre, valves, exp vessel, connections, vent, test system, bonding.","NO",708.88,628.36]
[null,"679011","PL","CYLINDER:RENEW UNVENTED INDIRECT PRE-INSUL 210 LTR","Cylinder:Turn on/off supplies, renew 210 litre unvented pre-insulated cylinder complete with primary coil, dual thermostat, wiring centre, valves, exp vessel, connections, vent, test system, bonding.","NO",757.45,676.93]
[null,"679013","PL","CYLINDER:RENEW UNVENTED INDIRECT PRE-INSUL 250 LTR","Cylinder:Turn on/off supplies, renew 250 litre unvented pre-insulated cylinder complete with primary coil, dual thermostat, wiring centre, valves, exp vessel, connections, vent, test system, bonding.","NO",837.89,757.37]
[null,"679015","PL","CYLINDER:RENEW UNVENTED INDIRECT PRE-INSUL 300 LTR","Cylinder:Turn on/off supplies, renew 300 litre unvented pre-insulated cylinder complete with primary coil, dual thermostat, wiring centre, valves, exp vessel, connections, vent, test system, bonding.","NO",892.09,811.57]
[null,"679101","PL","CYLINDER:RENEW VENTED DIRECT INSULATED 100 LTR","Cylinder:Turn on/off supplies, renew 100 litre vented pre-insulated Dimplex Quantum cylinder with valves, immersion heaters, thermostat, expansion vessel, connections, vent, test system, bonding.","NO",745.82,665.3]
[null,"679103","PL","CYLINDER:RENEW VENTED DIRECT INSULATED 125 LTR","Cylinder:Turn on/off supplies, renew 125 litre vented pre-insulated Dimplex Quantum cylinder with valves, immersion heaters, thermostat, expansion vessel, connections, vent, test system, bonding.","NO",806.65,726.13]
[null,"679105","PL","CYLINDER:RENEW VENTED DIRECT PRE-INSULATED 150 LTR","Cylinder:Turn on/off supplies, renew 150 litre vented pre-insulated Dimplex Quantum cylinder with valves, immersion heaters, thermostat, expansion vessel, connections, vent, test system, bonding.","NO",888.4,807.88]
[null,"679107","PL","CYLINDER:RENEW VENTED DIRECT INSULATED 175 LTR","Cylinder:Turn on/off supplies, renew 175 litre vented pre-insulated Dimplex Quantum cylinder with valves, immersion heaters, thermostat, expansion vessel, connections, vent, test system, bonding.","NO",789.4,708.88]
[null,"679109","PL","CYLINDER:RENEW VENTED DIRECT INSULATED 210 LTR","Cylinder:Turn on/off supplies, renew 210 litre vented pre-insulated Dimplex Quantum cylinder with valves, immersion heaters, thermostat, expansion vessel, connections, vent, test system, bonding.","NO",837.97,757.45]
[null,"679111","PL","CYLINDER:RENEW VENTED DIRECT INSULATED 250 LTR","Cylinder:Turn on/off supplies, renew 250 litre vented pre-insulated Dimplex Quantum cylinder with valves, immersion heaters, thermostat, expansion vessel, connections, vent, test system, bonding.","NO",918.41,837.89]
[null,"679201","PL","CYLINDER:RENEW UNVENTED DIRECT INSULATED 100 LTR","Cylinder:Turn on/off supplies, renew 100 litre unvented pre-insulated Dimplex Quantum cylinder with valves, immersion heaters, thermostat, expansion vessel, connections, vent, test system, bonding.","NO",666.52,586]
[null,"679203","PL","CYLINDER:RENEW UNVENTED DIRECT INSULATED 125 LTR","Cylinder:Turn on/off supplies, renew 125 litre unvented pre-insulated Dimplex Quantum cylinder with valves, immersion heaters, thermostat, expansion vessel, connections, vent, test system, bonding.","NO",710.52,630]
[null,"679205","PL","CYLINDER:RENEW UNVENTED DIRECT INSULATED 150 LTR","Cylinder:Turn on/off supplies, renew 150 litre unvented pre-insulated Dimplex Quantum cylinder with valves, immersion heaters, thermostat, expansion vessel, connections, vent, test system, bonding.","NO",827.52,747]
[null,"679207","PL","CYLINDER:RENEW UNVENTED DIRECT PRE-INSUL 175 LTR","Cylinder:Turn on/off supplies, renew 175 litre unvented pre-insulated Dimplex Quantum cylinder with valves, immersion heaters, thermostat, expansion vessel, connections, vent, test system, bonding.","NO",888.52,808]
[null,"679209","PL","CYLINDER:RENEW UNVENTED DIRECT PRE-INSUL 210 LTR","Cylinder:Turn on/off supplies, renew 210 litre unvented pre-insulated Dimplex Quantum cylinder with valves, immersion heaters, thermostat, expansion vessel, connections, vent, test system, bonding.","NO",943.52,863]
[null,"679211","PL","CYLINDER:RENEW UNVENTED DIRECT PRE-INSUL 250 LTR","Cylinder:Turn on/off supplies, renew 250 litre unvented pre-insulated Dimplex Quantum cylinder with valves, immersion heaters, thermostat, expansion vessel, connections, vent, test system, bonding.","NO",1054.52,974]
[null,"680001","PL","SCALE REDUCER:SUPPLY MAGNETIC TYPE","Scale Reducer:Supply and install magnetic type scale reducer to cold water supply, locate, turn water off/on, drain down/refill system, cut pipe insert scale reducer unit, connections, test.","IT",61.81,46.22]
[null,"680003","PL","SCALE REDUCER:SUPPLY ELECTROLYTIC TYPE","Scale Reducer:Supply and install electrolytic type scale reducer to cold water supply, locate, turn water off/on, drain down/refill system, cut pipe insert scale reducer unit, connections, test.","IT",89.46,73.87]
[null,"680005","PL","SCALE REDUCER:SUPPLY CHEMICAL TYPE","Scale Reducer:Supply and install chemical in line scale reducer to cold water supply, locate, turn water off/on, drain down/refill system, cut pipe insert scale reducer unit, connections, test.","IT",130.04,83.27]
[null,"680007","PL","SCALE REDUCER:RECHARGE CHEMICAL TYPE","Scale Reducer:Gain access and recharge any type of chemical scale reducer.","IT",32.83,25.04]
[null,"680009","PL","SCALE REDUCER:ELECTRO MAGNETIC NON INTRUSIVE TYPE","Scale Reducer:Supply and install electronic Water King non intrusive type scale reducer locate, turn water off/on, drain down/refill system, test.","IT",126.45,118.65]
[null,"685001","PL","WATER HAMMER:CLEAR AND REMEDY AIRLOCK","Water Hammer:Clear water hammer in water system, check ballvalve and taps, including turn water supply off, drain as necessary reinstate water supply and test on completion, report to CR.","IT",31.18,0]
[null,"690001","PL","VOID:DRAIN DOWN HOT AND COLD WATER","Void:Drain down hot and cold domestic water system to void property.","IT",20.79,0]
[null,"690003","PL","VOID:REFILL HOT AND COLD WATER","Void:Refill hot and cold domestic water system to void property and check incoming water supply.","IT",46.77,0]
[null,"690005","PL","VOID:SAFETY CHECK HOT AND COLD WATER","Void:Carry out safety check of complete hot and cold water plumbing and waste installation to any void property and provide written report to the CR.","IT",23.39,0]
[null,"695001","PL","PANEL:REMOVE AND REFIX FOR CLIENT INSPECTIONS","Panel:Remove all panels and duct covers for access to concealed sanitary fittings and pipework to facilitate repairs and renewals and later refix (only claimable uopn specific instruction of CR).","NO",5.61,0.36]
[null,"696001","PL","TOILET ROLL HOLDER:RENEW CHROMIUM PLATED","Toilet Roll Holder:Renew or supply and fix new chromium plated toilet roll holder securely fixed to structure including plugging as necessary.","NO",25.64,19.95]
[null,"696003","PL","TOILET ROLL HOLDER:RENEW PLASTIC","Toilet Roll Holder:Renew or supply and fix new plastic toilet roll holder securely fixed to structure including plugging as necessary.","NO",15.14,9.4499999999999993]
[null,"696005","PL","TOWEL RAIL:RENEW","Towel Rail:Renew or supply and fix new chromium plated towel rail 610mm long securely fixed to structure including plugging as necessary.","NO",42.71,36.14]
[null,"696007","PL","TOWEL HOLDER:RENEW","Towel Holder:Renew or supply and fix new chromium plated two arm towel holder securely fixed to structure including plugging as necessary.","NO",36.049999999999997,29.49]
[null,"696009","PL","SOAP DISH:RENEW","Soap Dish:Renew or supply and fix new chromium plated soap dish, with concealed fixing, securely fixed to structure including plugging as necessary.","NO",18.899999999999999,13.21]
[null,"696011","PL","TOOTHBRUSH/TUMBLER HOLDER:RENEW","Toothbrush/Tumbler Holder:Renew or supply and fix new chromium plated toothbrush and tumbler holder with concealed fixing, securely fixed to structure including plugging as necessary.","NO",20.77,15.08]
[null,"696013","PL","DRYER:RENEW INTERNAL TIDYDRY","Dryer:Renew or supply and install Tidydry or other equal and approved 5 line internal clothes dryer and hook, both plugged and screwed to any background and make good to all finishes.","NO",62.09,53.34]
[null,"696015","PL","DRYER:REFIX INTERNAL TIDYDRY","Dryer:Refix Tidydry or similar 5 line internal clothes dryer and hook to any background and make good to all finishes.","NO",9.33,0.57999999999999996]
[null,"696017","PL","BATHROOM CABINET:RENEW","Bathroom Cabinet:Renew or supply and fix new lockable double bathroom/first aid cabinet of any type complete with shelves and two keys, remove unit, fix cabinet securely to structure make good.","NO",50.05,41.3]
[null,"696021","PL","GLASS SHELF:RENEW","Glass Shelf:Renew or supply and install new bathroom glass shelf ne 600mm long x 127mm wide to existing brackets.","NO",11.09,4.53]
[null,"696022","PL","GLASS SHELF:RENEW INCLUDING BRACKETS","Glass Shelf:Renew or supply and fix new bathroom glass shelf ne 600mm long x 127mm wide complete with chromium plated glass shelf brackets, brackets securely fixed to structure.","NO",37.33,20.7]
[null,"696023","PL","GLASS SHELF BRACKET:RENEW","Glass Shelf Bracket:Renew chromium plated glass shelf bracket, including remove, set aside and refix shelf as necessary, bracket securely fixed to structure including plugging as necessary.","NO",16.84,8.08]
[null,"696025","PL","BATHROOM:REFIX ANCILLARY","Bathroom:Securely refix any ancillary fitting, toilet roll holder, towel holder, soap dish, shelf, cabinet etc, having upto 4 No. screws, to structure of any background, make good.","NO",7.73,0.28999999999999998]
[null,"697001","PL","CLIENT INSPECTION:PLUMBING","Client Inspection:Undertake client inspection and testing etc and report to CR (any repairs required to be ordered must be instructed by CR)","IT",15.59,0]
[null,"698001","SP","FIRE EXTINGUISHER:RENEW 9LTR WATER","FireExtinguisher:Renew or supply and fix 9 litre water fire extinguisher (fire rating 13A) Class A fires, supply and fix bracket fixed to wall, and dispose of existing extinguisher to approved tip.","IT",66.739999999999995,56.34]
[null,"698003","SP","FIRE EXTINGUISHER:RENEW 9LTR FOAM","FireExtinguisher:Renew or supply and fix 9 litre foam fire extinguisher (fire rating 13A) Class A and B fires, supply and fix bracket fixed to wall, dispose of existing extinguisher to approved tip.","IT",100.54,90.15]
[null,"698005","SP","FIRE EXTINGUISHER:RENEW DRY POWDER 1KG","Fire Extinguisher:Renew or supply and fix 1kg capacity 12gm CO2 cartridge, Class A, B and C fires (fire rating 5A:34B) supply, fix bracket to any wall, dispose of existing to approved tip.","IT",44.2,33.81]
[null,"698007","SP","FIRE EXTINGUISHER:RENEW DRY POWDER 2KG","Fire Extinguisher:Renew or supply and fix 2kg capacity 28gm CO2 cartridge, Class A, B and C fires (fire rating 5A:34B) supply, fix bracket to any wall, dispose of existing to approved tip.","IT",59.36,48.97]
[null,"698009","SP","FIRE EXTINGUISHER:RENEW CARBON DIOXIDE","Fire Extinguisher:Renew or supply and fix 2kg capacity CO2 type with horn and hose, Class B fires (fire rating 34B) supply, fix bracket to any wall, dispose of existing to approved tip.","IT",89.45,79.05]
[null,"698011","SP","FIRE BLANKET:RENEW OR SUPPLY","Fire Blanket:Renew or supply and fix 1100x1100mm glassfibre blanket in GRP container, including fixing to any background and dispose of existing blanket to approved tip.","IT",30.93,22.17]
[null,"701001","HE","RADIATOR VALVE:RENEW VALVE AND DRAIN DOWN","Radiator Valve:Renew 15mm diameter handwheel or lockshield single entry radiator valve, drain down and vent system, reinstate water supply, install corrosion inhibitor, and test on completion.","IT",47.02,12.52]
[null,"701003","HE","RADIATOR VALVE:RENEW WHILST SYSTEM DRAINED","Radiator Valve:Renew 15mm diameter handwheel or lockshield single entry radiator valve whilst system is drained for associated work.","IT",9.8000000000000007,2.33]
[null,"701005","HE","RADIATOR VALVE:RENEW THERMOSTATIC AND DRAIN DOWN","Radiator Valve:Renew 15mm diameter thermostatic radiator valve, drain down and vent system, reinstate water supply, install corrosion inhibitor and test on completion.","IT",51.74,17.239999999999998]
[null,"701007","HE","RADIATOR VALVE:RENEW THERMOSTATIC SYSTEM DRAINED","Radiator Valve:Renew 15mm diameter thermostatic radiator valve whilst system is drained for associated work.","IT",13.95,7.05]
[null,"701011","HE","RADIATOR VALVE:OVERHAUL ANY TYPE","Radiator Valve:Overhaul any radiator valve, turn supplies off/on, drain down/refill, repack, reseat, deburr spindle, repair leaking valve, renew plastic cap, install corrosion inhibitor and test.","NO",46.86,12.36]
[null,"702001","HE","PUMP:RENEW WHERE ISOLATING VALVES FITTED","Pump:Shut off isolating valves and renew variable head type circulating pump, make all necessary connections to pipework and electrical supply and test on completion.","NO",93.05,67.180000000000007]
[null,"702003","HE","PUMP:RENEW INCLUDING SUPPLY ISOLATING VALVES","Pump:Shut down supply, drain down/refill and renew with variable head type circulating pump and pair of isolating valves, remake connections, adapt install corrosion inhibitor and test.","NO",164.87,113.12]
[null,"702005","HE","PUMP:SUPPLY NEW INCLUDING ISOLATING VALVES","Pump:Turn off/on water, drain down/refill, cut into pipework supply and connect new variable head type circulating pump, install pair of isolating valves, install corrosion inhibitor, test.","NO",177.1,113.85]
[null,"702007","HE","PUMP:SERVICE AND OVERHAUL","Pump:Turn off/on water, drain down/refill, disconnect/reconnect supplies and remove pump, service, overhaul, clean impellor, reconnect pump, install corrosion inhibitor, test.","NO",36.21,10.34]
[null,"702009","HE","PUMP:RENEW SINGLE PUMP VALVE","Pump:Locate and drain down system, disconnect, clear away and renew copper to copper central heating pump valve, reinstate supply, install corrosion inhibitor and test on completion.","NO",50.7,27.7]
[null,"702010","HE","PUMP:RENEW PAIR OF PUMP VALVES","Pump:Locate and drain down/refill system, disconnect, clear away and renew pair of copper to copper central heating isolating pump valves, install corrosion inhibitor and test.","NO",91.22,45.22]
[null,"702501","HE","MOTORISED VALVE:RENEW 22MM","Motorised Valve:Shut off valves, drain down/ refill, disconnect and renew up to 22mm three port motorised valve, make all connections, install corrosion inhibitor and test on completion.","NO",97.21,71.33]
[null,"702502","HE","MOTORISED VALVE:RENEW 28MM","Motorised Valve:Shut off valves, drain down/ refill, disconnect and renew up to 28mm three port motorised valve, make all connections, install corrosion inhibitor and test on completion.","NO",114.5,88.62]
[null,"702506","HE","MOTORISED VALVE:RENEW NE 28MM ACTIVATOR","Motorised Valve:Renew electric motor activator to any motorised or zone valve ne 28mm.","NO",49.74,41.11]
[null,"702511","HE","ZONE VALVE:RENEW 22MM","Zone Valve:Shut off valves and drain down/refill, disconnect and renew upto 22mm two way zone valve complete make all connections install corrosion inhibitor and test.","NO",91.75,65.87]
[null,"702512","HE","ZONE VALVE:RENEW 28MM","Zone Valve:Shut off valves and drain down/refill, disconnect and renew upto 28mm two way zone valve complete make all connections install corrosion inhibitor and test.","NO",110.48,84.61]
[null,"703001","HE","RADIATOR:VENT RADIATORS","Radiator:Vent all radiators to any property and balance system.","IT",28.75,0]
[null,"703003","HE","RADIATOR:DRAIN DOWN AND REFILL SYSTEM","Radiator:Drain down, reinstate water supply and refill complete system, install corrosion inhibitor, including venting radiators, balance and test system.","IT",79.19,10.19]
[null,"703005","HE","RADIATOR:MAKE GOOD CONNECTION","Radiator:Drain down radiator, make good faulty connection to valve, flush out, reinstate water supply, and refill, install corrosion inhibitor including venting and test.","NO",27.59,10.34]
[null,"703007","HE","RADIATOR:REMOVE AND REFIX VALVELESS","Radiator:Remove and refit valveless radiator drain/refill system, disconnect, remove, refix loose bracket(s), reconnect, fix pair of radiator valves, install corrosion inhibitor, vent, test.","IT",89.07,45.94]
[null,"703009","HE","RADIATOR:REMOVE AND REFIX","Radiator:Remove and refix radiator including shut off valves, drain radiator, disconnect, remove, refix loose bracket(s), refix and reconnect to valves, install corrosion inhibitor, vent, test.","IT",27.66,10.41]
[null,"703011","HE","RADIATOR:TEST AND BALANCE SYSTEM","Radiator:Fire up boiler, adjust controls to correct setting, vent radiators, test feed and expansion tank, cylinder and rectify minor leaks, complete heat test, balance out system, and test.","IT",69.430000000000007,0.43]
[null,"703013","HE","RADIATOR:RENEW AND REFIX BRACKET","Radiator:Renew or refix existing radiator bracket fixed to wall.","NO",19.010000000000002,4.63]
[null,"703015","HE","RADIATOR:CLEAN AND FLUSH OUT SINGLE","Radiator:Clean and flush out any size radiator, isolate supplies, drain down, remove to outside property, clean and flush out, refix radiator, refill, vent and test.","NO",33.19,10.19]
[null,"703017","HE","RADIATOR:RENEW SINGLE PANEL NE 600X600","Radiator:Shut off valves, drain down/refill, renew with single panel radiator and brackets ready primed ne 600x600mm, make all connections to valves, install corrosion inhibitor, vent, test.","IT",72.680000000000007,46.8]
[null,"703019","HE","RADIATOR:RENEW SINGLE PANEL NE 1200X600","Radiator:Shut off valves, drain down/refill, renew with single panel radiator and brackets ready primed ne 1200x600mm, make all connections to valves, install corrosion inhibitor, vent, test.","IT",104.41,78.540000000000006]
[null,"703021","HE","RADIATOR:RENEW SINGLE PANEL NE 1800X600","Radiator:Shut off valves, drain down/refill, renew with single panel radiator and brackets ready primed ne 1800x600mm, make all connections to valves, install corrosion inhibitor, vent, test.","IT",158.04,114.92]
[null,"703023","HE","RADIATOR:RENEW SINGLE PANEL OVER 1800X600","Radiator:Shut off valves, drain down/refill, renew with single panel radiator and brackets ready primed over 1800x600mm, make all connections to valves, install corrosion inhibitor, vent, test.","IT",218.04,169.17]
[null,"703025","HE","RADIATOR:RENEW SINGLE CONVECTOR NE 600X600","Radiator:Shut off valves, drain down/refill, renew with single panel convector radiator and brackets ready primed ne 600x600mm, make connections to valves, install corrosion inhibitor, vent, test.","IT",70.98,45.11]
[null,"703027","HE","RADIATOR:RENEW SINGLE CONVECTOR NE 1200X600","Radiator:Shut off valves, drain down/refill, renew with single panel convector radiator and brackets ready primed ne 1200x600mm, make connections to valves, install corrosion inhibitor, vent, test.","IT",98.66,72.78]
[null,"703029","HE","RADIATOR:RENEW SINGLE CONVECTOR NE 1800X600","Radiator:Shut off valves, drain down/refill, renew with single panel convector radiator and brackets ready primed ne 1800x600mm, make connections to valves, install corrosion inhibitor, vent, test.","IT",155.32,112.19]
[null,"703031","HE","RADIATOR:RENEW SINGLE CONVECTOR OVER 1800X600","Radiator:Shut off valves, drain down/refill, renew with single panel convector radiator and brackets ready primed over 1800x600mm, connect to valves, install corrosion inhibitor, vent, test.","IT",270.23,221.35]
[null,"703033","HE","RADIATOR:RENEW DOUBLE CONVECTOR NE 600X600","Radiator:Shut off valves, drain down/refill, renew with double panel convector radiator and brackets ready primed ne 600x600mm, make connections to valves, install corrosion inhibitor, vent, test.","IT",93.44,67.56]
[null,"703035","HE","RADIATOR:RENEW DOUBLE CONVECTOR NE 1200X600","Radiator:Shut off valves, drain down/refill, renew with double panel convector radiator and brackets ready primed ne 1200x600mm, make connections to valves, install corrosion inhibitor, vent, test.","IT",144.61000000000001,118.74]
[null,"703037","HE","RADIATOR:RENEW DOUBLE CONVECTOR NE 1800X600","Radiator:Shut off valves, drain down/refill, renew with double panel convector radiator and brackets ready primed ne 1800x600mm, make connections to valves, install corrosion inhibitor, vent, test.","IT",248.5,205.38]
[null,"703039","HE","RADIATOR:RENEW DOUBLE CONVECTOR OVER 1800X600","Radiator:Shut off valves, drain down/refill, renew with double panel convector radiator and brackets ready primed over 1800x600mm, connect to valves, install corrosion inhibitor, vent, test.","IT",444.05,395.17]
[null,"703201","HE","TOWEL RAIL:RENEW HEATED","Towel Rail:Shut off valves, drain, disconnect, clear away and renew heated towel rail, 645x625mm, 2338 BTU/hour, with brackets, make all connections to valves, vent, test.","IT",198.95,173.07]
[null,"704001","HE","AIRLOCKS:CLEAR AIRLOCKS","Airlocks:Clear airlocks from heating system including venting radiators and balance system or pressure pump.","IT",51.75,0]
[null,"704005","HE","REPRIME:REPRIME PRESSURISED SYSTEM COMPLETE","Reprime:Reprime pressurised system including vent and test system.","IT",20.13,0]
[null,"705001","HE","TANK:RENEW 18 LITRE FEED AND EXPANSION","Tank:Renew with 18 litre plastic feed and expansion cold water storage tank, lid, jacket, ballvalve, float Byelaw 30 kit, turn water off/on, drain/refill system, install corrosion inhibitor.","NO",149.24,68.739999999999995]
[null,"705003","HE","TANK:DRAIN CLEAN OUT REFILL FEED AND EXPANSION","Tank:Isolate supply and drain down 18 litre feed and expansion cold water storage tank thoroughly clean out, reinstate water supply, refill tank and install corrosion inhibitor test on completion.","NO",36.07,10.19]
[null,"706001","HE","TANK:RENEW INSULATION TO FEED AND EXPANSION","Tank:Renew insulating jacket set fixed securely to 18 litre feed and expansion cold water storage tank.","NO",9.19,2.62]
[null,"707001","HE","BACKBOILER:RENEW MILD STEEL COMPLETE","Backboiler:Renew high output mild steel back-boiler, remove/reinstate fire surround, hearth and fireback, drain/refill system, disconnect/remove/ install new backboiler, make good, inhibitor, test","NO",519.54,17.440000000000001]
[null,"707003","HE","BACKBOILER:DESCALE AND OVERHAUL","Backboiler:Descale, overhaul and clean pipes during backboiler renewal.","NO",18.7,1.45]
[null,"707005","HE","BACKBOILER:RESET THERMOSTAT","Backboiler:Reset thermostat to any backboiler when appliance is cold.","IT",11.5,0]
[null,"707007","HE","BACKBOILER:RENEW THERMOSTAT","Backboiler:Renew thermostat to any backboiler.","IT",42.76,19.760000000000002]
[null,"708001","HE","FIRE:RENEW ALL NIGHT BURNER","Fire:Renew with BCC approved all night burner, seal joints with asbestos free rope and fire cement complete, bedded in fireproof cement and remove spoil.","NO",251.89,217.39]
[null,"709001","HE","FLUE:INSTALL FLEXIBLE LINER COMPLETE","Flue:Supply and fix new stainless steel flue liner kit ne 7.62m long complete with clamp/plate, nose cone, draw cord and terminal including all necessary preparation work, make good.","IT",376.52,169.52]
[null,"709003","HE","FLUE:REMOVE FLUE LINER","Flue:Remove flexible flue liner from any flue and make good and clear away.","IT",80.23,1.45]
[null,"709007","HE","FLUE:RENEW VE CAST IRON PIPE BEND","Flue:Renew vitreous enamel cast iron flue pipe bend with access plate including remove existing, fix new including remake all joints and connections.","IT",90.16,47.04]
[null,"709009","HE","FLUE:RENEW 125MM STAINLESS STEEL PIPE","Flue:Renew 125mm stainless steel twin wall flue pipe ne 1.0m long including remove existing, fix new with clips, remake all joints and appliance connections.","IT",224.04,189.54]
[null,"709011","HE","FLUE:RENEW STAINLESS STEEL ELBOW","Flue:Renew 125mm stainless steel twin wall flue elbow including remove existing , fix new and remake all joints and connections.","IT",166.47,123.35]
[null,"709013","HE","FLUE:RENEW METAL SOFFIT PLATE","Flue:Renew metal soffit plate with perforation for flue, drill and screw to soffit of heater recess and make good.","IT",28.93,11.68]
[null,"709015","HE","FLUE:RENEW ALUMINIUM SOOT DOOR","Flue:Renew soot door with ne 225x225mm aluminium double soot door and frame to flue, remove existing, adjust size of opening to brick flue, bed frame in mortar, fix door and make good.","IT",76.48,41.47]
[null,"709017","HE","FLUE:FIX NEW ALUMINIUM SOOT DOOR","Flue:Fix new ne 225x225mm aluminium double soot door and frame to flue, cut opening in flue to suit, bed frame in mortar, fix door and make good.","IT",93.99,41.47]
[null,"710001","HE","BOILER:RENEW THERMOSTAT","Boiler:Renew thermostat to central heating boiler including make connections, make good finishes and test.","IT",30.18,15.81]
[null,"710003","HE","BOILER:RENEW ROOM THERMOSTAT","Boiler:Renew room thermostat to central heating system including make connections, make good finishes and test.","IT",33.43,21.93]
[null,"710005","HE","BOILER:RENEW PROGRAMMER","Boiler:Renew central heating programmer with microelectric time controller including make all connections and test.","IT",82.1,56.23]
[null,"710007","HE","BOILER:RENEW CENTRAL HEATING TIME CLOCK","Boiler:Renew central heating time clock including make all connections and test.","IT",73.97,50.97]
[null,"710009","HE","BOILER:REMEDY FAULT TO CONTROLS","Boiler:Remedy fault to central heating controls including test all wiring and components, check fuses and appliances, adjust controls, rectify minor faults, provide report to CR.","IT",23.72,0.72]
[null,"710011","HE","BOILER:RENEW ROOM THERMOSTAT – WIRELESS","Boiler:Renew existing with wireless room thermostat to central heating system including make connections, make good finishes and test, and remove waste and debris.","IT",39,27.5]
[null,"710013","HE","BOILER:RENEW PROGRAMMER – WIRELESS","Boiler:Renew existing with wireless central heating programmer with microelectric time controller including make all connections and test, and remove waste and debris.","IT",85,59.12]
[null,"711001","HE","BOILER:RENEW FREESTANDING MULTI-FUEL","Boiler:Renew with multi-fuel freestanding boiler/ roomheater, turn water off/on, drain down/refill, disconnect/remove/install new unit complete, reconnect, clean/sweep flue, make good, test.","IT",622.08000000000004,28.98]
[null,"711003","HE","BOILER:RENEW INSET MULTI-FUEL","Boiler:Renew with multi-fuel inset roomheater with boiler turn water off/on, drain down/refill, disconnect/remove/install new unit complete, reconnect, clean/sweep flue, make good, test.","IT",621.98,28.98]
[null,"712013","HE","BOILER:RENEW WITH PARKRAY 99-FREESTANDING","Boiler:Renew with Parkray 99 freestanding roomheater with boiler, turn water off/on, drain down/refill, disconnect/remove/install new unit complete, reconnect, clean/sweep flue, make good, test.","IT",753.68,28.98]
[null,"712015","HE","BOILER:RENEW WITH PARKRAY 99-INSET","Boiler:Renew with Parkray 99 inset roomheater with boiler, turn water off/on, drain down/refill, disconnect/remove/install new unit complete, reconnect, clean/sweep flue, make good, test.","IT",782.68,28.98]
[null,"712017","HE","BOILER:RENEW WITH PARKRAY 111-FREESTANDING","Boiler:Renew with Parkray 111 freestanding roomheater with boiler, turn water off/on, drain down/refill, disconnect/remove/install new unit complete, reconnect, clean/sweep flue, make good, test.","IT",814.18,28.98]
[null,"712019","HE","BOILER:RENEW WITH PARKRAY 111-INSET","Boiler:Renew with Parkray 111 inset roomheater with boiler, turn water off/on, drain down/refill, disconnect/remove/install new unit complete, reconnect, clean/sweep flue, make good, test.","IT",844.28,28.98]
[null,"713001","HE","VOID:DRAIN DOWN CENTRAL HEATING","Void:Drain down central heating water system to void property.","IT",14.38,0]
[null,"713003","HE","VOID:REFILL CENTRAL HEATING","Void:Refill central heating system to void and introduce approved rust inhibitor to system, fire up and test.","IT",61.94,10.19]
[null,"721001","HE","FIRE:REFIX LOOSE GAS FIRE","Fire:Remove if required and refix loose gas fire including turn supply off/on, remake joints to supply and flue, check operation, test and leave in working order.","NO",18.25,1]
[null,"721003","HE","FIRE:RENEW GAS FIRE","Fire:Renew focal gas fire complete, turn off/on supply, remove existing fire, inspect and connect flue plate, fix new fire, reconnect supply, adapt opening, test, make good.","IT",237.75,10]
[null,"721004","HE","FIRE:RENEW GAS FIRE WITH BACKBOILER","Fire:Renew gas fire, backboiler, turn off/on supplies, drain down/refill, renew fire, backboiler, inspect, connect flue plate, reconnect, adapt, test, inhibitor, make good.","IT",532,100]
[null,"721005","HE","FIRE:RENEW BALANCED FLUE GAS FIRE","Fire:Renew balanced flue focal gas fire, turn off/on supply, remove existing fire, inspect and connect flue plate, fix new fire, adapt opening and test, make good.","IT",611.26,47.26]
[null,"721007","HE","FIRE:SUPPLY AND FIX NEW GAS FIRE","Fire:Supply and fix new gas fire, inspect and connect flue plate, fix fire, connect to supply to nearest suitable point, adapt opening as necessary test, make good plaster, skirting, decorations.","IT",278.24,21.74]
[null,"721009","HE","FIRE:SUPPLY AND FIX NEW BALANCED FLUE GAS FIRE","Fire:Supply and fix new balanced flue gas fire inspect and connect flue plate, fix fire, connect to supply to nearest suitable point, adapt opening as necessary, test, make good.","IT",677.64,211.14]
[null,"721011","HE","FIRE:RENEW RADIANTS TO GAS FIRE","Fire:Renew radiants to any type of gas fire including dismantle as necessary, install new radiants to suit and reassemble and test on completion.","IT",35.75,30]
[null,"722001","HE","WATER HEATER:RENEW INSTANTANEOUS TO SINK","Water Heater:Renew instantaneous gas sink water heater including turn off supplies and remove existing heater, supply and fix new heater, adjust pipework, reconnect and test.","IT",168.38,99.38]
[null,"722003","HE","WATER HEATER:RENEW GAS MULTIPOINT TYPE","Water Heater:Renew multipoint gas water heater including turn off supplies and remove existing heater, supply and fix new heater, adjust pipework, reconnect and test.","IT",300.63,220.13]
[null,"722005","HE","WATER HEATER:SUPPLY GAS INSTANTANEOUS TO SINK","Water Heater:Supply and fix new instantaneous gas sink water heater, turn off/on supplies, drain down, refill, supply and fix new heater, adjust pipework test, cut balanced flue opening, make good.","IT",223.49,111.36]
[null,"722007","HE","WATER HEATER:SUPPLY GAS MULTIPOINT TYPE","Water Heater:Supply and fix new multipoint gas water heater turn off/on supplies, drain down, refill, supply and fix new heater, adjust pipework test, cut balanced flue opening, make good.","IT",351.05,230.3]
[null,"722101","HE","GAS COOKER:RESPONSE CALL-OUT","Gas Cooker:Response call-out to Client’s domestic gas cooker, locate fault, including any necessary testing and report to Client Representative.","IT",17.25,0]
[null,"722103","HE","GAS COOKER:RESPONSE AND RECTIFY CALL-OUT","Gas Cooker:Response call-out to Client’s domestic gas cooker, locate fault, test, minor renewals/repairs/remedial works to remedy fault (material cost allowance £35.00) and report to CR.","IT",105.34,50.72]
[null,"722121","HE","GAS COOKER UNIT:RENEW COMPLETE","Gas Cooker:Isolate supply, disconnect existing, clear away, supply and install new gas cooker complete, reconnect, carry out gas tests on cooker and pipework and leave in working order.","NO",380.3,0]
[null,"722123","HE","GAS HOB UNIT:RENEW COMPLETE","Gas Hob Unit:Isolate supply, disconnect existing, clear away, supply and install new 4 ring gas hob unit complete, reconnect, carry out gas tests on hob unit and pipework and leave in working order.","NO",344,0]
[null,"722131","HE","GAS COOKER:RENEW GRILLE PAN","Gas Cooker:Renew grille pan to domestic cooker.","NO",37.47,33.1]
[null,"722132","HE","GAS COOKER:RENEW GRILLE PAN GRID","Gas Cooker:Renew grille pan grid to domestic cooker.","NO",9.3800000000000008,5]
[null,"722133","HE","GAS COOKER:RENEW TOP PLATE","Gas Cooker:Renew top plate to domestic cooker.","NO",45.84,34.340000000000003]
[null,"722134","HE","GAS COOKER:RENEW CAKE TRAY","Gas Cooker:Renew cake tray to domestic cooker.","NO",11.55,7.17]
[null,"722135","HE","GAS COOKER:RENEW BURNER","Gas Cooker:Renew burner to domestic cooker.","NO",24.76,13.26]
[null,"722136","HE","GAS COOKER:RENEW CONTROL KNOB","Gas Cooker:Renew control knob to domestic cooker.","NO",9.9499999999999993,4.2]
[null,"722137","HE","GAS COOKER:RENEW DOOR HANDLE","Gas Cooker:Renew door handle to domestic cooker.","NO",17.14,11.39]
[null,"722138","HE","GAS COOKER:RENEW SELF CLEANING PANEL","Gas Cooker:Renew self cleaning panel to domestic cooker.","NO",29.96,18.46]
[null,"722139","HE","GAS COOKER:RENEW LIGHTER","Gas Cooker:Renew gas lighter to domestic cooker.","NO",18.010000000000002,6.51]
[null,"722141","HE","GAS COOKER:RENEW SUPPLY HOSE 500MM","Gas Cooker:Renew 500mm long proprietary gas supply hose with snap fit connectors to supply outlet and to domestic gas cooker.","NO",31.88,14.63]
[null,"722143","HE","GAS COOKER:RENEW SUPPLY HOSE 1000MM","Gas Cooker:Renew 1000mm long proprietary gas supply hose with snap fit connectors to supply outlet and to domestic gas cooker.","NO",39.93,22.68]
[null,"723101","HE","BOILER:ADDITIONAL MAKING GOOD NEW BOILER LOCATION","Boiler:Additional make good if new boiler is not located in same position as original heating source, make good, plasterwork, skirtings etc, redecorate walls or supply decorating voucher.","IT",133.5,30]
[null,"723201","HE","BOILER:RENEW WITH COMBINATION BOILER - EXISTING","Boiler:Renew central heating/hot water boiler with condensing combination boiler [Boiler, Flue and Fixing Jig PC Sum £600.00] with balanced flue in original position, upgrade installation to Sedbuk A","IT",1293.3599999999999,322.86]
[null,"723203","HE","BOILER:RENEW COMBINATION AND PRESSURE VESSEL","Boiler:Renew central heating/hot water boiler with PV combination boiler [Boiler, PV, Flue and Fixing Jig PC Sum £650.00] with balanced flue in original position, upgrade installation to Sedbuk A","IT",1313.86,322.86]
[null,"723205","HE","BOILER:RENEW WITH CONDENSING BOILER - EXISTING","Boiler:Renew central heating/hot water boiler with condensing boiler [Boiler, Flue and Fixing Jig PC Sum £600.00] with balanced flue in original position in dwelling, upgrade installation to Sedbuk A","IT",1293.3599999999999,322.86]
[null,"723301","HE","BOILER:RENEW WITH COMBINATION BOILER-NEW","Boiler:Renew central heating/hot water boiler with condensing combination boiler [Boiler, Flue and Fixing Jig PC Sum £600.00 with balanced flue in new position, upgrade installation to Sedbuk A","IT",1307.8499999999999,337.35]
[null,"723303","HE","BOILER:RENEW COMBINATION AND PRESSURE VESSEL-NEW","Boiler:Renew central heating/hot water boiler with PV combination boiler [Boiler,PV, Flue, Fixing Jig PC Sum £650.00] with balanced flue in new position in dwelling, upgrade installation to Sedbuk A.","IT",1351.35,337.35]
[null,"723305","HE","BOILER:RENEW WITH CONDENSING BOILER - NEW","Boiler:Renew central heating/hot water boiler with condensing boiler [Boiler, Flue and Fixing Jig PC Sum £600.00] with balanced flue in new position in dwelling, upgrade installation to Sedbuk A","IT",1376.85,337.35]
[null,"730001","HE","VOID:REMOVE ANY GAS APPLIANCE AND SEAL SUPPLY","Void:Remove any type of existing gas appliance and seal off supply.","IT",28.77,2.9]
[null,"730003","HE","VOID:BLANK OFF REDUNDANT POINT","Void:Blank off redundant gas point and test upon completion.","IT",10.8,2.17]
[null,"730005","HE","VOID:TEST AND COMMISSION CENTRAL HEATING SYSTEM","Void:Carry out all necessary tests and commission central heating system complete and leave in full working order.","IT",34.5,0]
[null,"730007","HE","VOID:CHECK AND TEST GAS INSTALLATION","Void:Carry out complete check and test on gas installation to any property and provide report to the Client Representative.","IT",23,0]
[null,"730009","HE","VOID:SAFETY CHECK AND TEST GAS INSTALLATION","Void:Carry out complete Landlords gas safety check, turn on and testing to all gas appliances and installation to any property and provide Landlords Gas Safety Check Report (CP12) to the CR.","IT",51.75,0]
[null,"730011","HE","VOID:TEMPORARY CAP GAS SUPPLY","Void:Temporary cap gas supply to void property, attend and remove cap on reoccupation of property, provide CP4 certificate to the CR.","IT",18.71,1.46]
[null,"740001","HE","GAS COOKER:DISCONNECT BAYONET TYPE SEAL MAKE SAFE","Gas Cooker:Isolate supply and disconnect any gas cooker (bayonet type fitting) and leave safe.","NO",8.77,0.14000000000000001]
[null,"740003","HE","GAS COOKER:DISCONNECT SEAL CAP MAKE SAFE","Gas Cooker:Isolate supply and disconnect any gas cooker, cap off supply pipework and leave safe.","NO",9.9,1.28]
[null,"740005","HE","GAS COOKER:RECONNECT WITH BAYONET TEST","Gas Cooker:Connect or reconnect any gas cooker with bayonet type fitting, test and leave in working order.","NO",6.9,0]
[null,"740007","HE","GAS COOKER:RECONNECT AND TEST","Gas Cooker:Connect or reconnect any gas cooker including removing temporary capping to supply, test and leave in working order.","NO",11.5,0]
[null,"740043","HE","GAS COOKER:RENEW STABILITY CHAIN","Gas Cooker:Renew or install gas cooker stability chain in accordance with the manufacturers instructions.","NO",9.69,1.89]
[null,"740045","HE","GAS COOKER:SUPPLY OR RENEW SUPPLY BAYONET FITTING","Gas Cooker:Isolate supply to any gas cooker point, remove existing fitting, renew or supply and fix new bent or straight bayonet socket fitting screwed to supply pipe, test and leave safe.","NO",13.66,2.16]
[null,"740047","HE","GAS COOKER:SUPPLY OR RENEW BAYONET AND EXTEND PIPE","Gas Cooker:Isolate supply to any gas point, remove existing fitting, extend existing supply pipe by up to 3.00m with copper pipe and fittings, fix bent or straight bayonet socket fitting, test.","NO",28.01,7.89]
[null,"741001","HE","BOILER CUPBOARD:CONSTRUCT","Boiler Cupboard:Construct cupboard complete with framing, door lining, stops, architraves and skirting to match existing,  flush door with all ironmongery plasterboard lining, make good, decorate.","IT",250,92.44]
[null,"760001","HE","RADIATOR:RELOCATE POSITION","Radiator:Isolate, drain down, remove,set aside radiator for reuse, cut back flow and return pipes, run new pipes to relocated position, refix radiator, connect to new pipes, refill, instal inhibitor.","IT",157.5,36.75]
[null,"760101","HE","POWER FLUSH:EXISTING HEATING SYSTEM","Power Flush:Undertake power flushing of existing heating systems when specifically instructed by Client Representative during installation of new boiler or whilst extending existing installation.","IT",126.5,0]
[null,"780101","HE","SOLID FUEL OR BIOMASS BOILER:ANNUAL SERVICE","Solid Fuel or Biomass Boiler:Undertake annual service, sweep chimney/flue, clean, wire  brush all parts, check operation, adjust, renew minor parts, clean fan, check and reset control settings, test","NO",153,15]
[null,"780201","HE","SOLID FUEL OR BIOMASS BOILER:BREAKDOWN NO PARTS","Solid Fuel or Biomass Boiler:Attend to breakdown, test operation of boiler, clean parts, air ducts and fan, check operation, adjust, check, reset controls, test.debris","IT",86.25,0]
[null,"780203","HE","SOLID FUEL OR BIOMASS BOILER:BREAKDOWN PARTS NE£10","Solid Fuel or Biomass Boiler:Attend to breakdown, test, check operation, minor renewals or repairs (material cost allowance £10.00) clean, reset, report to CR (can only be claimed if instructed by CR)","IT",94.25,8]
[null,"780205","HE","SOLID FUEL OR BIOMASS BOILER:BREAKDOWN PARTS NE£50","Solid Fuel or Biomass Boiler:Attend to breakdown, test, check operation, minor renewals or repairs (material cost allowance £50.00) clean, reset, report to CR (can only be claimed if instructed by CR)","IT",126.25,40]
[null,"780207","HE","SOLID FUEL/BIOMASS BOILER:BREAKDOWN PARTS NE£100","Solid Fuel or Biomass Boiler:Attend to breakdown, test, check operation, minor renewals or repairs (material cost allowance £100.0) clean, reset, report to CR (can only be claimed if instructed by CR)","IT",171.25,85]
[null,"780301","HE","UNDERFLOOR HEATING:INVESTIGATE AND REMEDY LEAKS","Underfloor Heating:Investigate leak, isolate/reconnect supplies, drain down/refill, take up/relay floor covering, boarding, insulation, remedy leak, corrosion inhibitor, adjust controls, test.","IT",168,30]
[null,"780401","HE","UNDERFLOOR HEATING: RENEW MANIFOLD 2 LOOP SYSTEM","Underfloor Heating:Renew 2 loop system manifold and control, isolate/reconnect supplies, drain down/refill, disconnect/reconnect/adjust pipework, renew  manifold, test, left in full working order","IT",505.33,427.7]
[null,"780403","HE","UNDERFLOOR HEATING: RENEW MANIFOLD 3 LOOP SYSTEM","Underfloor Heating:Renew 3 loop system manifold and control, isolate/reconnect supplies, drain down/refill, disconnect/reconnect/adjust  pipework, renew  manifold, test, left in full working order","IT",562.04999999999995,475.8]
[null,"780405","HE","UNDERFLOOR HEATING: RENEW MANIFOLD 4 LOOP SYSTEM","Underfloor Heating:Renew 4 loop system manifold and control, isolate/reconnect supplies, drain down/refill, disconnect/reconnect/adjust pipework, renew  manifold, test, left in full working order","IT",618.78,523.9]
[null,"800101","SP","PV SOLAR INSTALL ON ROOF:ANNUAL INSPECTION 3 PANEL","PV Solar Installation;Annual inspection and test 3 panel PV array installation, clean panels on roof, top up antifreeze, check for leaks,  check controls, trim branches, remove waste and debris.","IT",89,20]
[null,"800103","SP","PV SOLAR INSTALL ON ROOF:ANNUAL INSPECT 8-12 PANEL","PV Solar Installation;Annual inspection and test 8 -12 panel PV array installation, clean panels on roof, top up antifreeze, check for leaks,  check controls, trim branches, remove waste and debris.","IT",168,30]
[null,"800105","SP","PV SOLAR INSTAL ON ROOF:ANNUAL INSPECT 14-18 PANEL","PV Solar Installation;Annual inspection and test 14-18 panel PV array installation, clean panels on roof, top up antifreeze, check for leaks,  check controls, trim branches, remove waste and debris.","IT",224,40]
[null,"800201","SP","PV SOLAR INSTALL IN ROOF:ANNUAL INSPECT 3 PANEL","PV Solar Installation;Annual inspection and test 3 panel PV array installation, clean panels in roof, top up antifreeze, check for leaks,  check controls, trim branches, remove waste and debris.","IT",94.75,20]
[null,"800203","SP","PV SOLAR INSTALL IN ROOF:ANNUAL INSPECT 8-12 PANEL","PV Solar Installation;Annual inspection and test 8 -12 panel PV array installation, clean panels in roof, top up antifreeze, check for leaks,  check controls, trim branches, remove waste and debris.","IT",179.5,30]
[null,"800205","SP","PV SOLAR INSTAL IN ROOF:ANNUAL INSPECT 14-18 PANEL","PV Solar Installation;Annual inspection and test 14-18 panel PV array installation, clean panels in roof, top up antifreeze, check for leaks,  check controls, trim branches, remove waste and debris.","IT",241.25,40]
[null,"800301","SP","PV SOLAR INSTALLATION ON ROOF:OVERHAUL 3 PANEL","PV Solar Installation:Overhaul 3 panels PV array installation, clean moss, algae, guano etc off panels on roof, trim branches, top up antifreeze, check settings, test, remove waste and debris  ","IT",21.4,3]
[null,"800303","SP","PV SOLAR INSTALLATION ON ROOF:OVERHAUL 8-12 PANEL","PV Solar Installation:Overhaul 8-12 panels PV array installation, clean moss, algae, guano etc off panels on roof, trim branches, top up antifreeze, check settings, test, remove waste and debris  ","IT",20.05,2.8]
[null,"800305","SP","PV SOLAR INSTALLATION ON ROOF:OVERHAUL 14-18 PANEL","PV Solar Installation:Overhaul 14-18 panels PV array installation, clean moss, algae, guano etc off panels on roof, trim branches, top up antifreeze, check settings, test, remove waste and debris  ","IT",18.7,2.6]
[null,"800401","SP","PV SOLAR INSTALLATION IN ROOF:OVERHAUL 3 PANEL","PV Solar Installation:Overhaul 3 panels PV array installation, clean moss, algae, guano etc off panels in roof, trim branches, top up antifreeze, check settings, test, remove waste and debris  ","NO",23.13,3]
[null,"800403","SP","PV SOLAR INSTALLATION IN ROOF:OVERHAUL 8-12 PANEL","PV Solar Installation:Overhaul 8-12 panels PV array installation, clean moss, algae, guano etc off panels in roof, trim branches, top up antifreeze, check settings, test, remove waste and debris  ","NO",21.2,2.8]
[null,"800405","SP","PV SOLAR INSTALLATION IN ROOF:OVERHAUL 14-18 PANEL","PV Solar Installation:Overhaul 14-18 panels PV array installation, clean moss, algae, guano etc off panels in roof, trim branches, top up antifreeze, check settings, test, remove waste and debris  ","NO",19.28,2.6]
[null,"800501","SP","PV SOLAR PANEL:PERIODIC CLEANING","PV Solar Panel:Undertake periodic cleaning to PV solar panels (panel ne 1700 x 900mm), wash panels with ionised water to remove bird guano, remove waste and debris. (per panel)","NO",8.4,1.5]
[null,"800601","SP","PV SOLAR INSTALLATION ON ROOF:RENEW PANEL","PV Solar Installation:Renew ne 1700 x 900mm PV array panel on roof , disconnect , fix new panel, connect, top up antifreeze, check operation, test, remove waste and debris (per panel)","NO",519,450]
[null,"800701","SP","PV SOLAR INSTALLATION IN ROOF:RENEW PANEL","PV Solar Installation:Renew ne 1700 x 900mm PV array panel embedded in roof , disconnect , fix new panel, connect, top up antifreeze, check operation, test, remove waste and debris (per panel)","NO",586.25,500]
[null,"800801","SP","PV SOLAR PANEL:FIVE-YEAR INSPECTION","PV Solar Panel:Undertake five yearly electrical inspection to PV Solar panel installation, testing, certification and labelling, and provide written report to Client Representative.","IT",51.75,0]
[null,"800901","SP","PV SOLAR PANEL:RENEW INVERTER","PV Solar Panel:Renew inverter to PV Solar panel installation, disconnect, install new inverter (PC Sum for supply and delivery £800.00 excluding VAT), check operation, test, remove waste and debris.","NO",949,0]
[null,"800903","SP","PV SOLAR PANEL:RENEW IN LINE KWH METER","PV Solar Panel:Renew in line Kwh meter to PV Solar panel installation, disconnect, install new meter (PC Sum for supply and delivery £300.00 excluding VAT), check operation, test, remove waste/debris.","NO",381.75,0]
[null,"801101","SP","AIR SOURCE HEAT PUMPS:ANNUAL INSPECTION","Air Source Heat Pump:Undertake annual maintenance inspection of air source heat pump unit, clean surfaces of unit, check operation, pressure check, clean filters, test and leave in full working order","IT",74,5]
[null,"801103","SP","AIR SOURCE HEAT PUMPS:QUARTERLY INSPECTION","Air Source Heat Pump:Undertake quarterlyl inspection of air source heat pump unit, clean surfaces of unit, unit, clean filters, test and leave in full working order","IT",54.75,3]
[null,"801201","SP","AIR SOURCE HEAT PUMPS:CALLOUT – NO PARTS REQUIRED","Air Source Heat Pump:Attend to breakdown callout, inspect unit for visible damage, check operation of unit and inverter, test and leave in full working order.","IT",51.75,0]
[null,"801203","SP","AIR SOURCE HEAT PUMPS:CALLOUT–PARTS NE £10.00","Air Source Heat Pump:Attend to breakdown callout, inspect, check operation, minor renewals or repairs (material cost allowance £10.00) test, report to CR, (can only be claimed if instructed by CR).","IT",59.75,8]
[null,"801205","SP","AIR SOURCE HEAT PUMPS:CALLOUT–PARTS NE £50.00","Air Source Heat Pump:Attend to breakdown callout, inspect, check operation, minor renewals or repairs (material cost allowance £50.00) test, report to CR, (can only be claimed if instructed by CR).","IT",91.75,40]
[null,"801207","SP","AIR SOURCE HEAT PUMPS:CALLOUT–PARTS NE £150.00","Air Source Heat Pump:Attend to breakdown callout, inspect, check operation, minor renewals or repairs (material cost allowance £100.00) test, report to CR, (can only be claimed if instructed by CR).","IT",186.75,135]
[null,"801301","SP","AIR SOURCE HEAT PUMPS:RENEW INVERTER","Air Source Heat Pump:Renew inverter, disconnect, install new inverter (PC Sum for supply and delivery £300.00 excluding VAT), inspect, check operation, and inverter, test, leave in working order.","NO",399,0]
[null,"801401","SP","GROUND SOURCE HEAT PUMPS:CALLOUT–NO PARTS REQUIRED","Ground Source Heat Pump:Attend to breakdown callout, inspect unit for visible damage, check operation of unit and inverter, test and leave in full working order.","IT",51.75,0]
[null,"801403","SP","GROUND SOURCE HEAT PUMPS:CALLOUT–PARTS NE £50.00","Ground Source Heat Pump:Attend to breakdown callout, inspect, check operation, minor renewals or repairs (material cost allowance £50.00) test, report to CR, (can only be claimed if instructed by CR)","IT",91.75,40]
[null,"801501","SP","GROUND SOURCE HEAT PUMPS:RENEW INVERTER","Ground Source Heat Pump:Renew inverter, disconnect, install new inverter (PC Sum for supply and delivery £300.00 excluding VAT), inspect, check operation, and inverter, test, leave in working order.","IT",399,0]
[null,"801701","SP","SOLAR HOT WATER PANELS ON ROOF:ANNUAL INSPECTION","Solar Hot Water Panels:Annual inspection and test panel (each panel ne 2.00sm) to solar hot water installation, clean panels, check pump and controller, check for leaks, trim branches. (per panel)","NO",39.5,5]
[null,"801703","SP","SOLAR HOT WATER TUBES ON ROOF:INSPECTION 20 TUBES","Solar Hot Water Panels:Annual inspection and test 20 tube solar hot water evacuated tube installation, clean panels, check pump and controller, check for leaks, trim branches. (per panel)","NO",40.5,6]
[null,"801705","SP","SOLAR HOT WATER TUBES ON ROOF:INSPECTION 30 TUBES","Solar Hot Water Panels:Annual inspection and test 30 tube solar hot water evacuated tube installation, clean panels, check pump and controller, check for leaks, trim branches.","NO",47.25,7]
[null,"801801","SP","SOLAR HOT WATER PANEL:OVERHAUL PANEL","Solar Hot Water Panels:Overhaul panel (each panel ne 2.00sm) to solar hot water installation, clean panels, check solar hydaulic pump, controller operation, check settings controls, adjust.(per panel)","IT",38.5,4]
[null,"801803","SP","SOLAR HOT WATER TUBES ON ROOF:OVERHAUL 20 TUBES","Solar Hot Water Tubes:Overhaul 20 tube solar hot water evacuated tube collector installation,clean tubes, check solar hydaulic pump, controller operation, check settings controls, adjust.","IT",39.5,5]
[null,"801805","SP","SOLAR HOT WATER TUBES ON ROOF:OVERHAUL 30 TUBES","Solar Hot Water Tubes:Overhaul 30 tube solar hot water evacuated tube collector installation,clean tubes, check solar hydaulic pump, controller operation, check settings controls, adjust.","IT",46.25,6]
[null,"801901","SP","SOLAR HOT WATER PANEL:PERIODIC CLEANING","Solar Hot Water Panel:Undertake periodic cleaning to solar hot water panels (panel ne 2.00sm), wash panels with ionised water to remove bird guano, remove waste and debris.","IT",19.25,2]
[null,"801903","SP","SOLAR HOT WATER TUBES:PERIODIC CLEANING 20 TUBES","Solar Hot Water Panel:Undertake periodic cleaning to solar hot water evacuated tube installation (20 tubes), wash tubes with ionised water to remove bird guano, remove waste and debris.","IT",20.25,3]
[null,"801905","SP","SOLAR HOT WATER TUBES:PERIODIC CLEANING","Solar Hot Water Panel:Undertake periodic cleaning to solar hot water evacuated tube installation (30 tubes), wash tubes with ionised water to remove bird guano, remove waste and debris.","IT",24.13,4]
[null,"802001","SP","SOLAR HOT WATER HEATING:RENEW PUMP","Solar Hot Water Heating:Renew solar hydraulic pump, isolate supplies, disconnect pump, install new pump, reconnect supplies, test operation of pump, remove waste and debris.","IT",253.13,210]
[null,"802003","SP","SOLAR HOT WATER HEATING:RENEW CONTROLLER","Solar Hot Water Heating:Renew solar digital controller, isolate supplies, disconnect controller, install new controller, reconnect supplies, test operation of controller, remove waste and debris.","IT",159.5,125]
[null,"802101","PL","CYLINDER:RENEW 190 LITRE INSULATED SOLAR TWIN COIL","Cylinder:Turn off/on supply, drain down/refill, disconnect/reconnect, renew with 190 litre unvented pre-insulated Economy 7 or 10 direct cylinder complete, immersions, refill  test, bonding, test.","NO",565.1,486.9]
[null,"802105","PL","CYLINDER:RENEW 250 LITRE INSULATED SOLAR TWIN COIL","Cylinder:Turn off/on supply, drain down/refill, disconnect/reconnect, renew with 250 litre unvented pre-insulated Economy 7 or 10 direct cylinder complete, immersions, refill  test, bonding, test.","NO",716.33,624.33000000000004]
[null,"802201","PL","CYLINDER:RENEW INDIRECT 190 LITRE SOLAR TWIN COIL","Cylinder:Turn off/on supply, drain down/refill, disconnect/reconnect, renew with 190 litre unvented pre-insulated Economy 7 or 10 indirect cylinder complete, primary coil, refill  test, bonding, test.","NO",579.74,496.36]
[null,"802205","PL","CYLINDER:RENEW INDIRECT 250 LITRE SOLAR TWIN COIL","Cylinder:Turn off/on supply, drain down/refill, disconnect/reconnect, renew with 250 litre unvented pre-insulated Economy 7 or 10 indirect cylinder complete, primary coil, refill  test, bonding, test.","NO",731.54,633.79]
[null,"802501","SP","BUILDING MOUNTED WIND TURBINES:ANNUAL INSPECTION","Building Mounted Wind Turbines:Annual inspection and routine maintenance of building mounted wind turbine, check turbine, inverter operation, access equipment, clean blades, adjust controls.","IT",294.5,15]
[null,"802503","SP","BUILDING MOUNTED WIND TURBINES:PERIODIC INSPECTION","Building Mounted Wind Turbines:Periodic inspection, six monthly routine maintenance of building mounted wind turbine, check turbine, inverter operation, access equipment, setting controls.","IT",206,5]
[null,"802601","SP","MAST MOUNTED WIND TURBINES:ANNUAL INSPECTION","Mast Mounted Wind Turbines:Annual inspection and routine maintenance of mast mounted wind turbine, check turbine, inverter operation, access equipment, clean blades, oil changes etc, adjust controls.","IT",343.5,20]
[null,"802603","SP","MAST MOUNTED WIND TURBINES:PERIODIC INSPECTION","Mast Mounted Wind Turbines:Periodic inspection, six monthly routine maintenance of mast mounted wind turbine, check turbine, inverter operation, access equipment, oil changes etc, adjust controls.","IT",242,8]
[null,"802701","SP","BUILDING MOUNTED WIND TURBINES:OVERHAULS","Building Mounted Wind Turbines:Overhaul following breakdown, check operation of building mounted turbine, minor parts, access equipment, clean blades, check operation of inverter, adjust controls.","IT",221,20]
[null,"802801","SP","MAST MOUNTED WIND TURBINES:OVERHAULS NO PARTS","Mast Mounted Wind Turbines – Overhaul following breakdown, check operation of mast mounted turbine, minor parts, access equipment, clean blades, check operation of inverter, adjust controls.","IT",264,30]
[null,"802901","SP","BUILDING MOUNTED WIND TURBINES:MAJOR PARTS RENEWAL","Building Mounted Wind Turbines – Renew following breakdown major part to building mounted turbine system, (PC Sum for parts supply/delivery £500.00 excluding VAT), access equipment, test, reconnect.","IT",908,0]
[null,"803001","SP","MAST MOUNTED WIND TURBINES:OVERHAULS PARTS","Mast Mounted Wind Turbines – Renew following breakdown major part to mast mounted turbine system, (PC Sum for parts supply/delivery £500.00 excluding VAT), access equipment, test, reconnect.","IT",963,0]
[null,"810001","EL","HEATER:RENEW NE 1.7KW STORAGE HEATER","Heater:Isolate supply, disconnect existing, clear away and renew ne 1.7 kilowatt storage heater, make all connections, including fixing securely to wall, electrical tests and leave in working order.","NO",255.03,232.32]
[null,"810002","EL","HEATER:RENEW NE 0.6KW STORAGE TO BATHROOM","Heater:Isolate supply, disconnect existing, clear away and renew ne 0.6 kilowatt storage heater, make all connections, including fixing securely to wall, electrical tests and leave in working order.","NO",202.71,180]
[null,"810003","EL","HEATER:RENEW NE 2.6KW STORAGE HEATER","Heater:Isolate supply, disconnect existing, clear away and renew ne 2.6 kilowatt storage heater, make all connections, including fixing securely to wall, electrical tests and leave in working order.","NO",322.41000000000003,294.02999999999997]
[null,"810005","EL","HEATER:RENEW NE 3.4KW STORAGE HEATER","Heater:Isolate supply, disconnect existing, clear away and renew ne 3.4 kilowatt storage heater, make all connections, including fixing securely to wall, electrical tests and leave in working order.","NO",376.69,342.63]
[null,"811001","EL","HEATER:RENEW 1.7 AND 1.0KW COMBINED STORAGE","Heater:Isolate supply, disconnect existing, renew with combination storage and convector heater, ne 1.7 kilowatt storage and ne 1.0 kilowatt convector, make all connections, tests, make good.","NO",329.23,306.52]
[null,"811003","EL","HEATER:RENEW 2.6 AND 1.5KW COMBINED STORAGE","Heater:Isolate supply, disconnect existing, renew with combination storage and convector heater, ne 2.6 kilowatt storage and ne 1.5 kilowatt convector, make all connections, tests, make good.","NO",383.45,355.07]
[null,"811005","EL","HEATER:RENEW 3.4 AND 2.0KW COMBINED STORAGE","Heater:Isolate supply, disconnect existing, renew with combination storage and convector heater, ne 3.4 kilowatt storage and ne 2.0 kilowatt convector, make all connections, tests, make good.","NO",485.85,451.79]
[null,"813006","EL","HEATER:RENEW ANY PARTS TO STORAGE [PER HEATER]","Heater:Isolate supply, disconnect, clear away and renew all necessary parts to any size storage heater dismantle and reassemble storage heater and access covers, set or reset thermostat, tests.","IT",30.41,16.22]
[null,"813019","EL","HEATER:RESITE AND RECONNECT","Heater:Isolate supply, disconnect and resite storage heater, including dismantle and reassemble move to new site, secure to wall, and make all connections, reconnect, tests.","NO",29.01,2.9]
[null,"813021","EL","HEATER:DISCONNECT AND REMOVE","Heater:Isolate supply, disconnect and remove to secure store for subsequent re-use any night storage heater and make safe existing supply.","NO",24.88,2.17]
[null,"813035","EL","THERMOSTAT:RENEW ROOM TYPE TO ELECTRIC HEATING","Thermostat:Isolate supply, disconnect, clear away and renew high limit room thermostat, including make all connections and leave in working order.","NO",22.8,10.88]
[null,"813039","EL","HEATER:SERVICE ANY TYPE OF STORAGE HEATER","Heater:Attend property and carry out service to any type of electric storage heater including provision of minor parts as necessary, test and leave in working order.","NO",18.48,1.45]
[null,"814001","EL","HEATER:RENEW NE 0.75KW SPACE HEATER","Heater:Isolate/reconnect supply, renew with ne 0.75 KW low carbon high efficient energy cell space heater, make all connections, fixing securely to wall, electrical tests and leave in working order.","NO",456.86,434.87]
[null,"814003","EL","HEATER:RENEW NE 1.0KW SPACE TO BATHROOM","Heater:Isolate/reconnect supply, renew with ne 1.00 KW low carbon high efficient energy cell space heater, make all connections, fixing securely to wall, electrical tests and leave in working order.","NO",597.67999999999995,575.69000000000005]
[null,"814005","EL","HEATER:RENEW NE 1.25KW SPACE HEATER","Heater:Isolate/reconnect supply, renew with ne 1.25 KW low carbon high efficient energy cell space heater, make all connections, fixing securely to wall, electrical tests and leave in working order.","NO",656.07,634.08000000000004]
[null,"814007","EL","HEATER:RENEW NE 1.5KW SPACE HEATER","Heater:Isolate/reconnect supply, renew with ne 1.50 KW low carbon high efficient energy cell space heater, make all connections, fixing securely to wall, electrical tests and leave in working order.","NO",589.20000000000005,567.21]
[null,"815001","EL","FIRE:RENEW NE 2.5KW RADIANT FIRE","Fire:Isolate supply, disconnect, clear away and renew with ne 2.5 kilowatt focalpoint radiant fire, make all connections into spur box reconnect electricity, tests and leave in working order.","NO",133.44999999999999,107.9]
[null,"815003","EL","HEATER:RENEW 2.5KW FAN CONVECTOR HEATER","Heater:Isolate supply, disconnect, clear away and renew or install ne 2.5 kilowatt fan-assisted convector heater, fix to wall, make connections into spur box, reconnect electricity, tests.","NO",78.64,53.09]
[null,"815005","EL","HEATER:RENEW 2.5KW FAN CONVECTOR WITH TIMER","Heater:Isolate supply, disconnect, clear away and renew or install ne 2.5 kilowatt fan-assisted convector heater including 24 hour timer, fix to wall, make connections, reconnect, tests.","NO",94.46,68.91]
[null,"815007","EL","HEATER:RENEW NE 1KW PANEL HEATER","Heater:Isolate supply, disconnect, clear away and renew ne 1 kilowatt panel heater fix to wall, make connections into spur box, reconnect electricity, tests.","NO",97.25,71.7]
[null,"815009","EL","HEATER:RENEW NE 1KW PANEL HEATER WITH TIMER","Heater:Isolate supply, disconnect, clear away and renew ne 1 kilowatt panel heater with 24hr timer fix to wall, make connections into spur box, reconnect electricity, tests.","NO",116.63,91.08]
[null,"815011","EL","HEATER:RENEW NE 2KW PANEL HEATER","Heater:Isolate supply, disconnect, clear away and renew ne 2 kilowatt panel heater fix to wall, make connections into spur box, reconnect electricity, tests.","NO",111.8,86.25]
[null,"815013","EL","HEATER:RENEW NE 2KW PANEL HEATER WITH TIMER","Heater:Isolate supply, disconnect, clear away and renew ne 2 kilowatt panel heater with 24hr timer fix to wall, make connections into spur box, reconnect electricity, tests.","NO",133.35,107.81]
[null,"815015","EL","HEATER:RENEW NE 3KW PANEL HEATER","Heater:Isolate supply, disconnect, clear away and renew ne 3 kilowatt panel heater fix to wall, make connections into spur box, reconnect electricity, tests.","NO",132.44,106.9]
[null,"815017","EL","HEATER:RENEW NE 3KW PANEL HEATER WITH TIMER","Heater:Isolate supply, disconnect, clear away and renew ne 3 kilowatt panel heater with 24hr timer fix to wall, make connections into spur box, reconnect electricity, tests.","NO",152.91,127.37]
[null,"815019","EL","FIRE:RENEW NE 1KW INFRA RED HEATER","Fire:Isolate supply, disconnect, clear away and renew with ne 1 kilowatt infra red wall mounted heater with pull cord, fix to wall, make connections, reconnect electricity, tests.","NO",59.27,33.729999999999997]
[null,"815020","EL","HEATER:SERVICE ANY TYPE OF PANEL HEATER","Heater:Attend property and carry out service to any type of electric panel heater including provision of minor parts as necessary, test and leave in working order.","NO",18.48,1.45]
[null,"815021","EL","FIRE:RENEW NE 2KW INFRA RED HEATER","Fire:Isolate supply, disconnect, clear away and renew with ne 2 kilowatt infra red wall mounted heater with pull cord, fix to wall, make connections, reconnect electricity, tests.","NO",64.040000000000006,38.5]
[null,"815023","EL","HEATER:RENEW 2KW WALL FAN HEATER","Heater:Isolate supply, disconnect, clear away and renew or install ne 2 kilowatt wall mounted fan heater, fix to wall, make connections into spur box, reconnect electricity, tests.","NO",110.29,84.74]
[null,"815025","EL","HEATER:RENEW 2KW WALL FAN HEATER WITH TIMER","Heater:Isolate supply, disconnect, clear away and renew or install ne 2 kilowatt wall mounted fan heater with 24hr timer, fix to wall, make connections, reconnect electricity, tests.","NO",81.25,55.7]
[null,"815051","EL","FIRE:INSTALL NE 2.5KW RADIANT FOCAL FIRE","Fire:Isolate/reconnect supply, install ne 2.5 kilowatt focal point radiant fire and surround, spur box, electrical tests and leave in working order. [PC Sum of £150.00 for supply and delivery]","NO",230.32,179.23]
[null,"817001","EL","HEATER:RENEW RADIANT ELEMENT","Heater:Isolate supply, disconnect, clear away and renew infra-red silica heater element to radiant heater, dismantle and reassemble any access covers, reconnect electricity supply, test.","NO",41.84,24.81]
[null,"817003","EL","HEATER:RENEW RADIANT REFLECTOR","Heater:Isolate supply, disconnect, clear away and renew reflector panel, secure into place on radiant heater, dismantle and reassemble any access covers, reconnect electricity supply, test.","NO",29.45,12.42]
[null,"817007","EL","HEATER:RENEW DP SWITCH","Heater:Isolate supply, disconnect, clear away and renew double pole control switch to heater, dismantle and reassemble any access covers, reconnect electricity supply, test.","NO",16.12,4.76]
[null,"817011","EL","FIRE OR RADIANT HEATER:SERVICE ANY TYPE","Fire or Radiant Heater:Attend property and carry out service to any type of electric fire or radiant heater including provision of minor parts as necessary, test and leave in working order.","NO",18.48,1.45]
[null,"819001","EL","TOWEL RAIL:RENEW NE 175 WATT ELECTRIC","Towel Rail:Isolate supply, disconnect, clear away and renew towel rail ne 175 watt, free standing or wall mounted fix to wall make all connections into spur box, reconnect, tests and make good.","NO",120.55,95.01]
[null,"820003","EL","IMMERSION HEATER:RENEW 3KW ALLOY (TOP)","Iimmersion Heater:Isolate/reconnect supply, drain down/refill, renew 3KW alloy top entry immersion heater to copper cylinder, test and vent refix, test and reset thermostat, make all connections.","NO",41.61,16.059999999999999]
[null,"820007","EL","IMMERSION HEATER:RENEW NE 3KW ALLOY (BOTTOM)","Immersion Heater:Isolate/reconnect supply, drain down/refill, renew 3KW alloy bottom entry immersion heater to copper cylinder, test, vent refix, test, reset thermostat, make connections.","NO",61.48,16.059999999999999]
[null,"820009","EL","IMMERSION HEATER:RENEW CYLINDER THERMOSTAT","Immersion Heater:Disconnect, clear away and renew any thermostat to immersion heater.","NO",14.11,5.6]
[null,"820011","EL","IMMERSION HEATER:DISCONNECT","Immersion Heater:Isolate and disconnect faulty immersion heater, fix temporary sealing box to exposed cable and leave safe.","NO",11.39,0.04]
[null,"820013","EL","IMMERSION HEATER:REMOVE AND SEAL BOSS","Immersion Heater:Isolate, disconnect and remove any defective immersion heater, drain down as necessary, seal immersion boss, disconnect, fix temporary sealing box to exposed cable and leave safe.","IT",22.78,7.0000000000000007E-2]
[null,"820015","EL","IMMERSION HEATER:RECONNECT AND TEST","Immersion Heater:Reconnect any immersion heater, and undertake electrical test.","IT",19.87,0]
[null,"820017","EL","IMMERSION HEATER:TEST AND RESET THERMOSTAT","Immersion Heater:Test and reset as necessary any immersion heater thermostat.","IT",10.220000000000001,0]
[null,"820019","EL","IMMERSION HEATER:RENEW CIRCUIT AND SWITCH","Immersion Heater:Isolate/reconnect supply, renew immersion heater circuit with 20 amp DP isolator switch, 20 amp DP indicator switch, reconnectof heater flex, tests, provide certificate, make good","NO",132.97999999999999,33.64]
[null,"820021","EL","IMMERSION HEATER:RENEW FLEX CONNECTION","Immersion Heater:Isolate/reconnect supply, renew 1.00m length of 2.5mm 3 core butyl rubber flex to immersion heater, make connections to switch and heater, tests, provide certificate, make good.","NO",18.21,1.18]
[null,"820023","EL","IMMERSION HEATER:RENEW 20A DP INDICATOR SWITCH","Immersion Heater:Isolate/reconnect supply, renew 20 amp moulded plastic DP switch with neon indicator and box fixed to walls, remake connections, tests and make good.","NO",31.44,5.9]
[null,"820025","EL","IMMERSION HEATER:RENEW BOOSTER SWITCH","Immersion Heater:Isolate/reconnect supply, renew or supply and install immersion booster switch with and box fixed to walls, remake connections, tests and make good.","NO",24.19,10]
[null,"825001","EL","WATER HEATER:RENEW 3KW 7 LITRE","Water Heater:Isolate/reconnect supplies, drain down/refill, renew 3kW 7 litre water storage heater, test, remake all connections, electrical tests and leave in working order on completion.","NO",145.15,99.74]
[null,"825003","EL","WATER HEATER:RENEW 3KW 100 LITRE","Water Heater:Isolate/reconnect supplies, drain down/refill, renew 3kW 100 litre water storage heater, test, remake all connections, electrical tests and leave in working order on completion.","NO",549.82000000000005,447.64]
[null,"825005","EL","WATER HEATER:RENEW 3KW NE 30 LITRE","Water Heater:Isolate/reconnect supplies, drain down/refill, renew 3kW 30 litre water storage heater, test, remake all connections, electrical tests and leave in working order on completion.","NO",368.17,294.38]
[null,"825007","EL","WATER HEATER:RENEW SWITCH","Water Heater:Isolate/reconnect supply, renew 20 amp DP immersion heater switch marked WATER HEATER, 2 hour run-back timer, neon indicator, and box, remake connections, tests and make good.","NO",38.369999999999997,21.34]
[null,"825009","EL","WATER HEATER:RENEW EC7 TIMER SWITCH","Water Heater:Isolate/reconnect supply, renew EC7 micro 24-hour timer switch to water heater, dismantle and reassemble access covers, reset, electrical tests, leave in working order.","NO",34.75,17.72]
[null,"826001","EL","WATER HEATER:RENEW CONTROL SPINDLES","WaterHeater:Isolate/reconnect supply, renew control spindles and racks to water heater, dismantle and reassemble access covers, reset, electrical tests and leave in working order.","NO",44.79,10.73]
[null,"827001","EL","PROGRAMMER:RENEW HEATING CONTOL TIME CLOCK","Programmer:Isolate/reconnect supply, renew any Economy 7 time switch clock, remake all necessary connections, electrical tests, make good and leave in working order.","NO",92.3,75.27]
[null,"830001","EL","SHOWER:INSTALL NEW NE 8.5KW UNIT","Shower:Supply and install new ne 8.5KW shower unit connect to water and electrical supplies including shower circuit, RCD, MCB 45A, DP switch adjust pipework fill, test, certificate, make good.","NO",325.42,208.5]
[null,"830003","EL","SHOWER:RENEW NE 8.5KW UNIT","Shower:Renew with ne 8.5KW shower unit, adjust remake all connections, fill, test and adjust, install RCD, MCB 45A, reconnect electricity supply, test, provide certificate, make good.","NO",257.47000000000003,176.92]
[null,"830005","EL","SHOWER:REMOVE REPAIR AND REFIX","Shower:Isolate/reconnect water and electric supplies, remove shower, carry out minor repairs and refix, test all newly made joints, and undertake electrical tests, make good.","NO",65.260000000000005,2.9]
[null,"830007","EL","SHOWER:DISCONNECT SEAL AND MAKE SAFE","Shower:Isolate supply and disconnect shower unit, fix temporary sealing box to exposed cable and leave safe.","NO",19.89,0.14000000000000001]
[null,"830009","EL","SHOWER:RECONNECT AND TEST","Shower:Reconnect shower unit, test all supplies including carry out electrical tests and leave in working order.","NO",25.98,0]
[null,"830011","EL","SHOWER:RENEW CIRCUIT","Shower:Isolate/reconnect supply, renew shower circuit, mini-trunking or rigid PVC conduit chased into wall etc, RCD protection, MCB 45A, DP switch, make connections, tests, certificate, make good.","NO",141.15,77.75]
[null,"830013","EL","SHOWER:RENEW 45A CEILING SWITCH","Shower:Isolate/reconnect renew 45 amp one way moulded plastic DP ceiling switch, neon indicator, cord, make connections, electrical tests, make good.","NO",36.32,10.77]
[null,"830015","EL","PUMP:INSTALL SHOWER SYSTEM WITH CURTAIN","Pump:Supply and install new proprietary pumped water system complete with shower head, hose, pipework and controls, test. [PC Sum for supply and delivery of pumped water system £380.00 excluding VAT]","NO",591.48,75]
[null,"830017","EL","PUMP:RENEW SHOWER SYSTEM","Pump: Isolate/reconnect, renew proprietary pumped shower, RCD, MCB 45amp, make good, test, remove waste and debris, . [PC Sum for supply and delivery of pumped shower £380.00 excluding VAT]","NO",545.53,40]
[null,"830019","EL","PUMP:INSTALL SHOWER SYSTEM OVER BATH","Pump:Supply install thermostatic shower controller and booster pump pumped system complete, test, make good. [PC Sum for supply/delivery of shower controller pumped water system £650.00 excluding VAT]","NO",1097.56,225]
[null,"830021","EL","PUMP:RENEW BOOSTED SHOWER CONTROLLER","Pump:Isolate/reconnect , renew thermostatic shower controller, to pumped shower system, RCD, MCB 45amp, tests, make good [PC Sum for supply and delivery of shower controller £250.00 excluding VAT]","NO",371.9,40]
[null,"830023","EL","PUMP:RENEW BOOSTED SHOWER PUMP","Pump:Isolate/reconnect, renew twin shower booster pump to pumped shower system RCD, MCB 45amp, tests, make good. [PC Sum for supply and delivery of shower pump £300.00 excluding VAT]","NO",448.78,40]
[null,"835001","EL","ELECTRIC COOKER:DISCONNECT SEAL AND MAKE SAFE","Electric Cooker:Isolate supply and disconnect electric cooker, fix temporary sealing box to exposed cable and leave safe.","NO",6.86,0.04]
[null,"835003","EL","ELECTRIC COOKER:RECONNECT AND TEST","Electric Cooker:Reconnect cooker, carry out electrical tests and leave in working order.","NO",8.52,0]
[null,"835005","EL","COOKER CONTROL UNIT:REMOVE REPAIR AND REFIX","Cooker Control Unit:Isolate supply and remove unit, determine fault and carry out minor repairs, refix control unit, reconnect electricity supply, undertake electrical tests and make good.","NO",36.96,2.9]
[null,"835007","EL","ELECTRIC COOKER:RENEW CIRCUIT","Electric Cooker:Isolate/reconect supply, renew cooker circuit with wall mounted control box, cable run in mini-trunking or rigid PVC conduit, remake connections, tests, provide certificate, make good","NO",117.59,38.119999999999997]
[null,"835009","EL","ELECTRIC COOKER:RENEW UNIT AND CIRCUIT","Electric Cooker:Isolate/reconnect supply, renew link circuit to new cooker outlet plate, cable run in mini-trunking or rigid PVC conduit, connections, tests, provide certificate, make good.","NO",62.24,19.66]
[null,"835011","EL","ELECTRIC COOKER:RENEW CONTROL UNIT AND SWITCH","Electric Cooker:Isolate/reconnect supply, renew 45/50 amp surface mounted plastic cooker unit, mounting-box, DP switch, remake connections, undertake electrical tests, make good.","NO",36.94,11.39]
[null,"835013","EL","ELECTRIC COOKER:RENEW METAL CONTROL UNIT","Electric Cooker:Isolate/reconnect supply, renew 45/50 amp flush type metal cooker control unit, flush box, DP switch, remake connections, undertake electrical tests, make good.","NO",55.25,26.87]
[null,"835015","EL","ELECTRIC COOKER:RENEW CONTROL PLATE","Electric Cooker:Isolate/reconnect supply, renew 45/50 amp surface mounted cooker control unit plate, DP switch, remake connections, undertake electrical tests, make good.","NO",36.72,11.18]
[null,"835019","EL","ELECTRIC COOKER:RENEW COOKER OUTLET PLATE","Electric Cooker:Isolate/reconnect supply, renew cooker outlet plate and make connections to cooker control unit and to cooker cable, electrical tests, make good.","NO",10.63,4.95]
[null,"836001","EL","ELECTRIC COOKER HOOD:SERVICE ANY TYPE","Electric Cooker Hood:Isolate/reconnect supply, carry out service to any type of domestic cooker ventilation hood, clean, renew filters, other minor parts as necessary, test and leave in working order.","NO",23.02,1.45]
[null,"840001","EL","FAN:RENEW MINIMUM 60LTR PER SECOND","Fan:Isolate/reconnect supply, renew min 60 litre/second window/wall mounted fan, single speed motor, pipe duct, external wall grille, trickle ventilator, cord operated, tests, make good.","NO",103.67,61.1]
[null,"840003","EL","FAN:RENEW BUILT IN WALL FAN","Fan:Isolate/reconnect supply, renew min 60 litre/second built in wall fan, single speed motor external wall grille, inner grille, trickle vent, tests, make good.","NO",106.45,63.88]
[null,"840005","EL","FAN:RENEW 2 SPEED WALL OR DUCT FAN","Fan:Isolate/reconnect supply, renew through-wall or ducted fan, two speed motor, double insulated, 76 litre/second high speed, 38 litre/ second low speed, wall grille, electrical tests, make good.","NO",180.65,138.08000000000001]
[null,"840005","EL","FAN: RENEW WITH NUAIRE CYFAN ALL IN ONE FAN",null,"IT",194.85500000000002,0]
[null,"840007","EL","FAN:RENEW SINGLE SPEED WALL OR DUCT FAN","Fan:Isolate/reconnect supply, renew through-wall or ducted fan, single speed motor double insulated automatic shutter, 26 litre/second, wall grille electrical tests, make good.","NO",105.78,63.2]
[null,"840009","EL","FAN:RENEW IN LINE DUCT FAN","Fan:Isolate/reconnect supply, renew built in, in line duct fan, single speed motor class 1 earthed, fan capable of handling minimum 60 litre/second, electrical tests, make good.","NO",129.21,95.15]
[null,"840011","EL","FAN:RENEW CEILING OR DUCT FAN","Fan:Isolate/reconnect supply, renew ceiling or ceiling duct fan single speed motor, integral air operated back draught shutter, ne 81 litre/second, electrical tests, make good.","NO",144.15,110.09]
[null,"840013","EL","FAN:RENEW FIRE DAMP CEILING OR DUCT FAN","Fan:Isolate/reconnect supply, renew ceiling or ceiling duct fan, opposed blade fire dampers, single speed motor, back draught shutter ne 81 litre/second, electrical tests, make good.","NO",143.69,109.63]
[null,"840015","EL","FAN:RENEW TOILET OR BATHROOM FAN","Fan:Isolate/reconnect supply, renew toilet or bathroom fan, single speed motor class 2, double insulated, integral timer, back draught shutter 25 litre/second, electrical tests, make good.","NO",59.78,25.72]
[null,"840017","EL","FAN:RENEW CIRCUIT AND OUTLET","Fan:Isolate/reconnect supply, strip out and renew fan spur in mini-trunking or rigid PVC conduit chased into wall etc., 20 amp fused spur oulet, reconnect existing fan flex, tests, make good.","NO",88.6,20.48]
[null,"840019","EL","FAN:RENEW FLEX CONNECTION","Fan:Isolate/reconnect supply, strip out and renew 1.00m length of 2.5mm 3 core butyl rubber flex to fan, make connections to 20 amp fused spur outlet and fan, tests, make good.","NO",18.21,1.18]
[null,"840031","EL","FAN:INSTALL WALL FAN","Fan:Isolate/reconnect supply, install 150mm wall mounted extractor fan with humidistat, circuit, fused spur outlet, builders work, tests and make good.","NO",114.97,63.88]
[null,"841001","EL","FAN:RENEW 2 SPEED CONDENSATION CONTROL","Fan:Isolate/reconnect supply, renew plastic cased through-wall or ducted condensation control fan, 2 speed motor, 61 litre/second high speed 41 litre/ second low speed, wall grille, tests, make good.","NO",153.07,110.5]
[null,"841003","EL","FAN:RENEW VARIABLE SPEED CONDENSATION CONTROL","Fan:Isolate/reconnect supply, renew plastic cased through-wall or ducted condensation control fan variable speed motor, 14-22 litre/second at variable speed, wall grille, tests, make good.","NO",165.6,123.02]
[null,"841005","EL","FAN:RENEW VARIABLE SPEED TIMER","Fan:Isolate/reconnect supply, renew plastic cased through-wall or ducted condensation control fan variable speed motor, timer, 14-22 litre/second at variable speed, wall grille, tests, make good.","NO",179.71,137.13999999999999]
[null,"841007","EL","FAN:OVERHAUL DOMESTIC EXTRACT","Fan:Overhaul any kind of domestic extractor fan, dismantle and reassemble, clean and oil, test and leave in working order.","NO",21.38,4.3499999999999996]
[null,"841009","EL","FAN:RENEW WITH LOW VOLTAGE TRANSFORMER TYPE","Fan:Isolate/reconnect supply, renew with plastic cased through-wall or ducted low voltage transformer condensation control fan, class 2 , wall grille if necessary, tests, make good.","NO",118.8,76.23]
[null,"841011","EL","FAN:INSTALL LOW VOLTAGE TRANSFORMER TYPE","Fan: Isolate/reconnect supply, install through-wall or ducted low voltage transformer condensation control fan, class 2 , circuit, spur outlet, builders work, tests, make good.","NO",127.32,76.23]
[null,"841013","EL","FAN:INSTALL 2 SPEED CONDENSATION CONTROL","Fan: Isolate/reconnect supply, install through-wall or ducted condensation control fan, 2 speed motor, 61 l/second high 41 l/second low speed, circuit, spur outlet, builders work, tests, make good.","NO",161.59,110.5]
[null,"841021","EL","FAN:RENEW OR REFIX DOMESTIC EXTRACT EXT GRILLE","Fan:Renew or refix external fan grille to any type of domestic extractor fan, test and leave in working order.","NO",21.38,4.3499999999999996]
[null,"841101","EL","VENT UNIT:INSTALL DRIMASTER 5","Vent Unit:Install Drimaster 5 ventilation unit in loft space of dwelling, complete including all builders and electrical work, in accordance with manufacturers instructions, tests, make good.","IT",454.98,0]
[null,"841103","EL","VENT UNIT:INSTALL FLATMASTER 5","Vent Unit:Install Flatmaster 5 ventilation system, complete including all builders and electrical work, in accordance with manufacturers instructions, tests, make good.","IT",522.17999999999995,0]
[null,"841105","EL","VENT UNIT:OVERHAUL","Vent Unit:Overhaul ventilation unit, clean out, renew filters as necessary.","IT",35.51,1.45]
[null,"841207","EL","HEAT RECOVERY UNIT:OVERHAUL","Heat Recovery Unit:Overhaul heat recovery and ventilation unit, clean out, renew filters as necessary, and remove waste and debris.","IT",44.58,2]
[null,"842001","EL","APPLIANCE:DISCONNECT AND RECONNECT","Domestic Appliance:Isolate/reconnect supply, disconnect, set aside, reposition any type of electric domestic appliance (excluding cookers), remake connections, electrical tests, make good.","NO",11.35,0]
[null,"850503","EL","CONDUIT:INSTALL NE 25MM PVC MAKE GOOD","Conduit:Supply and fix ne 25mm round heavy gauge rigid PVC conduit including all necessary fitting, clipping with saddles at 1200mm centres to any surfaces, and make good on completion.","LM",6.55,3.71]
[null,"851003","EL","CONDUIT:INSTALL NE 25MM STEEL MAKE GOOD","Conduit:Supply and fix ne 25mm diameter heavy gauge galvanised steel conduit including all necessary fittings, galvanised steel spacer saddles at 1200mm centres to any surface, make good.","LM",7.07,3.67]
[null,"851505","EL","CABLE:DRAW UPTO 6MM SINGLE CABLE","Cable:Supply and draw UPTO 6.00mm PVC single cable wire through new conduit or existing conduit, make all necessary connections, make good.","LM",2.35,0.65]
[null,"851507","EL","CABLE:DRAW 10MM SINGLE CABLE","Cable:Supply and draw 10.00mm PVC single cable wire through new conduit, or existing conduit, necessary connections, make good.","LM",2.77,1.07]
[null,"851509","EL","CABLE:DRAW 16MM SINGLE CABLE","Cable:Supply and draw 16.0mm PVC single cable wire through new conduit or existing conduit, make all necessary connections, make good.","LM",3.61,1.34]
[null,"851513","EL","CABLE:DRAW 1.5MM OR 2.5MM PVC FLAT T AND E","Cable:Supply and draw 1.50mm or 2.50mm PVC flat T and E cable through new conduit or existing conduit, necessary connections, make good.","LM",2.71,0.44]
[null,"851515","EL","CABLE:DRAW 6MM PVC FLAT T AND E","Cable:Suply and draw 6.00mm PVC flat T and E cable through new conduit or existing conduit, make all necessary connections, make good.","LM",4.0199999999999996,1.18]
[null,"852003","EL","CABLE:INSTALL 1.5MM OR 2.5MM SINGLE CABLE","Cable:Supply and fix 1.50mm or 2.50mm PVC single cable wire clipped to wall or soffits, laid in floor or roof space, make all necessary connections, make good.","LM",2.61,0.34]
[null,"852005","EL","CABLE:INSTALL 6MM SINGLE CABLE","Cable:Supply and fix 6.00mm PVC single cable wire clipped to wall or soffit, laid in floor or roof space, make all necessary connections, make good.","LM",3.59,0.75]
[null,"852007","EL","CABLE:INSTALL 10MM SINGLE CABLE","Cable:Supply and fix 10.00mm PVC single cable wire clipped to wall or soffits, laid in floor or roof space, make all necessary connections, make good.","LM",4.58,1.17]
[null,"852009","EL","CABLE:INSTALL 16MM SINGLE CABLE","Cable:Supply and fix 16.00mm PVC single cable wire clipped to wall or soffits, laid in floor or roof space, make all necessary connections, make good.","LM",5.42,1.44]
[null,"852013","EL","CABLE:INSTALL 1.5MM OR 2.5MM T AND E","Cable:Supply and fix 1.50mm or 2.50mm PVC flat T and E cable clipped to wall or soffits, laid in floor or roof space, make all necessary connections, make good.","LM",3.38,0.54]
[null,"852015","EL","CABLE:INSTALL 6MM T AND E","Cable:Supply and fix 6.00mm PVC flat T and E cable clipped to wall or soffits, laid in floor or roof space, make all necessary connections, make good.","LM",4.17,1.33]
[null,"852017","EL","CABLE:INSTALL 10MM T AND E","Cable:Supply and fix 10.00mm PVC flat T and cable clipped to wall or soffits, laid in floor or roof space, make all necessary connections, make good.","LM",5.6,2.19]
[null,"852509","EL","CABLE:FIX 1.5MM OR 2.5MM T AND E AND CONDUIT","Cable:Supply and fix 1.5mm or 2.5mm PVC flat T and E cable drawn in and including rigid PVC conduit chased into plastered surface, make good plaster, make all necessary connections, make good.","LM",15.53,2.48]
[null,"852511","EL","CABLE:FIX 6MM T AND E AND CONDUIT","Cable:Supply and fix 6.0mm PVC flat T and E cable drawn in and including rigid PVC conduit chased into plastered surface, make good plaster, make all necessary connections, make good.","LM",17.66,4.5999999999999996]
[null,"853009","EL","CABLE:FIX 1.5MM OR 2.5MM T AND E AND MINI-TRUNKING","Cable:Supply and fix 1.5mm or 2.5mm PVC flat T and E cable drawn in and including rigid PVC mini-trunking, make all necessary connections, make good.","LM",9.98,1.47]
[null,"853011","EL","CABLE:FIX 6.0MM T AND E AND MINI-TRUNKING","Cable:Supply and fix 6.0mm PVC flat T and E cable drawn in and including rigid PVC mini-trunking, make all necessary connections, make good.","LM",10.73,2.2200000000000002]
[null,"853501","EL","MICC:INSTALL 2L 1.5MM OR 2.5MM CABLE","MICC:Supply and fix 2L 1.5mm OR 2.5mm cable clipped to ceiling or walls, including all necessary bends and dressings, and make good on completion.","LM",12.2,3.12]
[null,"853505","EL","MICC:TERMINATE 2L 1.5MM OR 2.5MM CABLE","MICC:Terminate 2L 1.5mm or 2.5mm cable, assemble gland to box, make termination with up to 250mm tail.","NO",16.079999999999998,7]
[null,"854501","EL","LIGHT:RENEW GROUND FLOOR CIRCUIT 1 WAY","Light:Isolate/reconnect supply, renew one-way lighting circuit, in mini-trunking or rigid PVC conduit, switch, pendant to 1 No. ground floor lighting point, tests, certificate, make good.","NO",70.09,16.170000000000002]
[null,"854503","EL","LIGHT:RENEW GROUND FLOOR CIRCUIT 2 WAY","Light:Isolate/reconnect supply, renew two-way lighting circuit, in mini-trunking or rigid PVC conduit, switch, pendant to 1 No. ground floor lighting point, tests, certificate, make good.","NO",111.04,25.89]
[null,"854505","EL","LIGHT:RENEW UPPER FLOOR CIRCUIT 1 WAY","Light:Isolate/reconnect supply, renew one-way lighting circuit, in mini-trunking or rigid PVC conduit, switch, pendant to 1 No. upper floor lighting point, tests, certificate, make good.","NO",64.930000000000007,15.54]
[null,"854507","EL","LIGHT:RENEW UPPER FLOOR CIRCUIT 2 WAY","Light:Isolate/reconnect supply, renew two-way lighting circuit, in mini-trunking or rigid PVC conduit, switch, pendant to 1 No. upper floor lighting point, tests, certificate, make good.","NO",101.99,24.22]
[null,"854709","EL","LIGHT:RENEW HALL/STAIRWAY CIRCUIT 2 WAY","Light:Isolate/reconnect supply, renew two-way lighting point to hall/stairway in mini-trunking or rigid PVC conduit, switches, pendant, electrical tests, provide certificate, make good.","NO",129.28,32.21]
[null,"855001","EL","POWER:RENEW RING MAIN GROUND NE 4 NO SOCKETS","Power:Isolate/reconnect supply, renew ring main circuit to ground floor with ne 4 No. 13 amp double socket outlets, mini-trunking or rigid PVC conduit tests, provide certificate, make good.","NO",307.61,61.24]
[null,"855003","EL","POWER:RENEW RING MAIN GROUND 4-8 NO SOCKETS","Power:Isolate/reconnect supply, renew ring main circuit to ground floor over 4 No. and ne 8 No. 13 amp double socket outlets, mini-trunking, rigid conduit, tests, provide certificate, make good.","NO",363.62,86.6]
[null,"855004","EL","POWER:RENEW RING MAIN GROUND 8-12 NO SOCKETS","Power:Isolate/reconnect supply, renew ring main circuit to ground floor of dwelling with over 8 No. and ne 12 No. 13 amp double socket outlets, mini-trunking, rigid conduit, certificate, make good.","NO",411.25,104.71]
[null,"855005","EL","POWER:RENEW UPPER RING MAIN NE 4 NO SOCKETS","Power:Isolate/reconnect supply, renew ring main circuit to upper floor, mini-trunking or rigid PVC conduit with ne 4 No. 13 amp double socket outlets, tests, provide certificate, make good.","NO",279.3,53.37]
[null,"855007","EL","POWER:RENEW UPPER RING MAIN 4-8 NO SOCKETS","Power:Isolate/reconnect supply, renew ring main circuit to upper floor mini-trunking or rigid PVC conduit, over 4 No. ne 8 No. 13 amp double socket outlets, tests, provide certificate, make good.","NO",328.06,71.47]
[null,"855008","EL","POWER:RENEW UPPER RING MAIN 8-12 NO SOCKETS","Power:Isolate/reconnect supply, renew ring main circuit to upper floor of dwelling with over 8 No. and ne 12 No. 13 amp double socket outlets, mini-trunking, rigid conduit, certificate, make good.","NO",393.04,120.56]
[null,"855009","EL","POWER:RENEW SPUR OUTLET GROUND FLOOR NE 10M","Power:Isolate/reconnect supply, renew 13 amp spur outlet to ground floor, connect to existing ring main, in mini-trunking or rigid PVC conduit ne 10.00m, tests, provide certificate, make good.","NO",90.31,20.48]
[null,"855010","EL","POWER:NEW SPUR OUTLET GROUND FLOOR NE 10M","Power:Isolate/reconnect supply, provide new 13 amp spur double socket outlet to ground floor, connect to existing ring main in mini-trunking or rigid conduit ne 10.00m, tests, certificate, make good.","NO",102.85,15.99]
[null,"855011","EL","POWER:RENEW SPUR OUTLET UPPER FLOOR NE 10M","Power:Isolate/reconnect supply, renew 13 amp spur outlet to upper floor, connect to existing ring main, in mini-trunking or rigid PVC conduit ne 10m, tests, provide certificate, make good.","NO",79.97,27.18]
[null,"855012","EL","POWER:NEW SPUR UPPER FLOOR NE 10M","Power:Isolate/reconnect supply, provide new 13 amp spur double socket outlet to upper floor, connect to existing ring main in mini-trunking or rigid conduit ne 10.00m, tests, certificate, make good.","NO",82.98,15.99]
[null,"855013","EL","POWER:RENEW SOCKET OUTLET-GROUND FLOOR","Power:Isolate/reconnect supply, renew 13 amp double socket outlet to ground floor, connect to existing ring main, in mini-trunking or rigid PVC conduit, ne 10.00m tests, certificate, make good.","NO",87.02,17.2]
[null,"855015","EL","POWER:RENEW SOCKET OUTLET-UPPER FLOOR","Power:Isolate/reconnect supply, renew 13 amp double socket outlet to upper floor, connect to existing ring main, in mini-trunking or rigid PVC conduit ne 10.00m, tests, certificate, make good.","NO",74.53,17.2]
[null,"855017","EL","POWER:RENEW BOILER OUTLET GROUND NE 10M","Power:Isolate/reconnect supply, renew 13 amp fused switched spur outlet to ground floor, connect to existing ring main, in mini-trunking or rigid PVC conduit, ne 10.00m, tests, certificate, make good.","NO",77.25,20.48]
[null,"855019","EL","POWER:NEW BOILER OUTLET GROUND NE 10M","Power:Isolate/reconnect supply, provide new 13 amp fused switch spur outlet to ground floor, connect to existing ring main in mini- trunking or rigid PVC conduit, ne 10.00m, certificate, make good.","NO",84.11,15.99]
[null,"855502","EL","CCU:RENEW NE 6 WAY MOULDED UNIT","CCU:Isolate/reconnet supply, renew any ne 6way moulded consumer control unit, MCBs, RCD protection, 100 amp DP switch, blank covers on spare ways, tests, provide certificate, make good.","NO",150.07,98.98]
[null,"855503","EL","CCU:RENEW 7 TO 12 WAY MOULDED UNIT","CCU:Isolate/reconnect supply, renew any 7 to 12 way moulded consumer control unit, MCBs, RCD, 100 amp DP switch, blank covers on spare ways, tests, provide certificate, make good.","NO",193.24,131.37]
[null,"855509","EL","CCU:INSTALL ANY SIZE RCD NEW METER TAILS","CCU:Isolate supply and supply and fit any size RCD to existing consumer unit including new meter tails, , reconnect supply, undertake electrical tests, test operation of RCD, make good on completion.","NO",106.86,84.15]
[null,"855510","EL","CCU:INSTALL NEW METER TAILS","CCU:Isolate supply, install new meter tails not exceeding 1.00m in lengths, reconnect electricity supply, undertake electrical tests, test operation of RCD and make good on completion.","IT",26.98,9.9499999999999993]
[null,"855511","EL","CCU:INSTALL ANY SIZE RCD","CCU:Isolate supply and supply and fit any size RCD to existing consumer unit, reconnect supply, undertake electrical tests and test operation of RCD and make good on completion.","NO",89.33,77.98]
[null,"855512","EL","CCU:INSTALL RCBO/RCD TO BATHROOM CIRCUITS","CCU:Isolate supply and supply and fit any size RCD to existing consumer unit to protect all circuits to bathroom, reconnect supply, undertake electrical tests, test operation of RCD, make good.","IT",107.03,90]
[null,"855513","EL","CCU:RENEW ANY SIZE MCB","CCU:Isolate/reconnect supply, renew any size mini-circuit breaker, remove defective or unsuitable mini-circuit breaker, fit new, undertake electrical tests and make good on completion.","NO",14.86,6.34]
[null,"855514","EL","CCU:RENEW OR INSTALL 100AMP DP ISOLATOR","CCU:Isolate supply and install or renew 100 amp DP isolator, remove defective or unsuitable isolator, reconnect electricity supply, undertake electrical tests and make good on completion.","NO",26.35,15]
[null,"855515","EL","CCU:RENEW FUSE CARRIER OR SHIELD","CCU:Isolate/reconnect supply and renew fuse carrier or shield, remove defective or unsuitable fuse carrier or shield, fit new, undertake electrical tests and make good on completion.","NO",12.74,4.2300000000000004]
[null,"855521","EL","CCU:RENEW HRC FUSE","CCU:Isolate supply and renew any HRC fuse, reconnect electricity supply, undertake electrical tests, and make good on completion.","NO",18.25,12]
[null,"855525","EL","CCU:RENEW MOUNTING BOARD","CCU:Isolate/reconnect supply, disconnect/reconnect all switchgear and sub-circuits, liase with Local Electricity Company, renew backboard, modify bonding, tests, provide certificate, make good.","NO",72.239999999999995,4.12]
[null,"855527","EL","CCU:MODIFY BACKBOARD","CCU:Modify backboard to accept new cables, cut hole through brick or block wall to accommodate new cables, and make good on completion.","NO",35.51,1.45]
[null,"855551","EL","CCU:RENEW NE 10 WAY MOULDED SPLIT LOAD UNIT","CCU:Isolate/reconnect supply, renew with ne 10 way moulded split load consumer control unit, MCBs, RCD protection, 100 amp DP switch, blank covers on spare ways, tests, certificate, make good.","NO",169.94,118.85]
[null,"855553","EL","CCU:RENEW 11 TO 14 WAY MOULDED SPLIT LOAD UNIT","CCU:Isolate/reconnect supply, renew with new 11 to 14 way moulded split load consumer control unit, MCBs, RCD, 100 amp DP switch, blank covers on spare ways, tests, provide certificate, make good.","NO",194.11,143.02000000000001]
[null,"855610","EL","CCU:RENEW 10 WAY DUAL RCD METALCLAD SPLIT LOAD","CCU:Isolate supply, disconnect, clear away and renew with or supply an disntall any type 10 way moulded metalclad insulated dual rcd split load consumer control unit with either MCB’sand RCD protection, or RCBO protection, 100 amp double pole isolator switch, blank covers on spare ways, remove old unit, fix new unit, make all necessary connections to existing cables, reconnect electricity supply, undertake electrical tests, provide certificate, make good on completion, and remove waste and debris.","IT",331.99,0]
[null,"855612","EL","CCU:RENEW 15 WAY DUAL RCD METALCLAD SPLIT LOAD","CCU:Isolate supply, disconnect, clear away and renew with or supply and install any type 15 way moulded metalclad insulated dual rcd split load consumer control unit with either MCB’sand RCD protection, or RCBO protection, 100 amp double pole isolator switch, blank covers on spare ways, remove old unit, fix new unit, make all necessary connections to existing cables, reconnect electricity supply, undertake electrical tests, provide certificate, make good on completion, and remove waste and debris.","IT",375.99,0]
[null,"856103","EL","LIGHT:RENEW FLEX LAMPHOLDER ROSE","Light:Isolate/reconnect supply, renew TRS cord pendant flex, moulded plastic lampholder with HO skirt and ceiling rose with holding joint ring, undertake electrical tests. make good.","NO",16.23,4.87]
[null,"856105","EL","LIGHT:RENEW BATTEN HOLDER","Light:Isolate/reconnect supply, renew plastic batten lamp holder, connect to existing cables, undertake electrical tests and make good.","NO",11.39,2.88]
[null,"856107","EL","LAMP OR BATTENHOLDER:REMOVE AND REFIX","Lamp or Battenholder:Isolate/reconnect supply, remove/refix any type of pendant lampholder or battenholder and the like, refix loose rose, prepare cable ends, remake connections, tests and make good.","NO",10.37,0.72]
[null,"856603","EL","LIGHT FITTING:RENEW 2X8W BULKHEAD TYPE","Light Fitting:Isolate/reconnect supply, renew bulkhead light fitting, metal alloy clad body, polycarbonate diffuser with screw fittings, twin 300mm 8 watt fluorescent lamps, tests, make good.","NO",48.24,28.38]
[null,"856605","EL","LIGHT FITTING:RENEW RAMPART LIGHT-70 W TYPE","Light Fitting:Isolate/reconnect supply, renew rampart light fitting, with metal alloy clad prismatic front cover, guard complete with 70 watt sodium vapour lamp, reconnect electrics, test, make good.","NO",118.43,84.37]
[null,"856607","EL","LIGHT FITTING:RENEW 1000W SECURITY TYPE","Light Fitting:Isolate/reconnect supply, renew with 1000 watt amenity light fitting with metal alloy body, borosilicate glass prismatic cover, wire guard, ne 1000 watt halogen lamp, tests, make good.","NO",33.19,13.32]
[null,"856609","EL","LIGHT FITTING:RENEW 16W LV BULKHEAD TYPE","Light Fitting:Isolate/reconnect supply, renew bulkhead light fitting with metal alloy clad body, polycarbonate diffuser with screw fitting and 16 watt 2D lamp, tests, make good.","NO",45.29,25.43]
[null,"856611","EL","LIGHT FITTING:RENEW 28W LV BULKHEAD TYPE","Light Fitting:Isolate/reconnect supply, renew bulkhead light fitting with metal alloy clad body, polycarbonate diffuser with screw fitting and 28 watt 2D lamp, tests, make good.","NO",54.73,34.86]
[null,"856613","EL","LIGHT FITTING:REMOVE AND REFIX ANY TYPE","Light Fitting:Isolate supply, remove and securely refix and reconnect any communal or external light fitting including all tests and make good on completion.","NO",20.09,0.22]
[null,"856615","EL","BATHROOM LIGHT FITTING:RENEW WITH SEALED UNIT","Bathroom Light Fitting:Renew existing with or install sealed bathroom light fitting complete with lamp and diffuser, test and make good","NO",45.54,25.67]
[null,"856615","EL","KITCHEN DOWNLIGHT: RENEW WITH 4W SHIELD ECO IP65 REC WW LED",null,"IT",35.298333333333332,0]
[null,"856701","EL","LIGHT FITTING:REMOVE AND REFIX ANY INTERNAL TYPE","Light Fitting:Isolate supply, remove and securely refix and reconnect any type of domestic or non-communal light fitting including all tests and make good on completion, and remove waste and debris.","NO",15.19,1]
[null,"857001","EL","LAMP:RENEW NE 100W BULKHEAD LAMP","Lamp:Take off, clear away and renew ne 100 watt RS tungsten lamp to light fitting including remove and refix cover.","NO",3.58,0.75]
[null,"857003","EL","LAMP:RENEW 8 WATT BULKHEAD LAMP","Lamp:Take off, clear away and renew 8 watt fluorescent lamp to bulkhead fitting including remove and refix cover.","NO",6.53,3.12]
[null,"857005","EL","LAMP:RENEW 500W HALOGEN LAMP","Lamp:Take off, clear away and renew 500 watt tungsten halogen lamp to security light.","NO",6.16,1.62]
[null,"857006","EL","LAMP:RENEW 150W HALOGEN LAMP","Lamp:Take off, clear away and renew 150 watt tungsten halogen lamp to security light.","NO",5.94,1.4]
[null,"857007","EL","LAMP:RENEW 1000W HALOGEN LAMP","Lamp:Take off, clear away and renew 1000 watt tungsten halogen lamp to security light.","NO",9.39,4.8499999999999996]
[null,"857015","EL","LAMP:RENEW 70W SON-T LAMP.","Lamp:Take off, clear away and renew 70 watt Son -T Thorn lamp to amenity lighting.","NO",13.76,8.08]
[null,"857017","EL","LAMP:RENEW 16 WATT 2D LAMP","Lamp:Take off, clear away and renew 16 watt 2D lamp to bulkhead fitting including remove and refix cover.","NO",8.51,5.0999999999999996]
[null,"857019","EL","LAMP:RENEW 28 WATT 2D LAMP","Lamp:Take off, clear away and renew 28 watt 2D lamp to bulkhead fitting including remove and refix cover.","NO",12.55,9.14]
[null,"857501","EL","LIGHT FITTING:RENEW BULKHEAD DIFFUSER","Light Fitting:Disconnect, clear away and renew polycarbonate light diffuser with screw fittings to bulkhead fitting.","NO",14.08,10.67]
[null,"858101","EL","LIGHT FITTING:RENEW SINGLE FLUORESCENT WITH TUBE","Light Fitting:Isolate/reconnect supply, renew any size fluorescent single tube fitting, including tube, tests, make good.","NO",26.4,15.04]
[null,"858103","EL","LIGHT FITTING:RENEW DOUBLE FLUORESCENT WITH TUBES","Light Fitting:Isolate/reconnect supply, renew any size fluorescent double tube fitting, including tubes, tests, make good.","NO",45.06,32.01]
[null,"858107","EL","LIGHT FITTING:REMOVE REFIX ANY FLUORESCENT TYPE","Light Fitting:Isolate supply, remove and securely refix and reconnect any fluorescent light fitting including all tests and make good on completion.","NO",10.26,0.04]
[null,"858111","EL","LIGHT FITTING:OVERHAUL FLUORESCENT ANY TYPE","Light Fitting:Overhaul any type of fluorescent fitting and carry out minor repairs including renewing starter as necessary.","IT",14.98,3.62]
[null,"858301","EL","LIGHT FITTING:RENEW SINGLE FLUORESCENT DIFFUSER","Light Fitting:Take down, clear away and renew diffuser to any single tube fluorescent fitting.","NO",19.36,15.38]
[null,"858303","EL","LIGHT FITTING:RENEW DOUBLE FLUORESCENT DIFFUSER","Light Fitting:Take down, clear away and renew diffuser to any double tube fluorescent fitting.","NO",20.27,16.3]
[null,"858501","EL","LIGHT FITTING:RENEW ANY SIZE FLUORESCENT TUBE","Light Fitting:Take down, clear away, and renew any size fluorescent tube.","NO",5.1100000000000003,2.84]
[null,"858701","EL","LAMP:RENEW WITH PL LOW ENERGY","Lamp:Renew or supply and fix new PL low energy lamp to existing light fitting.","NO",5.39,2.5499999999999998]
[null,"858703","EL","LAMP:RENEW WITH SL LOW ENERGY","Lamp:Renew or supply and fix new SL low energy lamp to existing light fitting.","NO",18.420000000000002,15.58]
[null,"858705","EL","LAMP:RENEW WITH PLCE TO BULKHEAD","Lamp:Renew or supply and fix new PLCE low energy lamp to existing bulkhead light fitting.","NO",9.5,6.67]
[null,"860501","EL","SWITCH OR OUTLET:REMOVE AND REFIX","Switch or Outlet:Isolate/reconnect supply, remove/ refix any type of switch, outlet and the like including any box, refix loose box, prepare cable ends remake connections, tests, make good.","NO",10.37,0.72]
[null,"860503","EL","SWITCH OR OUTLET:FIX BLANK PLATE","Switch or Outlet:Isolate/reconnect supply, remove any switch outlet etc., terminate cable ends and supply and fix plastic blank plate cover to switch/outlet box, tests, make good.","NO",10.68,2.16]
[null,"860505","EL","SWITCH OR OUTLET:DRY LINING BOX","Switch or Outlet:Isolate/reconnect supply, remove, set aside, renew plastic single or double flush box to suit dry lining installations, remove, refit plate, remake connections, tests, make good.","NO",18.09,1.63]
[null,"860507","EL","SWITCH OR OUTLET:SECURE LOOSE","Switch or Outlet:Secure any loose switch or socket outlet plate or the like including provision of new screws if necessary.","NO",2.56,0.28999999999999998]
[null,"861001","EL","SWITCH:RENEW FLUSH BOX","Switch:Isolate/reconnect supply, remove and set aside plate, renew galvanised steel or plastic single or double flush box, refit plate, remake connections, tests, make good.","NO",17.63,1.17]
[null,"861003","EL","SWITCH:RENEW SURFACE BOX","Switch:Isolate/reconnect supply, renew any plastic surface mounted box, plug wall as necessary, remake connections, tests, make good.","NO",9.41,0.9]
[null,"861005","EL","SWITCH:RENEW 5 AMP NE 3 GANG PLATE","Switch:Isolate/reconnect supply, renew 5 amp ne 3 gang single pole moulded plastic plate switch, remake connections, tests, make good.","NO",9.4700000000000006,0.96]
[null,"861007","EL","SWITCH:RENEW 5AMP NE 3 GANG 2 WAY PLATE","Switch:Isolate/reconnect supply, renew 5 amp ne 3 gang, 2 way single pole moulded plastic plate switch, remake connections, tests, make good.","NO",14.1,5.58]
[null,"861009","EL","SWITCH:RENEW 5AMP NE 3 GANG PLATE AND BOX","Switch:Isolate/reconnect supply, renew 5 amp ne 3-gang single pole moulded plastic plate switch and galvanised steel or plastic plaster depth box, remake connections, tests, make good.","NO",19.25,2.2200000000000002]
[null,"861011","EL","SWITCH:RENEW 5AMP NE 3 GANG 2 WAY PLATE AND BOX","Switch:Isolate/reconnect supply, renew 5 amp ne 3 gang, 2 way single pole moulded plastic plate switch and galvanised steel or plastic plaster depth, remake connections, tests, make good.","NO",23.55,6.52]
[null,"861013","EL","SWITCH:RENEW CEILING PULL SWITCH","Switch:Isolate/reconnect supply, renew 5 amp one-way or two-way single pole surface pattern moulded plastic ceiling pull switch with matching break joint ring, remake connections, tests, make good.","NO",16.59,3.54]
[null,"861015","EL","SWITCH:RENEW PULL SWITCH CORD","Switch:Renew pull switch cord only.","NO",6.58,3.17]
[null,"861501","EL","SOCKET:RENEW FLUSH BOX","Socket:Isolate/reconnect supply, remove and set aside plate renew galvanised steel or plastic single or double flush box, plug to wall refit plate, remake connections, tests, make good.","NO",17.63,1.17]
[null,"861503","EL","SOCKET:RENEW SURFACE BOX","Socket:Isolate/reconnect supply, remove and set aside plate, renew plastic single or double surface mounted box, plug to wall as necessary, refix plate, remake connections, tests, make good.","NO",10.27,1.75]
[null,"861505","EL","SOCKET:RENEW 13A SINGLE PLATE","Socket:Isolate/reconnect supply, renew 13 amp single moulded plastic switch socket outlet plate, remake connections, tests, make good.","NO",10.74,2.23]
[null,"861507","EL","SOCKET:RENEW 13A DOUBLE PLATE","Socket:Isolate/reconnect supply, renew 13 amp double moulded plastic switch socket outlet plate, remake connections, tests, make good.","NO",11.87,3.36]
[null,"861509","EL","SOCKET:RENEW SINGLE OUTLET PLATE AND BOX","Socket:Isolate/reconnect supply, renew 13 amp single moulded plastic switch socket outlet and galvanised steel flush box, plug to walls as necessary, remake connections, tests, make good.","NO",20.51,3.48]
[null,"861511","EL","SOCKET:RENEW DOUBLE OUTLET PLATE AND BOX","Socket:Isolate/reconnect supply, renew 13 amp double moulded plastic switch socket outlet and galvanised steel flush box, plug to walls as necessary, remake connections, tests, make good.","NO",30.16,4.62]
[null,"861513","EL","SOCKET:RENEW 13A RCD OUTLET","Socket:Isolate/reconnect supply, renew 13 amp single moulded plastic switch socket outlet, integral RCD, 30mA sensitivity, galvanised steel flush box, remake connections, tests, make good.","NO",73.69,48.15]
[null,"861515","EL","SOCKET:SINGLE SURFACE OUTLET PLATE AND BOX","Socket:Supply and fix 13 amp single moulded plastic switch socket outlet and moulded plastic surface mounted box, plug to walls as necessary, make connections, tests, make good.","NO",20.239999999999998,3.21]
[null,"861517","EL","SOCKET:INSTALL 13A DOUBLE OUTLET PLATE AND BOX","Socket:Supply and fix 13 amp double moulded plastic switch socket outlet and moulded plastic surface mounted box, plug to walls as necessary, make connections, tests, make good.","NO",30.74,5.2]
[null,"862001","EL","SWITCH:RENEW 20A DP SWITCH","Switch:Isolate/reconnect supply, renew 20 amp moulded plastic double pole switch and moulded plastic mounting box, plug to walls as necessary, remake connections, tests, make good.","NO",22.21,5.75]
[null,"862003","EL","SWITCH:RENEW 20A DP CEILING SWITCH","Switch:Isolate/reconnect supply, renew 20 amp moulded plastic double pole ceiling pull cord switch complete with neon indicator, remake connections, tests, make good.","NO",28.79,8.92]
[null,"862005","EL","SOCKET:RENEW 13A DP PLATE WITH OUTLET","Socket:Isolate/reconnect supply, renew 13 amp moulded plastic double pole fused switch plate with outlet, remake connections, tests, make good.","NO",15.5,3.58]
[null,"862007","EL","SOCKET:RENEW 13A DP PLATE WITH INDICATOR","Socket:Isolate/reconnect supply, renew 13 amp moulded plastic double pole fused switch plate with outlet and neon indicator, remake connections, tests, make good.","NO",19.53,7.61]
[null,"863001","EL","SHAVER:RENEW SHAVER SUPPLY UNIT","Shaver:Isolate/reconnect supply, renew dual- voltage output shaver supply unit, remake connections, tests, make good.","NO",37.5,23.31]
[null,"863003","EL","SHAVER LIGHT:INSTALL COMPLETE","Shaver Light:Isolate/reconnect supply, install approved shaver point incorporating strip light concealed conduit and wiring, make connections, tests, make good.","NO",91.43,40.340000000000003]
[null,"863005","EL","SHAVER LIGHT:RENEW COMPLETE","Shaver Light:Isolate/reconnect supply, renew approved shaver point incorporating strip light remake connections, tests, make good.","NO",44.39,30.2]
[null,"863007","EL","LAMP:RENEW SHAVER LAMP","Lamp:Take off cover and renew lamp to any type of shaver light fitting and refix cover.","NO",4.7699999999999996,1.93]
[null,"870501","EL","CABLE:INSTALL BELL WIRE","Cable:Supply and fix 0.5mm PVC twin bell wire clipped to wall or soffit and make all necessary connections to bells, bell units, transformers and bell push and make good on completion.","LM",2.66,0.39]
[null,"870503","EL","DOOR BELL:RENEW UNDERDOME COMPLETE","Door Bell:Disconnect, clear away and renew 3-4-8v Ac supply underdome bell complete screwed to timber, make all necessary connections, make good and leave in working order.","NO",17.350000000000001,8.84]
[null,"870505","EL","DOOR BELL:RENEW TRANSFORMER","Door Bell:Renew transformer 220/240v Ac primary supply 3-4-8v secondary output complete, screwed to timber, make connections, tests, make good.","NO",27.91,13.72]
[null,"870507","EL","DOOR BELL:RENEW BELL PUSH","Door Bell:Renew 1A bell push, screwed to timber, remake connections, tests, make good.","NO",10.74,1.65]
[null,"870509","EL","DOOR BELL:OVERHAUL REPAIR RELOCATE","Door Bell:Overhaul and repair any type of faulty door bell, disconnect supply and later reconnect, relocate where instructed by CR, make all necessary adjustments, test, make good.","NO",11.72,0.36]
[null,"870511","EL","DOOR BELL:RENEW BATTERY TYPE","Door Bell:Renew battery operated door bell or chime of any type, complete with batteries, to match existing, fixing to any background and connection to bell push wire, test, make good.","NO",27.1,10.07]
[null,"870513","EL","DOOR BELL:RENEW WIRELESS TYPE","Door Bell:Renew battery operated wireless controlled door bell of any type, complete with batteries, fixing to any background, remove existing fitting, test, make good and leave in working order.","NO",59.69,34.15]
[null,"871003","SP","DOOR ENTRY:RENEW INTERCOM KIT","Door Entry:Disconnect, clear away and renew intercom kit complete, make all necessary connections, leave in working order on completion.","NO",126.54,86.81]
[null,"871007","SP","DOOR ENTRY:INSTALL EXTRA PHONE","Door Entry:Supply and install extra door phone complete, make all connections, leave in working order on completion.","NO",48.8,31.77]
[null,"871009","SP","DOOR ENTRY:RENEW ELECTRIC LATCH","Door Entry:Disconnect, clear away and renew electric door latch complete, make all necessary connections, leave in working order on completion.","NO",37.19,23]
[null,"871011","SP","DOOR ENTRY:RENEW 6 CORE CABLING","Door Entry:Strip out, clear away and renew 6 core cabling to door entry installation, clipped to wall or soffit, make all necessary connections, test and make good.","LM",2.68,0.41]
[null,"871101","SP","FIRE ALARM:RENEW BREAK GLASS UNIT","Fire Alarm:Renew or supply and install break glass unit complete with hammer and chain, flush or surface mounted, fixed to structure, remake connections, tests, make good.","NO",27.47,10.44]
[null,"871103","SP","FIRE ALARM:RENEW XENON FLASHER","Fire Alarm:Renew or supply and install Xenon flasher 24 volt, with conduit box plugged and screwed to structure, remake connections, tests, make good.","NO",49.03,32]
[null,"871105","SP","FIRE ALARM:RENEW 150MM BELL","Fire Alarm:Renew or supply and install 150mm bell unit, with conduit box plugged and screwed to structure, remake connections, tests, make good.","NO",37.86,20.83]
[null,"871107","SP","FIRE ALARM:RENEW 225MM BELL","Fire Alarm:Renew or supply and install 225mm bell unit, with conduit box plugged and screwed to structure, remake connections, tests, make good.","NO",58.69,41.66]
[null,"871109","SP","FIRE ALARM:RENEW BUZZER","Fire Alarm:Renew or supply and install buzzer unit, with conduit box plugged and screwed to structure, remake connections, tests, make good.","NO",39.369999999999997,22.34]
[null,"871111","SP","FIRE ALARM:RENEW SIREN","Fire Alarm:Renew or supply and install siren unit, with conduit box plugged and screwed to structure, remake connections, tests, make good.","NO",62.31,45.28]
[null,"871113","SP","FIRE ALARM:RENEW WARBLER","Fire Alarm:Renew or supply and install warbler unit, with conduit box plugged and screwed to structure, remake connections, tests, make good.","NO",67.14,50.11]
[null,"871115","SP","FIRE ALARM:RENEW DOOR RELEASE UNIT","Fire Alarm:Renew or supply and install door release unit, surface or recessed type, secure to background, remake connections, tests, make good.","NO",93.4,76.37]
[null,"871117","SP","FIRE ALARM:RENEW 6 ZONES PANEL","Fire Alarm:Renew fire alarm panel upto six zones, isolate supply, disconnect circuits, remove existing panel, reconnect circuits, test system, connection to off site warning system, clean up.","IT",448.28,243.92]
[null,"871118","SP","FIRE ALARM:SERVICE ANY TYPE","Fire Alarm:Attend and carry out service to fire alarm installation complete to block of dwellings or scheme, provision of minor parts as necessary, undertake all tests, make good.","IT",170.3,0]
[null,"871401","SP","BURGLAR ALARM:SERVICE ANY TYPE","Burglar Alarm:Attend and carry out service to burglar alarm installation complete to block of dwellings or scheme, provision of minor parts as necessary, undertake all tests, make good.","IT",170.3,0]
[null,"871403","SP","BURGLAR ALARM:RESET CODES","Burglar Alarm:Attend upon dwelling with burglar alarm, reset codes for new or existing tenant, test.","IT",45.41,0]
[null,"871501","EL","TV OUTLET:REMOVE, RECONNECT, REFIX","TV Outlet:Take off any type of existing flush or surface mounted outlet box, remake connections and refix and test, make good on completion.","NO",5.68,0]
[null,"871503","EL","TV OUTLET:RENEW FLUSH OR SURFACE BOX","TV Outlet:Take off any type of existing flush or surface mounted outlet box, supply and fix new remake all connections, test, make good on completion.","NO",13.84,4.1900000000000004]
[null,"871505","EL","TV AERIAL:REWIRE COAXIAL NE 10M","TV Aerial:Renew or supply and fix new TV coaxial cabling from existing outlet to aerial in length ne 10.00m, run in existing conduit or surface fixed, remake all joints, test and make good.","IT",29.17,6.47]
[null,"871507","EL","TV AERIAL:REWIRE COAXIAL 10-20M","TV Aerial:Renew or supply and fix new TV coaxial cabling from existing outlet to aerial in length over 10.00 ne 20.00m, run in existing conduit or surface fixed, remake all joints, test and make good.","IT",46.99,12.93]
[null,"871509","EL","TV AERIAL:REWIRE COAXIAL OVER 20M","TV Aerial:Renew or supply and fix new TV coaxial cabling from existing outlet to aerial in length over 20.00m, run in existing conduit or surface fixed, remake all joints, test and make good.","IT",66.83,24.25]
[null,"871513","SP","TV AERIAL:LOFT INSTALLATION COMPLETE","TV Aerial:Gain access into loft space, provide and install new loft TV aerial with TV coaxial cabling ne 10m long, new box, make connections and joints, adjust aerial direction, make good, test.","IT",88.22,20.100000000000001]
[null,"871515","SP","COMMUNAL TV AERIAL:ATTEND FAULT","Communal TV Aerial:Attend upon scheme, investigate fault in analogue or digital TV aerial or receiver, remedy fault without renewing any parts or components, test.","IT",68.12,0]
[null,"871603","SP","CCTV:SERVICE ANY TYPE","CCTV:Attend and carry out service to CCTV installation complete to block of dwellings or scheme, provision of minor parts as necessary, undertake all tests, make good.","IT",68.12,0]
[null,"872003","EL","SMOKE DETECTOR:INSTALL BATTERY OPERATED TYPE","Smoke Detector:Supply and install battery operated smoke detector including test, make good and leave in working order.","NO",18.239999999999998,6.89]
[null,"872008","EL","SMOKE DETECTOR:INSTALL MAINS OPTICAL TYPE","Smoke Detector:Isolate/reconnect supply, supply and install mains operated optical smoke detector make connections, junction box, test and make good on completion.","NO",81.430000000000007,30.34]
[null,"872010","EL","SMOKE DETECTOR:INSTALL MAINS IONISATION TYPE","Smoke Detector:Isolate/reconnect supply, supply and install mains operated ionisation smoke detector make connections, junction box, test and make good on completion.","NO",74.48,23.39]
[null,"872015","EL","SMOKE DETECTORS:INSTALL OPTICAL IONISATION SYSTEM","Smoke Detectors:Isolate/reconnect supply, supply and install 2 mains operated smoke detectors on two separate floors make connections, junction boxes, test and make good on completion.","NO",104.54,53.45]
[null,"872015","EL","SMOKE DETECTORS:WIRELESS OPTICAL IONISATION SYSTEM","Smoke Detectors:Isolate/reconnect supply, supply and install 2 mains operated Aico EI2110E (or equal and approved multi-sensor detector and base) detectors with additional Aico EI100MRF RadioLINK wireless interconnect module on two separate floors, make connections, junction boxes, test and make good on completion.","IT",225.12,0]
[null,"872017","EL","SMOKE DETECTOR:INSTALL ADDITIONAL DETECTOR","Smoke Detector:Extra to supply and install 2 mains operated smoke detectors for additional ionisation interlinked smoke detector, make connections, junction box, test and make good on completion.","NO",77.38,26.29]
[null,"872017","EL","SMOKE DETECTOR:ADDITIONAL WIRELESS OPTICAL ION","Smoke Detector:Extra to supply and install an additional mains operated Aico EI2110E (or equal and approved multi-sensor detector and base) detector with additional Aico EI100MRF RadioLINK wireless interconnect module, make connections, junction box, test and make good on completion.","IT",127.31,0]
[null,"872020","EL","SMOKE DETECTOR:RENEW WITH OPTICAL TYPE","Smoke Detector:Renew existing with mains operated optical smoke detector remake connections, junction box, test and make good on completion.","NO",81.430000000000007,30.34]
[null,"872023","EL","SMOKE DETECTOR:RENEW WITH IONISATION TYPE","Smoke Detector:Renew existing with mains operated ionisation smoke detector, remake connections, junction box, test and make good on completion.","NO",74.48,23.39]
[null,"872025","EL","SMOKE DETECTOR:SERVICE AND OVERHAUL HARD WIRE","Smoke Detector:Undertake annual service and overhaul any type of hard wired smoke detector, vacuum through vents, test, renew battery as necessary,(rate per dwelling).","IT",12.85,1.49]
[null,"872027","EL","SMOKE DETECTOR:SERVICE AND OVERHAUL BATTERY","Smoke Detector:Undertake annual service and overhaul any type of battery operated smoke detector, vacuum through vents, test, renew battery as necessary (rate per dwelling).","IT",12.85,1.49]
[null,"872031","EL","SMOKE DETECTOR:INSTALL WIRELESS OPTICAL TYPE","Smoke Detector:Install wireless optical smoke detector with test/hush button, sensor, radio transmitter and receiver, auto test alarm, 9v battery,  indicators etc., test and make good.","NO",69.81,52.78]
[null,"872033","EL","SMOKE DETECTOR:INSTALL WIRELESS IONISATION TYPE","Smoke Detector:Install wireless ionisation smoke detector with test button, dual  sensor, radio transmitter and receiver, built in auto test alarm, 9v battery, , test and make good.","NO",61.57,44.54]
[null,"872035","EL","SMOKE DETECTOR:INSTALL WIRELESS SYSTEM","Smoke Detector:Install one wireless optical and one ionisation smoke detector system with built in test buttons, radio transmitters and receivers, auto test alarms, 9v batteries, test and make good.","NO",101.01,72.62]
[null,"872037","EL","SMOKE DETECTOR:INSTALL ADDITIONAL WIRELESS","Smoke Detector:Extra to supply and install two wireless smoke detectors for additional wireless ionisation detectors to match, detector to BS EN 14604:2005, test and make good on completion.","NO",43.32,26.29]
[null,"872039","EL","SMOKE DETECTOR:RENEW WITH WIRELESS OPTICAL","Smoke Detector:Renew with wireless optical smoke detector, test/hush button, sensor, transmitter, receiver, auto test alarm, 9v battery, remove existing detector, wiring and trunking, test, make good.","NO",69.81,52.78]
[null,"872041","EL","SMOKE DETECTOR:RENEW WITH WIRELESS IONISATION","Smoke Detector:Renew with wireless ionisation smoke detector, test buttons, transmitter, receiver, auto test alarm, 9v battery, remove existing detector, wiring and trunking, test and make good.","NO",61.57,44.54]
[null,"872101","EL","HEAT DETECTOR:INSTALL","Heat Detector:Isolate/reconnect supply, supply and install mains operated rate of rise or fixed temperature heat detector, make connections, junction box, test, make good.","NO",95.03,43.94]
[null,"872101","EL","HEAT DETECTOR:INSTALL HARD WIRED","Heat Detector:Isolate/reconnect supply, supply and install mains operated Aico EI64E (or equal and approved rate of rise or fixed temperature heat detector and base), make connections, junction box, test, make good.","IT",91.2,0]
[null,"872103","EL","HEAT DETECTOR:INSTALL WIRELESS","Heat Detector:Install wireless heat detector, fixed temperature fast response thermistor type sensor, test button, transmitter and receiver, built in auto self test, 9v battery, test and make good.","NO",70.97,53.94]
[null,"872103","EL","HEAT DETECTOR:INSTALL HARD WIRED WIRELESS","Heat Detector:Isolate/reconnect supply, supply and install mains operated Aico EI64E (or equal and approved rate of rise or fixed temperature heat detector and base) with additional Aico EI100MRF RadioLINK wireless interconnect module, make connections, junction box, test, make good.","IT",131.73000000000002,0]
[null,"872201","EL","CARBON MONOXIDE DETECTOR:INSTALL MAINS OPERATED","CM Detector:Supply and install mains operated carbon monoxide detector, make connections, junction box, test, make good.","NO",103.81,52.72]
[null,"872201","EL","CARBON MONOXIDE DETECTOR:WIRELESS BATTERY TYPE","Carbon Monoxide Detector:Supply and install battery operated Aico EI208WRF (or equal and approved) CO detector with RadioLINK wireless connectivity, fix in accordance with the manufacturers instructions, test, make good.","IT",56.59,0]
[null,"872202","EL","CARBON MONOXIDE DETECTOR:INSTALL WIRELESS","Carbon Monoxide Detector:Install wireless carbon monoxide detector, with sealed lithium battery, electrochemical sensor, test/hush button,  indicators, interconnectivity, test, make good.","NO",99.69,82.66]
[null,"872203","EL","CARBON MONOXIDE DETECTOR:SERVICE OVERHAUL WIRED","CM Detector:Undertake annual service and overhaul any type of hard wired carbon monoxide detector, vacuum through vents, test, renew battery as necessary (rate per dwelling).","NO",12.85,1.49]
[null,"872205","EL","CARBON MONOXIDE DETECTOR:INSTALL BATTERY TYPE","CM Detector:Supply and install battery operated carbon monoxide detector to BS7860 AICO E1205A or equal and approved, fix in accordance with the manufacturers instructions, test, make good.","NO",33.119999999999997,24.6]
[null,"872205","EL","CARBON MONOXIDE DETECTOR:INSTALL BATTERY TYPE","Carbon Monoxide Detector:Supply and install battery operated Aico EI208 (or equal and approved) CO detector, fix in accordance with the manufacturers instructions, test, make good.","IT",36.29,0]
[null,"872301","EL","GAS DETECTOR:INSTALL","Gas Detector:Isolate, supply and install mains operated gas detector including make all necessary connections to supply including junction box, reconnect, test and make good on completion.","NO",71.69,29.11]
[null,"872303","EL","GAS DETECTOR:INSTALL WIRELESS","Gas Detector:Install wireless natural gas detector complete with self cleaning sensor, self test button, mute button, internal buzzer, internal battery, test and make good.","NO",44.18,29.99]
[null,"872523","EL","WASTE DISPOSAL:RESPONSE AND REPAIR","Waste Disposal:Responsive call-out to waste disposal unit, carry out minor repair work to rectify fault, disconnect, clear obstruction, (materials ne £15.00) test operation report to CR.","NO",89.86,21.74]
[null,"880101","EL","TIME SWITCH:RESET CLOCK OR SWITCH","Time Switch:Reset time switch clock or time lag switch and leave in working order.","NO",5.68,0]
[null,"880103","EL","TIME SWITCH:REPAIR SWITCH CLOCK","Time Switch:Repair time switch clock and leave in working order.","NO",12.8,1.45]
[null,"880105","EL","TIME SWITCH:RENEW SWITCH CLOCK","Time Switch:Isolate/reconnect supply, renew time switch clock, remake connections, undertake electrical tests, make good.","NO",34.869999999999997,17.84]
[null,"880107","EL","TIME SWITCH:RENEW PHOTO ELECTRIC TYPE","Time Switch:Isolate/reconnect supply, renew photo electric dusk/dawn switch, remake connections, undertake electrical tests, make good.","NO",41.96,24.93]
[null,"880109","EL","TIME SWITCH:RENEW WITH PHOTO ELECTRIC TYPE","Time Switch:Isolate/reconnect supply, renew with photo electric dusk/dawn switch including all additional wiring, remake connections, undertake electrical tests, make good.","NO",64.849999999999994,39.299999999999997]
[null,"880111","EL","TIME SWITCH:RENEW PASSIVE INFRA RED","Time Switch:Isolate/reconnect supply, renew passive infra red detector switch, remake connections, undertake electrical tests, make good.","NO",44.51,27.48]
[null,"880112","EL","EXTERNAL LIGHT:INSTALL 150W PIR UNIT COMPLETE","External Light:Supply and install in approved location passive infra red detector unit with 150w lamp, PIR switch, all wiring and control switch, make connections test, set, make good.","NO",66.06,32]
[null,"880113","EL","EXTERNAL LIGHT:INSTALL 1000W PIR UNIT COMPLETE","External Light:Supply and install in approved location passive infra red detector unit with 1000w lamp, PIR switch, all wiring and control switch, make connections test, set, make good.","NO",79.12,45.06]
[null,"880114","EL","EXTERNAL LIGHT:INSTALL 500W PIR UNIT COMPLETE","External Light:Supply and install in approved location passive infra red detector unit with 500w lamp, PIR switch, all wiring and control switch, make connections test, set, make good.","NO",70.06,36]
[null,"880115","EL","TIME SWITCH:RENEW WITH TIME LAG SWITCH","Time Switch:Isolate/reconnect supply, renew any plate switch with time delay switch remake connections, undertake electrical tests, make good, set switch.","NO",55.4,38.369999999999997]
[null,"880501","EL","TIME SWITCH:RESET CLOCK SWITCH TO CAR PARK LIGHTS","Time Switch:Reset time switch clock or time lag switch to car park or access road lighting and leave in working order and remove waste and debris.","NO",6.81,0]
[null,"880601","EL","LIGHTING COLUMN:OVERHAUL BOLLARD TYPE","Lighting Column:Overhaul any type of car park lighting bollard, carry out minor repairs including renew diffuser cover, clean diffuser, replace defective bulb or tube, test, remove waste and debris.","IT",11.35,0]
[null,"880602","EL","LIGHTING COLUMN:OVERHAUL BOLLARD TYPE – BALLAST","Lighting Column:Overhaul any type of car park lighting bollard, carry out minor repairs, renew diffuser cover, clean diffuser, replace defective bulb, tube and ballast , test, remove waste and debris.","IT",29.19,15]
[null,"880603","EL","LIGHTING COLUMN:OVERHAUL STREET LIGHT TYPE","Lighting Column:Overhaul street lighting column, access with cherrypicker, minor repairs including renew diffuser cover, clean diffuser, replace defective  bulb or tube, test, remove waste and debris.","IT",38.85,0]
[null,"880604","EL","LIGHTING COLUMN:OVERHAUL STREET LIGHT TYPE–BALLAST","Lighting Column:Overhaul street lighting column, access with cherrypicker, minor repairs, renew diffuser cover, clean diffuser, replace defective bulb,  tube or ballast, test, remove waste and debris.","IT",60.69,19]
[null,"881001","SP","EMERGENCY LIGHTING:RENEW SELF CONTAINED FITTING","Emergency Lighting:Renew or supply and install self contained non-maintained 3hr duration completion with glass diffuser, fixed to structure, all connections, test, make good.","NO",68.959999999999994,34.9]
[null,"881003","SP","EMERGENCY LIGHTING:RENEW EXIT SIGN","Emergency Lighting:Renew or supply, install exit sign 515x190x58mm maintained type 3hr duration complete with BS5266 tube surface mounted, fixed to structure, all connections, test, make good.","NO",96.2,62.14]
[null,"881004","SP","EMERGENCY LIGHTING:SERVICE ANY TYPE","Emergency Lighting:Attend and carry out service to emergency lighting installation complete to block of dwellings or scheme, provision of minor parts as necessary, test and leave in working order.","NO",18.600000000000001,7.25]
[null,"881009","SP","EMERGENCY LIGHTING:RENEW BATTERY TO FITTING","Emergency Lighting:Isolate/reconnect supply, renew self contained re-chargeable battery pack to any self contained emergency light fitting, replace battery unit, remake all connections, test.","NO",33.119999999999997,27.44]
[null,"882001","EL","ELECTRIC COOKER:LOCATE FAULT","Electric Cooker:Locate fault in domestic cooker circuit or connections, testing and report to CR (any repairs required to be ordered separately, can only be claimed if instructed by CR).","IT",34.06,0]
[null,"882011","EL","ELECTRIC COOKER:LOCATE FAULT AND REPAIR","Electric Cooker:Locate fault in domestic cooker circuit or connections, test, minor renewals or repairs to remedy fault (material cost £5.00), report to CR (can only be claimed if instructed by CR).","IT",72.83,21.74]
[null,"882021","EL","ELECTRIC COOKER:RENEWAL 4 PLATE TYPE","Electric Cooker:Isolate/reconnect supply, renew 4 plate domestic type cooker complete, undertake electrical tests, test operation and leave in working order.","NO",437.76,0]
[null,"882023","EL","ELECTRIC COOKER:RENEW 2 PLATE TYPE HOB UNIT","Electric Cooker:Isolate/reconnect supply, renew 2 plate domestic type hob unit complete, undertake al tests, test operation and leave in working order.","NO",138.56,0]
[null,"882025","EL","ELECTRIC COOKER:RENEW BUILT IN HOB UNIT","Electric Cooker Unit:Isolate/reconnect supply, renew 4 plate domestic type inset electric hob unit complete, undertake electrical tests, test operation and leave in working order.","NO",254.06,0]
[null,"882031","EL","ELECTRIC COOKER:RENEW GRILL PAN","Electric Cooker:Renew grill pan to domestic type cooker.","NO",39.82,35.44]
[null,"882032","EL","ELECTRIC COOKER:RENEW GRILL PAN GRID","Electric Cooker:Renew grill pan grid to domestic type cooker.","NO",9.6199999999999992,5.24]
[null,"882033","EL","ELECTRIC COOKER:RENEW TOP PLATE","Electric Cooker:Renew top plate to domestic type cooker.","NO",52,40.64]
[null,"882034","EL","ELECTRIC COOKER:RENEW CAKE TRAY","Electric Cooker:Renew cake tray to domestic type cooker.","NO",13.64,9.26]
[null,"882035","EL","ELECTRIC COOKER:RENEW CONTROL KNOB","Electric Cooker:Renew control knob to domestic type cooker.","NO",10.62,4.9400000000000004]
[null,"882036","EL","ELECTRIC COOKER:RENEW GRILL PAN HANDLE","Electric Cooker:Renew grill pan handle to domestic type cooker.","NO",10.51,6.13]
[null,"882037","EL","ELECTRIC COOKER:RENEW OVEN DOOR","Electric Cooker:Renew oven door to domestic type cooker.","NO",71.25,59.89]
[null,"882038","EL","ELECTRIC COOKER:RENEW SELF CLEANING PANEL","Electric Cooker:Renew self cleaning panel to domestic type cooker.","NO",53.74,42.38]
[null,"882051","EL","ELECTRIC COOKER:RENEW BUILT IN OVEN UNIT","Electric Cooker:Isolate/reconnect supply, renew built in type domestic electrical oven complete, reconnect, undertake electrical tests, test operation and leave in working order.","NO",437.76,0]
[null,"882121","EL","WASHING MACHINE:RENEW","Washing Machine:Isolate/reconnect supplies, renew domestic type electric washing machine, reconnect waste pipework, electrical test, make good on completion and leave in working order.","NO",301.36,0]
[null,"882123","EL","TUMBLE DRYER:RENEW","Tumble Dryer:Isolate/reconnect supply, renew domestic type electric tumble dryer, electrical test, make good on completion and leave in working order.","NO",243.06,0]
[null,"882221","EL","REFRIGERATOR:RENEW NE 150 LITRE","Refrigerator:Disconnect existing, clear away, supply and install new ne 150 litre domestic type electric refrigerator complete, reconnect and leave in working order.","NO",206.76,0]
[null,"882223","EL","REFRIGERATOR:RENEW NE 200 LITRE","Refrigerator:Disconnect existing, clear away, supply and install new over 150 and ne 200 litre domestic type electric refrigerator complete, reconnect and leave in working order.","NO",270.56,0]
[null,"882225","EL","REFRIGERATOR:RENEW NE 300 LITRE","Refrigerator:Disconnect existing, clear away, supply and install new over 200 and ne 300 litre domestic type electric refrigerator complete, reconnect and leave in working order.","NO",402.56,0]
[null,"882231","EL","REFRIGERATOR:RENEW FREEZE DOOR","Refrigerator:Renew freeze food compartment door to domestic type electric refrigerator.","NO",39.03,27.68]
[null,"882232","EL","REFRIGERATOR:RENEW GLASS SHELF","Refrigerator:Renew glass shelf to domestic type electric refrigerator.","NO",24.91,16.16]
[null,"882233","EL","REFRIGERATOR:RENEW WIRE SHELF","Refrigerator:Renew wire shelf to domestic type electric refrigerator.","NO",22.81,14.06]
[null,"882234","EL","REFRIGERATOR:RENEW DRIP SHELF","Refrigerator:Renew drip shelf to domestic type electric refrigerator.","NO",49.03,37.67]
[null,"882235","EL","REFRIGERATOR:RENEW BUTTER TRAY FLAP","Refrigerator:Renew butter tray flap to domestic type electric refrigerator.","NO",21.94,13.19]
[null,"882236","EL","REFRIGERATOR:RENEW SALAD BOX/TRAY","Refrigerator:Renew salad box/tray to domestic type electric refrigerator.","NO",31.21,22.46]
[null,"882237","EL","REFRIGERATOR:RENEW BOTTLE RAIL","Refrigerator:Renew bottle rail to domestic type electric refrigerator.","NO",20.77,9.42]
[null,"882238","EL","REFRIGERATOR:RENEW DOOR INSERT","Refrigerator:Renew plastic door insert complete to domestic type electric refrigerator.","NO",22.51,11.16]
[null,"882321","EL","DEEP FREEZE:RENEW 200 LITRE","Deep Freeze:Disconnect existing, clear away, supply and install new ne 200 litre domestic type electric deep freeze complete, reconnect and leave in working order.","NO",311.26,0]
[null,"882323","EL","DEEP FREEZE:RENEW 350 LITRE","Deep Freeze:Disconnect existing, clear away, supply and install new over 200 and ne 350 litre domestic type electric deep freeze complete, reconnect and leave in working order.","NO",371.76,0]
[null,"882411","EL","DOMESTIC APPLIANCE:ANNUAL TEST","Domestic Appliance:Annual electrical testing, certification and labelling of domestic type applicances supplied by Client (to be claimed for each item tested and certified).","NO",11.35,0]
[null,"882503","EL","DOMESTIC APPLIANCE:RESPONSE CALL-OUT","Domestic Appliance:Response call-out to any type of domestic electrical appliance supplied by the Client, locate fault, test and report to Client Representative.","IT",19.87,0]
[null,"882505","EL","DOMESTIC APPLIANCE:RESPONSE AND REPAIR NE £35.00","Domestic Applicance:Response call-out to Client’s domestic appliance, locate fault, testing and report to CR, minor renewals/repairs/remedial works to remedy fault (materials ne £35.00), test.","IT",84.78,50.72]
[null,"882507","EL","DOMESTIC APPLIANCE:RESPONSE AND REPAIR UPTO £85.00","Domestic Applicance:Response call-out to Client’s domestic appliance, locate fault, testing and report to CR, minor renewals/repairs/remedial works to remedy fault (materials ne £85.00), test.","IT",174.26,123.17]
[null,"882601","EL","DISHWASHING MACHINE:RENEW FREESTANDING","Dishwashing Machine:Isolate/reconnect supplies, renew domestic type electric dishwashing machine, reconnect  waste pipework, electrical test, make good on completion and leave in working order.","NO",501.5,15.38]
[null,"882603","EL","DISHWASHING MACHINE:RENEW INTEGRATED","Dishwashing Machine:Isolate/reconnect supplies, renew domestic type integrated electric dishwashing machine, reconnect waste pipework, electrical test, make good on completion, leave in working order.","NO",650,31.88]
[null,"885001","EL","INSPECT:LANDLORDS LIGHTS NE 4 FLOORS","Inspect:Inspect landlords lighting to block of flats or maisonettes ne 4 No. floors, renew defective lamps, bulbs, tubes, reset time clocks, report in writing to Client Representative.","IT",24.28,7.25]
[null,"885003","EL","TESTING:THREE MONTHLY TEST EMERGENCY LIGHTING","Testing:Three monthly test and inspection of emergency lighting system to sheltered housing accommodation, report to Client Representative in writing.","IT",25.55,0]
[null,"885005","EL","TESTING:MONTHLY TEST EMERGENCY LIGHTING","Testing:Monthly test and inspection of emergency lighting system to sheltered housing accommodation, report to Client Representative in writing.","IT",25.55,0]
[null,"891001","EL","POWER:TEMPORARY CONNECTION","Power:Switch off supply, install suitable temporary power circuit, energise and later remove temporary connections for power circuit.","NO",24.39,13.04]
[null,"891003","EL","LIGHT:TEMPORARY CONNECTION","Light:Switch off supply, install suitable temporary lighting circuit, energise and later remove temporary connections for lighting circuit.","NO",18.600000000000001,7.25]
[null,"891005","EL","POWER AND LIGHT:TEMPORARY CONNECTION","Power and Light:Switch off supply, install suitable temporary lighting and power circuit, energise and later remove temporary connections/ circuit for power and lighting circuit.","NO",37.32,20.29]
[null,"891007","EL","HEATER:SUPPLY TEMPORARY 3KW HEATER [RATE PER WEEK]","Heater:Supply a temporary 3 Kilowatt electric convector heater for a period of time specified by the Client Representative (per week).","WK",20.170000000000002,14.49]
[null,"891009","EL","WATER HEATER:SUPPLY TEMPORARY [RATE PER WEEK]","Water Heater:Supply, maintain and remove on completion a temporary electric water heater for a period of time specified by the Client Representative (per week).","WK",30.67,19.32]
[null,"891011","EL","DE-HUMIDIFIER:SUPPLY TEMPORARY [RATE PER WEEK]","De-humidifier:Supply, maintain and remove on completion a temporary electric de-humidifier for a period of time specified by the Client Representative, including periodic emptying (per week).","WK",82.36,48.3]
[null,"891013","EL","WET-VAC:SUPPLY TEMPORARY [RATE PER WEEK]","Heater:Supply, maintain and remove on completion a temporary electric wet-vac machine for a period of time specified by the Client Representative (per week).","WK",32.67,24.15]
[null,"892001","EL","EARTH:CROSS BOND PLUMBING","Earth:Install and connect earth strips and wire to cross bond pipes to any pipes, appliance or tank, connect to earth source and earth clip, with earth tags and cable clips. [per item crossbonded]","IT",20.51,3.48]
[null,"892019","EL","EARTH:RENEW MAIN EQUIPOTENTIAL BONDING","Earth:Disconnect, strip out, clear away and renew earthing cable of suitable size, clamps and accessories from main switch gear and consumer units to incoming water, gas or electric supply.[per item]","IT",25.81,13.33]
[null,"892023","EL","EARTH:INSTALL ELECTRODE AND CABLE","Earth:Supply and install earth electrode, 16.00mm PVC insulated single core earthing cables and clamps and galvanised inspection box and lid and install earth wire to mains position and connect.","NO",112.91,61.82]
[null,"892025","EL","EARTH:REFIX ELECTRODE","Earth:Refix earth electrode and galvanised inspection box and lid.","NO",17.03,0]
[null,"892027","EL","EARTH:INSTALL EARTHBOND COMPLETE","Earth:Install complete earthbonding system to dwelling, all as current IEE regulations.","IT",207.78,156.69]
[null,"892050","EL","EARTH:CROSS BOND BATHROOM","Earth:Supplemental equipotential bonding all circuits [heater, lighting, shower, fan] in bathroom, to the nearest earth point in accordance with current regulations with cable, clips and tags","IT",49.69,15.63]
[null,"892107","EL","EARTH:SUPPLEMENTARY EQUIPOTENTIAL BONDING ANY ITEM","Earth:Supplemental equipotential bonding to any isolated metal item or pipe to the nearest earth point in accordance with current regulations with cable, clips and tags","IT",14.21,2.86]
[null,"892109","EL","EARTH:INSTALL 16MM CABLE","Earth:Install 16mm pvc insulated single core earthing cable, connect to Electricity Companies earth point, terminate with and including earth block multi-connector.","LM",9.74,4.07]
[null,"892111","EL","EARTH:RECONNECT EARTH BOND","Earth:Reconnect loose or detached earth bond, renew any missing components or earth tagsin bond in accordance with current regulations.","IT",6.4,0.72]
[null,"895001","EL","TEST:OCCUPIED PROPERTY CERTIFICATE","Test:Test domestic installation to occupied property complete, disconnect, repair and renew as necessary illegal wiring and components, and provide report and NICEIC test certificate to CR.","IT",100.91,7.25]
[null,"895002","EL","TEST:OCCUPIED PROPERTY POST REPAIRS CERTIFICATE","Test:Test domestic installation to occupied property complete following any repair or alteration works and provide NICEIC test certificate to Client Representative.","IT",56.77,0]
[null,"895003","EL","TEST:OCCUPIED PROPERTY AND REPORT","Test:Test domestic installation to occupied property complete, disconnect illegal wiring and components and report to CR (any repairs required to be ordered separately).","IT",75.37,7.25]
[null,"895501","EL","PORTABLE APPLIANCE:ANNUAL TEST - ONLY ITEM","Portable Appliance:Annual inspection, electrical testing, certification and labelling of Client’s owned portable appliance of any type, provide written report to CR (only item tested).","NO",17.03,0]
[null,"895503","EL","PORTABLE APPLIANCE:ANNUAL TEST - 2-3 ITEMS","Portable Appliance:Annual inspection, electrical testing, certification and labelling of Client’s owned portable appliance of any type, provide written report to CR (2-3 items tested at one location).","NO",6.81,0]
[null,"895505","EL","PORTABLE APPLIANCE:ANNUAL TEST - 4-10 ITEMS","Portable Appliance:Annual inspection, electrical testing, certification, labelling of Client’s owned portable appliance of any type, provide written report to CR (4-10 items tested at one location).","NO",5.1100000000000003,0]
[null,"895507","EL","PORTABLE APPLIANCE:ANNUAL TEST - OVER 10 ITEMS","Portable Appliance:Annual inspection, electrical testing, certification, label of Client’s owned portable appliance of any type, provide written report to CR (over 10 items tested at one location).","NO",3.97,0]
[null,"896001","EL","TEST:UNOCCUPIED PROPERTY CERTIFICATE","Test:Test domestic installation to unoccupied property complete, disconnect repair and renew as necessary illegal wiring and components, and provide report and NICEIC test certificate to CR.","IT",116.67,14.49]
[null,"896003","EL","TEST:UNOCCUPIED PROPERTY REPORT","Test:Test domestic installation to unoccupied property complete disconnect illegal wiring and components and report to CR (any repairs required to be ordered separately).","IT",82.61,14.49]
[null,"897003","EL","SEVERE PENETRATION:DISCONNECT REPAIR TEST","Severe Water Penetration:Disconnect lighting, power supply after severe water penetration, burst pipe, flood etc, provide temporary supply, isolate affected components, repair, reconnect, test.","IT",76.930000000000007,14.49]
[null,"898001","EL","CLIENT INSPECTION:ELECTRICAL","Client Inspection:Undertake client inspection and testing etc and report to CR (any repairs required to be ordered must be instructed by CR)","IT",18.73,0]
[null,"910001","DA","STAIRLIFT:OBTAIN QUOTE AND ATTEND","Stairlift:Obtain a quotation from an approved Contractor for the provision of stairlift at the designated property and provide all necessary attendance on any subsequent installations.","IT",26.25,0]
[null,"910003","DA","STAIRLIFT:INSTALL FUSED SPUR","Stairlift:Isolate/reconnect supply, install new 13 amp switched fused spur, with cable run in mini-trunking or rigid PVC conduit to CCU, make connections, tests, certificate, make good.","NO",100.83,24.19]
[null,"910005","DA","STAIRLIFT:INSTALL FUSED SPUR AND WAY","Stairlift:Isolate/reconnect supply, install new 13 amp switched fused spur, cable run in mini-trunking or rigid PVC conduit to CCU, additional way, connections, tests, certificate, make good.","NO",127.05,44.74]
[null,"921001","DA","CONSUMER UNIT:REPOSITION","Consumer Unit:Disconnect, remove and reposition any consumer unit to suit wheelchair access and reconnect, test and make good.","IT",57.07,14.49]
[null,"922001","DA","SOCKET:RAISE HEIGHT-MINI TRUNK OR KIT","Socket:Raise height of any single or double socket outlet, ne 1.5m with wiring run in mini trunking all fittings switched outlets or proprietary extended plug kit, connections, tests, make good.","IT",49.32,9.58]
[null,"923001","DA","SWITCH:REPLACE WITH WIDE ROCKER","Switch:Replace any switch plate with wide rocker switch plate including make all connections and electrical tests.","NO",9.5500000000000007,2.74]
[null,"923003","DA","SWITCH:LOWER ANY SWITCH","Switch:Lower height of any existing switch plate wiring run in mini-trunking, blanking plate to existing switch, new surface mounted switch plate and box, connections, tests, make good.","IT",44.49,7.59]
[null,"924001","DA","THERMOSTAT:LOWER POSITION","Thermostat:Lower height of room thermostat, wiring run in mini-trunking, blanking plate to existing thermostat outlet, refix existing thermostat in lower position, connections, tests, make good.","IT",24.67,1.97]
[null,"931001","DA","DOOR ENTRY:REMOTE LOCK SYSTEM","Door Entry:Supply and install proprietary door entry system comprising remote lock control, internal/external speaker system including all necessary wiring, connections and make good.","IT",225.33,123.15]
[null,"931003","DA","DOOR ENTRY:SUPPLY AND FIX VISUAL AID","Door Entry:Supply and fix proprietary strobe type visual indicator to any door bell/door entry system including all necessary wiring, connections and make good all finishings.","IT",210.36,159.27000000000001]
[null,"931005","DA","TELEPHONE:SUPPLY AND FIX VISUAL AID","Telephone:Supply and fix proprietary strobe type visual indicator to telephone installation including all necessary wiring, connections and make good all finishings.","IT",53.93,48.26]
[null,"932001","DA","SMOKE DETECTOR:VISUAL AID TYPE","Smoke Detector:Supply and install smoke detector incorporating strobe type visual aid including all wiring an connection to electrical supply and make good to all finishes.","IT",104.25,53.16]
[null,"941001","DA","GRAB BAR:SUPPLY 305MM STRAIGHT","Grab Bar:Supply and fix 32mm diameter, 2 flange proprietary straight grab bar 305mm long of any type specified by Client Representative, fixed to any background, all plugging, make good finishes.","NO",55.78,49.22]
[null,"941002","DA","GRAB BAR:SUPPLY 450MM STRAIGHT","Grab Bar:Supply and fix 32mm diameter, 2 flange proprietary straight grab bar 450mm long of any type specified by Client Representative, fixed to any background, all plugging, make good finishes.","NO",61.57,55]
[null,"941003","DA","GRAB BAR:SUPPLY NE 610MM STRAIGHT","Grab Bar:Supply and fix 32mm diameter, 2 flange proprietary straight grab bar ne 610mm long of any type specified by Client Representative, fixed to any background, all plugging, make good.","NO",67.98,61.41]
[null,"941005","DA","GRAB BAR:SUPPLY NE 1219MM STRAIGHT","Grab Bar:Supply and fix 32mm diameter, 3 flange proprietary straight grab bar ne 1219mm long of any type specified by Client Representative, fixed to any background all plugging, make good.","NO",112.39,103.64]
[null,"941007","DA","GRAB BAR:SUPPLY 305/305MM ANGLED","Grab Bar:Supply and fix 32mm diameter, 2 flange proprietary angled grab bar 305x305mm of any type specified by Client Representative, fixed to any background, all plugging, make good finishes.","NO",78.180000000000007,70.739999999999995]
[null,"941009","DA","GRAB BAR:SUPPLY 213/813MM ANGLED","Grab Bar:Supply and fix 32mm diameter, 2 flange proprietary angled grab bar 203x813mm of any type specified by Client Representative, fixed to any background, all plugging, make good finishes.","NO",107.7,99.82]
[null,"941011","DA","GRAB BAR:SUPPLY 406/813MM ANGLED","Grab Bar:Supply and fix 32mm diameter, 3 flange proprietary angled grab bar 406x813mm of any type specified by Client Representative, fixed to any background, all plugging, make good finishes.","NO",126.68,116.61]
[null,"941013","DA","GRAB BAR:SUPPLY 508/1016MM ANGLED","Grab Bar:Supply and fix 32mm diameter, 3 flange proprietary angled grab bar 508x1016mm of any type specified by Client Representative, fixed to any background, all plugging, make good finishes.","NO",145.41,134.47]
[null,"941015","DA","GRAB BAR:SUPPLY 762/838MM FREESTANDING","Grab Bar:Supply and fix 32mm diameter, 2 flange or 3 flange proprietary freestanding grab bar 762x838mm of any type specified by Client Representative, fixed to any background, make good.","NO",189.3,178.36]
[null,"941017","DA","GRAB BAR:SUPPLY OVERLAP BATH","Grab Bar:Supply and fix 32mm diameter, 2 flange proprietary overlap grab bar to bath, ne 457x230x511mm high of any type specified by Client Representative, fixed to any background.","NO",227.5,216.56]
[null,"941019","DA","GRAB BAR:SUPPLY 914/305MM BATH","Grab Bar:Supply and fix 32mm diameter, 3 flange proprietary specialised grab bar to bath, 914x305x813mm high of any type specified by Client Representative, fixed to any background.","NO",179.89,168.94]
[null,"941021","DA","GRAB BAR:SUPPLY NE1219/305MM BATH","Grab Bar:Supply and fix 32mm diameter, 3 flange proprietary specialised grab bar to bath, ne 1219x305x813mm high of any type specified by Client Representative, fixed to background.","NO",229.58,218.64]
[null,"941023","DA","GRAB BAR:SUPPLY 914/305/813 BATH","Grab Bar:Supply and fix 32mm diameter, 4 flange proprietary specialised grab bar to bath, 914x305x813mm high of any type specified by Client Representative, fixed to any background.","NO",261.77,250.83]
[null,"941025","DA","GRAB BAR:SUPPLY 914/305/305 BATH","Grab Bar:Supply and fix 32mm diameter, 4 flange proprietary specialised grab bar to bath, 914x305x305mm high of any type specified by Client Representative, fixed to any background.","NO",216.01,205.07]
[null,"941027","DA","GRAB BAR:SUPPLY 610/610/508 WC","Grab Bar:Supply and fix 32mm diameter, 4 flange proprietary specialised grab bar to wc 610x610x508mm high of any type specified by Client Representative, fixed to any background.","NO",271.93,260.98]
[null,"941029","DA","GRAB BAR:SUPPLY 610/610/813 SHOWER","Grab Bar:Supply and fix 32mm diameter, 4 flange proprietary vert/horiz. grab bar to shower, 610x610x813m m high of any type specified by Client Representative, fixed to any background.","NO",187.58,176.64]
[null,"941031","DA","GRAB BAR:SUPPLY 508/1016/813 SHOWER","Grab Bar:Supply and fix 32mm diameter, 4 flange proprietary vert/horiz. grab bar to shower, 508x1016x813mm high of any type specified by Client Representative, fixed to any background.","NO",209.25,198.31]
[null,"941033","DA","GRAB BAR:SUPPLY 610/1219/813 SHOWER","Grab Bar:Supply and fix 32mm diameter, 4 flange proprietary vert/horiz. grab bar to shower, 610x1219x813mm high of any type specified by Client Representative, fixed to any background.","NO",226.19,215.25]
[null,"941035","DA","GRAB BAR:SUPPLY 914/914/813 SHOWER","Grab Bar:Supply and fix 32mm diameter, 5 flange proprietary vert/horiz. grab bar to shower, 914x914x813mm high of any type specified by Client Representative, fixed to any background.","NO",236.35,224.09]
[null,"941037","DA","GRAB BAR:SUPPLY SWING ASIDE","Grab Bar:Supply and fix 32mm diameter, 2 flange proprietary swing aside movable grab bar ne 700x965mm of any type specified by Client Representative, fixed to any background.","NO",368.96,358.89]
[null,"941039","DA","GRAB BAR:SUPPLY SWING UP","Grab Bar:Supply and fix 32mm diameter, 2 flange proprietary swing up movable grab bar of any type specified by Client Representative, fixed to any background all plugging and make good finishes.","NO",128.15,119.39]
[null,"941041","DA","GRAB BAR:REMOVE AND REFIX","Grab Bar:Remove any type of grab bar and refix in new position to any background wall and floor including all plugging and make good.","NO",17.48,4.3499999999999996]
[null,"941043","DA","GRAB BAR:RETURN TO STORE","Grab Bar:Return to store, carefully remove any type of grab bar, make good finishes and transport to store.","NO",18.22,2.9]
[null,"941045","DA","GRAB BAR:SUPPLY VERTICAL POLE","Grab Bar:Supply and fix 35mm diameter, 2 flange proprietary vertical pole grab bar average length 2.70m of any type specified by Client Representative, fixed to any background, make good.","NO",231.37,220.43]
[null,"943001","DA","HANDRAIL:SUPPLY PROPRIETARY TO WALL","Handrail:Supply and fix ne 45mm diameter anodised aluminium or polyester coated proprietary wall mounted handrailing fixed level or to gradient, brackets, ends, angles, etc, make good.","LM",95.18,86.42]
[null,"943005","DA","BALUSTRADE:SUPPLY AND FIX PROPRIETARY 1.1M HIGH","Balustrade:Supply and fix ne 45mm diameter anodised aluminium or polyester coated proprietary balustrade ne 1100mm high fixed to level or gradient, ends, angles, etc, make good finishes.","LM",292.58999999999997,275.08]
[null,"943009","DA","HANDRAIL:SUPPLY AND FIX MOPSTICK ON BRACKETS","Handrail:Supply and fix 50x50mm softwood mopstick handrail on and including brackets, fixed to walls, make good finishes and decorate.","LM",25.84,12.71]
[null,"943017","DA","HANDRAIL:SUPPLY AND FIX KEE KLAMP TO WALL","Handrail:Supply and fix galvanised mild steel tubular kee-klamp wall mounted handrail comprising 48mm diameter rails and brackets fixed level or to gradient to wall, make good finishes and decorate.","LM",25.47,16.71]
[null,"943019","DA","BALUSTRADE:SUPPLY AND FIX KEE KLAMP","Balustrades:Supply and fix galvanised mild steel tubular kee-klamp balustrade, ne 1100mm high comprising 48mm diameter horizontal rails and standards at 1m centres, set in mortices, decorate.","LM",68.930000000000007,37.86]
[null,"951001","DA","WC SUITE:INSTALL SPECIAL NEEDS TYPE","WC Suite:Renew existing with special needs suite, wc pan and 6 litre vitreous china low level cistern complete, new service valve, make joints test, fix plastic seat and lid, make good.","NO",302.82,206.68]
[null,"951003","DA","WC SUITE:INSTALL CLOSE COUPLED SPECIAL NEEDS TYPE","WC Suite:Renew existing with close coupled special needs suite, wc pan and 6 litre vitreous china cistern complete, new service valve, make joints test, fix plastic seat and lid, make good.","NO",343.82,247.69]
[null,"951005","DA","WC PAN:INSTALL SPECIAL NEEDS TYPE","WC Pan:Renew wc pan with special needs wc pan remake joints including joint to soil pipe with multikwik connectors, and fix new plastic seat and lid to pan, make good floor finishes.","NO",197.83,151.06]
[null,"951007","DA","BASIN:INSTALL ADJUSTABLE HEIGHT TYPE","Basin:Renew any type of basin with special needs adjustable height basin complete taps, waste, plug, chain, plastic trap, reconnect, new service valves, splashback, crossbond, make good.","NO",463.91,365.18]
[null,"951009","DA","BATH:INSTALL SPECIAL NEEDS BATH","Bath:Renew with special needs bath with rim and internal bath seat, taps, waste, plug, chain, bath panels, reconnect, service valves, splashback, sealant, crossbond, make good.","NO",729.49,521.63]
[null,"951011","DA","BATH:INSTALL SPECIAL NEEDS HIP TYPE","Bath:Renew bath with special needs hip bath complete, taps, waste, plug, chain, plastic trap new service valves, reconnect test, crossbond and make good all wall and floor finishes.","NO",508.53,378.61]
[null,"952001","DA","TAPS:RENEW WITH BASIN LEVERS - PAIR","Taps:Renew pair of taps to wash hand basin with pair of 15mm ceramic disc lever taps including, turn water off/on, connect pipework, remove/refix basin, test on completion and make good.","IT",96.86,70.88]
[null,"952003","DA","TAPS:RENEW WITH SINK LEVERS - PAIR","Taps:Renew pair of taps to sink with pair of 15mm high neck ceramic disc lever taps including turn water off/on, connect pipework, test on completion and make good.","IT",95.87,59.49]
[null,"952005","DA","TAPS:RENEW WITH BATH LEVERS - PAIR","Taps:Renew pair of taps to bath with pair of 22mm ceramic disc lever taps including turn water off/on, remove/refix panels/studding for access connect to pipework, test and make good.","IT",130.26,91.28]
[null,"952007","DA","STOP TAP:RESITE AND RENEW WITH LEVER","Stop Tap:Resite position of internal stop tap, renew with lever operated stop tap, locate, turn water supply off/on, run supply pipe to convenient position for wheelchair access, and make good.","IT",55.44,8.67]
[null,"961001","DA","SEAT:SUPPLY AND FIX SHOWER SEAT","Seat:Supply and fix proprietary shower seat including all necessary plugging and securely fixing to wall and floor as appropriate and all make good.","NO",106.24,90.92]
[null,"961019","DA","SEAT:SUPPLY AND FIX HINGED WITH LEG","Seat:Supply and fix proprietary heavy duty hinged shower seat with support leg including all necessary plugging and securely fixing to wall and floor as appropriate and all make good.","NO",284.23,268.92]
[null,"962001","DA","SOAP DISH:SUPPLY AND FIX WHEELCHAIR HEIGHT","Soap Dish:Supply and fix soap dish to suit wheelchair height including all make good.","NO",35.94,29.38]
[null,"963001","DA","SHOWER:RENEW 8.7 KW COMPLETE","Shower:Renew shower unit with 8.7 kW electric unit with advanced temperature stabiliser, make all connections, RCD, MCB 45A, service valve, inline scale reducer, test. make good.","IT",338.15,257.60000000000002]
[null,"963003","DA","SHOWER:INSTALL 8.7 KW COMPLETE","Shower:Supply and fix new 8.7KW electric unit complete with advanced temperature stabiliser, connections, service valve, 40A DP switch MCB45A, RCD, scale reducer, test, make good","IT",415.32,298.39]
[null,"964001","DA","SHOWER ROOM:CONVERT WITH FLOOR DRAIN","Shower Room:Convert existing bathroom to shower room, screed floor, floor drain, non slip flooring install 8.7kw electric shower complete, DP switch MCB, RCD, reinstate, shower rail/curtain, tiling.","IT",1711.48,776.08]
[null,"964003","DA","SHOWER ROOM:CONVERT WITH SHOWER TRAY","Shower Room:Convert existing bathroom to shower room, screed floor, shower tray, non slip flooring install 8.7kw electric shower complete, DP switch MCB, RCD, reinstate, shower rail/curtain, tiling.","IT",1750.32,710.99]
[null,"965001","DA","SHOWER:RENEW RAILS AND CURTAINS","Shower:Renew any size and type of shower rail and curtain, remove any defective rails, fix new rails with plastic plugs and matching non ferrous screws, remove and rehang curtains, make good.","IT",70.08,59.69]
[null,"965003","DA","SHOWER:RENEW CURTAIN","Shower:Renew any type of shower curtain to existing rails including remove and refix rails as found expedient.","IT",27.52,23.37]
[null,"970001","DA","UNIT:REMOVE ANY UNIT AND CLEAR AWAY","Unit:Remove any size of existing base unit and worktop over or any size of wall unit and clear away.","NO",6.57,0]
[null,"970003","DA","BASE UNIT:SUPPLY 300MM LONG ADJUSTABLE HEIGHT","Base Unit:Supply and fix 300mm long adjustable height base unit and worktop, make good walls and floors including where any existing units removed, seal with silicone sealant.","NO",181.19,141.80000000000001]
[null,"970005","DA","BASE UNIT:SUPPLY 400MM LONG ADJUSTABLE HEIGHT","Base Unit:Supply and fix 400mm long adjustable height base unit and worktop, make good walls and floors including where any existing units removed, seal with silicone sealant.","NO",223.84,184.45]
[null,"970007","DA","BASE UNIT:SUPPLY 500MM LONG ADJUSTABLE HEIGHT","Base Unit:Supply and fix 500mm long adjustable height base unit and worktop, make good walls and floors including where any existing units removed, seal with silicone sealant.","NO",244.88,201.11]
[null,"970009","DA","BASE UNIT:SUPPLY 600MM LONG ADJUSTABLE HEIGHT","Base Unit:Supply and fix 600mm long adjustable height base unit and worktop, make good walls and floors including where any existing units removed, seal with silicone sealant.","NO",261.43,213.29]
[null,"970011","DA","BASE UNIT:SUPPLY 1000MM LONG ADJUSTABLE HEIGHT","Base Unit:Supply and fix 1000mm long adjustable height base unit and worktop, make good walls and floors including where any existing units removed, seal with silicone sealant.","NO",352.96,293.87]
[null,"970013","DA","SINK TOP:RENEW ADJUSTABLE HEIGHT COMPLETE","Sink Unit:Renew any sink unit with adjustable height proprietary unit, inset sink top, worktop, fascia, turn water off/on, pair of ceramic disc lever taps, waste, trap, plug/chain.","NO",367.35,310.18]
[null,"970015","DA","WALL UNIT:SUPPLY 300MM LONG ADJUSTABLE HEIGHT","Wall Unit:Supply and fix 300mm long adjustable height wall unit complete, make good walls including where any existing units removed.","NO",90.21,72.7]
[null,"970017","DA","WALL UNIT:SUPPLY 400MM LONG ADJUSTABLE HEIGHT","Wall Unit:Supply and fix 400mm long adjustable height wall unit complete, make good walls including where any existing units removed.","NO",92.35,74.849999999999994]
[null,"970019","DA","WALL UNIT:SUPPLY 500MM LONG ADJUSTABLE HEIGHT","Wall Unit:Supply and fix 500mm long adjustable height wall unit complete, make good walls including where any existing units removed.","NO",108.49,86.6]
[null,"970021","DA","WALL UNIT:SUPPLY 600MM LONG ADJUSTABLE HEIGHT","Wall Unit:Supply and fix 600mm long adjustable height wall unit complete, make good walls including where any existing units removed.","NO",121.5,95.24]
[null,"970023","DA","WALL UNIT:SUPPLY 1000MM LONG ADJUSTABLE HEIGHT","Wall Unit:Supply and fix 1000mm long adjustable height wall unit complete, make good walls including where any existing units removed.","NO",159.69999999999999,126.87]
[null,"975001","DA","WINDOW:RELOCATE ANY WINDOW FITTING","Window:Remove and refix in suitable position any window fitting including make good where fitting removed and touch up decorations to match existing.","NO",7.29,0.72]
[null,"975003","DA","WINDOW:REPLACE WITH EXTENDED ARM STAY","Window:Remove any existing stay and supply and fix sliding stay with extended arm to suit special needs requirements including make good and touch up decorations to match existing.","NO",25.02,18.45]
[null,"975005","DA","WINDOW:SUPPLY AND FIX TELEFLEX GEAR","Window:Remove existing window fastener and supply and fix Teleflex or similar approved operating gear to any opening casement and make good including touch up decorations to match existing.","NO",257.26,248.5]
[null,"975007","DA","WINDOW:SUPPLY AND FIX CHAIN DRIVE HANDLE","Window:Remove existing window fastener and supply and fix chain driven window fastener with operating handle including make good and touch up decorations to match existing.","NO",89.22,71.709999999999994]
[null,"980001","DA","DOOR:SUPPLY AND FIX KICKING PLATE 300MM","Door:Supply and fix 16 gauge SAA kicking plate ne 900x300mm, screw fixed to any door.","NO",56.11,49.55]
[null,"980003","DA","DOOR:REPLACE KNOBSET WITH LEVER HANDLES","Door:Remove any type of knobset furniture to door and replace with set of lever furniture (per door).","IT",12.31,4.4400000000000004]
[null,"980005","DA","DOOR:CHANGE TO TWO WAY OPERATION","Door:Change operation of door to two-way operation including remove door and stops, rehang door on two way hinges, make good including touch up decorations to match existing where stops removed.","IT",54.99,22.17]
[null,"980007","DA","DOOR:CHANGE INWARD TO OUT OPENING","Door:Change operation of inward opening door to outward opening, remove door and rehang, remove and refix stops, relocate lock or latch keep and make good, redecorate to match existing.","IT",40.840000000000003,1.45]
[null,"980009","DA","ANGLE TRIM:FIX SAA ANGLE TRIM","Angle Trim:Supply and fix proprietary SAA angle trim screw fixed to walls at external angles to provide protection to walls including make good.","NO",21.37,12.61]
[null,"985001","DA","RAMP:CONSTRUCT CONCRETE RAMP","Ramp:Construct insitu concrete ramp average 150mm thick, ne 1.5m wide 100mm high kerbs both sides, laid to 1:12 gradient, pinked finish including all excavation, hardcore, reinforcement and formwork.","LM",92.86,40.340000000000003]
[null,"985003","DA","RAMP:CONSTRUCT TIMBER RAMP","Ramp:Construct timber ramp ne 1.50m wide overall treated softwood framing with 18mm marine plywood to top and sides 100mm high kerbs to both sides. to any gradient specified ne 1:12 non slip surface.","LM",73.08,29.32]
[null,"985501","DA","STEP:FORM HALF STEP-CONCRETE","Step:Break out any type of step, reform in insitu concrete with enlarged tread ne 600mm going and 100mm rise, formwork, joints to existing paving, make good (measured per new step formed).","IT",45.09,10.07]
[null,"985503","DA","STEP:FORM HALF STEP-TIMBER/PLY","Step:Break out any type of step and reform with treated timber framing, 18mm marine plywood, 600mm going and 100mm rise non slip surface finish, make good, joint to paving (msd per new step formed).","IT",40.74,14.48]
[null,"986001","DA","THRESHOLD:REMOVE FOR ACCESS","Threshold:Remove any type of existing threshold to enable wheelchair access and make good.","NO",10.93,2.17]
[null,"986003","DA","THRESHOLD:FORM RAMP FOR WHEELCHAIR","Threshold:Form ramp for wheelchair access over any type of existing threshold and make good.","IT",24.75,7.25]
[null,"999901","SC","SCAFFOLDING:PROVIDE NE 5M HIGH NE 10M GIRTH",null,"IT",null,0]
[null,"999902","SC","SCAFFOLDING:PROVIDE 5M HIGH NE 20M GIRTH",null,"IT",null,0]
[null,"999903","SC","SCAFFOLDING:PROVIDE 5 TO 10M HIGH NE 5M GIRTH",null,"IT",null,0]
[null,"999904","SC","SCAFFOLDING:PROVIDE 5 TO 10M HIGH NE 10M GIRTH",null,"IT",null,0]
[null,"999905","SC","SCAFFOLDING:PROVIDE 5 TO 10M HIGH NE 20M GIRTH",null,"IT",null,0]
[null,"999906","SC","SCAFFOLDING:PROVIDE 10 TO 15M HIGH NE 5M GIRTH",null,"IT",null,0]
[null,"999907","SC","SCAFFOLDING:PROVIDE 10 TO 15M HIGH NE 10M GIRTH",null,"IT",null,0]
[null,"999908","SC","SCAFFOLDING:PROVIDE 10 TO 15M HIGH NE 20M GIRTH",null,"IT",null,0]
[null,"999909","SC","SCAFFOLDING:PROVIDE 15 TO 20M HIGH NE 5M GIRTH",null,"IT",null,0]
[null,"999910","AP","PLATFORM: Vertical Lift ",null,"IT",null,0]
[null,"999911","AP","PLATFORM: Battery Scissor ",null,"IT",null,0]
[null,"999912","AP","PLATFORM: Diesel Scissor ",null,"IT",null,0]
[null,"999913","AP","PLATFORM: Battery Boom ",null,"IT",null,0]
[null,"999914","AP","PLATFORM: Articulated Boom",null,"IT",null,0]
[null,"999915","AP","PLATFORM: Telescopic Boom",null,"IT",null,0]
[null,"999916","AP","PLATFORM: Spider Lift ",null,"IT",null,0]
[null,"QUOTE","QU","Quote works or agreed non-SoR items",null,"No",1,0]
[null,"DGen","DW","Daywork for General Builder",null,"HR",null,0]
[null,"DRoof","DW","Daywork for Roofer and Roofers Mate",null,"HR",null,0]
[null,"DPlum","DW","Daywork for Plumber",null,"HR",null,0]
[null,"DElec","DW","Daywork for Electrician",null,"HR",null,0]
[null,"DLab","DW","Daywork for Labourer",null,"HR",null,0]
[null,"OOH","QU","Out Of Hours Charge",null,"IT",120,0]